Workbook

Sheet Sheet1
A1: Date | B1: SAUD | C1: FAUD | D1: SCAD | E1: FCAD | F1: SEUR | G1: FEUR | H1: SGBP | I1: FGBP | J1: SINR | K1: FINR | L1: SJPY | M1: FJPY | N1: SKRW | O1: FKRW | P1: SNOK | Q1: FNOK | R1: SNZD | S1: FNZD | T1: SPHP | U1: FPHP | V1: STHB | W1: FTHB | X1: STWD | Y1: FTWD | Z1: SZAR | AA1: FZAR
A2: ="29/05/2009" -> 29/05/2009 | B2: =AUD!B2 -> 0.787 | C2: =AUD!C2 -> 0.7861 | D2: =1/CAD!B2 -> 0.89871484 | E2: =1/CAD!C2 -> 0.8988764 | F2: =EUR!B2/1 -> 1.3981 | G2: =EUR!C2/1 -> 1.3977 | H2: =GBP!B2/1 -> 1.5958 | I2: =GBP!C2/1 -> 1.5956 | J2: =1/INR!B2 -> 0.021058173 | K2: =1/INR!C2 -> 0.020994069 | L2: =1/JPY!B2 -> 0.010375597 | M2: =1/JPY!C2 -> 0.010379096 | N2: =1/KRW!B2 -> 0.00079295853 | O2: =1/KRW!C2 -> 0.00079293369 | P2: =1/NOK!B2 -> 0.15586278 | Q2: =1/NOK!C2 -> 0.15570261 | R2: =NZD!B2/1 -> 0.6254 | S2: =NZD!C2/1 -> 0.6242 | T2: =1/PHP!B2 -> 0.0210316 | U2: =1/PHP!C2 -> 0.0210316 | V2: =1/TWD!B2 -> 0.030721966 | W2: =1/TWD!C2 -> 0.030721966 | X2: =1/TWD!B2 -> 0.030721966 | Y2: =1/TWD!C2 -> 0.030721966 | Z2: =1/ZAR!B2 -> 0.12389578 | AA2: =1/ZAR!C2 -> 0.12314513
A3: ="01/06/2009" -> 01/06/2009 | B3: =AUD!B3 -> 0.806 | C3: =AUD!C3 -> 0.8042 | D3: =1/CAD!B3 -> 0.91970937 | E3: =1/CAD!C3 -> 0.91987858 | F3: =EUR!B3/1 -> 1.4151 | G3: =EUR!C3/1 -> 1.4148 | H3: =GBP!B3/1 -> 1.6218 | I3: =GBP!C3/1 -> 1.6216 | J3: =1/INR!B3 -> 0.021266415 | K3: =1/INR!C3 -> 0.021193176 | L3: =1/JPY!B3 -> 0.01053075 | M3: =1/JPY!C3 -> 0.010534455 | N3: =1/KRW!B3 -> 0.00080025608 | O3: =1/KRW!C3 -> 0.00080023015 | P3: =1/NOK!B3 -> 0.15907862 | Q3: =1/NOK!C3 -> 0.1589143 | R3: =NZD!B3/1 -> 0.6427 | S3: =NZD!C3/1 -> 0.6415 | T3: =1/PHP!B3 -> 0.02119093 | U3: =1/PHP!C3 -> 0.02119093 | V3: =1/TWD!B3 -> 0.030898529 | W3: =1/TWD!C3 -> 0.030898529 | X3: =1/TWD!B3 -> 0.030898529 | Y3: =1/TWD!C3 -> 0.030898529 | Z3: =1/ZAR!B3 -> 0.12544533 | AA3: =1/ZAR!C3 -> 0.12467584
A4: ="02/06/2009" -> 02/06/2009 | B4: =AUD!B4 -> 0.8112 | C4: =AUD!C4 -> 0.8094 | D4: =1/CAD!B4 -> 0.91642229 | E4: =1/CAD!C4 -> 0.91659028 | F4: =EUR!B4/1 -> 1.4168 | G4: =EUR!C4/1 -> 1.4164 | H4: =GBP!B4/1 -> 1.6441 | I4: =GBP!C4/1 -> 1.6439 | J4: =1/INR!B4 -> 0.021231423 | K4: =1/INR!C4 -> 0.021157305 | L4: =1/JPY!B4 -> 0.010376673 | M4: =1/JPY!C4 -> 0.010380896 | N4: =1/KRW!B4 -> 0.00080703737 | O4: =1/KRW!C4 -> 0.00080701379 | P4: =1/NOK!B4 -> 0.16174687 | Q4: =1/NOK!C4 -> 0.16156916 | R4: =NZD!B4/1 -> 0.6473 | S4: =NZD!C4/1 -> 0.6461 | T4: =1/PHP!B4 -> 0.021202163 | U4: =1/PHP!C4 -> 0.021202163 | V4: =1/TWD!B4 -> 0.030940594 | W4: =1/TWD!C4 -> 0.03094069 | X4: =1/TWD!B4 -> 0.030940594 | Y4: =1/TWD!C4 -> 0.03094069 | Z4: =1/ZAR!B4 -> 0.12473494 | AA4: =1/ZAR!C4 -> 0.12397565
A5: ="03/06/2009" -> 03/06/2009 | B5: =AUD!B5 -> 0.823 | C5: =AUD!C5 -> 0.8211 | D5: =1/CAD!B5 -> 0.92302012 | E5: =1/CAD!C5 -> 0.92319055 | F5: =EUR!B5/1 -> 1.4292 | G5: =EUR!C5/1 -> 1.4288 | H5: =GBP!B5/1 -> 1.657 | I5: =GBP!C5/1 -> 1.6569 | J5: =1/INR!B5 -> 0.021343578 | K5: =1/INR!C5 -> 0.02127207 | L5: =1/JPY!B5 -> 0.010451505 | M5: =1/JPY!C5 -> 0.010455155 | N5: =1/KRW!B5 -> 0.00080638658 | O5: =1/KRW!C5 -> 0.00080635758 | P5: =1/NOK!B5 -> 0.16151175 | Q5: =1/NOK!C5 -> 0.16133196 | R5: =NZD!B5/1 -> 0.653 | S5: =NZD!C5/1 -> 0.6517 | T5: =1/PHP!B5 -> 0.021164021 | U5: =1/PHP!C5 -> 0.021164021 | V5: =1/TWD!B5 -> 0.030769231 | W5: =1/TWD!C5 -> 0.030769325 | X5: =1/TWD!B5 -> 0.030769231 | Y5: =1/TWD!C5 -> 0.030769325 | Z5: =1/ZAR!B5 -> 0.12497969 | AA5: =1/ZAR!C5 -> 0.12417116
A6: ="04/06/2009" -> 04/06/2009 | B6: =AUD!B6 -> 0.8017 | C6: =AUD!C6 -> 0.7998 | D6: =1/CAD!B6 -> 0.900009 | E6: =1/CAD!C6 -> 0.90017103 | F6: =EUR!B6/1 -> 1.418 | G6: =EUR!C6/1 -> 1.4176 | H6: =GBP!B6/1 -> 1.6302 | I6: =GBP!C6/1 -> 1.6301 | J6: =1/INR!B6 -> 0.021175225 | K6: =1/INR!C6 -> 0.021105952 | L6: =1/JPY!B6 -> 0.010403662 | M6: =1/JPY!C6 -> 0.010406834 | N6: =1/KRW!B6 -> 0.00079942441 | O6: =1/KRW!C6 -> 0.00079939981 | P6: =1/NOK!B6 -> 0.15770632 | Q6: =1/NOK!C6 -> 0.15753241 | R6: =NZD!B6/1 -> 0.6318 | S6: =NZD!C6/1 -> 0.6306 | T6: =1/PHP!B6 -> 0.021121555 | U6: =1/PHP!C6 -> 0.021121555 | V6: =1/TWD!B6 -> 0.030610995 | W6: =1/TWD!C6 -> 0.030611089 | X6: =1/TWD!B6 -> 0.030610995 | Y6: =1/TWD!C6 -> 0.030611089 | Z6: =1/ZAR!B6 -> 0.12358953 | AA6: =1/ZAR!C6 -> 0.12283805
A7: ="05/06/2009" -> 05/06/2009 | B7: =AUD!B7 -> 0.8038 | C7: =AUD!C7 -> 0.802 | D7: =1/CAD!B7 -> 0.91041515 | E7: =1/CAD!C7 -> 0.91058095 | F7: =EUR!B7/1 -> 1.4202 | G7: =EUR!C7/1 -> 1.4198 | H7: =GBP!B7/1 -> 1.6126 | I7: =GBP!C7/1 -> 1.6124 | J7: =1/INR!B7 -> 0.021235931 | K7: =1/INR!C7 -> 0.021169622 | L7: =1/JPY!B7 -> 0.010330579 | M7: =1/JPY!C7 -> 0.010334027 | N7: =1/KRW!B7 -> 0.00080379391 | O7: =1/KRW!C7 -> 0.00080376716 | P7: =1/NOK!B7 -> 0.15842086 | Q7: =1/NOK!C7 -> 0.1582604 | R7: =NZD!B7/1 -> 0.6357 | S7: =NZD!C7/1 -> 0.6345 | T7: =1/PHP!B7 -> 0.02114612 | U7: =1/PHP!C7 -> 0.02114612 | V7: =1/TWD!B7 -> 0.030718191 | W7: =1/TWD!C7 -> 0.030718286 | X7: =1/TWD!B7 -> 0.030718191 | Y7: =1/TWD!C7 -> 0.030718286 | Z7: =1/ZAR!B7 -> 0.12437037 | AA7: =1/ZAR!C7 -> 0.12362315
A8: ="08/06/2009" -> 08/06/2009 | B8: =AUD!B8 -> 0.7851 | C8: =AUD!C8 -> 0.7833 | D8: =1/CAD!B8 -> 0.88857295 | E8: =1/CAD!C8 -> 0.88873089 | F8: =EUR!B8/1 -> 1.3868 | G8: =EUR!C8/1 -> 1.3864 | H8: =GBP!B8/1 -> 1.5836 | I8: =GBP!C8/1 -> 1.5834 | J8: =1/INR!B8 -> 0.020995171 | K8: =1/INR!C8 -> 0.020932545 | L8: =1/JPY!B8 -> 0.010164668 | M8: =1/JPY!C8 -> 0.010168264 | N8: =1/KRW!B8 -> 0.00079897731 | O8: =1/KRW!C8 -> 0.00079896161 | P8: =1/NOK!B8 -> 0.15578023 | Q8: =1/NOK!C8 -> 0.15562265 | R8: =NZD!B8/1 -> 0.6192 | S8: =NZD!C8/1 -> 0.618 | T8: =1/PHP!B8 -> 0.021065936 | U8: =1/PHP!C8 -> 0.021065936 | V8: =1/TWD!B8 -> 0.030465513 | W8: =1/TWD!C8 -> 0.030465606 | X8: =1/TWD!B8 -> 0.030465513 | Y8: =1/TWD!C8 -> 0.030465606 | Z8: =1/ZAR!B8 -> 0.12324681 | AA8: =1/ZAR!C8 -> 0.12251149
A9: ="09/06/2009" -> 09/06/2009 | B9: =AUD!B9 -> 0.7878 | C9: =AUD!C9 -> 0.786 | D9: =1/CAD!B9 -> 0.89325592 | E9: =1/CAD!C9 -> 0.89349535 | F9: =EUR!B9/1 -> 1.386 | G9: =EUR!C9/1 -> 1.3855 | H9: =GBP!B9/1 -> 1.5996 | I9: =GBP!C9/1 -> 1.5994 | J9: =1/INR!B9 -> 0.020975354 | K9: =1/INR!C9 -> 0.020906288 | L9: =1/JPY!B9 -> 0.010179153 | M9: =1/JPY!C9 -> 0.010182781 | N9: =1/KRW!B9 -> 0.00079428118 | O9: =1/KRW!C9 -> 0.00079425537 | P9: =1/NOK!B9 -> 0.15488987 | Q9: =1/NOK!C9 -> 0.15473409 | R9: =NZD!B9/1 -> 0.6186 | S9: =NZD!C9/1 -> 0.6175 | T9: =1/PHP!B9 -> 0.020959966 | U9: =1/PHP!C9 -> 0.020959966 | V9: =1/TWD!B9 -> 0.030373903 | W9: =1/TWD!C9 -> 0.030373995 | X9: =1/TWD!B9 -> 0.030373903 | Y9: =1/TWD!C9 -> 0.030373995 | Z9: =1/ZAR!B9 -> 0.12230022 | AA9: =1/ZAR!C9 -> 0.12157907
A10: ="10/06/2009" -> 10/06/2009 | B10: =AUD!B10 -> 0.8043 | C10: =AUD!C10 -> 0.8024 | D10: =1/CAD!B10 -> 0.90645395 | E10: =1/CAD!C10 -> 0.90661831 | F10: =EUR!B10/1 -> 1.4074 | G10: =EUR!C10/1 -> 1.4069 | H10: =GBP!B10/1 -> 1.6322 | I10: =GBP!C10/1 -> 1.632 | J10: =1/INR!B10 -> 0.021123785 | K10: =1/INR!C10 -> 0.02105374 | L10: =1/JPY!B10 -> 0.010241704 | M10: =1/JPY!C10 -> 0.010245083 | N10: =1/KRW!B10 -> 0.00079795723 | O10: =1/KRW!C10 -> 0.00079793272 | P10: =1/NOK!B10 -> 0.15787812 | Q10: =1/NOK!C10 -> 0.15772124 | R10: =NZD!B10/1 -> 0.6294 | S10: =NZD!C10/1 -> 0.6281 | T10: =1/PHP!B10 -> 0.021032706 | U10: =1/PHP!C10 -> 0.021032706 | V10: =1/TWD!B10 -> 0.030554877 | W10: =1/TWD!C10 -> 0.03055497 | X10: =1/TWD!B10 -> 0.030554877 | Y10: =1/TWD!C10 -> 0.03055497 | Z10: =1/ZAR!B10 -> 0.12313754 | AA10: =1/ZAR!C10 -> 0.12235858
A11: ="11/06/2009" -> 11/06/2009 | B11: =AUD!B11 -> 0.8094 | C11: =AUD!C11 -> 0.8075 | D11: =1/CAD!B11 -> 0.90481361 | E11: =1/CAD!C11 -> 0.90497738 | F11: =EUR!B11/1 -> 1.4029 | G11: =EUR!C11/1 -> 1.4025 | H11: =GBP!B11/1 -> 1.641 | I11: =GBP!C11/1 -> 1.6409 | J11: =1/INR!B11 -> 0.021112636 | K11: =1/INR!C11 -> 0.021042664 | L11: =1/JPY!B11 -> 0.010215548 | M11: =1/JPY!C11 -> 0.010218607 | N11: =1/KRW!B11 -> 0.0008 | O11: =1/KRW!C11 -> 0.00079997581 | P11: =1/NOK!B11 -> 0.15744064 | Q11: =1/NOK!C11 -> 0.15728959 | R11: =NZD!B11/1 -> 0.6363 | S11: =NZD!C11/1 -> 0.6351 | T11: =1/PHP!B11 -> 0.020964361 | U11: =1/PHP!C11 -> 0.020964361 | V11: =1/TWD!B11 -> 0.030563281 | W11: =1/TWD!C11 -> 0.030563375 | X11: =1/TWD!B11 -> 0.030563281 | Y11: =1/TWD!C11 -> 0.030563375 | Z11: =1/ZAR!B11 -> 0.12370726 | AA11: =1/ZAR!C11 -> 0.12295132
A12: ="12/06/2009" -> 12/06/2009 | B12: =AUD!B12 -> 0.8134 | C12: =AUD!C12 -> 0.8115 | D12: =1/CAD!B12 -> 0.90228278 | E12: =1/CAD!C12 -> 0.90244563 | F12: =EUR!B12/1 -> 1.4095 | G12: =EUR!C12/1 -> 1.4091 | H12: =GBP!B12/1 -> 1.6547 | I12: =GBP!C12/1 -> 1.6546 | J12: =1/INR!B12 -> 0.021070375 | K12: =1/INR!C12 -> 0.021003991 | L12: =1/JPY!B12 -> 0.010230179 | M12: =1/JPY!C12 -> 0.010233163 | N12: =1/KRW!B12 -> 0.00079776625 | O12: =1/KRW!C12 -> 0.00079774716 | P12: =1/NOK!B12 -> 0.15865209 | Q12: =1/NOK!C12 -> 0.15850624 | R12: =NZD!B12/1 -> 0.6426 | S12: =NZD!C12/1 -> 0.6413 | T12: =1/PHP!B12 -> 0.020881186 | U12: =1/PHP!C12 -> 0.020881186 | V12: =1/TWD!B12 -> 0.030527826 | W12: =1/TWD!C12 -> 0.030527919 | X12: =1/TWD!B12 -> 0.030527826 | Y12: =1/TWD!C12 -> 0.030527919 | Z12: =1/ZAR!B12 -> 0.12534156 | AA12: =1/ZAR!C12 -> 0.12461059
A13: ="15/06/2009" -> 15/06/2009 | B13: =AUD!B13 -> 0.8071 | C13: =AUD!C13 -> 0.8053 | D13: =1/CAD!B13 -> 0.89007566 | E13: =1/CAD!C13 -> 0.89023413 | F13: =EUR!B13/1 -> 1.395 | G13: =EUR!C13/1 -> 1.3946 | H13: =GBP!B13/1 -> 1.6374 | I13: =GBP!C13/1 -> 1.6373 | J13: =1/INR!B13 -> 0.020920502 | K13: =1/INR!C13 -> 0.020856145 | L13: =1/JPY!B13 -> 0.01017294 | M13: =1/JPY!C13 -> 0.010175859 | N13: =1/KRW!B13 -> 0.00079339892 | O13: =1/KRW!C13 -> 0.0007933801 | P13: =1/NOK!B13 -> 0.15636972 | Q13: =1/NOK!C13 -> 0.15622315 | R13: =NZD!B13/1 -> 0.6372 | S13: =NZD!C13/1 -> 0.636 | T13: =1/PHP!B13 -> 0.020746888 | U13: =1/PHP!C13 -> 0.020746888 | V13: =1/TWD!B13 -> 0.030403454 | W13: =1/TWD!C13 -> 0.030403546 | X13: =1/TWD!B13 -> 0.030403454 | Y13: =1/TWD!C13 -> 0.030403546 | Z13: =1/ZAR!B13 -> 0.12434099 | AA13: =1/ZAR!C13 -> 0.12361703
A14: ="16/06/2009" -> 16/06/2009 | B14: =AUD!B14 -> 0.7895 | C14: =AUD!C14 -> 0.7876 | D14: =1/CAD!B14 -> 0.88066931 | E14: =1/CAD!C14 -> 0.88074687 | F14: =EUR!B14/1 -> 1.3796 | G14: =EUR!C14/1 -> 1.3792 | H14: =GBP!B14/1 -> 1.6245 | I14: =GBP!C14/1 -> 1.6244 | J14: =1/INR!B14 -> 0.020865936 | K14: =1/INR!C14 -> 0.020797587 | L14: =1/JPY!B14 -> 0.010346611 | M14: =1/JPY!C14 -> 0.010349824 | N14: =1/KRW!B14 -> 0.0007902015 | O14: =1/KRW!C14 -> 0.00079018989 | P14: =1/NOK!B14 -> 0.15411645 | Q14: =1/NOK!C14 -> 0.15397644 | R14: =NZD!B14/1 -> 0.6272 | S14: =NZD!C14/1 -> 0.6259 | T14: =1/PHP!B14 -> 0.020648358 | U14: =1/PHP!C14 -> 0.020648358 | V14: =1/TWD!B14 -> 0.030362836 | W14: =1/TWD!C14 -> 0.030362928 | X14: =1/TWD!B14 -> 0.030362836 | Y14: =1/TWD!C14 -> 0.030362928 | Z14: =1/ZAR!B14 -> 0.12276868 | AA14: =1/ZAR!C14 -> 0.12201669
A15: ="17/06/2009" -> 17/06/2009 | B15: =AUD!B15 -> 0.7911 | C15: =AUD!C15 -> 0.7892 | D15: =1/CAD!B15 -> 0.88198977 | E15: =1/CAD!C15 -> 0.88214538 | F15: =EUR!B15/1 -> 1.385 | G15: =EUR!C15/1 -> 1.3846 | H15: =GBP!B15/1 -> 1.6385 | I15: =GBP!C15/1 -> 1.6384 | J15: =1/INR!B15 -> 0.02088991 | K15: =1/INR!C15 -> 0.020822488 | L15: =1/JPY!B15 -> 0.010369141 | M15: =1/JPY!C15 -> 0.010372368 | N15: =1/KRW!B15 -> 0.00079352484 | O15: =1/KRW!C15 -> 0.00079351671 | P15: =1/NOK!B15 -> 0.15588951 | Q15: =1/NOK!C15 -> 0.15573171 | R15: =NZD!B15/1 -> 0.6289 | S15: =NZD!C15/1 -> 0.6276 | T15: =1/PHP!B15 -> 0.020648358 | U15: =1/PHP!C15 -> 0.020648358 | V15: =1/TWD!B15 -> 0.030393289 | W15: =1/TWD!C15 -> 0.030393382 | X15: =1/TWD!B15 -> 0.030393289 | Y15: =1/TWD!C15 -> 0.030393382 | Z15: =1/ZAR!B15 -> 0.12361245 | AA15: =1/ZAR!C15 -> 0.12284409
A16: ="18/06/2009" -> 18/06/2009 | B16: =AUD!B16 -> 0.7958 | C16: =AUD!C16 -> 0.7939 | D16: =1/CAD!B16 -> 0.88323618 | E16: =1/CAD!C16 -> 0.88331419 | F16: =EUR!B16/1 -> 1.395 | G16: =EUR!C16/1 -> 1.3947 | H16: =GBP!B16/1 -> 1.638 | I16: =GBP!C16/1 -> 1.6379 | J16: =1/INR!B16 -> 0.020785699 | K16: =1/INR!C16 -> 0.020715728 | L16: =1/JPY!B16 -> 0.010437324 | M16: =1/JPY!C16 -> 0.010440484 | N16: =1/KRW!B16 -> 0.00079132706 | O16: =1/KRW!C16 -> 0.00079131128 | P16: =1/NOK!B16 -> 0.15720057 | Q16: =1/NOK!C16 -> 0.15706971 | R16: =NZD!B16/1 -> 0.633 | S16: =NZD!C16/1 -> 0.6318 | T16: =1/PHP!B16 -> 0.020618557 | U16: =1/PHP!C16 -> 0.020618557 | V16: =1/TWD!B16 -> 0.030376671 | W16: =1/TWD!C16 -> 0.030376763 | X16: =1/TWD!B16 -> 0.030376671 | Y16: =1/TWD!C16 -> 0.030376763 | Z16: =1/ZAR!B16 -> 0.12405255 | AA16: =1/ZAR!C16 -> 0.12330152
A17: ="19/06/2009" -> 19/06/2009 | B17: =AUD!B17 -> 0.8022 | C17: =AUD!C17 -> 0.8004 | D17: =1/CAD!B17 -> 0.88401697 | E17: =1/CAD!C17 -> 0.8841733 | F17: =EUR!B17/1 -> 1.3923 | G17: =EUR!C17/1 -> 1.392 | H17: =GBP!B17/1 -> 1.6357 | I17: =GBP!C17/1 -> 1.6356 | J17: =1/INR!B17 -> 0.02078138 | K17: =1/INR!C17 -> 0.020723241 | L17: =1/JPY!B17 -> 0.010345541 | M17: =1/JPY!C17 -> 0.010349128 | N17: =1/KRW!B17 -> 0.00078907914 | O17: =1/KRW!C17 -> 0.00078905978 | P17: =1/NOK!B17 -> 0.15596244 | Q17: =1/NOK!C17 -> 0.15583849 | R17: =NZD!B17/1 -> 0.6394 | S17: =NZD!C17/1 -> 0.6382 | T17: =1/PHP!B17 -> 0.020635576 | U17: =1/PHP!C17 -> 0.020571899 | V17: =1/TWD!B17 -> 0.030422878 | W17: =1/TWD!C17 -> 0.030422971 | X17: =1/TWD!B17 -> 0.030422878 | Y17: =1/TWD!C17 -> 0.030422971 | Z17: =1/ZAR!B17 -> 0.12243649 | AA17: =1/ZAR!C17 -> 0.12173595
A18: ="22/06/2009" -> 22/06/2009 | B18: =AUD!B18 -> 0.8004 | C18: =AUD!C18 -> 0.7986 | D18: =1/CAD!B18 -> 0.8790436 | E18: =1/CAD!C18 -> 0.87919817 | F18: =EUR!B18/1 -> 1.3912 | G18: =EUR!C18/1 -> 1.3909 | H18: =GBP!B18/1 -> 1.6469 | I18: =GBP!C18/1 -> 1.6468 | J18: =1/INR!B18 -> 0.020751193 | K18: =1/INR!C18 -> 0.020687872 | L18: =1/JPY!B18 -> 0.010423181 | M18: =1/JPY!C18 -> 0.010426952 | N18: =1/KRW!B18 -> 0.00078548425 | O18: =1/KRW!C18 -> 0.00078546907 | P18: =1/NOK!B18 -> 0.15573898 | Q18: =1/NOK!C18 -> 0.1556178 | R18: =NZD!B18/1 -> 0.6384 | S18: =NZD!C18/1 -> 0.6372 | T18: =1/PHP!B18 -> 0.020663292 | U18: =1/PHP!C18 -> 0.020603688 | V18: =1/TWD!B18 -> 0.030395137 | W18: =1/TWD!C18 -> 0.030395229 | X18: =1/TWD!B18 -> 0.030395137 | Y18: =1/TWD!C18 -> 0.030395229 | Z18: =1/ZAR!B18 -> 0.12300577 | AA18: =1/ZAR!C18 -> 0.12229125
A19: ="23/06/2009" -> 23/06/2009 | B19: =AUD!B19 -> 0.7831 | C19: =AUD!C19 -> 0.7813 | D19: =1/CAD!B19 -> 0.86625087 | E19: =1/CAD!C19 -> 0.86640097 | F19: =EUR!B19/1 -> 1.3855 | G19: =EUR!C19/1 -> 1.3852 | H19: =GBP!B19/1 -> 1.6313 | I19: =GBP!C19/1 -> 1.6312 | J19: =1/INR!B19 -> 0.020458265 | K19: =1/INR!C19 -> 0.020394636 | L19: =1/JPY!B19 -> 0.010496539 | M19: =1/JPY!C19 -> 0.010500705 | N19: =1/KRW!B19 -> 0.00077573501 | O19: =1/KRW!C19 -> 0.00077570462 | P19: =1/NOK!B19 -> 0.15144402 | Q19: =1/NOK!C19 -> 0.15132485 | R19: =NZD!B19/1 -> 0.6266 | S19: =NZD!C19/1 -> 0.6253 | T19: =1/PHP!B19 -> 0.020571899 | U19: =1/PHP!C19 -> 0.020513662 | V19: =1/TWD!B19 -> 0.030344409 | W19: =1/TWD!C19 -> 0.030344501 | X19: =1/TWD!B19 -> 0.030344409 | Y19: =1/TWD!C19 -> 0.030344501 | Z19: =1/ZAR!B19 -> 0.12137395 | AA19: =1/ZAR!C19 -> 0.12066947
A20: ="24/06/2009" -> 24/06/2009 | B20: =AUD!B20 -> 0.7948 | C20: =AUD!C20 -> 0.793 | D20: =1/CAD!B20 -> 0.87130783 | E20: =1/CAD!C20 -> 0.87145969 | F20: =EUR!B20/1 -> 1.4087 | G20: =EUR!C20/1 -> 1.4085 | H20: =GBP!B20/1 -> 1.6461 | I20: =GBP!C20/1 -> 1.646 | J20: =1/INR!B20 -> 0.020661157 | K20: =1/INR!C20 -> 0.020600505 | L20: =1/JPY!B20 -> 0.01046682 | M20: =1/JPY!C20 -> 0.010470853 | N20: =1/KRW!B20 -> 0.0007818914 | O20: =1/KRW!C20 -> 0.00078185851 | P20: =1/NOK!B20 -> 0.15413545 | Q20: =1/NOK!C20 -> 0.15400253 | R20: =NZD!B20/1 -> 0.6395 | S20: =NZD!C20/1 -> 0.6382 | T20: =1/PHP!B20 -> 0.020738283 | U20: =1/PHP!C20 -> 0.020676109 | V20: =1/TWD!B20 -> 0.030426581 | W20: =1/TWD!C20 -> 0.030426673 | X20: =1/TWD!B20 -> 0.030426581 | Y20: =1/TWD!C20 -> 0.030426673 | Z20: =1/ZAR!B20 -> 0.12216426 | AA20: =1/ZAR!C20 -> 0.12141522
A21: ="25/06/2009" -> 25/06/2009 | B21: =AUD!B21 -> 0.7989 | C21: =AUD!C21 -> 0.7971 | D21: =1/CAD!B21 -> 0.86595081 | E21: =1/CAD!C21 -> 0.86610081 | F21: =EUR!B21/1 -> 1.3957 | G21: =EUR!C21/1 -> 1.3956 | H21: =GBP!B21/1 -> 1.6441 | I21: =GBP!C21/1 -> 1.644 | J21: =1/INR!B21 -> 0.020588841 | K21: =1/INR!C21 -> 0.020524398 | L21: =1/JPY!B21 -> 0.01040691 | M21: =1/JPY!C21 -> 0.010410464 | N21: =1/KRW!B21 -> 0.00077712154 | O21: =1/KRW!C21 -> 0.00077709014 | P21: =1/NOK!B21 -> 0.15413545 | Q21: =1/NOK!C21 -> 0.1540049 | R21: =NZD!B21/1 -> 0.6396 | S21: =NZD!C21/1 -> 0.6384 | T21: =1/PHP!B21 -> 0.020721094 | U21: =1/PHP!C21 -> 0.020659023 | V21: =1/TWD!B21 -> 0.030427506 | W21: =1/TWD!C21 -> 0.030427599 | X21: =1/TWD!B21 -> 0.030427506 | Y21: =1/TWD!C21 -> 0.030427599 | Z21: =1/ZAR!B21 -> 0.123744 | AA21: =1/ZAR!C21 -> 0.12300123
A22: ="26/06/2009" -> 26/06/2009 | B22: =AUD!B22 -> 0.806 | C22: =AUD!C22 -> 0.8042 | D22: =1/CAD!B22 -> 0.86775425 | E22: =1/CAD!C22 -> 0.86790488 | F22: =EUR!B22/1 -> 1.4041 | G22: =EUR!C22/1 -> 1.4041 | H22: =GBP!B22/1 -> 1.6427 | I22: =GBP!C22/1 -> 1.6426 | J22: =1/INR!B22 -> 0.020607934 | K22: =1/INR!C22 -> 0.020551816 | L22: =1/JPY!B22 -> 0.010427529 | M22: =1/JPY!C22 -> 0.010431183 | N22: =1/KRW!B22 -> 0.00077441338 | O22: =1/KRW!C22 -> 0.00077438388 | P22: =1/NOK!B22 -> 0.1548515 | Q22: =1/NOK!C22 -> 0.15472691 | R22: =NZD!B22/1 -> 0.6438 | S22: =NZD!C22/1 -> 0.6426 | T22: =1/PHP!B22 -> 0.020703934 | U22: =1/PHP!C22 -> 0.020644096 | V22: =1/TWD!B22 -> 0.030354541 | W22: =1/TWD!C22 -> 0.030354541 | X22: =1/TWD!B22 -> 0.030354541 | Y22: =1/TWD!C22 -> 0.030354541 | Z22: =1/ZAR!B22 -> 0.1245873 | AA22: =1/ZAR!C22 -> 0.12378995
A23: ="29/06/2009" -> 29/06/2009 | B23: =AUD!B23 -> 0.8023 | C23: =AUD!C23 -> 0.8003 | D23: =1/CAD!B23 -> 0.86535133 | E23: =1/CAD!C23 -> 0.86550113 | F23: =EUR!B23/1 -> 1.4027 | G23: =EUR!C23/1 -> 1.4027 | H23: =GBP!B23/1 -> 1.6473 | I23: =GBP!C23/1 -> 1.6472 | J23: =1/INR!B23 -> 0.0207803 | K23: =1/INR!C23 -> 0.020720021 | L23: =1/JPY!B23 -> 0.010468683 | M23: =1/JPY!C23 -> 0.010472685 | N23: =1/KRW!B23 -> 0.00077603601 | O23: =1/KRW!C23 -> 0.00077600355 | P23: =1/NOK!B23 -> 0.15457862 | Q23: =1/NOK!C23 -> 0.1544497 | R23: =NZD!B23/1 -> 0.6434 | S23: =NZD!C23/1 -> 0.6422 | T23: =1/PHP!B23 -> 0.020708221 | U23: =1/PHP!C23 -> 0.020647079 | V23: =1/TWD!B23 -> 0.030372058 | W23: =1/TWD!C23 -> 0.030372058 | X23: =1/TWD!B23 -> 0.030372058 | Y23: =1/TWD!C23 -> 0.030372058 | Z23: =1/ZAR!B23 -> 0.12584632 | AA23: =1/ZAR!C23 -> 0.12504377
A24: ="30/06/2009" -> 30/06/2009 | B24: =AUD!B24 -> 0.8105 | C24: =AUD!C24 -> 0.8085 | D24: =1/CAD!B24 -> 0.86512674 | E24: =1/CAD!C24 -> 0.86527646 | F24: =EUR!B24/1 -> 1.4107 | G24: =EUR!C24/1 -> 1.4106 | H24: =GBP!B24/1 -> 1.6625 | I24: =GBP!C24/1 -> 1.6624 | J24: =1/INR!B24 -> 0.02088991 | K24: =1/INR!C24 -> 0.020832248 | L24: =1/JPY!B24 -> 0.010425354 | M24: =1/JPY!C24 -> 0.010429182 | N24: =1/KRW!B24 -> 0.00078228898 | O24: =1/KRW!C24 -> 0.00078225342 | P24: =1/NOK!B24 -> 0.15618655 | Q24: =1/NOK!C24 -> 0.15604763 | R24: =NZD!B24/1 -> 0.6532 | S24: =NZD!C24/1 -> 0.6519 | T24: =1/PHP!B24 -> 0.02074904 | U24: =1/PHP!C24 -> 0.020686802 | V24: =1/TWD!B24 -> 0.030433989 | W24: =1/TWD!C24 -> 0.030434081 | X24: =1/TWD!B24 -> 0.030433989 | Y24: =1/TWD!C24 -> 0.030434081 | Z24: =1/ZAR!B24 -> 0.12760962 | AA24: =1/ZAR!C24 -> 0.12675556
A25: ="01/07/2009" -> 01/07/2009 | B25: =AUD!B25 -> 0.8062 | C25: =AUD!C25 -> 0.8042 | D25: =1/CAD!B25 -> 0.86088154 | E25: =1/CAD!C25 -> 0.86102979 | F25: =EUR!B25/1 -> 1.404 | G25: =EUR!C25/1 -> 1.404 | H25: =GBP!B25/1 -> 1.6456 | I25: =GBP!C25/1 -> 1.6455 | J25: =1/INR!B25 -> 0.020872469 | K25: =1/INR!C25 -> 0.020814903 | L25: =1/JPY!B25 -> 0.010328445 | M25: =1/JPY!C25 -> 0.010331913 | N25: =1/KRW!B25 -> 0.00078920369 | O25: =1/KRW!C25 -> 0.00078916919 | P25: =1/NOK!B25 -> 0.15526263 | Q25: =1/NOK!C25 -> 0.15513015 | R25: =NZD!B25/1 -> 0.6455 | S25: =NZD!C25/1 -> 0.6443 | T25: =1/PHP!B25 -> 0.02074904 | U25: =1/PHP!C25 -> 0.020685946 | V25: =1/TWD!B25 -> 0.030525962 | W25: =1/TWD!C25 -> 0.030526056 | X25: =1/TWD!B25 -> 0.030525962 | Y25: =1/TWD!C25 -> 0.030526056 | Z25: =1/ZAR!B25 -> 0.12850993 | AA25: =1/ZAR!C25 -> 0.12768294
A26: ="03/07/2009" -> 03/07/2009 | B26: =AUD!B26 -> 0.796 | C26: =AUD!C26 -> 0.7942 | D26: =1/CAD!B26 -> 0.86147484 | E26: =1/CAD!C26 -> 0.8616233 | F26: =EUR!B26/1 -> 1.3984 | G26: =EUR!C26/1 -> 1.3985 | H26: =GBP!B26/1 -> 1.6371 | I26: =GBP!C26/1 -> 1.637 | J26: =1/INR!B26 -> 0.020790021 | K26: =1/INR!C26 -> 0.020735058 | L26: =1/JPY!B26 -> 0.010416558 | M26: =1/JPY!C26 -> 0.010419793 | N26: =1/KRW!B26 -> 0.00078603993 | O26: =1/KRW!C26 -> 0.00078599983 | P26: =1/NOK!B26 -> 0.15575111 | Q26: =1/NOK!C26 -> 0.15562507 | R26: =NZD!B26/1 -> 0.6296 | S26: =NZD!C26/1 -> 0.6285 | T26: =1/PHP!B26 -> 0.020742585 | U26: =1/PHP!C26 -> 0.020679529 | V26: =1/TWD!B26 -> 0.030390518 | W26: =1/TWD!C26 -> 0.030391349 | X26: =1/TWD!B26 -> 0.030390518 | Y26: =1/TWD!C26 -> 0.030391349 | Z26: =1/ZAR!B26 -> 0.12692288 | AA26: =1/ZAR!C26 -> 0.12612726
A27: ="06/07/2009" -> 06/07/2009 | B27: =AUD!B27 -> 0.7924 | C27: =AUD!C27 -> 0.7905 | D27: =1/CAD!B27 -> 0.85962348 | E27: =1/CAD!C27 -> 0.8597713 | F27: =EUR!B27/1 -> 1.3962 | G27: =EUR!C27/1 -> 1.3962 | H27: =GBP!B27/1 -> 1.6266 | I27: =GBP!C27/1 -> 1.6265 | J27: =1/INR!B27 -> 0.020850709 | K27: =1/INR!C27 -> 0.020797587 | L27: =1/JPY!B27 -> 0.010479983 | M27: =1/JPY!C27 -> 0.010483235 | N27: =1/KRW!B27 -> 0.00078802206 | O27: =1/KRW!C27 -> 0.00078799629 | P27: =1/NOK!B27 -> 0.15540016 | Q27: =1/NOK!C27 -> 0.15528191 | R27: =NZD!B27/1 -> 0.6262 | S27: =NZD!C27/1 -> 0.6251 | T27: =1/PHP!B27 -> 0.020768432 | U27: =1/PHP!C27 -> 0.020691082 | V27: =1/TWD!B27 -> 0.030365602 | W27: =1/TWD!C27 -> 0.030365694 | X27: =1/TWD!B27 -> 0.030365602 | Y27: =1/TWD!C27 -> 0.030365694 | Z27: =1/ZAR!B27 -> 0.12551303 | AA27: =1/ZAR!C27 -> 0.12473027
A28: ="07/07/2009" -> 07/07/2009 | B28: =AUD!B28 -> 0.7964 | C28: =AUD!C28 -> 0.7945 | D28: =1/CAD!B28 -> 0.86125226 | E28: =1/CAD!C28 -> 0.86147484 | F28: =EUR!B28/1 -> 1.3964 | G28: =EUR!C28/1 -> 1.3964 | H28: =GBP!B28/1 -> 1.6262 | I28: =GBP!C28/1 -> 1.626 | J28: =1/INR!B28 -> 0.020665427 | K28: =1/INR!C28 -> 0.02061112 | L28: =1/JPY!B28 -> 0.010484378 | M28: =1/JPY!C28 -> 0.01048771 | N28: =1/KRW!B28 -> 0.00078783582 | O28: =1/KRW!C28 -> 0.000787809 | P28: =1/NOK!B28 -> 0.154433 | Q28: =1/NOK!C28 -> 0.15430432 | R28: =NZD!B28/1 -> 0.6356 | S28: =NZD!C28/1 -> 0.6343 | T28: =1/PHP!B28 -> 0.020738283 | U28: =1/PHP!C28 -> 0.020671835 | V28: =1/TWD!B28 -> 0.030321407 | W28: =1/TWD!C28 -> 0.030321499 | X28: =1/TWD!B28 -> 0.030321407 | Y28: =1/TWD!C28 -> 0.030321499 | Z28: =1/ZAR!B28 -> 0.12520032 | AA28: =1/ZAR!C28 -> 0.12437192
A29: ="08/07/2009" -> 08/07/2009 | B29: =AUD!B29 -> 0.7864 | C29: =AUD!C29 -> 0.7846 | D29: =1/CAD!B29 -> 0.85918034 | E29: =1/CAD!C29 -> 0.85932801 | F29: =EUR!B29/1 -> 1.3902 | G29: =EUR!C29/1 -> 1.3903 | H29: =GBP!B29/1 -> 1.6081 | I29: =GBP!C29/1 -> 1.608 | J29: =1/INR!B29 -> 0.020487605 | K29: =1/INR!C29 -> 0.020438404 | L29: =1/JPY!B29 -> 0.010575632 | M29: =1/JPY!C29 -> 0.010578843 | N29: =1/KRW!B29 -> 0.00078186083 | O29: =1/KRW!C29 -> 0.00078183601 | P29: =1/NOK!B29 -> 0.1528094 | Q29: =1/NOK!C29 -> 0.15268574 | R29: =NZD!B29/1 -> 0.628 | S29: =NZD!C29/1 -> 0.6267 | T29: =1/PHP!B29 -> 0.020682523 | U29: =1/PHP!C29 -> 0.020619407 | V29: =1/TWD!B29 -> 0.030258102 | W29: =1/TWD!C29 -> 0.030258193 | X29: =1/TWD!B29 -> 0.030258102 | Y29: =1/TWD!C29 -> 0.030258193 | Z29: =1/ZAR!B29 -> 0.12300123 | AA29: =1/ZAR!C29 -> 0.12220606
A30: ="09/07/2009" -> 09/07/2009 | B30: =AUD!B30 -> 0.7798 | C30: =AUD!C30 -> 0.778 | D30: =1/CAD!B30 -> 0.8595496 | E30: =1/CAD!C30 -> 0.85969739 | F30: =EUR!B30/1 -> 1.3893 | G30: =EUR!C30/1 -> 1.3894 | H30: =GBP!B30/1 -> 1.6077 | I30: =GBP!C30/1 -> 1.6076 | J30: =1/INR!B30 -> 0.020403999 | K30: =1/INR!C30 -> 0.020352091 | L30: =1/JPY!B30 -> 0.010731917 | M30: =1/JPY!C30 -> 0.010735143 | N30: =1/KRW!B30 -> 0.00078247261 | O30: =1/KRW!C30 -> 0.00078245253 | P30: =1/NOK!B30 -> 0.15256694 | Q30: =1/NOK!C30 -> 0.15244367 | R30: =NZD!B30/1 -> 0.626 | S30: =NZD!C30/1 -> 0.6247 | T30: =1/PHP!B30 -> 0.020725389 | U30: =1/PHP!C30 -> 0.020663292 | V30: =1/TWD!B30 -> 0.030300276 | W30: =1/TWD!C30 -> 0.030300368 | X30: =1/TWD!B30 -> 0.030300276 | Y30: =1/TWD!C30 -> 0.030300368 | Z30: =1/ZAR!B30 -> 0.12195419 | AA30: =1/ZAR!C30 -> 0.12118128
A31: ="10/07/2009" -> 10/07/2009 | B31: =AUD!B31 -> 0.7819 | C31: =AUD!C31 -> 0.7801 | D31: =1/CAD!B31 -> 0.86088154 | E31: =1/CAD!C31 -> 0.86102979 | F31: =EUR!B31/1 -> 1.3969 | G31: =EUR!C31/1 -> 1.397 | H31: =GBP!B31/1 -> 1.6293 | I31: =GBP!C31/1 -> 1.6292 | J31: =1/INR!B31 -> 0.020521239 | K31: =1/INR!C31 -> 0.020472925 | L31: =1/JPY!B31 -> 0.010768899 | M31: =1/JPY!C31 -> 0.010772264 | N31: =1/KRW!B31 -> 0.00078250323 | O31: =1/KRW!C31 -> 0.00078248302 | P31: =1/NOK!B31 -> 0.15364523 | Q31: =1/NOK!C31 -> 0.15352022 | R31: =NZD!B31/1 -> 0.6292 | S31: =NZD!C31/1 -> 0.6279 | T31: =1/PHP!B31 -> 0.020751193 | U31: =1/PHP!C31 -> 0.020686802 | V31: =1/TWD!B31 -> 0.030305785 | W31: =1/TWD!C31 -> 0.030305877 | X31: =1/TWD!B31 -> 0.030305785 | Y31: =1/TWD!C31 -> 0.030305877 | Z31: =1/ZAR!B31 -> 0.12267982 | AA31: =1/ZAR!C31 -> 0.12190068
A32: ="13/07/2009" -> 13/07/2009 | B32: =AUD!B32 -> 0.7775 | C32: =AUD!C32 -> 0.7757 | D32: =1/CAD!B32 -> 0.85910653 | E32: =1/CAD!C32 -> 0.85925417 | F32: =EUR!B32/1 -> 1.3932 | G32: =EUR!C32/1 -> 1.3933 | H32: =GBP!B32/1 -> 1.613 | I32: =GBP!C32/1 -> 1.6129 | J32: =1/INR!B32 -> 0.020312817 | K32: =1/INR!C32 -> 0.020263425 | L32: =1/JPY!B32 -> 0.010809642 | M32: =1/JPY!C32 -> 0.010813079 | N32: =1/KRW!B32 -> 0.00077465334 | O32: =1/KRW!C32 -> 0.00077463516 | P32: =1/NOK!B32 -> 0.15329194 | Q32: =1/NOK!C32 -> 0.1531675 | R32: =NZD!B32/1 -> 0.6262 | S32: =NZD!C32/1 -> 0.6249 | T32: =1/PHP!B32 -> 0.020726463 | U32: =1/PHP!C32 -> 0.020662224 | V32: =1/TWD!B32 -> 0.030175015 | W32: =1/TWD!C32 -> 0.030175106 | X32: =1/TWD!B32 -> 0.030175015 | Y32: =1/TWD!C32 -> 0.030175106 | Z32: =1/ZAR!B32 -> 0.1213445 | AA32: =1/ZAR!C32 -> 0.12058072
A33: ="14/07/2009" -> 14/07/2009 | B33: =AUD!B33 -> 0.7849 | C33: =AUD!C33 -> 0.783 | D33: =1/CAD!B33 -> 0.86843248 | E33: =1/CAD!C33 -> 0.8685079 | F33: =EUR!B33/1 -> 1.3983 | G33: =EUR!C33/1 -> 1.3983 | H33: =GBP!B33/1 -> 1.6256 | I33: =GBP!C33/1 -> 1.6255 | J33: =1/INR!B33 -> 0.020483408 | K33: =1/INR!C33 -> 0.020433183 | L33: =1/JPY!B33 -> 0.010743735 | M33: =1/JPY!C33 -> 0.010747245 | N33: =1/KRW!B33 -> 0.0007733952 | O33: =1/KRW!C33 -> 0.00077337792 | P33: =1/NOK!B33 -> 0.15415209 | Q33: =1/NOK!C33 -> 0.1540215 | R33: =NZD!B33/1 -> 0.6337 | S33: =NZD!C33/1 -> 0.6324 | T33: =1/PHP!B33 -> 0.020708221 | U33: =1/PHP!C33 -> 0.020639835 | V33: =1/TWD!B33 -> 0.030225178 | W33: =1/TWD!C33 -> 0.030225269 | X33: =1/TWD!B33 -> 0.030225178 | Y33: =1/TWD!C33 -> 0.030225269 | Z33: =1/ZAR!B33 -> 0.12105805 | AA33: =1/ZAR!C33 -> 0.12023422
A34: ="15/07/2009" -> 15/07/2009 | B34: =AUD!B34 -> 0.7944 | C34: =AUD!C34 -> 0.7925 | D34: =1/CAD!B34 -> 0.88167872 | E34: =1/CAD!C34 -> 0.88175646 | F34: =EUR!B34/1 -> 1.3986 | G34: =EUR!C34/1 -> 1.3987 | H34: =GBP!B34/1 -> 1.6331 | I34: =GBP!C34/1 -> 1.633 | J34: =1/INR!B34 -> 0.020512821 | K34: =1/INR!C34 -> 0.020464545 | L34: =1/JPY!B34 -> 0.01068593 | M34: =1/JPY!C34 -> 0.010689471 | N34: =1/KRW!B34 -> 0.0007797271 | O34: =1/KRW!C34 -> 0.00077970855 | P34: =1/NOK!B34 -> 0.15519998 | Q34: =1/NOK!C34 -> 0.15507242 | R34: =NZD!B34/1 -> 0.6407 | S34: =NZD!C34/1 -> 0.6394 | T34: =1/PHP!B34 -> 0.02076412 | U34: =1/PHP!C34 -> 0.020697506 | V34: =1/TWD!B34 -> 0.030316811 | W34: =1/TWD!C34 -> 0.030316903 | X34: =1/TWD!B34 -> 0.030316811 | Y34: =1/TWD!C34 -> 0.030316903 | Z34: =1/ZAR!B34 -> 0.12185463 | AA34: =1/ZAR!C34 -> 0.12108297
A35: ="16/07/2009" -> 16/07/2009 | B35: =AUD!B35 -> 0.7991 | C35: =AUD!C35 -> 0.7972 | D35: =1/CAD!B35 -> 0.89269773 | E35: =1/CAD!C35 -> 0.89277743 | F35: =EUR!B35/1 -> 1.4069 | G35: =EUR!C35/1 -> 1.407 | H35: =GBP!B35/1 -> 1.6396 | I35: =GBP!C35/1 -> 1.6395 | J35: =1/INR!B35 -> 0.020610058 | K35: =1/INR!C35 -> 0.020559211 | L35: =1/JPY!B35 -> 0.010630382 | M35: =1/JPY!C35 -> 0.010633716 | N35: =1/KRW!B35 -> 0.00078802206 | O35: =1/KRW!C35 -> 0.00078800344 | P35: =1/NOK!B35 -> 0.15609878 | Q35: =1/NOK!C35 -> 0.15597461 | R35: =NZD!B35/1 -> 0.6464 | S35: =NZD!C35/1 -> 0.6451 | T35: =1/PHP!B35 -> 0.020818153 | U35: =1/PHP!C35 -> 0.020751193 | V35: =1/TWD!B35 -> 0.03037298 | W35: =1/TWD!C35 -> 0.030373072 | X35: =1/TWD!B35 -> 0.03037298 | Y35: =1/TWD!C35 -> 0.030373072 | Z35: =1/ZAR!B35 -> 0.122414 | AA35: =1/ZAR!C35 -> 0.12164562
A36: ="17/07/2009" -> 17/07/2009 | B36: =AUD!B36 -> 0.8007 | C36: =AUD!C36 -> 0.7988 | D36: =1/CAD!B36 -> 0.89437439 | E36: =1/CAD!C36 -> 0.89445438 | F36: =EUR!B36/1 -> 1.4122 | G36: =EUR!C36/1 -> 1.4123 | H36: =GBP!B36/1 -> 1.6392 | I36: =GBP!C36/1 -> 1.6391 | J36: =1/INR!B36 -> 0.020546538 | K36: =1/INR!C36 -> 0.020502307 | L36: =1/JPY!B36 -> 0.010675777 | M36: =1/JPY!C36 -> 0.010679334 | N36: =1/KRW!B36 -> 0.00079207921 | O36: =1/KRW!C36 -> 0.00079205988 | P36: =1/NOK!B36 -> 0.15671279 | Q36: =1/NOK!C36 -> 0.15658519 | R36: =NZD!B36/1 -> 0.6443 | S36: =NZD!C36/1 -> 0.643 | T36: =1/PHP!B36 -> 0.020798669 | U36: =1/PHP!C36 -> 0.020731834 | V36: =1/TWD!B36 -> 0.030351777 | W36: =1/TWD!C36 -> 0.030351869 | X36: =1/TWD!B36 -> 0.030351777 | Y36: =1/TWD!C36 -> 0.030351869 | Z36: =1/ZAR!B36 -> 0.12300123 | AA36: =1/ZAR!C36 -> 0.12221951
A37: ="20/07/2009" -> 20/07/2009 | B37: =AUD!B37 -> 0.8065 | C37: =AUD!C37 -> 0.8046 | D37: =1/CAD!B37 -> 0.90260854 | E37: =1/CAD!C37 -> 0.90269002 | F37: =EUR!B37/1 -> 1.4159 | G37: =EUR!C37/1 -> 1.416 | H37: =GBP!B37/1 -> 1.6397 | I37: =GBP!C37/1 -> 1.6396 | J37: =1/INR!B37 -> 0.020623872 | K37: =1/INR!C37 -> 0.020576132 | L37: =1/JPY!B37 -> 0.010571942 | M37: =1/JPY!C37 -> 0.010575464 | N37: =1/KRW!B37 -> 0.0007981483 | O37: =1/KRW!C37 -> 0.00079812498 | P37: =1/NOK!B37 -> 0.15715857 | Q37: =1/NOK!C37 -> 0.15703024 | R37: =NZD!B37/1 -> 0.6478 | S37: =NZD!C37/1 -> 0.6465 | T37: =1/PHP!B37 -> 0.020842018 | U37: =1/PHP!C37 -> 0.020769295 | V37: =1/TWD!B37 -> 0.030459945 | W37: =1/TWD!C37 -> 0.030460038 | X37: =1/TWD!B37 -> 0.030459945 | Y37: =1/TWD!C37 -> 0.030460038 | Z37: =1/ZAR!B37 -> 0.12400486 | AA37: =1/ZAR!C37 -> 0.1232043
A38: ="21/07/2009" -> 21/07/2009 | B38: =AUD!B38 -> 0.8126 | C38: =AUD!C38 -> 0.8106 | D38: =1/CAD!B38 -> 0.90211998 | E38: =1/CAD!C38 -> 0.90220137 | F38: =EUR!B38/1 -> 1.4213 | G38: =EUR!C38/1 -> 1.4214 | H38: =GBP!B38/1 -> 1.6512 | I38: =GBP!C38/1 -> 1.651 | J38: =1/INR!B38 -> 0.020708221 | K38: =1/INR!C38 -> 0.02066009 | L38: =1/JPY!B38 -> 0.010657572 | M38: =1/JPY!C38 -> 0.010660799 | N38: =1/KRW!B38 -> 0.00079779808 | O38: =1/KRW!C38 -> 0.00079777937 | P38: =1/NOK!B38 -> 0.15828295 | Q38: =1/NOK!C38 -> 0.15814777 | R38: =NZD!B38/1 -> 0.6544 | S38: =NZD!C38/1 -> 0.653 | T38: =1/PHP!B38 -> 0.02078786 | U38: =1/PHP!C38 -> 0.020716801 | V38: =1/TWD!B38 -> 0.030487805 | W38: =1/TWD!C38 -> 0.030487898 | X38: =1/TWD!B38 -> 0.030487805 | Y38: =1/TWD!C38 -> 0.030487898 | Z38: =1/ZAR!B38 -> 0.12646222 | AA38: =1/ZAR!C38 -> 0.12559185
A39: ="22/07/2009" -> 22/07/2009 | B39: =AUD!B39 -> 0.8159 | C39: =AUD!C39 -> 0.814 | D39: =1/CAD!B39 -> 0.90399566 | E39: =1/CAD!C39 -> 0.90407739 | F39: =EUR!B39/1 -> 1.4194 | G39: =EUR!C39/1 -> 1.4194 | H39: =GBP!B39/1 -> 1.6402 | I39: =GBP!C39/1 -> 1.6401 | J39: =1/INR!B39 -> 0.020665427 | K39: =1/INR!C39 -> 0.020617494 | L39: =1/JPY!B39 -> 0.010688328 | M39: =1/JPY!C39 -> 0.010691322 | N39: =1/KRW!B39 -> 0.00079878585 | O39: =1/KRW!C39 -> 0.00079876696 | P39: =1/NOK!B39 -> 0.15869489 | Q39: =1/NOK!C39 -> 0.15856404 | R39: =NZD!B39/1 -> 0.6553 | S39: =NZD!C39/1 -> 0.654 | T39: =1/PHP!B39 -> 0.020779221 | U39: =1/PHP!C39 -> 0.020708221 | V39: =1/TWD!B39 -> 0.030485017 | W39: =1/TWD!C39 -> 0.030486132 | X39: =1/TWD!B39 -> 0.030485017 | Y39: =1/TWD!C39 -> 0.030486132 | Z39: =1/ZAR!B39 -> 0.12725884 | AA39: =1/ZAR!C39 -> 0.12642385
A40: ="23/07/2009" -> 23/07/2009 | B40: =AUD!B40 -> 0.8182 | C40: =AUD!C40 -> 0.8163 | D40: =1/CAD!B40 -> 0.90950432 | E40: =1/CAD!C40 -> 0.90958705 | F40: =EUR!B40/1 -> 1.4231 | G40: =EUR!C40/1 -> 1.4231 | H40: =GBP!B40/1 -> 1.6478 | I40: =GBP!C40/1 -> 1.6477 | J40: =1/INR!B40 -> 0.020667562 | K40: =1/INR!C40 -> 0.020616431 | L40: =1/JPY!B40 -> 0.010617966 | M40: =1/JPY!C40 -> 0.010620728 | N40: =1/KRW!B40 -> 0.0008008008 | O40: =1/KRW!C40 -> 0.00080077964 | P40: =1/NOK!B40 -> 0.15911658 | Q40: =1/NOK!C40 -> 0.15898504 | R40: =NZD!B40/1 -> 0.6598 | S40: =NZD!C40/1 -> 0.6585 | T40: =1/PHP!B40 -> 0.020768432 | U40: =1/PHP!C40 -> 0.020701791 | V40: =1/TWD!B40 -> 0.030469226 | W40: =1/TWD!C40 -> 0.030469319 | X40: =1/TWD!B40 -> 0.030469226 | Y40: =1/TWD!C40 -> 0.030469319 | Z40: =1/ZAR!B40 -> 0.12888259 | AA40: =1/ZAR!C40 -> 0.12805573
...

Sheet AUD
A1: Date | B1: SAUD | C1: FAUD
A2: 39962 | B2: 0.787 | C2: 0.7861
A3: 39965 | B3: 0.806 | C3: 0.8042
A4: 39966 | B4: 0.8112 | C4: 0.8094
A5: 39967 | B5: 0.823 | C5: 0.8211
A6: 39968 | B6: 0.8017 | C6: 0.7998
A7: 39969 | B7: 0.8038 | C7: 0.802
A8: 39972 | B8: 0.7851 | C8: 0.7833
A9: 39973 | B9: 0.7878 | C9: 0.786
A10: 39974 | B10: 0.8043 | C10: 0.8024
A11: 39975 | B11: 0.8094 | C11: 0.8075
A12: 39976 | B12: 0.8134 | C12: 0.8115
A13: 39979 | B13: 0.8071 | C13: 0.8053
... A2612: 43921 | B2612: 0.6122 | C2612: 0.6123

Sheet CAD
A1: Date | B1: SCAD | C1: FCAD
A2: ="29/05/2009" -> 29/05/2009 | B2: ="1.1127" -> 1.1127 | C2: ="1.1125" -> 1.1125
A3: ="01/06/2009" -> 01/06/2009 | B3: ="1.0873" -> 1.0873 | C3: ="1.0871" -> 1.0871
A4: ="02/06/2009" -> 02/06/2009 | B4: ="1.0912" -> 1.0912 | C4: ="1.091" -> 1.091
A5: ="03/06/2009" -> 03/06/2009 | B5: ="1.0834" -> 1.0834 | C5: ="1.0832" -> 1.0832
A6: ="04/06/2009" -> 04/06/2009 | B6: ="1.1111" -> 1.1111 | C6: ="1.1109" -> 1.1109
A7: ="05/06/2009" -> 05/06/2009 | B7: ="1.0984" -> 1.0984 | C7: ="1.0982" -> 1.0982
A8: ="08/06/2009" -> 08/06/2009 | B8: ="1.1254" -> 1.1254 | C8: ="1.1252" -> 1.1252
A9: ="09/06/2009" -> 09/06/2009 | B9: ="1.1195" -> 1.1195 | C9: ="1.1192" -> 1.1192
A10: ="10/06/2009" -> 10/06/2009 | B10: ="1.1032" -> 1.1032 | C10: ="1.103" -> 1.103
A11: ="11/06/2009" -> 11/06/2009 | B11: ="1.1052" -> 1.1052 | C11: ="1.105" -> 1.105
A12: ="12/06/2009" -> 12/06/2009 | B12: ="1.1083" -> 1.1083 | C12: ="1.1081" -> 1.1081
A13: ="15/06/2009" -> 15/06/2009 | B13: ="1.1235" -> 1.1235 | C13: ="1.1233" -> 1.1233
A14: ="16/06/2009" -> 16/06/2009 | B14: ="1.1355" -> 1.1355 | C14: ="1.1354" -> 1.1354
A15: ="17/06/2009" -> 17/06/2009 | B15: ="1.1338" -> 1.1338 | C15: ="1.1336" -> 1.1336
A16: ="18/06/2009" -> 18/06/2009 | B16: ="1.1322" -> 1.1322 | C16: ="1.1321" -> 1.1321
A17: ="19/06/2009" -> 19/06/2009 | B17: ="1.1312" -> 1.1312 | C17: ="1.131" -> 1.131
A18: ="22/06/2009" -> 22/06/2009 | B18: ="1.1376" -> 1.1376 | C18: ="1.1374" -> 1.1374
A19: ="23/06/2009" -> 23/06/2009 | B19: ="1.1544" -> 1.1544 | C19: ="1.1542" -> 1.1542
A20: ="24/06/2009" -> 24/06/2009 | B20: ="1.1477" -> 1.1477 | C20: ="1.1475" -> 1.1475
A21: ="25/06/2009" -> 25/06/2009 | B21: ="1.1548" -> 1.1548 | C21: ="1.1546" -> 1.1546
A22: ="26/06/2009" -> 26/06/2009 | B22: ="1.1524" -> 1.1524 | C22: ="1.1522" -> 1.1522
A23: ="29/06/2009" -> 29/06/2009 | B23: ="1.1556" -> 1.1556 | C23: ="1.1554" -> 1.1554
A24: ="30/06/2009" -> 30/06/2009 | B24: ="1.1559" -> 1.1559 | C24: ="1.1557" -> 1.1557
A25: ="01/07/2009" -> 01/07/2009 | B25: ="1.1616" -> 1.1616 | C25: ="1.1614" -> 1.1614
A26: ="03/07/2009" -> 03/07/2009 | B26: ="1.1608" -> 1.1608 | C26: ="1.1606" -> 1.1606
A27: ="06/07/2009" -> 06/07/2009 | B27: ="1.1633" -> 1.1633 | C27: ="1.1631" -> 1.1631
A28: ="07/07/2009" -> 07/07/2009 | B28: ="1.1611" -> 1.1611 | C28: ="1.1608" -> 1.1608
A29: ="08/07/2009" -> 08/07/2009 | B29: ="1.1639" -> 1.1639 | C29: ="1.1637" -> 1.1637
A30: ="09/07/2009" -> 09/07/2009 | B30: ="1.1634" -> 1.1634 | C30: ="1.1632" -> 1.1632
A31: ="10/07/2009" -> 10/07/2009 | B31: ="1.1616" -> 1.1616 | C31: ="1.1614" -> 1.1614
A32: ="13/07/2009" -> 13/07/2009 | B32: ="1.164" -> 1.164 | C32: ="1.1638" -> 1.1638
A33: ="14/07/2009" -> 14/07/2009 | B33: ="1.1515" -> 1.1515 | C33: ="1.1514" -> 1.1514
A34: ="15/07/2009" -> 15/07/2009 | B34: ="1.1342" -> 1.1342 | C34: ="1.1341" -> 1.1341
A35: ="16/07/2009" -> 16/07/2009 | B35: ="1.1202" -> 1.1202 | C35: ="1.1201" -> 1.1201
A36: ="17/07/2009" -> 17/07/2009 | B36: ="1.1181" -> 1.1181 | C36: ="1.118" -> 1.118
A37: ="20/07/2009" -> 20/07/2009 | B37: ="1.1079" -> 1.1079 | C37: ="1.1078" -> 1.1078
A38: ="21/07/2009" -> 21/07/2009 | B38: ="1.1085" -> 1.1085 | C38: ="1.1084" -> 1.1084
A39: ="22/07/2009" -> 22/07/2009 | B39: ="1.1062" -> 1.1062 | C39: ="1.1061" -> 1.1061
A40: ="23/07/2009" -> 23/07/2009 | B40: ="1.0995" -> 1.0995 | C40: ="1.0994" -> 1.0994
...

Sheet EUR
A2: ="29/05/2009" -> 29/05/2009 | B2: ="1.3981" -> 1.3981 | C2: ="1.3977" -> 1.3977
A3: ="01/06/2009" -> 01/06/2009 | B3: ="1.4151" -> 1.4151 | C3: ="1.4148" -> 1.4148
A4: ="02/06/2009" -> 02/06/2009 | B4: ="1.4168" -> 1.4168 | C4: ="1.4164" -> 1.4164
A5: ="03/06/2009" -> 03/06/2009 | B5: ="1.4292" -> 1.4292 | C5: ="1.4288" -> 1.4288
A6: ="04/06/2009" -> 04/06/2009 | B6: ="1.418" -> 1.418 | C6: ="1.4176" -> 1.4176
A7: ="05/06/2009" -> 05/06/2009 | B7: ="1.4202" -> 1.4202 | C7: ="1.4198" -> 1.4198
A8: ="08/06/2009" -> 08/06/2009 | B8: ="1.3868" -> 1.3868 | C8: ="1.3864" -> 1.3864
A9: ="09/06/2009" -> 09/06/2009 | B9: ="1.386" -> 1.386 | C9: ="1.3855" -> 1.3855
A10: ="10/06/2009" -> 10/06/2009 | B10: ="1.4074" -> 1.4074 | C10: ="1.4069" -> 1.4069
A11: ="11/06/2009" -> 11/06/2009 | B11: ="1.4029" -> 1.4029 | C11: ="1.4025" -> 1.4025
A12: ="12/06/2009" -> 12/06/2009 | B12: ="1.4095" -> 1.4095 | C12: ="1.4091" -> 1.4091
A13: ="15/06/2009" -> 15/06/2009 | B13: ="1.395" -> 1.395 | C13: ="1.3946" -> 1.3946
A14: ="16/06/2009" -> 16/06/2009 | B14: ="1.3796" -> 1.3796 | C14: ="1.3792" -> 1.3792
A15: ="17/06/2009" -> 17/06/2009 | B15: ="1.385" -> 1.385 | C15: ="1.3846" -> 1.3846
A16: ="18/06/2009" -> 18/06/2009 | B16: ="1.395" -> 1.395 | C16: ="1.3947" -> 1.3947
A17: ="19/06/2009" -> 19/06/2009 | B17: ="1.3923" -> 1.3923 | C17: ="1.392" -> 1.392
A18: ="22/06/2009" -> 22/06/2009 | B18: ="1.3912" -> 1.3912 | C18: ="1.3909" -> 1.3909
A19: ="23/06/2009" -> 23/06/2009 | B19: ="1.3855" -> 1.3855 | C19: ="1.3852" -> 1.3852
A20: ="24/06/2009" -> 24/06/2009 | B20: ="1.4087" -> 1.4087 | C20: ="1.4085" -> 1.4085
A21: ="25/06/2009" -> 25/06/2009 | B21: ="1.3957" -> 1.3957 | C21: ="1.3956" -> 1.3956
A22: ="26/06/2009" -> 26/06/2009 | B22: ="1.4041" -> 1.4041 | C22: ="1.4041" -> 1.4041
A23: ="29/06/2009" -> 29/06/2009 | B23: ="1.4027" -> 1.4027 | C23: ="1.4027" -> 1.4027
A24: ="30/06/2009" -> 30/06/2009 | B24: ="1.4107" -> 1.4107 | C24: ="1.4106" -> 1.4106
A25: ="01/07/2009" -> 01/07/2009 | B25: ="1.404" -> 1.404 | C25: ="1.404" -> 1.404
A26: ="03/07/2009" -> 03/07/2009 | B26: ="1.3984" -> 1.3984 | C26: ="1.3985" -> 1.3985
A27: ="06/07/2009" -> 06/07/2009 | B27: ="1.3962" -> 1.3962 | C27: ="1.3962" -> 1.3962
A28: ="07/07/2009" -> 07/07/2009 | B28: ="1.3964" -> 1.3964 | C28: ="1.3964" -> 1.3964
A29: ="08/07/2009" -> 08/07/2009 | B29: ="1.3902" -> 1.3902 | C29: ="1.3903" -> 1.3903
A30: ="09/07/2009" -> 09/07/2009 | B30: ="1.3893" -> 1.3893 | C30: ="1.3894" -> 1.3894
A31: ="10/07/2009" -> 10/07/2009 | B31: ="1.3969" -> 1.3969 | C31: ="1.397" -> 1.397
A32: ="13/07/2009" -> 13/07/2009 | B32: ="1.3932" -> 1.3932 | C32: ="1.3933" -> 1.3933
A33: ="14/07/2009" -> 14/07/2009 | B33: ="1.3983" -> 1.3983 | C33: ="1.3983" -> 1.3983
A34: ="15/07/2009" -> 15/07/2009 | B34: ="1.3986" -> 1.3986 | C34: ="1.3987" -> 1.3987
A35: ="16/07/2009" -> 16/07/2009 | B35: ="1.4069" -> 1.4069 | C35: ="1.407" -> 1.407
A36: ="17/07/2009" -> 17/07/2009 | B36: ="1.4122" -> 1.4122 | C36: ="1.4123" -> 1.4123
A37: ="20/07/2009" -> 20/07/2009 | B37: ="1.4159" -> 1.4159 | C37: ="1.416" -> 1.416
A38: ="21/07/2009" -> 21/07/2009 | B38: ="1.4213" -> 1.4213 | C38: ="1.4214" -> 1.4214
A39: ="22/07/2009" -> 22/07/2009 | B39: ="1.4194" -> 1.4194 | C39: ="1.4194" -> 1.4194
A40: ="23/07/2009" -> 23/07/2009 | B40: ="1.4231" -> 1.4231 | C40: ="1.4231" -> 1.4231
A41: ="24/07/2009" -> 24/07/2009 | B41: ="1.416" -> 1.416 | C41: ="1.416" -> 1.416
...

Sheet GBP
A2: ="29/05/2009" -> 29/05/2009 | B2: ="1.5958" -> 1.5958 | C2: ="1.5956" -> 1.5956
A3: ="01/06/2009" -> 01/06/2009 | B3: ="1.6218" -> 1.6218 | C3: ="1.6216" -> 1.6216
A4: ="02/06/2009" -> 02/06/2009 | B4: ="1.6441" -> 1.6441 | C4: ="1.6439" -> 1.6439
A5: ="03/06/2009" -> 03/06/2009 | B5: ="1.657" -> 1.657 | C5: ="1.6569" -> 1.6569
A6: ="04/06/2009" -> 04/06/2009 | B6: ="1.6302" -> 1.6302 | C6: ="1.6301" -> 1.6301
A7: ="05/06/2009" -> 05/06/2009 | B7: ="1.6126" -> 1.6126 | C7: ="1.6124" -> 1.6124
A8: ="08/06/2009" -> 08/06/2009 | B8: ="1.5836" -> 1.5836 | C8: ="1.5834" -> 1.5834
A9: ="09/06/2009" -> 09/06/2009 | B9: ="1.5996" -> 1.5996 | C9: ="1.5994" -> 1.5994
A10: ="10/06/2009" -> 10/06/2009 | B10: ="1.6322" -> 1.6322 | C10: ="1.632" -> 1.632
A11: ="11/06/2009" -> 11/06/2009 | B11: ="1.641" -> 1.641 | C11: ="1.6409" -> 1.6409
A12: ="12/06/2009" -> 12/06/2009 | B12: ="1.6547" -> 1.6547 | C12: ="1.6546" -> 1.6546
A13: ="15/06/2009" -> 15/06/2009 | B13: ="1.6374" -> 1.6374 | C13: ="1.6373" -> 1.6373
A14: ="16/06/2009" -> 16/06/2009 | B14: ="1.6245" -> 1.6245 | C14: ="1.6244" -> 1.6244
A15: ="17/06/2009" -> 17/06/2009 | B15: ="1.6385" -> 1.6385 | C15: ="1.6384" -> 1.6384
A16: ="18/06/2009" -> 18/06/2009 | B16: ="1.638" -> 1.638 | C16: ="1.6379" -> 1.6379
A17: ="19/06/2009" -> 19/06/2009 | B17: ="1.6357" -> 1.6357 | C17: ="1.6356" -> 1.6356
A18: ="22/06/2009" -> 22/06/2009 | B18: ="1.6469" -> 1.6469 | C18: ="1.6468" -> 1.6468
A19: ="23/06/2009" -> 23/06/2009 | B19: ="1.6313" -> 1.6313 | C19: ="1.6312" -> 1.6312
A20: ="24/06/2009" -> 24/06/2009 | B20: ="1.6461" -> 1.6461 | C20: ="1.646" -> 1.646
A21: ="25/06/2009" -> 25/06/2009 | B21: ="1.6441" -> 1.6441 | C21: ="1.644" -> 1.644
A22: ="26/06/2009" -> 26/06/2009 | B22: ="1.6427" -> 1.6427 | C22: ="1.6426" -> 1.6426
A23: ="29/06/2009" -> 29/06/2009 | B23: ="1.6473" -> 1.6473 | C23: ="1.6472" -> 1.6472
A24: ="30/06/2009" -> 30/06/2009 | B24: ="1.6625" -> 1.6625 | C24: ="1.6624" -> 1.6624
A25: ="01/07/2009" -> 01/07/2009 | B25: ="1.6456" -> 1.6456 | C25: ="1.6455" -> 1.6455
A26: ="03/07/2009" -> 03/07/2009 | B26: ="1.6371" -> 1.6371 | C26: ="1.637" -> 1.637
A27: ="06/07/2009" -> 06/07/2009 | B27: ="1.6266" -> 1.6266 | C27: ="1.6265" -> 1.6265
A28: ="07/07/2009" -> 07/07/2009 | B28: ="1.6262" -> 1.6262 | C28: ="1.626" -> 1.626
A29: ="08/07/2009" -> 08/07/2009 | B29: ="1.6081" -> 1.6081 | C29: ="1.608" -> 1.608
A30: ="09/07/2009" -> 09/07/2009 | B30: ="1.6077" -> 1.6077 | C30: ="1.6076" -> 1.6076
A31: ="10/07/2009" -> 10/07/2009 | B31: ="1.6293" -> 1.6293 | C31: ="1.6292" -> 1.6292
A32: ="13/07/2009" -> 13/07/2009 | B32: ="1.613" -> 1.613 | C32: ="1.6129" -> 1.6129
A33: ="14/07/2009" -> 14/07/2009 | B33: ="1.6256" -> 1.6256 | C33: ="1.6255" -> 1.6255
A34: ="15/07/2009" -> 15/07/2009 | B34: ="1.6331" -> 1.6331 | C34: ="1.633" -> 1.633
A35: ="16/07/2009" -> 16/07/2009 | B35: ="1.6396" -> 1.6396 | C35: ="1.6395" -> 1.6395
A36: ="17/07/2009" -> 17/07/2009 | B36: ="1.6392" -> 1.6392 | C36: ="1.6391" -> 1.6391
A37: ="20/07/2009" -> 20/07/2009 | B37: ="1.6397" -> 1.6397 | C37: ="1.6396" -> 1.6396
A38: ="21/07/2009" -> 21/07/2009 | B38: ="1.6512" -> 1.6512 | C38: ="1.651" -> 1.651
A39: ="22/07/2009" -> 22/07/2009 | B39: ="1.6402" -> 1.6402 | C39: ="1.6401" -> 1.6401
A40: ="23/07/2009" -> 23/07/2009 | B40: ="1.6478" -> 1.6478 | C40: ="1.6477" -> 1.6477
A41: ="24/07/2009" -> 24/07/2009 | B41: ="1.6488" -> 1.6488 | C41: ="1.6487" -> 1.6487
...

Sheet INR
A1: Date | B1: S | C1: F
A2: ="29/05/2009" -> 29/05/2009 | B2: ="47.4875" -> 47.4875 | C2: ="47.6325" -> 47.6325
A3: ="01/06/2009" -> 01/06/2009 | B3: ="47.0225" -> 47.0225 | C3: ="47.185" -> 47.185
A4: ="02/06/2009" -> 02/06/2009 | B4: ="47.10" -> 47.10 | C4: ="47.265" -> 47.265
A5: ="03/06/2009" -> 03/06/2009 | B5: ="46.8525" -> 46.8525 | C5: ="47.01" -> 47.01
A6: ="04/06/2009" -> 04/06/2009 | B6: ="47.225" -> 47.225 | C6: ="47.38" -> 47.38
A7: ="05/06/2009" -> 05/06/2009 | B7: ="47.09" -> 47.09 | C7: ="47.2375" -> 47.2375
A8: ="08/06/2009" -> 08/06/2009 | B8: ="47.63" -> 47.63 | C8: ="47.7725" -> 47.7725
A9: ="09/06/2009" -> 09/06/2009 | B9: ="47.675" -> 47.675 | C9: ="47.8325" -> 47.8325
A10: ="10/06/2009" -> 10/06/2009 | B10: ="47.34" -> 47.34 | C10: ="47.4975" -> 47.4975
A11: ="11/06/2009" -> 11/06/2009 | B11: ="47.365" -> 47.365 | C11: ="47.5225" -> 47.5225
A12: ="12/06/2009" -> 12/06/2009 | B12: ="47.46" -> 47.46 | C12: ="47.61" -> 47.61
A13: ="15/06/2009" -> 15/06/2009 | B13: ="47.80" -> 47.80 | C13: ="47.9475" -> 47.9475
A14: ="16/06/2009" -> 16/06/2009 | B14: ="47.925" -> 47.925 | C14: ="48.0825" -> 48.0825
A15: ="17/06/2009" -> 17/06/2009 | B15: ="47.87" -> 47.87 | C15: ="48.025" -> 48.025
A16: ="18/06/2009" -> 18/06/2009 | B16: ="48.11" -> 48.11 | C16: ="48.2725" -> 48.2725
A17: ="19/06/2009" -> 19/06/2009 | B17: ="48.12" -> 48.12 | C17: ="48.255" -> 48.255
A18: ="22/06/2009" -> 22/06/2009 | B18: ="48.19" -> 48.19 | C18: ="48.3375" -> 48.3375
A19: ="23/06/2009" -> 23/06/2009 | B19: ="48.88" -> 48.88 | C19: ="49.0325" -> 49.0325
A20: ="24/06/2009" -> 24/06/2009 | B20: ="48.40" -> 48.40 | C20: ="48.5425" -> 48.5425
A21: ="25/06/2009" -> 25/06/2009 | B21: ="48.57" -> 48.57 | C21: ="48.7225" -> 48.7225
A22: ="26/06/2009" -> 26/06/2009 | B22: ="48.525" -> 48.525 | C22: ="48.6575" -> 48.6575
A23: ="29/06/2009" -> 29/06/2009 | B23: ="48.1225" -> 48.1225 | C23: ="48.2625" -> 48.2625
A24: ="30/06/2009" -> 30/06/2009 | B24: ="47.87" -> 47.87 | C24: ="48.0025" -> 48.0025
A25: ="01/07/2009" -> 01/07/2009 | B25: ="47.91" -> 47.91 | C25: ="48.0425" -> 48.0425
A26: ="03/07/2009" -> 03/07/2009 | B26: ="48.10" -> 48.10 | C26: ="48.2275" -> 48.2275
A27: ="06/07/2009" -> 06/07/2009 | B27: ="47.96" -> 47.96 | C27: ="48.0825" -> 48.0825
A28: ="07/07/2009" -> 07/07/2009 | B28: ="48.39" -> 48.39 | C28: ="48.5175" -> 48.5175
A29: ="08/07/2009" -> 08/07/2009 | B29: ="48.81" -> 48.81 | C29: ="48.9275" -> 48.9275
A30: ="09/07/2009" -> 09/07/2009 | B30: ="49.01" -> 49.01 | C30: ="49.135" -> 49.135
A31: ="10/07/2009" -> 10/07/2009 | B31: ="48.73" -> 48.73 | C31: ="48.845" -> 48.845
A32: ="13/07/2009" -> 13/07/2009 | B32: ="49.23" -> 49.23 | C32: ="49.35" -> 49.35
A33: ="14/07/2009" -> 14/07/2009 | B33: ="48.82" -> 48.82 | C33: ="48.94" -> 48.94
A34: ="15/07/2009" -> 15/07/2009 | B34: ="48.75" -> 48.75 | C34: ="48.865" -> 48.865
A35: ="16/07/2009" -> 16/07/2009 | B35: ="48.52" -> 48.52 | C35: ="48.64" -> 48.64
A36: ="17/07/2009" -> 17/07/2009 | B36: ="48.67" -> 48.67 | C36: ="48.775" -> 48.775
A37: ="20/07/2009" -> 20/07/2009 | B37: ="48.4875" -> 48.4875 | C37: ="48.60" -> 48.60
A38: ="21/07/2009" -> 21/07/2009 | B38: ="48.29" -> 48.29 | C38: ="48.4025" -> 48.4025
A39: ="22/07/2009" -> 22/07/2009 | B39: ="48.39" -> 48.39 | C39: ="48.5025" -> 48.5025
A40: ="23/07/2009" -> 23/07/2009 | B40: ="48.385" -> 48.385 | C40: ="48.505" -> 48.505
...

Sheet JPY
A2: ="29/05/2009" -> 29/05/2009 | B2: ="96.38" -> 96.38 | C2: ="96.3475" -> 96.3475
A3: ="01/06/2009" -> 01/06/2009 | B3: ="94.96" -> 94.96 | C3: ="94.9266" -> 94.9266
A4: ="02/06/2009" -> 02/06/2009 | B4: ="96.37" -> 96.37 | C4: ="96.3308" -> 96.3308
A5: ="03/06/2009" -> 03/06/2009 | B5: ="95.68" -> 95.68 | C5: ="95.6466" -> 95.6466
A6: ="04/06/2009" -> 04/06/2009 | B6: ="96.12" -> 96.12 | C6: ="96.0907" -> 96.0907
A7: ="05/06/2009" -> 05/06/2009 | B7: ="96.80" -> 96.80 | C7: ="96.7677" -> 96.7677
A8: ="08/06/2009" -> 08/06/2009 | B8: ="98.38" -> 98.38 | C8: ="98.3452" -> 98.3452
A9: ="09/06/2009" -> 09/06/2009 | B9: ="98.24" -> 98.24 | C9: ="98.205" -> 98.205
A10: ="10/06/2009" -> 10/06/2009 | B10: ="97.64" -> 97.64 | C10: ="97.6078" -> 97.6078
A11: ="11/06/2009" -> 11/06/2009 | B11: ="97.89" -> 97.89 | C11: ="97.8607" -> 97.8607
A12: ="12/06/2009" -> 12/06/2009 | B12: ="97.75" -> 97.75 | C12: ="97.7215" -> 97.7215
A13: ="15/06/2009" -> 15/06/2009 | B13: ="98.30" -> 98.30 | C13: ="98.2718" -> 98.2718
A14: ="16/06/2009" -> 16/06/2009 | B14: ="96.65" -> 96.65 | C14: ="96.62" -> 96.62
A15: ="17/06/2009" -> 17/06/2009 | B15: ="96.44" -> 96.44 | C15: ="96.41" -> 96.41
A16: ="18/06/2009" -> 18/06/2009 | B16: ="95.81" -> 95.81 | C16: ="95.781" -> 95.781
A17: ="19/06/2009" -> 19/06/2009 | B17: ="96.66" -> 96.66 | C17: ="96.6265" -> 96.6265
A18: ="22/06/2009" -> 22/06/2009 | B18: ="95.94" -> 95.94 | C18: ="95.9053" -> 95.9053
A19: ="23/06/2009" -> 23/06/2009 | B19: ="95.2695" -> 95.2695 | C19: ="95.2317" -> 95.2317
A20: ="24/06/2009" -> 24/06/2009 | B20: ="95.54" -> 95.54 | C20: ="95.5032" -> 95.5032
A21: ="25/06/2009" -> 25/06/2009 | B21: ="96.09" -> 96.09 | C21: ="96.0572" -> 96.0572
A22: ="26/06/2009" -> 26/06/2009 | B22: ="95.90" -> 95.90 | C22: ="95.8664" -> 95.8664
A23: ="29/06/2009" -> 29/06/2009 | B23: ="95.523" -> 95.523 | C23: ="95.4865" -> 95.4865
A24: ="30/06/2009" -> 30/06/2009 | B24: ="95.92" -> 95.92 | C24: ="95.8848" -> 95.8848
A25: ="01/07/2009" -> 01/07/2009 | B25: ="96.82" -> 96.82 | C25: ="96.7875" -> 96.7875
A26: ="03/07/2009" -> 03/07/2009 | B26: ="96.001" -> 96.001 | C26: ="95.9712" -> 95.9712
A27: ="06/07/2009" -> 06/07/2009 | B27: ="95.42" -> 95.42 | C27: ="95.3904" -> 95.3904
A28: ="07/07/2009" -> 07/07/2009 | B28: ="95.38" -> 95.38 | C28: ="95.3497" -> 95.3497
A29: ="08/07/2009" -> 08/07/2009 | B29: ="94.557" -> 94.557 | C29: ="94.5283" -> 94.5283
A30: ="09/07/2009" -> 09/07/2009 | B30: ="93.18" -> 93.18 | C30: ="93.152" -> 93.152
A31: ="10/07/2009" -> 10/07/2009 | B31: ="92.86" -> 92.86 | C31: ="92.831" -> 92.831
A32: ="13/07/2009" -> 13/07/2009 | B32: ="92.51" -> 92.51 | C32: ="92.4806" -> 92.4806
A33: ="14/07/2009" -> 14/07/2009 | B33: ="93.0775" -> 93.0775 | C33: ="93.0471" -> 93.0471
A34: ="15/07/2009" -> 15/07/2009 | B34: ="93.581" -> 93.581 | C34: ="93.55" -> 93.55
A35: ="16/07/2009" -> 16/07/2009 | B35: ="94.07" -> 94.07 | C35: ="94.0405" -> 94.0405
A36: ="17/07/2009" -> 17/07/2009 | B36: ="93.67" -> 93.67 | C36: ="93.6388" -> 93.6388
A37: ="20/07/2009" -> 20/07/2009 | B37: ="94.59" -> 94.59 | C37: ="94.5585" -> 94.5585
A38: ="21/07/2009" -> 21/07/2009 | B38: ="93.83" -> 93.83 | C38: ="93.8016" -> 93.8016
A39: ="22/07/2009" -> 22/07/2009 | B39: ="93.56" -> 93.56 | C39: ="93.5338" -> 93.5338
A40: ="23/07/2009" -> 23/07/2009 | B40: ="94.18" -> 94.18 | C40: ="94.1555" -> 94.1555
A41: ="24/07/2009" -> 24/07/2009 | B41: ="94.6075" -> 94.6075 | C41: ="94.583" -> 94.583
...

Sheet KRW
A2: ="29/05/2009" -> 29/05/2009 | B2: ="1261.10" -> 1261.10 | C2: ="1261.1395" -> 1261.1395
A3: ="01/06/2009" -> 01/06/2009 | B3: ="1249.60" -> 1249.60 | C3: ="1249.6405" -> 1249.6405
A4: ="02/06/2009" -> 02/06/2009 | B4: ="1239.10" -> 1239.10 | C4: ="1239.1362" -> 1239.1362
A5: ="03/06/2009" -> 03/06/2009 | B5: ="1240.10" -> 1240.10 | C5: ="1240.1446" -> 1240.1446
A6: ="04/06/2009" -> 04/06/2009 | B6: ="1250.90" -> 1250.90 | C6: ="1250.9385" -> 1250.9385
A7: ="05/06/2009" -> 05/06/2009 | B7: ="1244.10" -> 1244.10 | C7: ="1244.1414" -> 1244.1414
A8: ="08/06/2009" -> 08/06/2009 | B8: ="1251.60" -> 1251.60 | C8: ="1251.6246" -> 1251.6246
A9: ="09/06/2009" -> 09/06/2009 | B9: ="1259.00" -> 1259.00 | C9: ="1259.0409" -> 1259.0409
A10: ="10/06/2009" -> 10/06/2009 | B10: ="1253.20" -> 1253.20 | C10: ="1253.2385" -> 1253.2385
A11: ="11/06/2009" -> 11/06/2009 | B11: ="1250.00" -> 1250.00 | C11: ="1250.0378" -> 1250.0378
A12: ="12/06/2009" -> 12/06/2009 | B12: ="1253.50" -> 1253.50 | C12: ="1253.53" -> 1253.53
A13: ="15/06/2009" -> 15/06/2009 | B13: ="1260.40" -> 1260.40 | C13: ="1260.4299" -> 1260.4299
A14: ="16/06/2009" -> 16/06/2009 | B14: ="1265.50" -> 1265.50 | C14: ="1265.5186" -> 1265.5186
A15: ="17/06/2009" -> 17/06/2009 | B15: ="1260.20" -> 1260.20 | C15: ="1260.2129" -> 1260.2129
A16: ="18/06/2009" -> 18/06/2009 | B16: ="1263.70" -> 1263.70 | C16: ="1263.7252" -> 1263.7252
A17: ="19/06/2009" -> 19/06/2009 | B17: ="1267.30" -> 1267.30 | C17: ="1267.3311" -> 1267.3311
A18: ="22/06/2009" -> 22/06/2009 | B18: ="1273.10" -> 1273.10 | C18: ="1273.1246" -> 1273.1246
A19: ="23/06/2009" -> 23/06/2009 | B19: ="1289.10" -> 1289.10 | C19: ="1289.1505" -> 1289.1505
A20: ="24/06/2009" -> 24/06/2009 | B20: ="1278.95" -> 1278.95 | C20: ="1279.0038" -> 1279.0038
A21: ="25/06/2009" -> 25/06/2009 | B21: ="1286.80" -> 1286.80 | C21: ="1286.852" -> 1286.852
A22: ="26/06/2009" -> 26/06/2009 | B22: ="1291.30" -> 1291.30 | C22: ="1291.3492" -> 1291.3492
A23: ="29/06/2009" -> 29/06/2009 | B23: ="1288.60" -> 1288.60 | C23: ="1288.6539" -> 1288.6539
A24: ="30/06/2009" -> 30/06/2009 | B24: ="1278.30" -> 1278.30 | C24: ="1278.3581" -> 1278.3581
A25: ="01/07/2009" -> 01/07/2009 | B25: ="1267.10" -> 1267.10 | C25: ="1267.1554" -> 1267.1554
A26: ="03/07/2009" -> 03/07/2009 | B26: ="1272.20" -> 1272.20 | C26: ="1272.2649" -> 1272.2649
A27: ="06/07/2009" -> 06/07/2009 | B27: ="1269.00" -> 1269.00 | C27: ="1269.0415" -> 1269.0415
A28: ="07/07/2009" -> 07/07/2009 | B28: ="1269.30" -> 1269.30 | C28: ="1269.3432" -> 1269.3432
A29: ="08/07/2009" -> 08/07/2009 | B29: ="1279.00" -> 1279.00 | C29: ="1279.0406" -> 1279.0406
A30: ="09/07/2009" -> 09/07/2009 | B30: ="1278.00" -> 1278.00 | C30: ="1278.0328" -> 1278.0328
A31: ="10/07/2009" -> 10/07/2009 | B31: ="1277.95" -> 1277.95 | C31: ="1277.983" -> 1277.983
A32: ="13/07/2009" -> 13/07/2009 | B32: ="1290.90" -> 1290.90 | C32: ="1290.9303" -> 1290.9303
A33: ="14/07/2009" -> 14/07/2009 | B33: ="1293.00" -> 1293.00 | C33: ="1293.0289" -> 1293.0289
A34: ="15/07/2009" -> 15/07/2009 | B34: ="1282.50" -> 1282.50 | C34: ="1282.5305" -> 1282.5305
A35: ="16/07/2009" -> 16/07/2009 | B35: ="1269.00" -> 1269.00 | C35: ="1269.03" -> 1269.03
A36: ="17/07/2009" -> 17/07/2009 | B36: ="1262.50" -> 1262.50 | C36: ="1262.5308" -> 1262.5308
A37: ="20/07/2009" -> 20/07/2009 | B37: ="1252.90" -> 1252.90 | C37: ="1252.9366" -> 1252.9366
A38: ="21/07/2009" -> 21/07/2009 | B38: ="1253.45" -> 1253.45 | C38: ="1253.4794" -> 1253.4794
A39: ="22/07/2009" -> 22/07/2009 | B39: ="1251.90" -> 1251.90 | C39: ="1251.9296" -> 1251.9296
A40: ="23/07/2009" -> 23/07/2009 | B40: ="1248.75" -> 1248.75 | C40: ="1248.783" -> 1248.783
A41: ="24/07/2009" -> 24/07/2009 | B41: ="1246.80" -> 1246.80 | C41: ="1246.8324" -> 1246.8324
...

Sheet NOK
A2: ="29/05/2009" -> 29/05/2009 | B2: ="6.4159" -> 6.4159 | C2: ="6.4225" -> 6.4225
A3: ="01/06/2009" -> 01/06/2009 | B3: ="6.2862" -> 6.2862 | C3: ="6.2927" -> 6.2927
A4: ="02/06/2009" -> 02/06/2009 | B4: ="6.1825" -> 6.1825 | C4: ="6.1893" -> 6.1893
A5: ="03/06/2009" -> 03/06/2009 | B5: ="6.1915" -> 6.1915 | C5: ="6.1984" -> 6.1984
A6: ="04/06/2009" -> 04/06/2009 | B6: ="6.3409" -> 6.3409 | C6: ="6.3479" -> 6.3479
A7: ="05/06/2009" -> 05/06/2009 | B7: ="6.3123" -> 6.3123 | C7: ="6.3187" -> 6.3187
A8: ="08/06/2009" -> 08/06/2009 | B8: ="6.4193" -> 6.4193 | C8: ="6.4258" -> 6.4258
A9: ="09/06/2009" -> 09/06/2009 | B9: ="6.4562" -> 6.4562 | C9: ="6.4627" -> 6.4627
A10: ="10/06/2009" -> 10/06/2009 | B10: ="6.334" -> 6.334 | C10: ="6.3403" -> 6.3403
A11: ="11/06/2009" -> 11/06/2009 | B11: ="6.3516" -> 6.3516 | C11: ="6.3577" -> 6.3577
A12: ="12/06/2009" -> 12/06/2009 | B12: ="6.3031" -> 6.3031 | C12: ="6.3089" -> 6.3089
A13: ="15/06/2009" -> 15/06/2009 | B13: ="6.3951" -> 6.3951 | C13: ="6.4011" -> 6.4011
A14: ="16/06/2009" -> 16/06/2009 | B14: ="6.4886" -> 6.4886 | C14: ="6.4945" -> 6.4945
A15: ="17/06/2009" -> 17/06/2009 | B15: ="6.4148" -> 6.4148 | C15: ="6.4213" -> 6.4213
A16: ="18/06/2009" -> 18/06/2009 | B16: ="6.3613" -> 6.3613 | C16: ="6.3666" -> 6.3666
A17: ="19/06/2009" -> 19/06/2009 | B17: ="6.4118" -> 6.4118 | C17: ="6.4169" -> 6.4169
A18: ="22/06/2009" -> 22/06/2009 | B18: ="6.421" -> 6.421 | C18: ="6.426" -> 6.426
A19: ="23/06/2009" -> 23/06/2009 | B19: ="6.6031" -> 6.6031 | C19: ="6.6083" -> 6.6083
A20: ="24/06/2009" -> 24/06/2009 | B20: ="6.4878" -> 6.4878 | C20: ="6.4934" -> 6.4934
A21: ="25/06/2009" -> 25/06/2009 | B21: ="6.4878" -> 6.4878 | C21: ="6.4933" -> 6.4933
A22: ="26/06/2009" -> 26/06/2009 | B22: ="6.4578" -> 6.4578 | C22: ="6.463" -> 6.463
A23: ="29/06/2009" -> 29/06/2009 | B23: ="6.4692" -> 6.4692 | C23: ="6.4746" -> 6.4746
A24: ="30/06/2009" -> 30/06/2009 | B24: ="6.4026" -> 6.4026 | C24: ="6.4083" -> 6.4083
A25: ="01/07/2009" -> 01/07/2009 | B25: ="6.4407" -> 6.4407 | C25: ="6.4462" -> 6.4462
A26: ="03/07/2009" -> 03/07/2009 | B26: ="6.4205" -> 6.4205 | C26: ="6.4257" -> 6.4257
A27: ="06/07/2009" -> 06/07/2009 | B27: ="6.435" -> 6.435 | C27: ="6.4399" -> 6.4399
A28: ="07/07/2009" -> 07/07/2009 | B28: ="6.4753" -> 6.4753 | C28: ="6.4807" -> 6.4807
A29: ="08/07/2009" -> 08/07/2009 | B29: ="6.5441" -> 6.5441 | C29: ="6.5494" -> 6.5494
A30: ="09/07/2009" -> 09/07/2009 | B30: ="6.5545" -> 6.5545 | C30: ="6.5598" -> 6.5598
A31: ="10/07/2009" -> 10/07/2009 | B31: ="6.5085" -> 6.5085 | C31: ="6.5138" -> 6.5138
A32: ="13/07/2009" -> 13/07/2009 | B32: ="6.5235" -> 6.5235 | C32: ="6.5288" -> 6.5288
A33: ="14/07/2009" -> 14/07/2009 | B33: ="6.4871" -> 6.4871 | C33: ="6.4926" -> 6.4926
A34: ="15/07/2009" -> 15/07/2009 | B34: ="6.4433" -> 6.4433 | C34: ="6.4486" -> 6.4486
A35: ="16/07/2009" -> 16/07/2009 | B35: ="6.4062" -> 6.4062 | C35: ="6.4113" -> 6.4113
A36: ="17/07/2009" -> 17/07/2009 | B36: ="6.3811" -> 6.3811 | C36: ="6.3863" -> 6.3863
A37: ="20/07/2009" -> 20/07/2009 | B37: ="6.363" -> 6.363 | C37: ="6.3682" -> 6.3682
A38: ="21/07/2009" -> 21/07/2009 | B38: ="6.3178" -> 6.3178 | C38: ="6.3232" -> 6.3232
A39: ="22/07/2009" -> 22/07/2009 | B39: ="6.3014" -> 6.3014 | C39: ="6.3066" -> 6.3066
A40: ="23/07/2009" -> 23/07/2009 | B40: ="6.2847" -> 6.2847 | C40: ="6.2899" -> 6.2899
A41: ="24/07/2009" -> 24/07/2009 | B41: ="6.2936" -> 6.2936 | C41: ="6.2989" -> 6.2989
...

Sheet NZD
A2: ="29/05/2009" -> 29/05/2009 | B2: ="0.6254" -> 0.6254 | C2: ="0.6242" -> 0.6242
A3: ="01/06/2009" -> 01/06/2009 | B3: ="0.6427" -> 0.6427 | C3: ="0.6415" -> 0.6415
A4: ="02/06/2009" -> 02/06/2009 | B4: ="0.6473" -> 0.6473 | C4: ="0.6461" -> 0.6461
A5: ="03/06/2009" -> 03/06/2009 | B5: ="0.653" -> 0.653 | C5: ="0.6517" -> 0.6517
A6: ="04/06/2009" -> 04/06/2009 | B6: ="0.6318" -> 0.6318 | C6: ="0.6306" -> 0.6306
A7: ="05/06/2009" -> 05/06/2009 | B7: ="0.6357" -> 0.6357 | C7: ="0.6345" -> 0.6345
A8: ="08/06/2009" -> 08/06/2009 | B8: ="0.6192" -> 0.6192 | C8: ="0.618" -> 0.618
A9: ="09/06/2009" -> 09/06/2009 | B9: ="0.6186" -> 0.6186 | C9: ="0.6175" -> 0.6175
A10: ="10/06/2009" -> 10/06/2009 | B10: ="0.6294" -> 0.6294 | C10: ="0.6281" -> 0.6281
A11: ="11/06/2009" -> 11/06/2009 | B11: ="0.6363" -> 0.6363 | C11: ="0.6351" -> 0.6351
A12: ="12/06/2009" -> 12/06/2009 | B12: ="0.6426" -> 0.6426 | C12: ="0.6413" -> 0.6413
A13: ="15/06/2009" -> 15/06/2009 | B13: ="0.6372" -> 0.6372 | C13: ="0.636" -> 0.636
A14: ="16/06/2009" -> 16/06/2009 | B14: ="0.6272" -> 0.6272 | C14: ="0.6259" -> 0.6259
A15: ="17/06/2009" -> 17/06/2009 | B15: ="0.6289" -> 0.6289 | C15: ="0.6276" -> 0.6276
A16: ="18/06/2009" -> 18/06/2009 | B16: ="0.633" -> 0.633 | C16: ="0.6318" -> 0.6318
A17: ="19/06/2009" -> 19/06/2009 | B17: ="0.6394" -> 0.6394 | C17: ="0.6382" -> 0.6382
A18: ="22/06/2009" -> 22/06/2009 | B18: ="0.6384" -> 0.6384 | C18: ="0.6372" -> 0.6372
A19: ="23/06/2009" -> 23/06/2009 | B19: ="0.6266" -> 0.6266 | C19: ="0.6253" -> 0.6253
A20: ="24/06/2009" -> 24/06/2009 | B20: ="0.6395" -> 0.6395 | C20: ="0.6382" -> 0.6382
A21: ="25/06/2009" -> 25/06/2009 | B21: ="0.6396" -> 0.6396 | C21: ="0.6384" -> 0.6384
A22: ="26/06/2009" -> 26/06/2009 | B22: ="0.6438" -> 0.6438 | C22: ="0.6426" -> 0.6426
A23: ="29/06/2009" -> 29/06/2009 | B23: ="0.6434" -> 0.6434 | C23: ="0.6422" -> 0.6422
A24: ="30/06/2009" -> 30/06/2009 | B24: ="0.6532" -> 0.6532 | C24: ="0.6519" -> 0.6519
A25: ="01/07/2009" -> 01/07/2009 | B25: ="0.6455" -> 0.6455 | C25: ="0.6443" -> 0.6443
A26: ="03/07/2009" -> 03/07/2009 | B26: ="0.6296" -> 0.6296 | C26: ="0.6285" -> 0.6285
A27: ="06/07/2009" -> 06/07/2009 | B27: ="0.6262" -> 0.6262 | C27: ="0.6251" -> 0.6251
