Workbook

Sheet Sheet1
A1: Date | B1: SAUD | C1: FAUD | D1: SCAD | E1: FCAD | F1: SEUR | G1: FEUR | H1: SGBP | I1: FGBP | J1: SINR | K1: FINR | L1: SJPY | M1: FJPY | N1: SKRW | O1: FKRW | P1: SNOK | Q1: FNOK | R1: SNZD | S1: FNZD | T1: SPHP | U1: FPHP | V1: STHB | W1: FTHB | X1: STWD | Y1: FTWD | Z1: SZAR | AA1: FZAR
A2: ="29/05/2009" -> 29/05/2009 | B2: =AUD!B2 -> 0.787 | C2: =AUD!C2 -> 0.7861 | D2: =1/CAD!B2 -> 0.89871484 | E2: =1/CAD!C2 -> 0.8988764 | F2: =EUR!B2/1 -> 1.3981 | G2: =EUR!C2/1 -> 1.3977 | H2: =GBP!B2/1 -> 1.5958 | I2: =GBP!C2/1 -> 1.5956 | J2: =1/INR!B2 -> 0.021058173 | K2: =1/INR!C2 -> 0.020994069 | L2: =1/JPY!B2 -> 0.010375597 | M2: =1/JPY!C2 -> 0.010379096 | N2: =1/KRW!B2 -> 0.00079295853 | O2: =1/KRW!C2 -> 0.00079293369 | P2: =1/NOK!B2 -> 0.15586278 | Q2: =1/NOK!C2 -> 0.15570261 | R2: =NZD!B2/1 -> 0.6254 | S2: =NZD!C2/1 -> 0.6242 | T2: =1/PHP!B2 -> 0.0210316 | U2: =1/PHP!C2 -> 0.0210316 | V2: =1/TWD!B2 -> 0.030721966 | W2: =1/TWD!C2 -> 0.030721966 | X2: =1/TWD!B2 -> 0.030721966 | Y2: =1/TWD!C2 -> 0.030721966 | Z2: =1/ZAR!B2 -> 0.12389578 | AA2: =1/ZAR!C2 -> 0.12314513
A3: ="01/06/2009" -> 01/06/2009 | B3: =AUD!B3 -> 0.806 | C3: =AUD!C3 -> 0.8042 | D3: =1/CAD!B3 -> 0.91970937 | E3: =1/CAD!C3 -> 0.91987858 | F3: =EUR!B3/1 -> 1.4151 | G3: =EUR!C3/1 -> 1.4148 | H3: =GBP!B3/1 -> 1.6218 | I3: =GBP!C3/1 -> 1.6216 | J3: =1/INR!B3 -> 0.021266415 | K3: =1/INR!C3 -> 0.021193176 | L3: =1/JPY!B3 -> 0.01053075 | M3: =1/JPY!C3 -> 0.010534455 | N3: =1/KRW!B3 -> 0.00080025608 | O3: =1/KRW!C3 -> 0.00080023015 | P3: =1/NOK!B3 -> 0.15907862 | Q3: =1/NOK!C3 -> 0.1589143 | R3: =NZD!B3/1 -> 0.6427 | S3: =NZD!C3/1 -> 0.6415 | T3: =1/PHP!B3 -> 0.02119093 | U3: =1/PHP!C3 -> 0.02119093 | V3: =1/TWD!B3 -> 0.030898529 | W3: =1/TWD!C3 -> 0.030898529 | X3: =1/TWD!B3 -> 0.030898529 | Y3: =1/TWD!C3 -> 0.030898529 | Z3: =1/ZAR!B3 -> 0.12544533 | AA3: =1/ZAR!C3 -> 0.12467584
A4: ="02/06/2009" -> 02/06/2009 | B4: =AUD!B4 -> 0.8112 | C4: =AUD!C4 -> 0.8094 | D4: =1/CAD!B4 -> 0.91642229 | E4: =1/CAD!C4 -> 0.91659028 | F4: =EUR!B4/1 -> 1.4168 | G4: =EUR!C4/1 -> 1.4164 | H4: =GBP!B4/1 -> 1.6441 | I4: =GBP!C4/1 -> 1.6439 | J4: =1/INR!B4 -> 0.021231423 | K4: =1/INR!C4 -> 0.021157305 | L4: =1/JPY!B4 -> 0.010376673 | M4: =1/JPY!C4 -> 0.010380896 | N4: =1/KRW!B4 -> 0.00080703737 | O4: =1/KRW!C4 -> 0.00080701379 | P4: =1/NOK!B4 -> 0.16174687 | Q4: =1/NOK!C4 -> 0.16156916 | R4: =NZD!B4/1 -> 0.6473 | S4: =NZD!C4/1 -> 0.6461 | T4: =1/PHP!B4 -> 0.021202163 | U4: =1/PHP!C4 -> 0.021202163 | V4: =1/TWD!B4 -> 0.030940594 | W4: =1/TWD!C4 -> 0.03094069 | X4: =1/TWD!B4 -> 0.030940594 | Y4: =1/TWD!C4 -> 0.03094069 | Z4: =1/ZAR!B4 -> 0.12473494 | AA4: =1/ZAR!C4 -> 0.12397565
A5: ="03/06/2009" -> 03/06/2009 | B5: =AUD!B5 -> 0.823 | C5: =AUD!C5 -> 0.8211 | D5: =1/CAD!B5 -> 0.92302012 | E5: =1/CAD!C5 -> 0.92319055 | F5: =EUR!B5/1 -> 1.4292 | G5: =EUR!C5/1 -> 1.4288 | H5: =GBP!B5/1 -> 1.657 | I5: =GBP!C5/1 -> 1.6569 | J5: =1/INR!B5 -> 0.021343578 | K5: =1/INR!C5 -> 0.02127207 | L5: =1/JPY!B5 -> 0.010451505 | M5: =1/JPY!C5 -> 0.010455155 | N5: =1/KRW!B5 -> 0.00080638658 | O5: =1/KRW!C5 -> 0.00080635758 | P5: =1/NOK!B5 -> 0.16151175 | Q5: =1/NOK!C5 -> 0.16133196 | R5: =NZD!B5/1 -> 0.653 | S5: =NZD!C5/1 -> 0.6517 | T5: =1/PHP!B5 -> 0.021164021 | U5: =1/PHP!C5 -> 0.021164021 | V5: =1/TWD!B5 -> 0.030769231 | W5: =1/TWD!C5 -> 0.030769325 | X5: =1/TWD!B5 -> 0.030769231 | Y5: =1/TWD!C5 -> 0.030769325 | Z5: =1/ZAR!B5 -> 0.12497969 | AA5: =1/ZAR!C5 -> 0.12417116
A6: ="04/06/2009" -> 04/06/2009 | B6: =AUD!B6 -> 0.8017 | C6: =AUD!C6 -> 0.7998 | D6: =1/CAD!B6 -> 0.900009 | E6: =1/CAD!C6 -> 0.90017103 | F6: =EUR!B6/1 -> 1.418 | G6: =EUR!C6/1 -> 1.4176 | H6: =GBP!B6/1 -> 1.6302 | I6: =GBP!C6/1 -> 1.6301 | J6: =1/INR!B6 -> 0.021175225 | K6: =1/INR!C6 -> 0.021105952 | L6: =1/JPY!B6 -> 0.010403662 | M6: =1/JPY!C6 -> 0.010406834 | N6: =1/KRW!B6 -> 0.00079942441 | O6: =1/KRW!C6 -> 0.00079939981 | P6: =1/NOK!B6 -> 0.15770632 | Q6: =1/NOK!C6 -> 0.15753241 | R6: =NZD!B6/1 -> 0.6318 | S6: =NZD!C6/1 -> 0.6306 | T6: =1/PHP!B6 -> 0.021121555 | U6: =1/PHP!C6 -> 0.021121555 | V6: =1/TWD!B6 -> 0.030610995 | W6: =1/TWD!C6 -> 0.030611089 | X6: =1/TWD!B6 -> 0.030610995 | Y6: =1/TWD!C6 -> 0.030611089 | Z6: =1/ZAR!B6 -> 0.12358953 | AA6: =1/ZAR!C6 -> 0.12283805
A7: ="05/06/2009" -> 05/06/2009 | B7: =AUD!B7 -> 0.8038 | C7: =AUD!C7 -> 0.802 | D7: =1/CAD!B7 -> 0.91041515 | E7: =1/CAD!C7 -> 0.91058095 | F7: =EUR!B7/1 -> 1.4202 | G7: =EUR!C7/1 -> 1.4198 | H7: =GBP!B7/1 -> 1.6126 | I7: =GBP!C7/1 -> 1.6124 | J7: =1/INR!B7 -> 0.021235931 | K7: =1/INR!C7 -> 0.021169622 | L7: =1/JPY!B7 -> 0.010330579 | M7: =1/JPY!C7 -> 0.010334027 | N7: =1/KRW!B7 -> 0.00080379391 | O7: =1/KRW!C7 -> 0.00080376716 | P7: =1/NOK!B7 -> 0.15842086 | Q7: =1/NOK!C7 -> 0.1582604 | R7: =NZD!B7/1 -> 0.6357 | S7: =NZD!C7/1 -> 0.6345 | T7: =1/PHP!B7 -> 0.02114612 | U7: =1/PHP!C7 -> 0.02114612 | V7: =1/TWD!B7 -> 0.030718191 | W7: =1/TWD!C7 -> 0.030718286 | X7: =1/TWD!B7 -> 0.030718191 | Y7: =1/TWD!C7 -> 0.030718286 | Z7: =1/ZAR!B7 -> 0.12437037 | AA7: =1/ZAR!C7 -> 0.12362315
A8: ="08/06/2009" -> 08/06/2009 | B8: =AUD!B8 -> 0.7851 | C8: =AUD!C8 -> 0.7833 | D8: =1/CAD!B8 -> 0.88857295 | E8: =1/CAD!C8 -> 0.88873089 | F8: =EUR!B8/1 -> 1.3868 | G8: =EUR!C8/1 -> 1.3864 | H8: =GBP!B8/1 -> 1.5836 | I8: =GBP!C8/1 -> 1.5834 | J8: =1/INR!B8 -> 0.020995171 | K8: =1/INR!C8 -> 0.020932545 | L8: =1/JPY!B8 -> 0.010164668 | M8: =1/JPY!C8 -> 0.010168264 | N8: =1/KRW!B8 -> 0.00079897731 | O8: =1/KRW!C8 -> 0.00079896161 | P8: =1/NOK!B8 -> 0.15578023 | Q8: =1/NOK!C8 -> 0.15562265 | R8: =NZD!B8/1 -> 0.6192 | S8: =NZD!C8/1 -> 0.618 | T8: =1/PHP!B8 -> 0.021065936 | U8: =1/PHP!C8 -> 0.021065936 | V8: =1/TWD!B8 -> 0.030465513 | W8: =1/TWD!C8 -> 0.030465606 | X8: =1/TWD!B8 -> 0.030465513 | Y8: =1/TWD!C8 -> 0.030465606 | Z8: =1/ZAR!B8 -> 0.12324681 | AA8: =1/ZAR!C8 -> 0.12251149
A9: ="09/06/2009" -> 09/06/2009 | B9: =AUD!B9 -> 0.7878 | C9: =AUD!C9 -> 0.786 | D9: =1/CAD!B9 -> 0.89325592 | E9: =1/CAD!C9 -> 0.89349535 | F9: =EUR!B9/1 -> 1.386 | G9: =EUR!C9/1 -> 1.3855 | H9: =GBP!B9/1 -> 1.5996 | I9: =GBP!C9/1 -> 1.5994 | J9: =1/INR!B9 -> 0.020975354 | K9: =1/INR!C9 -> 0.020906288 | L9: =1/JPY!B9 -> 0.010179153 | M9: =1/JPY!C9 -> 0.010182781 | N9: =1/KRW!B9 -> 0.00079428118 | O9: =1/KRW!C9 -> 0.00079425537 | P9: =1/NOK!B9 -> 0.15488987 | Q9: =1/NOK!C9 -> 0.15473409 | R9: =NZD!B9/1 -> 0.6186 | S9: =NZD!C9/1 -> 0.6175 | T9: =1/PHP!B9 -> 0.020959966 | U9: =1/PHP!C9 -> 0.020959966 | V9: =1/TWD!B9 -> 0.030373903 | W9: =1/TWD!C9 -> 0.030373995 | X9: =1/TWD!B9 -> 0.030373903 | Y9: =1/TWD!C9 -> 0.030373995 | Z9: =1/ZAR!B9 -> 0.12230022 | AA9: =1/ZAR!C9 -> 0.12157907
A10: ="10/06/2009" -> 10/06/2009 | B10: =AUD!B10 -> 0.8043 | C10: =AUD!C10 -> 0.8024 | D10: =1/CAD!B10 -> 0.90645395 | E10: =1/CAD!C10 -> 0.90661831 | F10: =EUR!B10/1 -> 1.4074 | G10: =EUR!C10/1 -> 1.4069 | H10: =GBP!B10/1 -> 1.6322 | I10: =GBP!C10/1 -> 1.632 | J10: =1/INR!B10 -> 0.021123785 | K10: =1/INR!C10 -> 0.02105374 | L10: =1/JPY!B10 -> 0.010241704 | M10: =1/JPY!C10 -> 0.010245083 | N10: =1/KRW!B10 -> 0.00079795723 | O10: =1/KRW!C10 -> 0.00079793272 | P10: =1/NOK!B10 -> 0.15787812 | Q10: =1/NOK!C10 -> 0.15772124 | R10: =NZD!B10/1 -> 0.6294 | S10: =NZD!C10/1 -> 0.6281 | T10: =1/PHP!B10 -> 0.021032706 | U10: =1/PHP!C10 -> 0.021032706 | V10: =1/TWD!B10 -> 0.030554877 | W10: =1/TWD!C10 -> 0.03055497 | X10: =1/TWD!B10 -> 0.030554877 | Y10: =1/TWD!C10 -> 0.03055497 | Z10: =1/ZAR!B10 -> 0.12313754 | AA10: =1/ZAR!C10 -> 0.12235858
A11: ="11/06/2009" -> 11/06/2009 | B11: =AUD!B11 -> 0.8094 | C11: =AUD!C11 -> 0.8075 | D11: =1/CAD!B11 -> 0.90481361 | E11: =1/CAD!C11 -> 0.90497738 | F11: =EUR!B11/1 -> 1.4029 | G11: =EUR!C11/1 -> 1.4025 | H11: =GBP!B11/1 -> 1.641 | I11: =GBP!C11/1 -> 1.6409 | J11: =1/INR!B11 -> 0.021112636 | K11: =1/INR!C11 -> 0.021042664 | L11: =1/JPY!B11 -> 0.010215548 | M11: =1/JPY!C11 -> 0.010218607 | N11: =1/KRW!B11 -> 0.0008 | O11: =1/KRW!C11 -> 0.00079997581 | P11: =1/NOK!B11 -> 0.15744064 | Q11: =1/NOK!C11 -> 0.15728959 | R11: =NZD!B11/1 -> 0.6363 | S11: =NZD!C11/1 -> 0.6351 | T11: =1/PHP!B11 -> 0.020964361 | U11: =1/PHP!C11 -> 0.020964361 | V11: =1/TWD!B11 -> 0.030563281 | W11: =1/TWD!C11 -> 0.030563375 | X11: =1/TWD!B11 -> 0.030563281 | Y11: =1/TWD!C11 -> 0.030563375 | Z11: =1/ZAR!B11 -> 0.12370726 | AA11: =1/ZAR!C11 -> 0.12295132
A12: ="12/06/2009" -> 12/06/2009 | B12: =AUD!B12 -> 0.8134 | C12: =AUD!C12 -> 0.8115 | D12: =1/CAD!B12 -> 0.90228278 | E12: =1/CAD!C12 -> 0.90244563 | F12: =EUR!B12/1 -> 1.4095 | G12: =EUR!C12/1 -> 1.4091 | H12: =GBP!B12/1 -> 1.6547 | I12: =GBP!C12/1 -> 1.6546 | J12: =1/INR!B12 -> 0.021070375 | K12: =1/INR!C12 -> 0.021003991 | L12: =1/JPY!B12 -> 0.010230179 | M12: =1/JPY!C12 -> 0.010233163 | N12: =1/KRW!B12 -> 0.00079776625 | O12: =1/KRW!C12 -> 0.00079774716 | P12: =1/NOK!B12 -> 0.15865209 | Q12: =1/NOK!C12 -> 0.15850624 | R12: =NZD!B12/1 -> 0.6426 | S12: =NZD!C12/1 -> 0.6413 | T12: =1/PHP!B12 -> 0.020881186 | U12: =1/PHP!C12 -> 0.020881186 | V12: =1/TWD!B12 -> 0.030527826 | W12: =1/TWD!C12 -> 0.030527919 | X12: =1/TWD!B12 -> 0.030527826 | Y12: =1/TWD!C12 -> 0.030527919 | Z12: =1/ZAR!B12 -> 0.12534156 | AA12: =1/ZAR!C12 -> 0.12461059
A13: ="15/06/2009" -> 15/06/2009 | B13: =AUD!B13 -> 0.8071 | C13: =AUD!C13 -> 0.8053 | D13: =1/CAD!B13 -> 0.89007566 | E13: =1/CAD!C13 -> 0.89023413 | F13: =EUR!B13/1 -> 1.395 | G13: =EUR!C13/1 -> 1.3946 | H13: =GBP!B13/1 -> 1.6374 | I13: =GBP!C13/1 -> 1.6373 | J13: =1/INR!B13 -> 0.020920502 | K13: =1/INR!C13 -> 0.020856145 | L13: =1/JPY!B13 -> 0.01017294 | M13: =1/JPY!C13 -> 0.010175859 | N13: =1/KRW!B13 -> 0.00079339892 | O13: =1/KRW!C13 -> 0.0007933801 | P13: =1/NOK!B13 -> 0.15636972 | Q13: =1/NOK!C13 -> 0.15622315 | R13: =NZD!B13/1 -> 0.6372 | S13: =NZD!C13/1 -> 0.636 | T13: =1/PHP!B13 -> 0.020746888 | U13: =1/PHP!C13 -> 0.020746888 | V13: =1/TWD!B13 -> 0.030403454 | W13: =1/TWD!C13 -> 0.030403546 | X13: =1/TWD!B13 -> 0.030403454 | Y13: =1/TWD!C13 -> 0.030403546 | Z13: =1/ZAR!B13 -> 0.12434099 | AA13: =1/ZAR!C13 -> 0.12361703
A14: ="16/06/2009" -> 16/06/2009 | B14: =AUD!B14 -> 0.7895 | C14: =AUD!C14 -> 0.7876 | D14: =1/CAD!B14 -> 0.88066931 | E14: =1/CAD!C14 -> 0.88074687 | F14: =EUR!B14/1 -> 1.3796 | G14: =EUR!C14/1 -> 1.3792 | H14: =GBP!B14/1 -> 1.6245 | I14: =GBP!C14/1 -> 1.6244 | J14: =1/INR!B14 -> 0.020865936 | K14: =1/INR!C14 -> 0.020797587 | L14: =1/JPY!B14 -> 0.010346611 | M14: =1/JPY!C14 -> 0.010349824 | N14: =1/KRW!B14 -> 0.0007902015 | O14: =1/KRW!C14 -> 0.00079018989 | P14: =1/NOK!B14 -> 0.15411645 | Q14: =1/NOK!C14 -> 0.15397644 | R14: =NZD!B14/1 -> 0.6272 | S14: =NZD!C14/1 -> 0.6259 | T14: =1/PHP!B14 -> 0.020648358 | U14: =1/PHP!C14 -> 0.020648358 | V14: =1/TWD!B14 -> 0.030362836 | W14: =1/TWD!C14 -> 0.030362928 | X14: =1/TWD!B14 -> 0.030362836 | Y14: =1/TWD!C14 -> 0.030362928 | Z14: =1/ZAR!B14 -> 0.12276868 | AA14: =1/ZAR!C14 -> 0.12201669
A15: ="17/06/2009" -> 17/06/2009 | B15: =AUD!B15 -> 0.7911 | C15: =AUD!C15 -> 0.7892 | D15: =1/CAD!B15 -> 0.88198977 | E15: =1/CAD!C15 -> 0.88214538 | F15: =EUR!B15/1 -> 1.385 | G15: =EUR!C15/1 -> 1.3846 | H15: =GBP!B15/1 -> 1.6385 | I15: =GBP!C15/1 -> 1.6384 | J15: =1/INR!B15 -> 0.02088991 | K15: =1/INR!C15 -> 0.020822488 | L15: =1/JPY!B15 -> 0.010369141 | M15: =1/JPY!C15 -> 0.010372368 | N15: =1/KRW!B15 -> 0.00079352484 | O15: =1/KRW!C15 -> 0.00079351671 | P15: =1/NOK!B15 -> 0.15588951 | Q15: =1/NOK!C15 -> 0.15573171 | R15: =NZD!B15/1 -> 0.6289 | S15: =NZD!C15/1 -> 0.6276 | T15: =1/PHP!B15 -> 0.020648358 | U15: =1/PHP!C15 -> 0.020648358 | V15: =1/TWD!B15 -> 0.030393289 | W15: =1/TWD!C15 -> 0.030393382 | X15: =1/TWD!B15 -> 0.030393289 | Y15: =1/TWD!C15 -> 0.030393382 | Z15: =1/ZAR!B15 -> 0.12361245 | AA15: =1/ZAR!C15 -> 0.12284409
A16: ="18/06/2009" -> 18/06/2009 | B16: =AUD!B16 -> 0.7958 | C16: =AUD!C16 -> 0.7939 | D16: =1/CAD!B16 -> 0.88323618 | E16: =1/CAD!C16 -> 0.88331419 | F16: =EUR!B16/1 -> 1.395 | G16: =EUR!C16/1 -> 1.3947 | H16: =GBP!B16/1 -> 1.638 | I16: =GBP!C16/1 -> 1.6379 | J16: =1/INR!B16 -> 0.020785699 | K16: =1/INR!C16 -> 0.020715728 | L16: =1/JPY!B16 -> 0.010437324 | M16: =1/JPY!C16 -> 0.010440484 | N16: =1/KRW!B16 -> 0.00079132706 | O16: =1/KRW!C16 -> 0.00079131128 | P16: =1/NOK!B16 -> 0.15720057 | Q16: =1/NOK!C16 -> 0.15706971 | R16: =NZD!B16/1 -> 0.633 | S16: =NZD!C16/1 -> 0.6318 | T16: =1/PHP!B16 -> 0.020618557 | U16: =1/PHP!C16 -> 0.020618557 | V16: =1/TWD!B16 -> 0.030376671 | W16: =1/TWD!C16 -> 0.030376763 | X16: =1/TWD!B16 -> 0.030376671 | Y16: =1/TWD!C16 -> 0.030376763 | Z16: =1/ZAR!B16 -> 0.12405255 | AA16: =1/ZAR!C16 -> 0.12330152
A17: ="19/06/2009" -> 19/06/2009 | B17: =AUD!B17 -> 0.8022 | C17: =AUD!C17 -> 0.8004 | D17: =1/CAD!B17 -> 0.88401697 | E17: =1/CAD!C17 -> 0.8841733 | F17: =EUR!B17/1 -> 1.3923 | G17: =EUR!C17/1 -> 1.392 | H17: =GBP!B17/1 -> 1.6357 | I17: =GBP!C17/1 -> 1.6356 | J17: =1/INR!B17 -> 0.02078138 | K17: =1/INR!C17 -> 0.020723241 | L17: =1/JPY!B17 -> 0.010345541 | M17: =1/JPY!C17 -> 0.010349128 | N17: =1/KRW!B17 -> 0.00078907914 | O17: =1/KRW!C17 -> 0.00078905978 | P17: =1/NOK!B17 -> 0.15596244 | Q17: =1/NOK!C17 -> 0.15583849 | R17: =NZD!B17/1 -> 0.6394 | S17: =NZD!C17/1 -> 0.6382 | T17: =1/PHP!B17 -> 0.020635576 | U17: =1/PHP!C17 -> 0.020571899 | V17: =1/TWD!B17 -> 0.030422878 | W17: =1/TWD!C17 -> 0.030422971 | X17: =1/TWD!B17 -> 0.030422878 | Y17: =1/TWD!C17 -> 0.030422971 | Z17: =1/ZAR!B17 -> 0.12243649 | AA17: =1/ZAR!C17 -> 0.12173595
A18: ="22/06/2009" -> 22/06/2009 | B18: =AUD!B18 -> 0.8004 | C18: =AUD!C18 -> 0.7986 | D18: =1/CAD!B18 -> 0.8790436 | E18: =1/CAD!C18 -> 0.87919817 | F18: =EUR!B18/1 -> 1.3912 | G18: =EUR!C18/1 -> 1.3909 | H18: =GBP!B18/1 -> 1.6469 | I18: =GBP!C18/1 -> 1.6468 | J18: =1/INR!B18 -> 0.020751193 | K18: =1/INR!C18 -> 0.020687872 | L18: =1/JPY!B18 -> 0.010423181 | M18: =1/JPY!C18 -> 0.010426952 | N18: =1/KRW!B18 -> 0.00078548425 | O18: =1/KRW!C18 -> 0.00078546907 | P18: =1/NOK!B18 -> 0.15573898 | Q18: =1/NOK!C18 -> 0.1556178 | R18: =NZD!B18/1 -> 0.6384 | S18: =NZD!C18/1 -> 0.6372 | T18: =1/PHP!B18 -> 0.020663292 | U18: =1/PHP!C18 -> 0.020603688 | V18: =1/TWD!B18 -> 0.030395137 | W18: =1/TWD!C18 -> 0.030395229 | X18: =1/TWD!B18 -> 0.030395137 | Y18: =1/TWD!C18 -> 0.030395229 | Z18: =1/ZAR!B18 -> 0.12300577 | AA18: =1/ZAR!C18 -> 0.12229125
A19: ="23/06/2009" -> 23/06/2009 | B19: =AUD!B19 -> 0.7831 | C19: =AUD!C19 -> 0.7813 | D19: =1/CAD!B19 -> 0.86625087 | E19: =1/CAD!C19 -> 0.86640097 | F19: =EUR!B19/1 -> 1.3855 | G19: =EUR!C19/1 -> 1.3852 | H19: =GBP!B19/1 -> 1.6313 | I19: =GBP!C19/1 -> 1.6312 | J19: =1/INR!B19 -> 0.020458265 | K19: =1/INR!C19 -> 0.020394636 | L19: =1/JPY!B19 -> 0.010496539 | M19: =1/JPY!C19 -> 0.010500705 | N19: =1/KRW!B19 -> 0.00077573501 | O19: =1/KRW!C19 -> 0.00077570462 | P19: =1/NOK!B19 -> 0.15144402 | Q19: =1/NOK!C19 -> 0.15132485 | R19: =NZD!B19/1 -> 0.6266 | S19: =NZD!C19/1 -> 0.6253 | T19: =1/PHP!B19 -> 0.020571899 | U19: =1/PHP!C19 -> 0.020513662 | V19: =1/TWD!B19 -> 0.030344409 | W19: =1/TWD!C19 -> 0.030344501 | X19: =1/TWD!B19 -> 0.030344409 | Y19: =1/TWD!C19 -> 0.030344501 | Z19: =1/ZAR!B19 -> 0.12137395 | AA19: =1/ZAR!C19 -> 0.12066947
A20: ="24/06/2009" -> 24/06/2009 | B20: =AUD!B20 -> 0.7948 | C20: =AUD!C20 -> 0.793 | D20: =1/CAD!B20 -> 0.87130783 | E20: =1/CAD!C20 -> 0.87145969 | F20: =EUR!B20/1 -> 1.4087 | G20: =EUR!C20/1 -> 1.4085 | H20: =GBP!B20/1 -> 1.6461 | I20: =GBP!C20/1 -> 1.646 | J20: =1/INR!B20 -> 0.020661157 | K20: =1/INR!C20 -> 0.020600505 | L20: =1/JPY!B20 -> 0.01046682 | M20: =1/JPY!C20 -> 0.010470853 | N20: =1/KRW!B20 -> 0.0007818914 | O20: =1/KRW!C20 -> 0.00078185851 | P20: =1/NOK!B20 -> 0.15413545 | Q20: =1/NOK!C20 -> 0.15400253 | R20: =NZD!B20/1 -> 0.6395 | S20: =NZD!C20/1 -> 0.6382 | T20: =1/PHP!B20 -> 0.020738283 | U20: =1/PHP!C20 -> 0.020676109 | V20: =1/TWD!B20 -> 0.030426581 | W20: =1/TWD!C20 -> 0.030426673 | X20: =1/TWD!B20 -> 0.030426581 | Y20: =1/TWD!C20 -> 0.030426673 | Z20: =1/ZAR!B20 -> 0.12216426 | AA20: =1/ZAR!C20 -> 0.12141522
A21: ="25/06/2009" -> 25/06/2009 | B21: =AUD!B21 -> 0.7989 | C21: =AUD!C21 -> 0.7971 | D21: =1/CAD!B21 -> 0.86595081 | E21: =1/CAD!C21 -> 0.86610081 | F21: =EUR!B21/1 -> 1.3957 | G21: =EUR!C21/1 -> 1.3956 | H21: =GBP!B21/1 -> 1.6441 | I21: =GBP!C21/1 -> 1.644 | J21: =1/INR!B21 -> 0.020588841 | K21: =1/INR!C21 -> 0.020524398 | L21: =1/JPY!B21 -> 0.01040691 | M21: =1/JPY!C21 -> 0.010410464 | N21: =1/KRW!B21 -> 0.00077712154 | O21: =1/KRW!C21 -> 0.00077709014 | P21: =1/NOK!B21 -> 0.15413545 | Q21: =1/NOK!C21 -> 0.1540049 | R21: =NZD!B21/1 -> 0.6396 | S21: =NZD!C21/1 -> 0.6384 | T21: =1/PHP!B21 -> 0.020721094 | U21: =1/PHP!C21 -> 0.020659023 | V21: =1/TWD!B21 -> 0.030427506 | W21: =1/TWD!C21 -> 0.030427599 | X21: =1/TWD!B21 -> 0.030427506 | Y21: =1/TWD!C21 -> 0.030427599 | Z21: =1/ZAR!B21 -> 0.123744 | AA21: =1/ZAR!C21 -> 0.12300123
A22: ="26/06/2009" -> 26/06/2009 | B22: =AUD!B22 -> 0.806 | C22: =AUD!C22 -> 0.8042 | D22: =1/CAD!B22 -> 0.86775425 | E22: =1/CAD!C22 -> 0.86790488 | F22: =EUR!B22/1 -> 1.4041 | G22: =EUR!C22/1 -> 1.4041 | H22: =GBP!B22/1 -> 1.6427 | I22: =GBP!C22/1 -> 1.6426 | J22: =1/INR!B22 -> 0.020607934 | K22: =1/INR!C22 -> 0.020551816 | L22: =1/JPY!B22 -> 0.010427529 | M22: =1/JPY!C22 -> 0.010431183 | N22: =1/KRW!B22 -> 0.00077441338 | O22: =1/KRW!C22 -> 0.00077438388 | P22: =1/NOK!B22 -> 0.1548515 | Q22: =1/NOK!C22 -> 0.15472691 | R22: =NZD!B22/1 -> 0.6438 | S22: =NZD!C22/1 -> 0.6426 | T22: =1/PHP!B22 -> 0.020703934 | U22: =1/PHP!C22 -> 0.020644096 | V22: =1/TWD!B22 -> 0.030354541 | W22: =1/TWD!C22 -> 0.030354541 | X22: =1/TWD!B22 -> 0.030354541 | Y22: =1/TWD!C22 -> 0.030354541 | Z22: =1/ZAR!B22 -> 0.1245873 | AA22: =1/ZAR!C22 -> 0.12378995
A23: ="29/06/2009" -> 29/06/2009 | B23: =AUD!B23 -> 0.8023 | C23: =AUD!C23 -> 0.8003 | D23: =1/CAD!B23 -> 0.86535133 | E23: =1/CAD!C23 -> 0.86550113 | F23: =EUR!B23/1 -> 1.4027 | G23: =EUR!C23/1 -> 1.4027 | H23: =GBP!B23/1 -> 1.6473 | I23: =GBP!C23/1 -> 1.6472 | J23: =1/INR!B23 -> 0.0207803 | K23: =1/INR!C23 -> 0.020720021 | L23: =1/JPY!B23 -> 0.010468683 | M23: =1/JPY!C23 -> 0.010472685 | N23: =1/KRW!B23 -> 0.00077603601 | O23: =1/KRW!C23 -> 0.00077600355 | P23: =1/NOK!B23 -> 0.15457862 | Q23: =1/NOK!C23 -> 0.1544497 | R23: =NZD!B23/1 -> 0.6434 | S23: =NZD!C23/1 -> 0.6422 | T23: =1/PHP!B23 -> 0.020708221 | U23: =1/PHP!C23 -> 0.020647079 | V23: =1/TWD!B23 -> 0.030372058 | W23: =1/TWD!C23 -> 0.030372058 | X23: =1/TWD!B23 -> 0.030372058 | Y23: =1/TWD!C23 -> 0.030372058 | Z23: =1/ZAR!B23 -> 0.12584632 | AA23: =1/ZAR!C23 -> 0.12504377
A24: ="30/06/2009" -> 30/06/2009 | B24: =AUD!B24 -> 0.8105 | C24: =AUD!C24 -> 0.8085 | D24: =1/CAD!B24 -> 0.86512674 | E24: =1/CAD!C24 -> 0.86527646 | F24: =EUR!B24/1 -> 1.4107 | G24: =EUR!C24/1 -> 1.4106 | H24: =GBP!B24/1 -> 1.6625 | I24: =GBP!C24/1 -> 1.6624 | J24: =1/INR!B24 -> 0.02088991 | K24: =1/INR!C24 -> 0.020832248 | L24: =1/JPY!B24 -> 0.010425354 | M24: =1/JPY!C24 -> 0.010429182 | N24: =1/KRW!B24 -> 0.00078228898 | O24: =1/KRW!C24 -> 0.00078225342 | P24: =1/NOK!B24 -> 0.15618655 | Q24: =1/NOK!C24 -> 0.15604763 | R24: =NZD!B24/1 -> 0.6532 | S24: =NZD!C24/1 -> 0.6519 | T24: =1/PHP!B24 -> 0.02074904 | U24: =1/PHP!C24 -> 0.020686802 | V24: =1/TWD!B24 -> 0.030433989 | W24: =1/TWD!C24 -> 0.030434081 | X24: =1/TWD!B24 -> 0.030433989 | Y24: =1/TWD!C24 -> 0.030434081 | Z24: =1/ZAR!B24 -> 0.12760962 | AA24: =1/ZAR!C24 -> 0.12675556
A25: ="01/07/2009" -> 01/07/2009 | B25: =AUD!B25 -> 0.8062 | C25: =AUD!C25 -> 0.8042 | D25: =1/CAD!B25 -> 0.86088154 | E25: =1/CAD!C25 -> 0.86102979 | F25: =EUR!B25/1 -> 1.404 | G25: =EUR!C25/1 -> 1.404 | H25: =GBP!B25/1 -> 1.6456 | I25: =GBP!C25/1 -> 1.6455 | J25: =1/INR!B25 -> 0.020872469 | K25: =1/INR!C25 -> 0.020814903 | L25: =1/JPY!B25 -> 0.010328445 | M25: =1/JPY!C25 -> 0.010331913 | N25: =1/KRW!B25 -> 0.00078920369 | O25: =1/KRW!C25 -> 0.00078916919 | P25: =1/NOK!B25 -> 0.15526263 | Q25: =1/NOK!C25 -> 0.15513015 | R25: =NZD!B25/1 -> 0.6455 | S25: =NZD!C25/1 -> 0.6443 | T25: =1/PHP!B25 -> 0.02074904 | U25: =1/PHP!C25 -> 0.020685946 | V25: =1/TWD!B25 -> 0.030525962 | W25: =1/TWD!C25 -> 0.030526056 | X25: =1/TWD!B25 -> 0.030525962 | Y25: =1/TWD!C25 -> 0.030526056 | Z25: =1/ZAR!B25 -> 0.12850993 | AA25: =1/ZAR!C25 -> 0.12768294
A26: ="03/07/2009" -> 03/07/2009 | B26: =AUD!B26 -> 0.796 | C26: =AUD!C26 -> 0.7942 | D26: =1/CAD!B26 -> 0.86147484 | E26: =1/CAD!C26 -> 0.8616233 | F26: =EUR!B26/1 -> 1.3984 | G26: =EUR!C26/1 -> 1.3985 | H26: =GBP!B26/1 -> 1.6371 | I26: =GBP!C26/1 -> 1.637 | J26: =1/INR!B26 -> 0.020790021 | K26: =1/INR!C26 -> 0.020735058 | L26: =1/JPY!B26 -> 0.010416558 | M26: =1/JPY!C26 -> 0.010419793 | N26: =1/KRW!B26 -> 0.00078603993 | O26: =1/KRW!C26 -> 0.00078599983 | P26: =1/NOK!B26 -> 0.15575111 | Q26: =1/NOK!C26 -> 0.15562507 | R26: =NZD!B26/1 -> 0.6296 | S26: =NZD!C26/1 -> 0.6285 | T26: =1/PHP!B26 -> 0.020742585 | U26: =1/PHP!C26 -> 0.020679529 | V26: =1/TWD!B26 -> 0.030390518 | W26: =1/TWD!C26 -> 0.030391349 | X26: =1/TWD!B26 -> 0.030390518 | Y26: =1/TWD!C26 -> 0.030391349 | Z26: =1/ZAR!B26 -> 0.12692288 | AA26: =1/ZAR!C26 -> 0.12612726
A27: ="06/07/2009" -> 06/07/2009 | B27: =AUD!B27 -> 0.7924 | C27: =AUD!C27 -> 0.7905 | D27: =1/CAD!B27 -> 0.85962348 | E27: =1/CAD!C27 -> 0.8597713 | F27: =EUR!B27/1 -> 1.3962 | G27: =EUR!C27/1 -> 1.3962 | H27: =GBP!B27/1 -> 1.6266 | I27: =GBP!C27/1 -> 1.6265 | J27: =1/INR!B27 -> 0.020850709 | K27: =1/INR!C27 -> 0.020797587 | L27: =1/JPY!B27 -> 0.010479983 | M27: =1/JPY!C27 -> 0.010483235 | N27: =1/KRW!B27 -> 0.00078802206 | O27: =1/KRW!C27 -> 0.00078799629 | P27: =1/NOK!B27 -> 0.15540016 | Q27: =1/NOK!C27 -> 0.15528191 | R27: =NZD!B27/1 -> 0.6262 | S27: =NZD!C27/1 -> 0.6251 | T27: =1/PHP!B27 -> 0.020768432 | U27: =1/PHP!C27 -> 0.020691082 | V27: =1/TWD!B27 -> 0.030365602 | W27: =1/TWD!C27 -> 0.030365694 | X27: =1/TWD!B27 -> 0.030365602 | Y27: =1/TWD!C27 -> 0.030365694 | Z27: =1/ZAR!B27 -> 0.12551303 | AA27: =1/ZAR!C27 -> 0.12473027
A28: ="07/07/2009" -> 07/07/2009 | B28: =AUD!B28 -> 0.7964 | C28: =AUD!C28 -> 0.7945 | D28: =1/CAD!B28 -> 0.86125226 | E28: =1/CAD!C28 -> 0.86147484 | F28: =EUR!B28/1 -> 1.3964 | G28: =EUR!C28/1 -> 1.3964 | H28: =GBP!B28/1 -> 1.6262 | I28: =GBP!C28/1 -> 1.626 | J28: =1/INR!B28 -> 0.020665427 | K28: =1/INR!C28 -> 0.02061112 | L28: =1/JPY!B28 -> 0.010484378 | M28: =1/JPY!C28 -> 0.01048771 | N28: =1/KRW!B28 -> 0.00078783582 | O28: =1/KRW!C28 -> 0.000787809 | P28: =1/NOK!B28 -> 0.154433 | Q28: =1/NOK!C28 -> 0.15430432 | R28: =NZD!B28/1 -> 0.6356 | S28: =NZD!C28/1 -> 0.6343 | T28: =1/PHP!B28 -> 0.020738283 | U28: =1/PHP!C28 -> 0.020671835 | V28: =1/TWD!B28 -> 0.030321407 | W28: =1/TWD!C28 -> 0.030321499 | X28: =1/TWD!B28 -> 0.030321407 | Y28: =1/TWD!C28 -> 0.030321499 | Z28: =1/ZAR!B28 -> 0.12520032 | AA28: =1/ZAR!C28 -> 0.12437192
A29: ="08/07/2009" -> 08/07/2009 | B29: =AUD!B29 -> 0.7864 | C29: =AUD!C29 -> 0.7846 | D29: =1/CAD!B29 -> 0.85918034 | E29: =1/CAD!C29 -> 0.85932801 | F29: =EUR!B29/1 -> 1.3902 | G29: =EUR!C29/1 -> 1.3903 | H29: =GBP!B29/1 -> 1.6081 | I29: =GBP!C29/1 -> 1.608 | J29: =1/INR!B29 -> 0.020487605 | K29: =1/INR!C29 -> 0.020438404 | L29: =1/JPY!B29 -> 0.010575632 | M29: =1/JPY!C29 -> 0.010578843 | N29: =1/KRW!B29 -> 0.00078186083 | O29: =1/KRW!C29 -> 0.00078183601 | P29: =1/NOK!B29 -> 0.1528094 | Q29: =1/NOK!C29 -> 0.15268574 | R29: =NZD!B29/1 -> 0.628 | S29: =NZD!C29/1 -> 0.6267 | T29: =1/PHP!B29 -> 0.020682523 | U29: =1/PHP!C29 -> 0.020619407 | V29: =1/TWD!B29 -> 0.030258102 | W29: =1/TWD!C29 -> 0.030258193 | X29: =1/TWD!B29 -> 0.030258102 | Y29: =1/TWD!C29 -> 0.030258193 | Z29: =1/ZAR!B29 -> 0.12300123 | AA29: =1/ZAR!C29 -> 0.12220606
A30: ="09/07/2009" -> 09/07/2009 | B30: =AUD!B30 -> 0.7798 | C30: =AUD!C30 -> 0.778 | D30: =1/CAD!B30 -> 0.8595496 | E30: =1/CAD!C30 -> 0.85969739 | F30: =EUR!B30/1 -> 1.3893 | G30: =EUR!C30/1 -> 1.3894 | H30: =GBP!B30/1 -> 1.6077 | I30: =GBP!C30/1 -> 1.6076 | J30: =1/INR!B30 -> 0.020403999 | K30: =1/INR!C30 -> 0.020352091 | L30: =1/JPY!B30 -> 0.010731917 | M30: =1/JPY!C30 -> 0.010735143 | N30: =1/KRW!B30 -> 0.00078247261 | O30: =1/KRW!C30 -> 0.00078245253 | P30: =1/NOK!B30 -> 0.15256694 | Q30: =1/NOK!C30 -> 0.15244367 | R30: =NZD!B30/1 -> 0.626 | S30: =NZD!C30/1 -> 0.6247 | T30: =1/PHP!B30 -> 0.020725389 | U30: =1/PHP!C30 -> 0.020663292 | V30: =1/TWD!B30 -> 0.030300276 | W30: =1/TWD!C30 -> 0.030300368 | X30: =1/TWD!B30 -> 0.030300276 | Y30: =1/TWD!C30 -> 0.030300368 | Z30: =1/ZAR!B30 -> 0.12195419 | AA30: =1/ZAR!C30 -> 0.12118128
A31: ="10/07/2009" -> 10/07/2009 | B31: =AUD!B31 -> 0.7819 | C31: =AUD!C31 -> 0.7801 | D31: =1/CAD!B31 -> 0.86088154 | E31: =1/CAD!C31 -> 0.86102979 | F31: =EUR!B31/1 -> 1.3969 | G31: =EUR!C31/1 -> 1.397 | H31: =GBP!B31/1 -> 1.6293 | I31: =GBP!C31/1 -> 1.6292 | J31: =1/INR!B31 -> 0.020521239 | K31: =1/INR!C31 -> 0.020472925 | L31: =1/JPY!B31 -> 0.010768899 | M31: =1/JPY!C31 -> 0.010772264 | N31: =1/KRW!B31 -> 0.00078250323 | O31: =1/KRW!C31 -> 0.00078248302 | P31: =1/NOK!B31 -> 0.15364523 | Q31: =1/NOK!C31 -> 0.15352022 | R31: =NZD!B31/1 -> 0.6292 | S31: =NZD!C31/1 -> 0.6279 | T31: =1/PHP!B31 -> 0.020751193 | U31: =1/PHP!C31 -> 0.020686802 | V31: =1/TWD!B31 -> 0.030305785 | W31: =1/TWD!C31 -> 0.030305877 | X31: =1/TWD!B31 -> 0.030305785 | Y31: =1/TWD!C31 -> 0.030305877 | Z31: =1/ZAR!B31 -> 0.12267982 | AA31: =1/ZAR!C31 -> 0.12190068
A32: ="13/07/2009" -> 13/07/2009 | B32: =AUD!B32 -> 0.7775 | C32: =AUD!C32 -> 0.7757 | D32: =1/CAD!B32 -> 0.85910653 | E32: =1/CAD!C32 -> 0.85925417 | F32: =EUR!B32/1 -> 1.3932 | G32: =EUR!C32/1 -> 1.3933 | H32: =GBP!B32/1 -> 1.613 | I32: =GBP!C32/1 -> 1.6129 | J32: =1/INR!B32 -> 0.020312817 | K32: =1/INR!C32 -> 0.020263425 | L32: =1/JPY!B32 -> 0.010809642 | M32: =1/JPY!C32 -> 0.010813079 | N32: =1/KRW!B32 -> 0.00077465334 | O32: =1/KRW!C32 -> 0.00077463516 | P32: =1/NOK!B32 -> 0.15329194 | Q32: =1/NOK!C32 -> 0.1531675 | R32: =NZD!B32/1 -> 0.6262 | S32: =NZD!C32/1 -> 0.6249 | T32: =1/PHP!B32 -> 0.020726463 | U32: =1/PHP!C32 -> 0.020662224 | V32: =1/TWD!B32 -> 0.030175015 | W32: =1/TWD!C32 -> 0.030175106 | X32: =1/TWD!B32 -> 0.030175015 | Y32: =1/TWD!C32 -> 0.030175106 | Z32: =1/ZAR!B32 -> 0.1213445 | AA32: =1/ZAR!C32 -> 0.12058072
A33: ="14/07/2009" -> 14/07/2009 | B33: =AUD!B33 -> 0.7849 | C33: =AUD!C33 -> 0.783 | D33: =1/CAD!B33 -> 0.86843248 | E33: =1/CAD!C33 -> 0.8685079 | F33: =EUR!B33/1 -> 1.3983 | G33: =EUR!C33/1 -> 1.3983 | H33: =GBP!B33/1 -> 1.6256 | I33: =GBP!C33/1 -> 1.6255 | J33: =1/INR!B33 -> 0.020483408 | K33: =1/INR!C33 -> 0.020433183 | L33: =1/JPY!B33 -> 0.010743735 | M33: =1/JPY!C33 -> 0.010747245 | N33: =1/KRW!B33 -> 0.0007733952 | O33: =1/KRW!C33 -> 0.00077337792 | P33: =1/NOK!B33 -> 0.15415209 | Q33: =1/NOK!C33 -> 0.1540215 | R33: =NZD!B33/1 -> 0.6337 | S33: =NZD!C33/1 -> 0.6324 | T33: =1/PHP!B33 -> 0.020708221 | U33: =1/PHP!C33 -> 0.020639835 | V33: =1/TWD!B33 -> 0.030225178 | W33: =1/TWD!C33 -> 0.030225269 | X33: =1/TWD!B33 -> 0.030225178 | Y33: =1/TWD!C33 -> 0.030225269 | Z33: =1/ZAR!B33 -> 0.12105805 | AA33: =1/ZAR!C33 -> 0.12023422
A34: ="15/07/2009" -> 15/07/2009 | B34: =AUD!B34 -> 0.7944 | C34: =AUD!C34 -> 0.7925 | D34: =1/CAD!B34 -> 0.88167872 | E34: =1/CAD!C34 -> 0.88175646 | F34: =EUR!B34/1 -> 1.3986 | G34: =EUR!C34/1 -> 1.3987 | H34: =GBP!B34/1 -> 1.6331 | I34: =GBP!C34/1 -> 1.633 | J34: =1/INR!B34 -> 0.020512821 | K34: =1/INR!C34 -> 0.020464545 | L34: =1/JPY!B34 -> 0.01068593 | M34: =1/JPY!C34 -> 0.010689471 | N34: =1/KRW!B34 -> 0.0007797271 | O34: =1/KRW!C34 -> 0.00077970855 | P34: =1/NOK!B34 -> 0.15519998 | Q34: =1/NOK!C34 -> 0.15507242 | R34: =NZD!B34/1 -> 0.6407 | S34: =NZD!C34/1 -> 0.6394 | T34: =1/PHP!B34 -> 0.02076412 | U34: =1/PHP!C34 -> 0.020697506 | V34: =1/TWD!B34 -> 0.030316811 | W34: =1/TWD!C34 -> 0.030316903 | X34: =1/TWD!B34 -> 0.030316811 | Y34: =1/TWD!C34 -> 0.030316903 | Z34: =1/ZAR!B34 -> 0.12185463 | AA34: =1/ZAR!C34 -> 0.12108297
A35: ="16/07/2009" -> 16/07/2009 | B35: =AUD!B35 -> 0.7991 | C35: =AUD!C35 -> 0.7972 | D35: =1/CAD!B35 -> 0.89269773 | E35: =1/CAD!C35 -> 0.89277743 | F35: =EUR!B35/1 -> 1.4069 | G35: =EUR!C35/1 -> 1.407 | H35: =GBP!B35/1 -> 1.6396 | I35: =GBP!C35/1 -> 1.6395 | J35: =1/INR!B35 -> 0.020610058 | K35: =1/INR!C35 -> 0.020559211 | L35: =1/JPY!B35 -> 0.010630382 | M35: =1/JPY!C35 -> 0.010633716 | N35: =1/KRW!B35 -> 0.00078802206 | O35: =1/KRW!C35 -> 0.00078800344 | P35: =1/NOK!B35 -> 0.15609878 | Q35: =1/NOK!C35 -> 0.15597461 | R35: =NZD!B35/1 -> 0.6464 | S35: =NZD!C35/1 -> 0.6451 | T35: =1/PHP!B35 -> 0.020818153 | U35: =1/PHP!C35 -> 0.020751193 | V35: =1/TWD!B35 -> 0.03037298 | W35: =1/TWD!C35 -> 0.030373072 | X35: =1/TWD!B35 -> 0.03037298 | Y35: =1/TWD!C35 -> 0.030373072 | Z35: =1/ZAR!B35 -> 0.122414 | AA35: =1/ZAR!C35 -> 0.12164562
A36: ="17/07/2009" -> 17/07/2009 | B36: =AUD!B36 -> 0.8007 | C36: =AUD!C36 -> 0.7988 | D36: =1/CAD!B36 -> 0.89437439 | E36: =1/CAD!C36 -> 0.89445438 | F36: =EUR!B36/1 -> 1.4122 | G36: =EUR!C36/1 -> 1.4123 | H36: =GBP!B36/1 -> 1.6392 | I36: =GBP!C36/1 -> 1.6391 | J36: =1/INR!B36 -> 0.020546538 | K36: =1/INR!C36 -> 0.020502307 | L36: =1/JPY!B36 -> 0.010675777 | M36: =1/JPY!C36 -> 0.010679334 | N36: =1/KRW!B36 -> 0.00079207921 | O36: =1/KRW!C36 -> 0.00079205988 | P36: =1/NOK!B36 -> 0.15671279 | Q36: =1/NOK!C36 -> 0.15658519 | R36: =NZD!B36/1 -> 0.6443 | S36: =NZD!C36/1 -> 0.643 | T36: =1/PHP!B36 -> 0.020798669 | U36: =1/PHP!C36 -> 0.020731834 | V36: =1/TWD!B36 -> 0.030351777 | W36: =1/TWD!C36 -> 0.030351869 | X36: =1/TWD!B36 -> 0.030351777 | Y36: =1/TWD!C36 -> 0.030351869 | Z36: =1/ZAR!B36 -> 0.12300123 | AA36: =1/ZAR!C36 -> 0.12221951
A37: ="20/07/2009" -> 20/07/2009 | B37: =AUD!B37 -> 0.8065 | C37: =AUD!C37 -> 0.8046 | D37: =1/CAD!B37 -> 0.90260854 | E37: =1/CAD!C37 -> 0.90269002 | F37: =EUR!B37/1 -> 1.4159 | G37: =EUR!C37/1 -> 1.416 | H37: =GBP!B37/1 -> 1.6397 | I37: =GBP!C37/1 -> 1.6396 | J37: =1/INR!B37 -> 0.020623872 | K37: =1/INR!C37 -> 0.020576132 | L37: =1/JPY!B37 -> 0.010571942 | M37: =1/JPY!C37 -> 0.010575464 | N37: =1/KRW!B37 -> 0.0007981483 | O37: =1/KRW!C37 -> 0.00079812498 | P37: =1/NOK!B37 -> 0.15715857 | Q37: =1/NOK!C37 -> 0.15703024 | R37: =NZD!B37/1 -> 0.6478 | S37: =NZD!C37/1 -> 0.6465 | T37: =1/PHP!B37 -> 0.020842018 | U37: =1/PHP!C37 -> 0.020769295 | V37: =1/TWD!B37 -> 0.030459945 | W37: =1/TWD!C37 -> 0.030460038 | X37: =1/TWD!B37 -> 0.030459945 | Y37: =1/TWD!C37 -> 0.030460038 | Z37: =1/ZAR!B37 -> 0.12400486 | AA37: =1/ZAR!C37 -> 0.1232043
A38: ="21/07/2009" -> 21/07/2009 | B38: =AUD!B38 -> 0.8126 | C38: =AUD!C38 -> 0.8106 | D38: =1/CAD!B38 -> 0.90211998 | E38: =1/CAD!C38 -> 0.90220137 | F38: =EUR!B38/1 -> 1.4213 | G38: =EUR!C38/1 -> 1.4214 | H38: =GBP!B38/1 -> 1.6512 | I38: =GBP!C38/1 -> 1.651 | J38: =1/INR!B38 -> 0.020708221 | K38: =1/INR!C38 -> 0.02066009 | L38: =1/JPY!B38 -> 0.010657572 | M38: =1/JPY!C38 -> 0.010660799 | N38: =1/KRW!B38 -> 0.00079779808 | O38: =1/KRW!C38 -> 0.00079777937 | P38: =1/NOK!B38 -> 0.15828295 | Q38: =1/NOK!C38 -> 0.15814777 | R38: =NZD!B38/1 -> 0.6544 | S38: =NZD!C38/1 -> 0.653 | T38: =1/PHP!B38 -> 0.02078786 | U38: =1/PHP!C38 -> 0.020716801 | V38: =1/TWD!B38 -> 0.030487805 | W38: =1/TWD!C38 -> 0.030487898 | X38: =1/TWD!B38 -> 0.030487805 | Y38: =1/TWD!C38 -> 0.030487898 | Z38: =1/ZAR!B38 -> 0.12646222 | AA38: =1/ZAR!C38 -> 0.12559185
A39: ="22/07/2009" -> 22/07/2009 | B39: =AUD!B39 -> 0.8159 | C39: =AUD!C39 -> 0.814 | D39: =1/CAD!B39 -> 0.90399566 | E39: =1/CAD!C39 -> 0.90407739 | F39: =EUR!B39/1 -> 1.4194 | G39: =EUR!C39/1 -> 1.4194 | H39: =GBP!B39/1 -> 1.6402 | I39: =GBP!C39/1 -> 1.6401 | J39: =1/INR!B39 -> 0.020665427 | K39: =1/INR!C39 -> 0.020617494 | L39: =1/JPY!B39 -> 0.010688328 | M39: =1/JPY!C39 -> 0.010691322 | N39: =1/KRW!B39 -> 0.00079878585 | O39: =1/KRW!C39 -> 0.00079876696 | P39: =1/NOK!B39 -> 0.15869489 | Q39: =1/NOK!C39 -> 0.15856404 | R39: =NZD!B39/1 -> 0.6553 | S39: =NZD!C39/1 -> 0.654 | T39: =1/PHP!B39 -> 0.020779221 | U39: =1/PHP!C39 -> 0.020708221 | V39: =1/TWD!B39 -> 0.030485017 | W39: =1/TWD!C39 -> 0.030486132 | X39: =1/TWD!B39 -> 0.030485017 | Y39: =1/TWD!C39 -> 0.030486132 | Z39: =1/ZAR!B39 -> 0.12725884 | AA39: =1/ZAR!C39 -> 0.12642385
A40: ="23/07/2009" -> 23/07/2009 | B40: =AUD!B40 -> 0.8182 | C40: =AUD!C40 -> 0.8163 | D40: =1/CAD!B40 -> 0.90950432 | E40: =1/CAD!C40 -> 0.90958705 | F40: =EUR!B40/1 -> 1.4231 | G40: =EUR!C40/1 -> 1.4231 | H40: =GBP!B40/1 -> 1.6478 | I40: =GBP!C40/1 -> 1.6477 | J40: =1/INR!B40 -> 0.020667562 | K40: =1/INR!C40 -> 0.020616431 | L40: =1/JPY!B40 -> 0.010617966 | M40: =1/JPY!C40 -> 0.010620728 | N40: =1/KRW!B40 -> 0.0008008008 | O40: =1/KRW!C40 -> 0.00080077964 | P40: =1/NOK!B40 -> 0.15911658 | Q40: =1/NOK!C40 -> 0.15898504 | R40: =NZD!B40/1 -> 0.6598 | S40: =NZD!C40/1 -> 0.6585 | T40: =1/PHP!B40 -> 0.020768432 | U40: =1/PHP!C40 -> 0.020701791 | V40: =1/TWD!B40 -> 0.030469226 | W40: =1/TWD!C40 -> 0.030469319 | X40: =1/TWD!B40 -> 0.030469226 | Y40: =1/TWD!C40 -> 0.030469319 | Z40: =1/ZAR!B40 -> 0.12888259 | AA40: =1/ZAR!C40 -> 0.12805573
A41: ="24/07/2009" -> 24/07/2009 | B41: =AUD!B41 -> 0.8146 | C41: =AUD!C41 -> 0.8127 | D41: =1/CAD!B41 -> 0.91600256 | E41: =1/CAD!C41 -> 0.91608648 | F41: =EUR!B41/1 -> 1.416 | G41: =EUR!C41/1 -> 1.416 | H41: =GBP!B41/1 -> 1.6488 | I41: =GBP!C41/1 -> 1.6487 | J41: =1/INR!B41 -> 0.020661157 | K41: =1/INR!C41 -> 0.020612182 | L41: =1/JPY!B41 -> 0.010569987 | M41: =1/JPY!C41 -> 0.010572724 | N41: =1/KRW!B41 -> 0.00080205326 | O41: =1/KRW!C41 -> 0.00080203241 | P41: =1/NOK!B41 -> 0.15889157 | Q41: =1/NOK!C41 -> 0.15875788 | R41: =NZD!B41/1 -> 0.6552 | S41: =NZD!C41/1 -> 0.6539 | T41: =1/PHP!B41 -> 0.020779221 | U41: =1/PHP!C41 -> 0.020711652 | V41: =1/TWD!B41 -> 0.030491523 | W41: =1/TWD!C41 -> 0.030491616 | X41: =1/TWD!B41 -> 0.030491523 | Y41: =1/TWD!C41 -> 0.030491616 | Z41: =1/ZAR!B41 -> 0.12908223 | AA41: =1/ZAR!C41 -> 0.12826268
A42: ="27/07/2009" -> 27/07/2009 | B42: =AUD!B42 -> 0.8201 | C42: =AUD!C42 -> 0.8182 | D42: =1/CAD!B42 -> 0.92216894 | E42: =1/CAD!C42 -> 0.92225399 | F42: =EUR!B42/1 -> 1.4225 | G42: =EUR!C42/1 -> 1.4225 | H42: =GBP!B42/1 -> 1.6445 | I42: =GBP!C42/1 -> 1.6444 | J42: =1/INR!B42 -> 0.020751193 | K42: =1/INR!C42 -> 0.020701791 | L42: =1/JPY!B42 -> 0.010544741 | M42: =1/JPY!C42 -> 0.010547689 | N42: =1/KRW!B42 -> 0.00080224629 | O42: =1/KRW!C42 -> 0.00080222692 | P42: =1/NOK!B42 -> 0.16025898 | Q42: =1/NOK!C42 -> 0.16012554 | R42: =NZD!B42/1 -> 0.6569 | S42: =NZD!C42/1 -> 0.6556 | T42: =1/PHP!B42 -> 0.02079975 | U42: =1/PHP!C42 -> 0.020679316 | V42: =1/TWD!B42 -> 0.030444181 | W42: =1/TWD!C42 -> 0.030444273 | X42: =1/TWD!B42 -> 0.030444181 | Y42: =1/TWD!C42 -> 0.030444273 | Z42: =1/ZAR!B42 -> 0.12882946 | AA42: =1/ZAR!C42 -> 0.1280213
A43: ="28/07/2009" -> 28/07/2009 | B43: =AUD!B43 -> 0.8246 | C43: =AUD!C43 -> 0.8227 | D43: =1/CAD!B43 -> 0.92489826 | E43: =1/CAD!C43 -> 0.92498381 | F43: =EUR!B43/1 -> 1.4243 | G43: =EUR!C43/1 -> 1.4243 | H43: =GBP!B43/1 -> 1.6485 | I43: =GBP!C43/1 -> 1.6484 | J43: =1/INR!B43 -> 0.020718947 | K43: =1/INR!C43 -> 0.020669698 | L43: =1/JPY!B43 -> 0.010515247 | M43: =1/JPY!C43 -> 0.010517901 | N43: =1/KRW!B43 -> 0.00080450523 | O43: =1/KRW!C43 -> 0.00080448413 | P43: =1/NOK!B43 -> 0.16160049 | Q43: =1/NOK!C43 -> 0.16145959 | R43: =NZD!B43/1 -> 0.6564 | S43: =NZD!C43/1 -> 0.6551 | T43: =1/PHP!B43 -> 0.020785699 | U43: =1/PHP!C43 -> 0.020716801 | V43: =1/TWD!B43 -> 0.030517578 | W43: =1/TWD!C43 -> 0.030517671 | X43: =1/TWD!B43 -> 0.030517578 | Y43: =1/TWD!C43 -> 0.030517671 | Z43: =1/ZAR!B43 -> 0.12802294 | AA43: =1/ZAR!C43 -> 0.12718439
A44: ="29/07/2009" -> 29/07/2009 | B44: =AUD!B44 -> 0.8256 | C44: =AUD!C44 -> 0.8237 | D44: =1/CAD!B44 -> 0.92412901 | E44: =1/CAD!C44 -> 0.92421442 | F44: =EUR!B44/1 -> 1.418 | G44: =EUR!C44/1 -> 1.418 | H44: =GBP!B44/1 -> 1.6443 | I44: =GBP!C44/1 -> 1.6442 | J44: =1/INR!B44 -> 0.020681454 | K44: =1/INR!C44 -> 0.02063664 | L44: =1/JPY!B44 -> 0.010604229 | M44: =1/JPY!C44 -> 0.010606726 | N44: =1/KRW!B44 -> 0.00080690712 | O44: =1/KRW!C44 -> 0.00080688245 | P44: =1/NOK!B44 -> 0.16139705 | Q44: =1/NOK!C44 -> 0.16125911 | R44: =NZD!B44/1 -> 0.6577 | S44: =NZD!C44/1 -> 0.6564 | T44: =1/PHP!B44 -> 0.020794344 | U44: =1/PHP!C44 -> 0.020670553 | V44: =1/TWD!B44 -> 0.03045067 | W44: =1/TWD!C44 -> 0.030450763 | X44: =1/TWD!B44 -> 0.03045067 | Y44: =1/TWD!C44 -> 0.030450763 | Z44: =1/ZAR!B44 -> 0.12672986 | AA44: =1/ZAR!C44 -> 0.12593031
A45: ="30/07/2009" -> 30/07/2009 | B45: =AUD!B45 -> 0.8172 | C45: =AUD!C45 -> 0.8153 | D45: =1/CAD!B45 -> 0.91675834 | E45: =1/CAD!C45 -> 0.91684239 | F45: =EUR!B45/1 -> 1.4049 | G45: =EUR!C45/1 -> 1.4049 | H45: =GBP!B45/1 -> 1.637 | I45: =GBP!C45/1 -> 1.6369 | J45: =1/INR!B45 -> 0.020599444 | K45: =1/INR!C45 -> 0.020549705 | L45: =1/JPY!B45 -> 0.010533689 | M45: =1/JPY!C45 -> 0.010536431 | N45: =1/KRW!B45 -> 0.00080580177 | O45: =1/KRW!C45 -> 0.00080578203 | P45: =1/NOK!B45 -> 0.15998976 | Q45: =1/NOK!C45 -> 0.15985932 | R45: =NZD!B45/1 -> 0.6494 | S45: =NZD!C45/1 -> 0.6481 | T45: =1/PHP!B45 -> 0.02076412 | U45: =1/PHP!C45 -> 0.020703934 | V45: =1/TWD!B45 -> 0.030424729 | W45: =1/TWD!C45 -> 0.030424822 | X45: =1/TWD!B45 -> 0.030424729 | Y45: =1/TWD!C45 -> 0.030424822 | Z45: =1/ZAR!B45 -> 0.12618456 | AA45: =1/ZAR!C45 -> 0.12539028
A46: ="31/07/2009" -> 31/07/2009 | B46: =AUD!B46 -> 0.8278 | C46: =AUD!C46 -> 0.8258 | D46: =1/CAD!B46 -> 0.92506938 | E46: =1/CAD!C46 -> 0.92515496 | F46: =EUR!B46/1 -> 1.4125 | G46: =EUR!C46/1 -> 1.4125 | H46: =GBP!B46/1 -> 1.6518 | I46: =GBP!C46/1 -> 1.6517 | J46: =1/INR!B46 -> 0.020727537 | K46: =1/INR!C46 -> 0.020676109 | L46: =1/JPY!B46 -> 0.010493179 | M46: =1/JPY!C46 -> 0.01049558 | N46: =1/KRW!B46 -> 0.00081188601 | O46: =1/KRW!C46 -> 0.00081186288 | P46: =1/NOK!B46 -> 0.16126951 | Q46: =1/NOK!C46 -> 0.16113698 | R46: =NZD!B46/1 -> 0.6553 | S46: =NZD!C46/1 -> 0.654 | T46: =1/PHP!B46 -> 0.02080516 | U46: =1/PHP!C46 -> 0.020739143 | V46: =1/TWD!B46 -> 0.030520372 | W46: =1/TWD!C46 -> 0.030520465 | X46: =1/TWD!B46 -> 0.030520372 | Y46: =1/TWD!C46 -> 0.030520465 | Z46: =1/ZAR!B46 -> 0.12779716 | AA46: =1/ZAR!C46 -> 0.12699864
A47: ="03/08/2009" -> 03/08/2009 | B47: =AUD!B47 -> 0.8373 | C47: =AUD!C47 -> 0.8352 | D47: =1/CAD!B47 -> 0.92755774 | E47: =1/CAD!C47 -> 0.92764378 | F47: =EUR!B47/1 -> 1.4241 | G47: =EUR!C47/1 -> 1.4242 | H47: =GBP!B47/1 -> 1.6728 | I47: =GBP!C47/1 -> 1.6726 | J47: =1/INR!B47 -> 0.02090301 | K47: =1/INR!C47 -> 0.02084419 | L47: =1/JPY!B47 -> 0.010553867 | M47: =1/JPY!C47 -> 0.010556686 | N47: =1/KRW!B47 -> 0.00081719376 | O47: =1/KRW!C47 -> 0.00081717279 | P47: =1/NOK!B47 -> 0.1631348 | Q47: =1/NOK!C47 -> 0.16299919 | R47: =NZD!B47/1 -> 0.6623 | S47: =NZD!C47/1 -> 0.6607 | T47: =1/PHP!B47 -> 0.02080516 | U47: =1/PHP!C47 -> 0.020738283 | V47: =1/TWD!B47 -> 0.030518509 | W47: =1/TWD!C47 -> 0.030518603 | X47: =1/TWD!B47 -> 0.030518509 | Y47: =1/TWD!C47 -> 0.030518603 | Z47: =1/ZAR!B47 -> 0.12824294 | AA47: =1/ZAR!C47 -> 0.12744861
A48: ="04/08/2009" -> 04/08/2009 | B48: =AUD!B48 -> 0.845 | C48: =AUD!C48 -> 0.8429 | D48: =1/CAD!B48 -> 0.93782238 | E48: =1/CAD!C48 -> 0.93791034 | F48: =EUR!B48/1 -> 1.4403 | G48: =EUR!C48/1 -> 1.4403 | H48: =GBP!B48/1 -> 1.6964 | I48: =GBP!C48/1 -> 1.6962 | J48: =1/INR!B48 -> 0.021062609 | K48: =1/INR!C48 -> 0.021003991 | L48: =1/JPY!B48 -> 0.010490978 | M48: =1/JPY!C48 -> 0.010493741 | N48: =1/KRW!B48 -> 0.00082061382 | O48: =1/KRW!C48 -> 0.00082058884 | P48: =1/NOK!B48 -> 0.16592553 | Q48: =1/NOK!C48 -> 0.165777 | R48: =NZD!B48/1 -> 0.6684 | S48: =NZD!C48/1 -> 0.6669 | T48: =1/PHP!B48 -> 0.020874648 | U48: =1/PHP!C48 -> 0.020803428 | V48: =1/TWD!B48 -> 0.030594138 | W48: =1/TWD!C48 -> 0.030594232 | X48: =1/TWD!B48 -> 0.030594138 | Y48: =1/TWD!C48 -> 0.030594232 | Z48: =1/ZAR!B48 -> 0.12877803 | AA48: =1/ZAR!C48 -> 0.12792468
A49: ="05/08/2009" -> 05/08/2009 | B49: =AUD!B49 -> 0.8434 | C49: =AUD!C49 -> 0.8414 | D49: =1/CAD!B49 -> 0.93214019 | E49: =1/CAD!C49 -> 0.932314 | F49: =EUR!B49/1 -> 1.4414 | G49: =EUR!C49/1 -> 1.4414 | H49: =GBP!B49/1 -> 1.6943 | I49: =GBP!C49/1 -> 1.6942 | J49: =1/INR!B49 -> 0.020986359 | K49: =1/INR!C49 -> 0.020929259 | L49: =1/JPY!B49 -> 0.010515247 | M49: =1/JPY!C49 -> 0.010518078 | N49: =1/KRW!B49 -> 0.00081960495 | O49: =1/KRW!C49 -> 0.00081958144 | P49: =1/NOK!B49 -> 0.16542597 | Q49: =1/NOK!C49 -> 0.16528379 | R49: =NZD!B49/1 -> 0.6726 | S49: =NZD!C49/1 -> 0.6711 | T49: =1/PHP!B49 -> 0.020894275 | U49: =1/PHP!C49 -> 0.020807324 | V49: =1/TWD!B49 -> 0.030599755 | W49: =1/TWD!C49 -> 0.030599849 | X49: =1/TWD!B49 -> 0.030599755 | Y49: =1/TWD!C49 -> 0.030599849 | Z49: =1/ZAR!B49 -> 0.127288 | AA49: =1/ZAR!C49 -> 0.12647661
A50: ="06/08/2009" -> 06/08/2009 | B50: =AUD!B50 -> 0.8414 | C50: =AUD!C50 -> 0.8394 | D50: =1/CAD!B50 -> 0.93283582 | E50: =1/CAD!C50 -> 0.93292285 | F50: =EUR!B50/1 -> 1.439 | G50: =EUR!C50/1 -> 1.439 | H50: =GBP!B50/1 -> 1.6972 | I50: =GBP!C50/1 -> 1.6971 | J50: =1/INR!B50 -> 0.020979755 | K50: =1/INR!C50 -> 0.020919408 | L50: =1/JPY!B50 -> 0.010518565 | M50: =1/JPY!C50 -> 0.010521299 | N50: =1/KRW!B50 -> 0.00081712698 | O50: =1/KRW!C50 -> 0.00081710622 | P50: =1/NOK!B50 -> 0.16569734 | Q50: =1/NOK!C50 -> 0.16556291 | R50: =NZD!B50/1 -> 0.6696 | S50: =NZD!C50/1 -> 0.6682 | T50: =1/PHP!B50 -> 0.02093364 | U50: =1/PHP!C50 -> 0.020864195 | V50: =1/TWD!B50 -> 0.030543677 | W50: =1/TWD!C50 -> 0.030543677 | X50: =1/TWD!B50 -> 0.030543677 | Y50: =1/TWD!C50 -> 0.030543677 | Z50: =1/ZAR!B50 -> 0.12594458 | AA50: =1/ZAR!C50 -> 0.12515488
A51: ="07/08/2009" -> 07/08/2009 | B51: =AUD!B51 -> 0.8377 | C51: =AUD!C51 -> 0.8357 | D51: =1/CAD!B51 -> 0.92816039 | E51: =1/CAD!C51 -> 0.92824654 | F51: =EUR!B51/1 -> 1.4357 | G51: =EUR!C51/1 -> 1.4357 | H51: =GBP!B51/1 -> 1.6761 | I51: =GBP!C51/1 -> 1.676 | J51: =1/INR!B51 -> 0.02090738 | K51: =1/INR!C51 -> 0.020850709 | L51: =1/JPY!B51 -> 0.010493069 | M51: =1/JPY!C51 -> 0.010495724 | N51: =1/KRW!B51 -> 0.00081426594 | O51: =1/KRW!C51 -> 0.00081424645 | P51: =1/NOK!B51 -> 0.16469038 | Q51: =1/NOK!C51 -> 0.164563 | R51: =NZD!B51/1 -> 0.6709 | S51: =NZD!C51/1 -> 0.6695 | T51: =1/PHP!B51 -> 0.020916126 | U51: =1/PHP!C51 -> 0.020848535 | V51: =1/TWD!B51 -> 0.030494313 | W51: =1/TWD!C51 -> 0.030494313 | X51: =1/TWD!B51 -> 0.030494313 | Y51: =1/TWD!C51 -> 0.030494313 | Z51: =1/ZAR!B51 -> 0.12405101 | AA51: =1/ZAR!C51 -> 0.12325289
A52: ="10/08/2009" -> 10/08/2009 | B52: =AUD!B52 -> 0.8389 | C52: =AUD!C52 -> 0.8369 | D52: =1/CAD!B52 -> 0.9237022 | E52: =1/CAD!C52 -> 0.92378753 | F52: =EUR!B52/1 -> 1.4195 | G52: =EUR!C52/1 -> 1.4195 | H52: =GBP!B52/1 -> 1.6707 | I52: =GBP!C52/1 -> 1.6706 | J52: =1/INR!B52 -> 0.02092488 | K52: =1/INR!C52 -> 0.020867025 | L52: =1/JPY!B52 -> 0.010281719 | M52: =1/JPY!C52 -> 0.01028432 | N52: =1/KRW!B52 -> 0.00081712698 | O52: =1/KRW!C52 -> 0.00081710034 | P52: =1/NOK!B52 -> 0.1634067 | Q52: =1/NOK!C52 -> 0.16326797 | R52: =NZD!B52/1 -> 0.6728 | S52: =NZD!C52/1 -> 0.6714 | T52: =1/PHP!B52 -> 0.020959966 | U52: =1/PHP!C52 -> 0.020892092 | V52: =1/TWD!B52 -> 0.030476655 | W52: =1/TWD!C52 -> 0.030476748 | X52: =1/TWD!B52 -> 0.030476655 | Y52: =1/TWD!C52 -> 0.030476748 | Z52: =1/ZAR!B52 -> 0.125 | AA52: =1/ZAR!C52 -> 0.12416962
A53: ="11/08/2009" -> 11/08/2009 | B53: =AUD!B53 -> 0.8345 | C53: =AUD!C53 -> 0.8324 | D53: =1/CAD!B53 -> 0.91776799 | E53: =1/CAD!C53 -> 0.91785223 | F53: =EUR!B53/1 -> 1.4145 | G53: =EUR!C53/1 -> 1.4145 | H53: =GBP!B53/1 -> 1.6488 | I53: =GBP!C53/1 -> 1.6487 | J53: =1/INR!B53 -> 0.020820321 | K53: =1/INR!C53 -> 0.020760886 | L53: =1/JPY!B53 -> 0.010339123 | M53: =1/JPY!C53 -> 0.01034185 | N53: =1/KRW!B53 -> 0.00080466707 | O53: =1/KRW!C53 -> 0.00080464687 | P53: =1/NOK!B53 -> 0.1608881 | Q53: =1/NOK!C53 -> 0.16075361 | R53: =NZD!B53/1 -> 0.6744 | S53: =NZD!C53/1 -> 0.673 | T53: =1/PHP!B53 -> 0.02093364 | U53: =1/PHP!C53 -> 0.020859408 | V53: =1/TWD!B53 -> 0.030413625 | W53: =1/TWD!C53 -> 0.030413718 | X53: =1/TWD!B53 -> 0.030413625 | Y53: =1/TWD!C53 -> 0.030413718 | Z53: =1/ZAR!B53 -> 0.12312542 | AA53: =1/ZAR!C53 -> 0.12231967
A54: ="12/08/2009" -> 12/08/2009 | B54: =AUD!B54 -> 0.8246 | C54: =AUD!C54 -> 0.8226 | D54: =1/CAD!B54 -> 0.90719405 | E54: =1/CAD!C54 -> 0.90719405 | F54: =EUR!B54/1 -> 1.4142 | G54: =EUR!C54/1 -> 1.4142 | H54: =GBP!B54/1 -> 1.648 | I54: =GBP!C54/1 -> 1.6478 | J54: =1/INR!B54 -> 0.020770589 | K54: =1/INR!C54 -> 0.020713583 | L54: =1/JPY!B54 -> 0.01046244 | M54: =1/JPY!C54 -> 0.01046498 | N54: =1/KRW!B54 -> 0.00079875394 | O54: =1/KRW!C54 -> 0.00079873289 | P54: =1/NOK!B54 -> 0.16006146 | Q54: =1/NOK!C54 -> 0.15992579 | R54: =NZD!B54/1 -> 0.6649 | S54: =NZD!C54/1 -> 0.6636 | T54: =1/PHP!B54 -> 0.020876827 | U54: =1/PHP!C54 -> 0.020790021 | V54: =1/TWD!B54 -> 0.030401605 | W54: =1/TWD!C54 -> 0.030401698 | X54: =1/TWD!B54 -> 0.030401605 | Y54: =1/TWD!C54 -> 0.030401698 | Z54: =1/ZAR!B54 -> 0.12290599 | AA54: =1/ZAR!C54 -> 0.12212995
A55: ="13/08/2009" -> 13/08/2009 | B55: =AUD!B55 -> 0.8348 | C55: =AUD!C55 -> 0.8328 | D55: =1/CAD!B55 -> 0.91717876 | E55: =1/CAD!C55 -> 0.91717876 | F55: =EUR!B55/1 -> 1.4219 | G55: =EUR!C55/1 -> 1.4219 | H55: =GBP!B55/1 -> 1.6491 | I55: =GBP!C55/1 -> 1.6489 | J55: =1/INR!B55 -> 0.020759809 | K55: =1/INR!C55 -> 0.020697506 | L55: =1/JPY!B55 -> 0.010427529 | M55: =1/JPY!C55 -> 0.010429987 | N55: =1/KRW!B55 -> 0.00080736315 | O55: =1/KRW!C55 -> 0.00080733897 | P55: =1/NOK!B55 -> 0.16412546 | Q55: =1/NOK!C55 -> 0.1639855 | R55: =NZD!B55/1 -> 0.6724 | S55: =NZD!C55/1 -> 0.6711 | T55: =1/PHP!B55 -> 0.020850709 | U55: =1/PHP!C55 -> 0.020780516 | V55: =1/TWD!B55 -> 0.030382208 | W55: =1/TWD!C55 -> 0.030382208 | X55: =1/TWD!B55 -> 0.030382208 | Y55: =1/TWD!C55 -> 0.030382208 | Z55: =1/ZAR!B55 -> 0.12412646 | AA55: =1/ZAR!C55 -> 0.12334715
A56: ="14/08/2009" -> 14/08/2009 | B56: =AUD!B56 -> 0.8427 | C56: =AUD!C56 -> 0.8407 | D56: =1/CAD!B56 -> 0.91945568 | E56: =1/CAD!C56 -> 0.91945568 | F56: =EUR!B56/1 -> 1.4262 | G56: =EUR!C56/1 -> 1.4262 | H56: =GBP!B56/1 -> 1.6564 | I56: =GBP!C56/1 -> 1.6563 | J56: =1/INR!B56 -> 0.020724315 | K56: =1/INR!C56 -> 0.02066863 | L56: =1/JPY!B56 -> 0.010508617 | M56: =1/JPY!C56 -> 0.010510926 | N56: =1/KRW!B56 -> 0.00080808081 | O56: =1/KRW!C56 -> 0.00080805515 | P56: =1/NOK!B56 -> 0.1651364 | Q56: =1/NOK!C56 -> 0.164992 | R56: =NZD!B56/1 -> 0.6789 | S56: =NZD!C56/1 -> 0.6776 | T56: =1/PHP!B56 -> 0.020846362 | U56: =1/PHP!C56 -> 0.020777062 | V56: =1/TWD!B56 -> 0.030402529 | W56: =1/TWD!C56 -> 0.030402622 | X56: =1/TWD!B56 -> 0.030402529 | Y56: =1/TWD!C56 -> 0.030402622 | Z56: =1/ZAR!B56 -> 0.12480032 | AA56: =1/ZAR!C56 -> 0.12405101
A57: ="17/08/2009" -> 17/08/2009 | B57: =AUD!B57 -> 0.8215 | C57: =AUD!C57 -> 0.8196 | D57: =1/CAD!B57 -> 0.90538705 | E57: =1/CAD!C57 -> 0.90538705 | F57: =EUR!B57/1 -> 1.4147 | G57: =EUR!C57/1 -> 1.4147 | H57: =GBP!B57/1 -> 1.6448 | I57: =GBP!C57/1 -> 1.6447 | J57: =1/INR!B57 -> 0.020580366 | K57: =1/INR!C57 -> 0.020525452 | L57: =1/JPY!B57 -> 0.01057306 | M57: =1/JPY!C57 -> 0.0105759 | N57: =1/KRW!B57 -> 0.00079884966 | O57: =1/KRW!C57 -> 0.0007988293 | P57: =1/NOK!B57 -> 0.16336399 | Q57: =1/NOK!C57 -> 0.16322267 | R57: =NZD!B57/1 -> 0.6694 | S57: =NZD!C57/1 -> 0.668 | T57: =1/PHP!B57 -> 0.020692153 | U57: =1/PHP!C57 -> 0.020624723 | V57: =1/TWD!B57 -> 0.030370213 | W57: =1/TWD!C57 -> 0.030370213 | X57: =1/TWD!B57 -> 0.030370213 | Y57: =1/TWD!C57 -> 0.030370213 | Z57: =1/ZAR!B57 -> 0.12287729 | AA57: =1/ZAR!C57 -> 0.12214636
A58: ="18/08/2009" -> 18/08/2009 | B58: =AUD!B58 -> 0.8229 | C58: =AUD!C58 -> 0.8208 | D58: =1/CAD!B58 -> 0.90375056 | E58: =1/CAD!C58 -> 0.90375056 | F58: =EUR!B58/1 -> 1.4101 | G58: =EUR!C58/1 -> 1.4101 | H58: =GBP!B58/1 -> 1.6343 | I58: =GBP!C58/1 -> 1.6341 | J58: =1/INR!B58 -> 0.020470829 | K58: =1/INR!C58 -> 0.020420666 | L58: =1/JPY!B58 -> 0.010539629 | M58: =1/JPY!C58 -> 0.01054234 | N58: =1/KRW!B58 -> 0.00079611496 | O58: =1/KRW!C58 -> 0.00079608276 | P58: =1/NOK!B58 -> 0.16211134 | Q58: =1/NOK!C58 -> 0.16196168 | R58: =NZD!B58/1 -> 0.6692 | S58: =NZD!C58/1 -> 0.6679 | T58: =1/PHP!B58 -> 0.020678246 | U58: =1/PHP!C58 -> 0.020605811 | V58: =1/TWD!B58 -> 0.030314054 | W58: =1/TWD!C58 -> 0.030314054 | X58: =1/TWD!B58 -> 0.030314054 | Y58: =1/TWD!C58 -> 0.030314054 | Z58: =1/ZAR!B58 -> 0.12313603 | AA58: =1/ZAR!C58 -> 0.12233912
A59: ="20/08/2009" -> 20/08/2009 | B59: =AUD!B59 -> 0.83 | C59: =AUD!C59 -> 0.828 | D59: =1/CAD!B59 -> 0.91182639 | E59: =1/CAD!C59 -> 0.91190954 | F59: =EUR!B59/1 -> 1.4222 | G59: =EUR!C59/1 -> 1.4222 | H59: =GBP!B59/1 -> 1.6515 | I59: =GBP!C59/1 -> 1.6514 | J59: =1/INR!B59 -> 0.020526505 | K59: =1/INR!C59 -> 0.020472925 | L59: =1/JPY!B59 -> 0.010595465 | M59: =1/JPY!C59 -> 0.010597599 | N59: =1/KRW!B59 -> 0.00079993601 | O59: =1/KRW!C59 -> 0.00079991041 | P59: =1/NOK!B59 -> 0.16492125 | Q59: =1/NOK!C59 -> 0.16477179 | R59: =NZD!B59/1 -> 0.6751 | S59: =NZD!C59/1 -> 0.6738 | T59: =1/PHP!B59 -> 0.020614306 | U59: =1/PHP!C59 -> 0.020547804 | V59: =1/TWD!B59 -> 0.030313135 | W59: =1/TWD!C59 -> 0.030313135 | X59: =1/TWD!B59 -> 0.030313135 | Y59: =1/TWD!C59 -> 0.030313135 | Z59: =1/ZAR!B59 -> 0.12456868 | AA59: =1/ZAR!C59 -> 0.12378076
A60: ="21/08/2009" -> 21/08/2009 | B60: =AUD!B60 -> 0.824 | C60: =AUD!C60 -> 0.8221 | D60: =1/CAD!B60 -> 0.91633831 | E60: =1/CAD!C60 -> 0.91633831 | F60: =EUR!B60/1 -> 1.4233 | G60: =EUR!C60/1 -> 1.4233 | H60: =GBP!B60/1 -> 1.646 | I60: =GBP!C60/1 -> 1.6459 | J60: =1/INR!B60 -> 0.020546538 | K60: =1/INR!C60 -> 0.020493903 | L60: =1/JPY!B60 -> 0.010689471 | M60: =1/JPY!C60 -> 0.010691619 | N60: =1/KRW!B60 -> 0.00080019205 | O60: =1/KRW!C60 -> 0.00080016823 | P60: =1/NOK!B60 -> 0.16562324 | Q60: =1/NOK!C60 -> 0.16546703 | R60: =NZD!B60/1 -> 0.6736 | S60: =NZD!C60/1 -> 0.6722 | T60: =1/PHP!B60 -> 0.020652623 | U60: =1/PHP!C60 -> 0.020600717 | V60: =1/TWD!B60 -> 0.030376671 | W60: =1/TWD!C60 -> 0.030376763 | X60: =1/TWD!B60 -> 0.030376671 | Y60: =1/TWD!C60 -> 0.030376763 | Z60: =1/ZAR!B60 -> 0.12532114 | AA60: =1/ZAR!C60 -> 0.12456092
A61: ="24/08/2009" -> 24/08/2009 | B61: =AUD!B61 -> 0.8396 | C61: =AUD!C61 -> 0.8376 | D61: =1/CAD!B61 -> 0.92669817 | E61: =1/CAD!C61 -> 0.92669817 | F61: =EUR!B61/1 -> 1.434 | G61: =EUR!C61/1 -> 1.434 | H61: =GBP!B61/1 -> 1.6524 | I61: =GBP!C61/1 -> 1.6522 | J61: =1/INR!B61 -> 0.020648358 | K61: =1/INR!C61 -> 0.020593081 | L61: =1/JPY!B61 -> 0.010539629 | M61: =1/JPY!C61 -> 0.010541873 | N61: =1/KRW!B61 -> 0.00080431111 | O61: =1/KRW!C61 -> 0.00080428142 | P61: =1/NOK!B61 -> 0.16695606 | Q61: =1/NOK!C61 -> 0.16677229 | R61: =NZD!B61/1 -> 0.6854 | S61: =NZD!C61/1 -> 0.684 | T61: =1/PHP!B61 -> 0.020691082 | U61: =1/PHP!C61 -> 0.020624085 | V61: =1/TWD!B61 -> 0.030455307 | W61: =1/TWD!C61 -> 0.0304554 | X61: =1/TWD!B61 -> 0.030455307 | Y61: =1/TWD!C61 -> 0.0304554 | Z61: =1/ZAR!B61 -> 0.12744861 | AA61: =1/ZAR!C61 -> 0.12667207
A62: ="25/08/2009" -> 25/08/2009 | B62: =AUD!B62 -> 0.8364 | C62: =AUD!C62 -> 0.8343 | D62: =1/CAD!B62 -> 0.9284189 | E62: =1/CAD!C62 -> 0.9284189 | F62: =EUR!B62/1 -> 1.43 | G62: =EUR!C62/1 -> 1.43 | H62: =GBP!B62/1 -> 1.6404 | I62: =GBP!C62/1 -> 1.6402 | J62: =1/INR!B62 -> 0.020479214 | K62: =1/INR!C62 -> 0.020424837 | L62: =1/JPY!B62 -> 0.010640562 | M62: =1/JPY!C62 -> 0.010642815 | N62: =1/KRW!B62 -> 0.00080147471 | O62: =1/KRW!C62 -> 0.00080145589 | P62: =1/NOK!B62 -> 0.1662621 | Q62: =1/NOK!C62 -> 0.16609364 | R62: =NZD!B62/1 -> 0.6851 | S62: =NZD!C62/1 -> 0.6837 | T62: =1/PHP!B62 -> 0.020576132 | U62: =1/PHP!C62 -> 0.020505249 | V62: =1/TWD!B62 -> 0.030389595 | W62: =1/TWD!C62 -> 0.030389595 | X62: =1/TWD!B62 -> 0.030389595 | Y62: =1/TWD!C62 -> 0.030389595 | Z62: =1/ZAR!B62 -> 0.12719895 | AA62: =1/ZAR!C62 -> 0.12639509
A63: ="26/08/2009" -> 26/08/2009 | B63: =AUD!B63 -> 0.8365 | C63: =AUD!C63 -> 0.8345 | D63: =1/CAD!B63 -> 0.92030186 | E63: =1/CAD!C63 -> 0.92038656 | F63: =EUR!B63/1 -> 1.43 | G63: =EUR!C63/1 -> 1.43 | H63: =GBP!B63/1 -> 1.6323 | I63: =GBP!C63/1 -> 1.6321 | J63: =1/INR!B63 -> 0.020478165 | K63: =1/INR!C63 -> 0.020423794 | L63: =1/JPY!B63 -> 0.010623606 | M63: =1/JPY!C63 -> 0.010625705 | N63: =1/KRW!B63 -> 0.0008016996 | O63: =1/KRW!C63 -> 0.00080167936 | P63: =1/NOK!B63 -> 0.16541229 | Q63: =1/NOK!C63 -> 0.16525921 | R63: =NZD!B63/1 -> 0.6862 | S63: =NZD!C63/1 -> 0.6849 | T63: =1/PHP!B63 -> 0.020525452 | U63: =1/PHP!C63 -> 0.020456591 | V63: =1/TWD!B63 -> 0.030369291 | W63: =1/TWD!C63 -> 0.030369291 | X63: =1/TWD!B63 -> 0.030369291 | Y63: =1/TWD!C63 -> 0.030369291 | Z63: =1/ZAR!B63 -> 0.12742425 | AA63: =1/ZAR!C63 -> 0.12665122
A64: ="27/08/2009" -> 27/08/2009 | B64: =AUD!B64 -> 0.8266 | C64: =AUD!C64 -> 0.8247 | D64: =1/CAD!B64 -> 0.91082977 | E64: =1/CAD!C64 -> 0.91082977 | F64: =EUR!B64/1 -> 1.4246 | G64: =EUR!C64/1 -> 1.4246 | H64: =GBP!B64/1 -> 1.6229 | I64: =GBP!C64/1 -> 1.6228 | J64: =1/INR!B64 -> 0.020391517 | K64: =1/INR!C64 -> 0.020341741 | L64: =1/JPY!B64 -> 0.010675663 | M64: =1/JPY!C64 -> 0.010677589 | N64: =1/KRW!B64 -> 0.00080032013 | O64: =1/KRW!C64 -> 0.00080029854 | P64: =1/NOK!B64 -> 0.16480166 | Q64: =1/NOK!C64 -> 0.16464971 | R64: =NZD!B64/1 -> 0.6789 | S64: =NZD!C64/1 -> 0.6777 | T64: =1/PHP!B64 -> 0.020441537 | U64: =1/PHP!C64 -> 0.020374068 | V64: =1/TWD!B64 -> 0.030360992 | W64: =1/TWD!C64 -> 0.030361084 | X64: =1/TWD!B64 -> 0.030360992 | Y64: =1/TWD!C64 -> 0.030361084 | Z64: =1/ZAR!B64 -> 0.12680861 | AA64: =1/ZAR!C64 -> 0.12606684
A65: ="28/08/2009" -> 28/08/2009 | B65: =AUD!B65 -> 0.8385 | C65: =AUD!C65 -> 0.8366 | D65: =1/CAD!B65 -> 0.91844232 | E65: =1/CAD!C65 -> 0.91844232 | F65: =EUR!B65/1 -> 1.4357 | G65: =EUR!C65/1 -> 1.4357 | H65: =GBP!B65/1 -> 1.6266 | I65: =GBP!C65/1 -> 1.6265 | J65: =1/INR!B65 -> 0.020470829 | K65: =1/INR!C65 -> 0.020426923 | L65: =1/JPY!B65 -> 0.010672359 | M65: =1/JPY!C65 -> 0.010674261 | N65: =1/KRW!B65 -> 0.00080314834 | O65: =1/KRW!C65 -> 0.00080312841 | P65: =1/NOK!B65 -> 0.16583748 | Q65: =1/NOK!C65 -> 0.16568636 | R65: =NZD!B65/1 -> 0.6861 | S65: =NZD!C65/1 -> 0.6848 | T65: =1/PHP!B65 -> 0.020479214 | U65: =1/PHP!C65 -> 0.020416913 | V65: =1/TWD!B65 -> 0.030428432 | W65: =1/TWD!C65 -> 0.030428525 | X65: =1/TWD!B65 -> 0.030428432 | Y65: =1/TWD!C65 -> 0.030428525 | Z65: =1/ZAR!B65 -> 0.12826762 | AA65: =1/ZAR!C65 -> 0.12751199
A66: ="31/08/2009" -> 31/08/2009 | B66: =AUD!B66 -> 0.8382 | C66: =AUD!C66 -> 0.8363 | D66: =1/CAD!B66 -> 0.91249202 | E66: =1/CAD!C66 -> 0.91249202 | F66: =EUR!B66/1 -> 1.4281 | G66: =EUR!C66/1 -> 1.4281 | H66: =GBP!B66/1 -> 1.6229 | I66: =GBP!C66/1 -> 1.6228 | J66: =1/INR!B66 -> 0.020458265 | K66: =1/INR!C66 -> 0.020412329 | L66: =1/JPY!B66 -> 0.010801469 | M66: =1/JPY!C66 -> 0.010803534 | N66: =1/KRW!B66 -> 0.00080108948 | O66: =1/KRW!C66 -> 0.00080106503 | P66: =1/NOK!B66 -> 0.16522917 | Q66: =1/NOK!C66 -> 0.16508461 | R66: =NZD!B66/1 -> 0.6815 | S66: =NZD!C66/1 -> 0.6802 | T66: =1/PHP!B66 -> 0.020489704 | U66: =1/PHP!C66 -> 0.020424837 | V66: =1/TWD!B66 -> 0.030381285 | W66: =1/TWD!C66 -> 0.030381377 | X66: =1/TWD!B66 -> 0.030381285 | Y66: =1/TWD!C66 -> 0.030381377 | Z66: =1/ZAR!B66 -> 0.12789523 | AA66: =1/ZAR!C66 -> 0.12714881
A67: ="01/09/2009" -> 01/09/2009 | B67: =AUD!B67 -> 0.8439 | C67: =AUD!C67 -> 0.8417 | D67: =1/CAD!B67 -> 0.91441112 | E67: =1/CAD!C67 -> 0.91441112 | F67: =EUR!B67/1 -> 1.4345 | G67: =EUR!C67/1 -> 1.4345 | H67: =GBP!B67/1 -> 1.6291 | I67: =GBP!C67/1 -> 1.629 | J67: =1/INR!B67 -> 0.020512821 | K67: =1/INR!C67 -> 0.020466639 | L67: =1/JPY!B67 -> 0.010737679 | M67: =1/JPY!C67 -> 0.010739927 | N67: =1/KRW!B67 -> 0.00080192462 | O67: =1/KRW!C67 -> 0.00080190192 | P67: =1/NOK!B67 -> 0.16655286 | Q67: =1/NOK!C67 -> 0.16639212 | R67: =NZD!B67/1 -> 0.6872 | S67: =NZD!C67/1 -> 0.6858 | T67: =1/PHP!B67 -> 0.020466639 | U67: =1/PHP!C67 -> 0.020399421 | V67: =1/TWD!B67 -> 0.030415475 | W67: =1/TWD!C67 -> 0.030415568 | X67: =1/TWD!B67 -> 0.030415475 | Y67: =1/TWD!C67 -> 0.030415568 | Z67: =1/ZAR!B67 -> 0.12834334 | AA67: =1/ZAR!C67 -> 0.12761125
A68: ="02/09/2009" -> 02/09/2009 | B68: =AUD!B68 -> 0.8301 | C68: =AUD!C68 -> 0.8281 | D68: =1/CAD!B68 -> 0.90735868 | E68: =1/CAD!C68 -> 0.90744102 | F68: =EUR!B68/1 -> 1.4216 | G68: =EUR!C68/1 -> 1.4216 | H68: =GBP!B68/1 -> 1.6165 | I68: =GBP!C68/1 -> 1.6164 | J68: =1/INR!B68 -> 0.020325203 | K68: =1/INR!C68 -> 0.02028089 | L68: =1/JPY!B68 -> 0.010768899 | M68: =1/JPY!C68 -> 0.010771219 | N68: =1/KRW!B68 -> 0.00080134626 | O68: =1/KRW!C68 -> 0.00080132443 | P68: =1/NOK!B68 -> 0.16414701 | Q68: =1/NOK!C68 -> 0.16399357 | R68: =NZD!B68/1 -> 0.6745 | S68: =NZD!C68/1 -> 0.6731 | T68: =1/PHP!B68 -> 0.020447807 | U68: =1/PHP!C68 -> 0.020379881 | V68: =1/TWD!B68 -> 0.030402992 | W68: =1/TWD!C68 -> 0.030402992 | X68: =1/TWD!B68 -> 0.030402992 | Y68: =1/TWD!C68 -> 0.030402992 | Z68: =1/ZAR!B68 -> 0.12656786 | AA68: =1/ZAR!C68 -> 0.12581465
A69: ="03/09/2009" -> 03/09/2009 | B69: =AUD!B69 -> 0.8362 | C69: =AUD!C69 -> 0.8343 | D69: =1/CAD!B69 -> 0.90670052 | E69: =1/CAD!C69 -> 0.90670052 | F69: =EUR!B69/1 -> 1.4277 | G69: =EUR!C69/1 -> 1.4277 | H69: =GBP!B69/1 -> 1.6278 | I69: =GBP!C69/1 -> 1.6277 | J69: =1/INR!B69 -> 0.020470829 | K69: =1/INR!C69 -> 0.020423794 | L69: =1/JPY!B69 -> 0.01082837 | M69: =1/JPY!C69 -> 0.010830892 | N69: =1/KRW!B69 -> 0.00080237503 | O69: =1/KRW!C69 -> 0.00080235533 | P69: =1/NOK!B69 -> 0.16430614 | Q69: =1/NOK!C69 -> 0.16415779 | R69: =NZD!B69/1 -> 0.6755 | S69: =NZD!C69/1 -> 0.6742 | T69: =1/PHP!B69 -> 0.020489704 | U69: =1/PHP!C69 -> 0.020422751 | V69: =1/TWD!B69 -> 0.030411775 | W69: =1/TWD!C69 -> 0.030411868 | X69: =1/TWD!B69 -> 0.030411775 | Y69: =1/TWD!C69 -> 0.030411868 | Z69: =1/ZAR!B69 -> 0.1278331 | AA69: =1/ZAR!C69 -> 0.12706319
A70: ="04/09/2009" -> 04/09/2009 | B70: =AUD!B70 -> 0.8395 | C70: =AUD!C70 -> 0.8376 | D70: =1/CAD!B70 -> 0.90653613 | E70: =1/CAD!C70 -> 0.90653613 | F70: =EUR!B70/1 -> 1.4248 | G70: =EUR!C70/1 -> 1.4248 | H70: =GBP!B70/1 -> 1.632 | I70: =GBP!C70/1 -> 1.6319 | J70: =1/INR!B70 -> 0.020426923 | K70: =1/INR!C70 -> 0.020383204 | L70: =1/JPY!B70 -> 0.010801469 | M70: =1/JPY!C70 -> 0.010803721 | N70: =1/KRW!B70 -> 0.0008046347 | O70: =1/KRW!C70 -> 0.00080461236 | P70: =1/NOK!B70 -> 0.16504101 | Q70: =1/NOK!C70 -> 0.16489406 | R70: =NZD!B70/1 -> 0.6793 | S70: =NZD!C70/1 -> 0.678 | T70: =1/PHP!B70 -> 0.020535989 | U70: =1/PHP!C70 -> 0.020469572 | V70: =1/TWD!B70 -> 0.030381285 | W70: =1/TWD!C70 -> 0.030381377 | X70: =1/TWD!B70 -> 0.030381285 | Y70: =1/TWD!C70 -> 0.030381377 | Z70: =1/ZAR!B70 -> 0.12989206 | AA70: =1/ZAR!C70 -> 0.1291339
A71: ="07/09/2009" -> 07/09/2009 | B71: =AUD!B71 -> 0.8518 | C71: =AUD!C71 -> 0.8499 | D71: =1/CAD!B71 -> 0.92148913 | E71: =1/CAD!C71 -> 0.92157405 | F71: =EUR!B71/1 -> 1.433 | G71: =EUR!C71/1 -> 1.433 | H71: =GBP!B71/1 -> 1.6385 | I71: =GBP!C71/1 -> 1.6384 | J71: =1/INR!B71 -> 0.020512821 | K71: =1/INR!C71 -> 0.020469781 | L71: =1/JPY!B71 -> 0.010730708 | M71: =1/JPY!C71 -> 0.010732792 | N71: =1/KRW!B71 -> 0.00081037277 | O71: =1/KRW!C71 -> 0.00081034972 | P71: =1/NOK!B71 -> 0.16659725 | Q71: =1/NOK!C71 -> 0.16644751 | R71: =NZD!B71/1 -> 0.6884 | S71: =NZD!C71/1 -> 0.6871 | T71: =1/PHP!B71 -> 0.020567668 | U71: =1/PHP!C71 -> 0.020491803 | V71: =1/TWD!B71 -> 0.030452525 | W71: =1/TWD!C71 -> 0.030452525 | X71: =1/TWD!B71 -> 0.030452525 | Y71: =1/TWD!C71 -> 0.030452525 | Z71: =1/ZAR!B71 -> 0.13067966 | AA71: =1/ZAR!C71 -> 0.12991737
A72: ="08/09/2009" -> 08/09/2009 | B72: =AUD!B72 -> 0.8543 | C72: =AUD!C72 -> 0.8522 | D72: =1/CAD!B72 -> 0.9273857 | E72: =1/CAD!C72 -> 0.9273857 | F72: =EUR!B72/1 -> 1.4341 | G72: =EUR!C72/1 -> 1.4341 | H72: =GBP!B72/1 -> 1.6345 | I72: =GBP!C72/1 -> 1.6344 | J72: =1/INR!B72 -> 0.020559211 | K72: =1/INR!C72 -> 0.020511769 | L72: =1/JPY!B72 -> 0.010775862 | M72: =1/JPY!C72 -> 0.010778243 | N72: =1/KRW!B72 -> 0.00081135903 | O72: =1/KRW!C72 -> 0.00081134138 | P72: =1/NOK!B72 -> 0.16692819 | Q72: =1/NOK!C72 -> 0.16675282 | R72: =NZD!B72/1 -> 0.6919 | S72: =NZD!C72/1 -> 0.6904 | T72: =1/PHP!B72 -> 0.020648358 | U72: =1/PHP!C72 -> 0.020580366 | V72: =1/TWD!B72 -> 0.030483158 | W72: =1/TWD!C72 -> 0.030483251 | X72: =1/TWD!B72 -> 0.030483158 | Y72: =1/TWD!C72 -> 0.030483251 | Z72: =1/ZAR!B72 -> 0.13132149 | AA72: =1/ZAR!C72 -> 0.13056535
A73: ="09/09/2009" -> 09/09/2009 | B73: =AUD!B73 -> 0.8591 | C73: =AUD!C73 -> 0.857 | D73: =1/CAD!B73 -> 0.92652645 | E73: =1/CAD!C73 -> 0.92652645 | F73: =EUR!B73/1 -> 1.4489 | G73: =EUR!C73/1 -> 1.4489 | H73: =GBP!B73/1 -> 1.6521 | I73: =GBP!C73/1 -> 1.652 | J73: =1/INR!B73 -> 0.020601566 | K73: =1/INR!C73 -> 0.020553928 | L73: =1/JPY!B73 -> 0.01083541 | M73: =1/JPY!C73 -> 0.010837031 | N73: =1/KRW!B73 -> 0.00081559416 | O73: =1/KRW!C73 -> 0.00081557367 | P73: =1/NOK!B73 -> 0.16844375 | Q73: =1/NOK!C73 -> 0.16827934 | R73: =NZD!B73/1 -> 0.6955 | S73: =NZD!C73/1 -> 0.6941 | T73: =1/PHP!B73 -> 0.020706077 | U73: =1/PHP!C73 -> 0.020633021 | V73: =1/TWD!B73 -> 0.030590395 | W73: =1/TWD!C73 -> 0.030590395 | X73: =1/TWD!B73 -> 0.030590395 | Y73: =1/TWD!C73 -> 0.030590395 | Z73: =1/ZAR!B73 -> 0.13252054 | AA73: =1/ZAR!C73 -> 0.13166557
A74: ="10/09/2009" -> 10/09/2009 | B74: =AUD!B74 -> 0.8594 | C74: =AUD!C74 -> 0.8574 | D74: =1/CAD!B74 -> 0.92652645 | E74: =1/CAD!C74 -> 0.92661231 | F74: =EUR!B74/1 -> 1.4565 | G74: =EUR!C74/1 -> 1.4565 | H74: =GBP!B74/1 -> 1.6537 | I74: =GBP!C74/1 -> 1.6536 | J74: =1/INR!B74 -> 0.020647293 | K74: =1/INR!C74 -> 0.020603688 | L74: =1/JPY!B74 -> 0.010858942 | M74: =1/JPY!C74 -> 0.010860652 | N74: =1/KRW!B74 -> 0.00081492951 | O74: =1/KRW!C74 -> 0.00081490653 | P74: =1/NOK!B74 -> 0.16943983 | Q74: =1/NOK!C74 -> 0.16927634 | R74: =NZD!B74/1 -> 0.6961 | S74: =NZD!C74/1 -> 0.6947 | T74: =1/PHP!B74 -> 0.020699648 | U74: =1/PHP!C74 -> 0.02062919 | V74: =1/TWD!B74 -> 0.030606311 | W74: =1/TWD!C74 -> 0.030606405 | X74: =1/TWD!B74 -> 0.030606311 | Y74: =1/TWD!C74 -> 0.030606405 | Z74: =1/ZAR!B74 -> 0.13222616 | AA74: =1/ZAR!C74 -> 0.13144232
A75: ="11/09/2009" -> 11/09/2009 | B75: =AUD!B75 -> 0.8638 | C75: =AUD!C75 -> 0.8619 | D75: =1/CAD!B75 -> 0.92893637 | E75: =1/CAD!C75 -> 0.92893637 | F75: =EUR!B75/1 -> 1.46 | G75: =EUR!C75/1 -> 1.4599 | H75: =GBP!B75/1 -> 1.6693 | I75: =GBP!C75/1 -> 1.6691 | J75: =1/INR!B75 -> 0.020644096 | K75: =1/INR!C75 -> 0.020600505 | L75: =1/JPY!B75 -> 0.010938286 | M75: =1/JPY!C75 -> 0.010939926 | N75: =1/KRW!B75 -> 0.00081866558 | O75: =1/KRW!C75 -> 0.00081864292 | P75: =1/NOK!B75 -> 0.1684324 | Q75: =1/NOK!C75 -> 0.16828784 | R75: =NZD!B75/1 -> 0.7036 | S75: =NZD!C75/1 -> 0.7022 | T75: =1/PHP!B75 -> 0.02071251 | U75: =1/PHP!C75 -> 0.020646227 | V75: =1/TWD!B75 -> 0.030644766 | W75: =1/TWD!C75 -> 0.03064486 | X75: =1/TWD!B75 -> 0.030644766 | Y75: =1/TWD!C75 -> 0.03064486 | Z75: =1/ZAR!B75 -> 0.13196442 | AA75: =1/ZAR!C75 -> 0.13113378
A76: ="14/09/2009" -> 14/09/2009 | B76: =AUD!B76 -> 0.857 | C76: =AUD!C76 -> 0.855 | D76: =1/CAD!B76 -> 0.92225399 | E76: =1/CAD!C76 -> 0.92225399 | F76: =EUR!B76/1 -> 1.4545 | G76: =EUR!C76/1 -> 1.4545 | H76: =GBP!B76/1 -> 1.6613 | I76: =GBP!C76/1 -> 1.6611 | J76: =1/INR!B76 -> 0.020538098 | K76: =1/INR!C76 -> 0.020496003 | L76: =1/JPY!B76 -> 0.011049663 | M76: =1/JPY!C76 -> 0.011051385 | N76: =1/KRW!B76 -> 0.00081712698 | O76: =1/KRW!C76 -> 0.00081710448 | P76: =1/NOK!B76 -> 0.16779087 | Q76: =1/NOK!C76 -> 0.16764459 | R76: =NZD!B76/1 -> 0.6983 | S76: =NZD!C76/1 -> 0.6969 | T76: =1/PHP!B76 -> 0.020652623 | U76: =1/PHP!C76 -> 0.020586722 | V76: =1/TWD!B76 -> 0.030635378 | W76: =1/TWD!C76 -> 0.030635378 | X76: =1/TWD!B76 -> 0.030635378 | Y76: =1/TWD!C76 -> 0.030635378 | Z76: =1/ZAR!B76 -> 0.13271929 | AA76: =1/ZAR!C76 -> 0.13190698
A77: ="15/09/2009" -> 15/09/2009 | B77: =AUD!B77 -> 0.8602 | C77: =AUD!C77 -> 0.8581 | D77: =1/CAD!B77 -> 0.92259434 | E77: =1/CAD!C77 -> 0.92259434 | F77: =EUR!B77/1 -> 1.4612 | G77: =EUR!C77/1 -> 1.4612 | H77: =GBP!B77/1 -> 1.6612 | I77: =GBP!C77/1 -> 1.661 | J77: =1/INR!B77 -> 0.020546538 | K77: =1/INR!C77 -> 0.020494953 | L77: =1/JPY!B77 -> 0.01097177 | M77: =1/JPY!C77 -> 0.010973853 | N77: =1/KRW!B77 -> 0.00081866558 | O77: =1/KRW!C77 -> 0.00081863408 | P77: =1/NOK!B77 -> 0.16905028 | Q77: =1/NOK!C77 -> 0.16890465 | R77: =NZD!B77/1 -> 0.7012 | S77: =NZD!C77/1 -> 0.6996 | T77: =1/PHP!B77 -> 0.020673971 | U77: =1/PHP!C77 -> 0.020608359 | V77: =1/TWD!B77 -> 0.030636316 | W77: =1/TWD!C77 -> 0.03063641 | X77: =1/TWD!B77 -> 0.030636316 | Y77: =1/TWD!C77 -> 0.03063641 | Z77: =1/ZAR!B77 -> 0.13363981 | AA77: =1/ZAR!C77 -> 0.13286741
A78: ="16/09/2009" -> 16/09/2009 | B78: =AUD!B78 -> 0.8657 | C78: =AUD!C78 -> 0.8636 | D78: =1/CAD!B78 -> 0.93248788 | E78: =1/CAD!C78 -> 0.93248788 | F78: =EUR!B78/1 -> 1.4675 | G78: =EUR!C78/1 -> 1.4675 | H78: =GBP!B78/1 -> 1.6466 | I78: =GBP!C78/1 -> 1.6465 | J78: =1/INR!B78 -> 0.020631318 | K78: =1/INR!C78 -> 0.020582484 | L78: =1/JPY!B78 -> 0.010987683 | M78: =1/JPY!C78 -> 0.010989385 | N78: =1/KRW!B78 -> 0.00082508251 | O78: =1/KRW!C78 -> 0.00082505882 | P78: =1/NOK!B78 -> 0.17030553 | Q78: =1/NOK!C78 -> 0.17014616 | R78: =NZD!B78/1 -> 0.7054 | S78: =NZD!C78/1 -> 0.7039 | T78: =1/PHP!B78 -> 0.020777062 | U78: =1/PHP!C78 -> 0.020706935 | V78: =1/TWD!B78 -> 0.030707815 | W78: =1/TWD!C78 -> 0.030707909 | X78: =1/TWD!B78 -> 0.030707815 | Y78: =1/TWD!C78 -> 0.030707909 | Z78: =1/ZAR!B78 -> 0.13482904 | AA78: =1/ZAR!C78 -> 0.13399617
A79: ="17/09/2009" -> 17/09/2009 | B79: =AUD!B79 -> 0.8753 | C79: =AUD!C79 -> 0.8732 | D79: =1/CAD!B79 -> 0.93782238 | E79: =1/CAD!C79 -> 0.93782238 | F79: =EUR!B79/1 -> 1.473 | G79: =EUR!C79/1 -> 1.473 | H79: =GBP!B79/1 -> 1.6491 | I79: =GBP!C79/1 -> 1.649 | J79: =1/INR!B79 -> 0.020833333 | K79: =1/INR!C79 -> 0.020779221 | L79: =1/JPY!B79 -> 0.01098358 | M79: =1/JPY!C79 -> 0.010985715 | N79: =1/KRW!B79 -> 0.00082891247 | O79: =1/KRW!C79 -> 0.00082888698 | P79: =1/NOK!B79 -> 0.17095478 | Q79: =1/NOK!C79 -> 0.17080294 | R79: =NZD!B79/1 -> 0.7145 | S79: =NZD!C79/1 -> 0.713 | T79: =1/PHP!B79 -> 0.02093145 | U79: =1/PHP!C79 -> 0.02086376 | V79: =1/TWD!B79 -> 0.030895665 | W79: =1/TWD!C79 -> 0.030895761 | X79: =1/TWD!B79 -> 0.030895665 | Y79: =1/TWD!C79 -> 0.030895761 | Z79: =1/ZAR!B79 -> 0.13596193 | AA79: =1/ZAR!C79 -> 0.13521188
A80: ="18/09/2009" -> 18/09/2009 | B80: =AUD!B80 -> 0.87 | C80: =AUD!C80 -> 0.868 | D80: =1/CAD!B80 -> 0.93580386 | E80: =1/CAD!C80 -> 0.93580386 | F80: =EUR!B80/1 -> 1.4714 | G80: =EUR!C80/1 -> 1.4714 | H80: =GBP!B80/1 -> 1.6386 | I80: =GBP!C80/1 -> 1.6384 | J80: =1/INR!B80 -> 0.020751193 | K80: =1/INR!C80 -> 0.020700719 | L80: =1/JPY!B80 -> 0.010960826 | M80: =1/JPY!C80 -> 0.010962929 | N80: =1/KRW!B80 -> 0.00082836315 | O80: =1/KRW!C80 -> 0.00082834202 | P80: =1/NOK!B80 -> 0.17032003 | Q80: =1/NOK!C80 -> 0.17017511 | R80: =NZD!B80/1 -> 0.7097 | S80: =NZD!C80/1 -> 0.7083 | T80: =1/PHP!B80 -> 0.020990764 | U80: =1/PHP!C80 -> 0.020923566 | V80: =1/TWD!B80 -> 0.030827091 | W80: =1/TWD!C80 -> 0.030827186 | X80: =1/TWD!B80 -> 0.030827091 | Y80: =1/TWD!C80 -> 0.030827186 | Z80: =1/ZAR!B80 -> 0.13460218 | AA80: =1/ZAR!C80 -> 0.1338276
A81: ="22/09/2009" -> 22/09/2009 | B81: =AUD!B81 -> 0.8692 | C81: =AUD!C81 -> 0.8671 | D81: =1/CAD!B81 -> 0.93014603 | E81: =1/CAD!C81 -> 0.93023256 | F81: =EUR!B81/1 -> 1.4718 | G81: =EUR!C81/1 -> 1.4718 | H81: =GBP!B81/1 -> 1.6241 | I81: =GBP!C81/1 -> 1.624 | J81: =1/INR!B81 -> 0.020759809 | K81: =1/INR!C81 -> 0.020683593 | L81: =1/JPY!B81 -> 0.010906017 | M81: =1/JPY!C81 -> 0.010908278 | N81: =1/KRW!B81 -> 0.00083077179 | O81: =1/KRW!C81 -> 0.00083075088 | P81: =1/NOK!B81 -> 0.1695375 | Q81: =1/NOK!C81 -> 0.16938817 | R81: =NZD!B81/1 -> 0.7172 | S81: =NZD!C81/1 -> 0.7157 | T81: =1/PHP!B81 -> 0.020998478 | U81: =1/PHP!C81 -> 0.020930792 | V81: =1/TWD!B81 -> 0.030890893 | W81: =1/TWD!C81 -> 0.030890989 | X81: =1/TWD!B81 -> 0.030890893 | Y81: =1/TWD!C81 -> 0.030890989 | Z81: =1/ZAR!B81 -> 0.13381865 | AA81: =1/ZAR!C81 -> 0.13307782
A82: ="23/09/2009" -> 23/09/2009 | B82: =AUD!B82 -> 0.8762 | C82: =AUD!C82 -> 0.8741 | D82: =1/CAD!B82 -> 0.93676815 | E82: =1/CAD!C82 -> 0.93676815 | F82: =EUR!B82/1 -> 1.4816 | G82: =EUR!C82/1 -> 1.4816 | H82: =GBP!B82/1 -> 1.6393 | I82: =GBP!C82/1 -> 1.6392 | J82: =1/INR!B82 -> 0.020872469 | K82: =1/INR!C82 -> 0.020819237 | L82: =1/JPY!B82 -> 0.011022928 | M82: =1/JPY!C82 -> 0.011025164 | N82: =1/KRW!B82 -> 0.0008364701 | O82: =1/KRW!C82 -> 0.00083644344 | P82: =1/NOK!B82 -> 0.17143837 | Q82: =1/NOK!C82 -> 0.17128567 | R82: =NZD!B82/1 -> 0.7263 | S82: =NZD!C82/1 -> 0.7248 | T82: =1/PHP!B82 -> 0.021121555 | U82: =1/PHP!C82 -> 0.0210482 | V82: =1/TWD!B82 -> 0.03091668 | W82: =1/TWD!C82 -> 0.030916775 | X82: =1/TWD!B82 -> 0.03091668 | Y82: =1/TWD!C82 -> 0.030916775 | Z82: =1/ZAR!B82 -> 0.13534913 | AA82: =1/ZAR!C82 -> 0.13456596
A83: ="24/09/2009" -> 24/09/2009 | B83: =AUD!B83 -> 0.871 | C83: =AUD!C83 -> 0.869 | D83: =1/CAD!B83 -> 0.93005952 | E83: =1/CAD!C83 -> 0.93014603 | F83: =EUR!B83/1 -> 1.4722 | G83: =EUR!C83/1 -> 1.4722 | H83: =GBP!B83/1 -> 1.6342 | I83: =GBP!C83/1 -> 1.634 | J83: =1/INR!B83 -> 0.020751193 | K83: =1/INR!C83 -> 0.020694294 | L83: =1/JPY!B83 -> 0.010986596 | M83: =1/JPY!C83 -> 0.010988673 | N83: =1/KRW!B83 -> 0.00083493362 | O83: =1/KRW!C83 -> 0.00083490797 | P83: =1/NOK!B83 -> 0.17233951 | Q83: =1/NOK!C83 -> 0.17218817 | R83: =NZD!B83/1 -> 0.7207 | S83: =NZD!C83/1 -> 0.7193 | T83: =1/PHP!B83 -> 0.021034918 | U83: =1/PHP!C83 -> 0.020964361 | V83: =1/TWD!B83 -> 0.030840401 | W83: =1/TWD!C83 -> 0.030840496 | X83: =1/TWD!B83 -> 0.030840401 | Y83: =1/TWD!C83 -> 0.030840496 | Z83: =1/ZAR!B83 -> 0.13388315 | AA83: =1/ZAR!C83 -> 0.13305481
A84: ="25/09/2009" -> 25/09/2009 | B84: =AUD!B84 -> 0.8637 | C84: =AUD!C84 -> 0.8617 | D84: =1/CAD!B84 -> 0.91692646 | E84: =1/CAD!C84 -> 0.91692646 | F84: =EUR!B84/1 -> 1.4649 | G84: =EUR!C84/1 -> 1.4648 | H84: =GBP!B84/1 -> 1.5945 | I84: =GBP!C84/1 -> 1.5943 | J84: =1/INR!B84 -> 0.020730759 | K84: =1/INR!C84 -> 0.02067504 | L84: =1/JPY!B84 -> 0.011019162 | M84: =1/JPY!C84 -> 0.011021275 | N84: =1/KRW!B84 -> 0.00083626024 | O84: =1/KRW!C84 -> 0.00083623975 | P84: =1/NOK!B84 -> 0.17125047 | Q84: =1/NOK!C84 -> 0.17109811 | R84: =NZD!B84/1 -> 0.7145 | S84: =NZD!C84/1 -> 0.713 | T84: =1/PHP!B84 -> 0.021110407 | U84: =1/PHP!C84 -> 0.021039344 | V84: =1/TWD!B84 -> 0.03081854 | W84: =1/TWD!C84 -> 0.030818635 | X84: =1/TWD!B84 -> 0.03081854 | Y84: =1/TWD!C84 -> 0.030818635 | Z84: =1/ZAR!B84 -> 0.13342406 | AA84: =1/ZAR!C84 -> 0.13262951
A85: ="29/09/2009" -> 29/09/2009 | B85: =AUD!B85 -> 0.8754 | C85: =AUD!C85 -> 0.8732 | D85: =1/CAD!B85 -> 0.92182891 | E85: =1/CAD!C85 -> 0.92182891 | F85: =EUR!B85/1 -> 1.4635 | G85: =EUR!C85/1 -> 1.4635 | H85: =GBP!B85/1 -> 1.5938 | I85: =GBP!C85/1 -> 1.5936 | J85: =1/INR!B85 -> 0.020824656 | K85: =1/INR!C85 -> 0.020775983 | L85: =1/JPY!B85 -> 0.011120935 | M85: =1/JPY!C85 -> 0.011123149 | N85: =1/KRW!B85 -> 0.00084231806 | O85: =1/KRW!C85 -> 0.00084228989 | P85: =1/NOK!B85 -> 0.17150305 | Q85: =1/NOK!C85 -> 0.17133556 | R85: =NZD!B85/1 -> 0.7204 | S85: =NZD!C85/1 -> 0.7189 | T85: =1/PHP!B85 -> 0.021026072 | U85: =1/PHP!C85 -> 0.020952501 | V85: =1/TWD!B85 -> 0.030876586 | W85: =1/TWD!C85 -> 0.030876586 | X85: =1/TWD!B85 -> 0.030876586 | Y85: =1/TWD!C85 -> 0.030876586 | Z85: =1/ZAR!B85 -> 0.13439776 | AA85: =1/ZAR!C85 -> 0.13361482
A86: ="01/10/2009" -> 01/10/2009 | B86: =AUD!B86 -> 0.8818 | C86: =AUD!C86 -> 0.8796 | D86: =1/CAD!B86 -> 0.93388121 | E86: =1/CAD!C86 -> 0.93388121 | F86: =EUR!B86/1 -> 1.4625 | G86: =EUR!C86/1 -> 1.4625 | H86: =GBP!B86/1 -> 1.5958 | I86: =GBP!C86/1 -> 1.5956 | J86: =1/INR!B86 -> 0.020881186 | K86: =1/INR!C86 -> 0.020830079 | L86: =1/JPY!B86 -> 0.01111976 | M86: =1/JPY!C86 -> 0.011121825 | N86: =1/KRW!B86 -> 0.00084817642 | O86: =1/KRW!C86 -> 0.00084815088 | P86: =1/NOK!B86 -> 0.17286981 | Q86: =1/NOK!C86 -> 0.17270262 | R86: =NZD!B86/1 -> 0.7219 | S86: =NZD!C86/1 -> 0.7204 | T86: =1/PHP!B86 -> 0.021181953 | U86: =1/PHP!C86 -> 0.021103725 | V86: =1/TWD!B86 -> 0.031124529 | W86: =1/TWD!C86 -> 0.031124626 | X86: =1/TWD!B86 -> 0.031124529 | Y86: =1/TWD!C86 -> 0.031124626 | Z86: =1/ZAR!B86 -> 0.13256094 | AA86: =1/ZAR!C86 -> 0.13177314
A87: ="05/10/2009" -> 05/10/2009 | B87: =AUD!B87 -> 0.8725 | C87: =AUD!C87 -> 0.8702 | D87: =1/CAD!B87 -> 0.93075205 | E87: =1/CAD!C87 -> 0.93075205 | F87: =EUR!B87/1 -> 1.4629 | G87: =EUR!C87/1 -> 1.4628 | H87: =GBP!B87/1 -> 1.5976 | I87: =GBP!C87/1 -> 1.5973 | J87: =1/INR!B87 -> 0.021009507 | K87: =1/INR!C87 -> 0.020956672 | L87: =1/JPY!B87 -> 0.011128422 | M87: =1/JPY!C87 -> 0.011130305 | N87: =1/KRW!B87 -> 0.00085273301 | O87: =1/KRW!C87 -> 0.00085270451 | P87: =1/NOK!B87 -> 0.17315118 | Q87: =1/NOK!C87 -> 0.17296549 | R87: =NZD!B87/1 -> 0.7199 | S87: =NZD!C87/1 -> 0.7183 | T87: =1/PHP!B87 -> 0.021372088 | U87: =1/PHP!C87 -> 0.021296986 | V87: =1/TWD!B87 -> 0.030996218 | W87: =1/TWD!C87 -> 0.030996315 | X87: =1/TWD!B87 -> 0.030996218 | Y87: =1/TWD!C87 -> 0.030996315 | Z87: =1/ZAR!B87 -> 0.1312336 | AA87: =1/ZAR!C87 -> 0.13046485
A88: ="06/10/2009" -> 06/10/2009 | B88: =AUD!B88 -> 0.8835 | C88: =AUD!C88 -> 0.8811 | D88: =1/CAD!B88 -> 0.9354537 | E88: =1/CAD!C88 -> 0.9354537 | F88: =EUR!B88/1 -> 1.4705 | G88: =EUR!C88/1 -> 1.4704 | H88: =GBP!B88/1 -> 1.5965 | I88: =GBP!C88/1 -> 1.5962 | J88: =1/INR!B88 -> 0.02119093 | K88: =1/INR!C88 -> 0.021141649 | L88: =1/JPY!B88 -> 0.011218308 | M88: =1/JPY!C88 -> 0.011220398 | N88: =1/KRW!B88 -> 0.00085477391 | O88: =1/KRW!C88 -> 0.00085474746 | P88: =1/NOK!B88 -> 0.17481601 | Q88: =1/NOK!C88 -> 0.17463283 | R88: =NZD!B88/1 -> 0.7323 | S88: =NZD!C88/1 -> 0.7306 | T88: =1/PHP!B88 -> 0.021496131 | U88: =1/PHP!C88 -> 0.021422451 | V88: =1/TWD!B88 -> 0.031115813 | W88: =1/TWD!C88 -> 0.03111591 | X88: =1/TWD!B88 -> 0.031115813 | Y88: =1/TWD!C88 -> 0.03111591 | Z88: =1/ZAR!B88 -> 0.13342228 | AA88: =1/ZAR!C88 -> 0.13259082
A89: ="07/10/2009" -> 07/10/2009 | B89: =AUD!B89 -> 0.8886 | C89: =AUD!C89 -> 0.8863 | D89: =1/CAD!B89 -> 0.94215187 | E89: =1/CAD!C89 -> 0.94215187 | F89: =EUR!B89/1 -> 1.4697 | G89: =EUR!C89/1 -> 1.4697 | H89: =GBP!B89/1 -> 1.5893 | I89: =GBP!C89/1 -> 1.5891 | J89: =1/INR!B89 -> 0.021319689 | K89: =1/INR!C89 -> 0.021270939 | L89: =1/JPY!B89 -> 0.011245937 | M89: =1/JPY!C89 -> 0.011248138 | N89: =1/KRW!B89 -> 0.00085280573 | O89: =1/KRW!C89 -> 0.00085277962 | P89: =1/NOK!B89 -> 0.17545707 | Q89: =1/NOK!C89 -> 0.17527255 | R89: =NZD!B89/1 -> 0.7338 | S89: =NZD!C89/1 -> 0.7322 | T89: =1/PHP!B89 -> 0.021417862 | U89: =1/PHP!C89 -> 0.021353833 | V89: =1/TWD!B89 -> 0.031072305 | W89: =1/TWD!C89 -> 0.031072402 | X89: =1/TWD!B89 -> 0.031072305 | Y89: =1/TWD!C89 -> 0.031072402 | Z89: =1/ZAR!B89 -> 0.13418316 | AA89: =1/ZAR!C89 -> 0.13338669
A90: ="08/10/2009" -> 08/10/2009 | B90: =AUD!B90 -> 0.9021 | C90: =AUD!C90 -> 0.8997 | D90: =1/CAD!B90 -> 0.94732853 | E90: =1/CAD!C90 -> 0.94732853 | F90: =EUR!B90/1 -> 1.4763 | G90: =EUR!C90/1 -> 1.4762 | H90: =GBP!B90/1 -> 1.5999 | I90: =GBP!C90/1 -> 1.5997 | J90: =1/INR!B90 -> 0.021537799 | K90: =1/INR!C90 -> 0.02147997 | L90: =1/JPY!B90 -> 0.011325028 | M90: =1/JPY!C90 -> 0.011327183 | N90: =1/KRW!B90 -> 0.0008557248 | O90: =1/KRW!C90 -> 0.00085570181 | P90: =1/NOK!B90 -> 0.17696609 | Q90: =1/NOK!C90 -> 0.17678464 | R90: =NZD!B90/1 -> 0.7404 | S90: =NZD!C90/1 -> 0.7388 | T90: =1/PHP!B90 -> 0.021516945 | U90: =1/PHP!C90 -> 0.021448641 | V90: =1/TWD!B90 -> 0.031120655 | W90: =1/TWD!C90 -> 0.031120752 | X90: =1/TWD!B90 -> 0.031120655 | Y90: =1/TWD!C90 -> 0.031120752 | Z90: =1/ZAR!B90 -> 0.13541512 | AA90: =1/ZAR!C90 -> 0.134604
A91: ="09/10/2009" -> 09/10/2009 | B91: =AUD!B91 -> 0.903 | C91: =AUD!C91 -> 0.9006 | D91: =1/CAD!B91 -> 0.94822682 | E91: =1/CAD!C91 -> 0.94822682 | F91: =EUR!B91/1 -> 1.4718 | G91: =EUR!C91/1 -> 1.4717 | H91: =GBP!B91/1 -> 1.601 | I91: =GBP!C91/1 -> 1.6008 | J91: =1/INR!B91 -> 0.021558694 | K91: =1/INR!C91 -> 0.021507689 | L91: =1/JPY!B91 -> 0.011222085 | M91: =1/JPY!C91 -> 0.011224529 | N91: =1/KRW!B91 -> 0.00085616438 | O91: =1/KRW!C91 -> 0.00085613975 | P91: =1/NOK!B91 -> 0.17609354 | Q91: =1/NOK!C91 -> 0.17590768 | R91: =NZD!B91/1 -> 0.739 | S91: =NZD!C91/1 -> 0.7373 | T91: =1/PHP!B91 -> 0.021473051 | U91: =1/PHP!C91 -> 0.021408692 | V91: =1/TWD!B91 -> 0.031026993 | W91: =1/TWD!C91 -> 0.03102709 | X91: =1/TWD!B91 -> 0.031026993 | Y91: =1/TWD!C91 -> 0.03102709 | Z91: =1/ZAR!B91 -> 0.13504571 | AA91: =1/ZAR!C91 -> 0.13424801
A92: ="12/10/2009" -> 12/10/2009 | B92: =AUD!B92 -> 0.9025 | C92: =AUD!C92 -> 0.8999 | D92: =1/CAD!B92 -> 0.95812973 | E92: =1/CAD!C92 -> 0.95812973 | F92: =EUR!B92/1 -> 1.47 | G92: =EUR!C92/1 -> 1.4699 | H92: =GBP!B92/1 -> 1.5827 | I92: =GBP!C92/1 -> 1.5824 | J92: =1/INR!B92 -> 0.021488047 | K92: =1/INR!C92 -> 0.021436227 | L92: =1/JPY!B92 -> 0.011095085 | M92: =1/JPY!C92 -> 0.011097486 | N92: =1/KRW!B92 -> 0.00085524909 | O92: =1/KRW!C92 -> 0.00085522495 | P92: =1/NOK!B92 -> 0.17695357 | Q92: =1/NOK!C92 -> 0.17676277 | R92: =NZD!B92/1 -> 0.7277 | S92: =NZD!C92/1 -> 0.7259 | T92: =1/PHP!B92 -> 0.021489202 | U92: =1/PHP!C92 -> 0.021420156 | V92: =1/TWD!B92 -> 0.030986614 | W92: =1/TWD!C92 -> 0.03098671 | X92: =1/TWD!B92 -> 0.030986614 | Y92: =1/TWD!C92 -> 0.03098671 | Z92: =1/ZAR!B92 -> 0.1345895 | AA92: =1/ZAR!C92 -> 0.13377926
A93: ="14/10/2009" -> 14/10/2009 | B93: =AUD!B93 -> 0.9123 | C93: =AUD!C93 -> 0.9098 | D93: =1/CAD!B93 -> 0.97266803 | E93: =1/CAD!C93 -> 0.97266803 | F93: =EUR!B93/1 -> 1.4884 | G93: =EUR!C93/1 -> 1.4883 | H93: =GBP!B93/1 -> 1.5936 | I93: =GBP!C93/1 -> 1.5933 | J93: =1/INR!B93 -> 0.021648536 | K93: =1/INR!C93 -> 0.021602938 | L93: =1/JPY!B93 -> 0.011211894 | M93: =1/JPY!C93 -> 0.011214132 | N93: =1/KRW!B93 -> 0.00085770649 | O93: =1/KRW!C93 -> 0.00085768531 | P93: =1/NOK!B93 -> 0.1782849 | Q93: =1/NOK!C93 -> 0.17809122 | R93: =NZD!B93/1 -> 0.7391 | S93: =NZD!C93/1 -> 0.7375 | T93: =1/PHP!B93 -> 0.021523892 | U93: =1/PHP!C93 -> 0.021450942 | V93: =1/TWD!B93 -> 0.031009675 | W93: =1/TWD!C93 -> 0.031009771 | X93: =1/TWD!B93 -> 0.031009675 | Y93: =1/TWD!C93 -> 0.031009771 | Z93: =1/ZAR!B93 -> 0.13645357 | AA93: =1/ZAR!C93 -> 0.1356392
A94: ="15/10/2009" -> 15/10/2009 | B94: =AUD!B94 -> 0.9217 | C94: =AUD!C94 -> 0.9192 | D94: =1/CAD!B94 -> 0.97924011 | E94: =1/CAD!C94 -> 0.97924011 | F94: =EUR!B94/1 -> 1.4956 | G94: =EUR!C94/1 -> 1.4955 | H94: =GBP!B94/1 -> 1.6056 | I94: =GBP!C94/1 -> 1.6053 | J94: =1/INR!B94 -> 0.021798365 | K94: =1/INR!C94 -> 0.021747404 | L94: =1/JPY!B94 -> 0.011179305 | M94: =1/JPY!C94 -> 0.011181417 | N94: =1/KRW!B94 -> 0.00086318515 | O94: =1/KRW!C94 -> 0.00086315967 | P94: =1/NOK!B94 -> 0.18106102 | Q94: =1/NOK!C94 -> 0.18085799 | R94: =NZD!B94/1 -> 0.7477 | S94: =NZD!C94/1 -> 0.746 | T94: =1/PHP!B94 -> 0.021619284 | U94: =1/PHP!C94 -> 0.021551724 | V94: =1/TWD!B94 -> 0.031040477 | W94: =1/TWD!C94 -> 0.031040573 | X94: =1/TWD!B94 -> 0.031040477 | Y94: =1/TWD!C94 -> 0.031040573 | Z94: =1/ZAR!B94 -> 0.13783598 | AA94: =1/ZAR!C94 -> 0.1370276
A95: ="16/10/2009" -> 16/10/2009 | B95: =AUD!B95 -> 0.9237 | C95: =AUD!C95 -> 0.921 | D95: =1/CAD!B95 -> 0.96936797 | E95: =1/CAD!C95 -> 0.96936797 | F95: =EUR!B95/1 -> 1.4934 | G95: =EUR!C95/1 -> 1.4933 | H95: =GBP!B95/1 -> 1.6366 | I95: =GBP!C95/1 -> 1.6363 | J95: =1/INR!B95 -> 0.021675518 | K95: =1/INR!C95 -> 0.02162279 | L95: =1/JPY!B95 -> 0.01102147 | M95: =1/JPY!C95 -> 0.011023499 | N95: =1/KRW!B95 -> 0.00086370703 | O95: =1/KRW!C95 -> 0.00086368092 | P95: =1/NOK!B95 -> 0.17979144 | Q95: =1/NOK!C95 -> 0.17958157 | R95: =NZD!B95/1 -> 0.7462 | S95: =NZD!C95/1 -> 0.7445 | T95: =1/PHP!B95 -> 0.021570319 | U95: =1/PHP!C95 -> 0.021499366 | V95: =1/TWD!B95 -> 0.030993336 | W95: =1/TWD!C95 -> 0.030993432 | X95: =1/TWD!B95 -> 0.030993336 | Y95: =1/TWD!C95 -> 0.030993432 | Z95: =1/ZAR!B95 -> 0.13722127 | AA95: =1/ZAR!C95 -> 0.13641076
A96: ="20/10/2009" -> 20/10/2009 | B96: =AUD!B96 -> 0.9287 | C96: =AUD!C96 -> 0.9259 | D96: =1/CAD!B96 -> 0.97219522 | E96: =1/CAD!C96 -> 0.97219522 | F96: =EUR!B96/1 -> 1.4978 | G96: =EUR!C96/1 -> 1.4977 | H96: =GBP!B96/1 -> 1.6398 | I96: =GBP!C96/1 -> 1.6395 | J96: =1/INR!B96 -> 0.021717885 | K96: =1/INR!C96 -> 0.021666125 | L96: =1/JPY!B96 -> 0.0110595 | M96: =1/JPY!C96 -> 0.011061751 | N96: =1/KRW!B96 -> 0.0008566778 | O96: =1/KRW!C96 -> 0.00085665043 | P96: =1/NOK!B96 -> 0.1796816 | Q96: =1/NOK!C96 -> 0.17945267 | R96: =NZD!B96/1 -> 0.7542 | S96: =NZD!C96/1 -> 0.7524 | T96: =1/PHP!B96 -> 0.021496131 | U96: =1/PHP!C96 -> 0.021419239 | V96: =1/TWD!B96 -> 0.030993336 | W96: =1/TWD!C96 -> 0.030993432 | X96: =1/TWD!B96 -> 0.030993336 | Y96: =1/TWD!C96 -> 0.030993432 | Z96: =1/ZAR!B96 -> 0.13635124 | AA96: =1/ZAR!C96 -> 0.13542062
A97: ="21/10/2009" -> 21/10/2009 | B97: =AUD!B97 -> 0.9225 | C97: =AUD!C97 -> 0.9199 | D97: =1/CAD!B97 -> 0.95265314 | E97: =1/CAD!C97 -> 0.95265314 | F97: =EUR!B97/1 -> 1.4921 | G97: =EUR!C97/1 -> 1.492 | H97: =GBP!B97/1 -> 1.638 | I97: =GBP!C97/1 -> 1.6377 | J97: =1/INR!B97 -> 0.021508846 | K97: =1/INR!C97 -> 0.021455774 | L97: =1/JPY!B97 -> 0.01102779 | M97: =1/JPY!C97 -> 0.011029809 | N97: =1/KRW!B97 -> 0.00084745763 | O97: =1/KRW!C97 -> 0.00084742064 | P97: =1/NOK!B97 -> 0.17848219 | Q97: =1/NOK!C97 -> 0.17826901 | R97: =NZD!B97/1 -> 0.7492 | S97: =NZD!C97/1 -> 0.7475 | T97: =1/PHP!B97 -> 0.021281124 | U97: =1/PHP!C97 -> 0.021208908 | V97: =1/TWD!B97 -> 0.03089662 | W97: =1/TWD!C97 -> 0.030896715 | X97: =1/TWD!B97 -> 0.03089662 | Y97: =1/TWD!C97 -> 0.030896715 | Z97: =1/ZAR!B97 -> 0.13494184 | AA97: =1/ZAR!C97 -> 0.13405365
A98: ="22/10/2009" -> 22/10/2009 | B98: =AUD!B98 -> 0.9237 | C98: =AUD!C98 -> 0.921 | D98: =1/CAD!B98 -> 0.95510984 | E98: =1/CAD!C98 -> 0.95510984 | F98: =EUR!B98/1 -> 1.4987 | G98: =EUR!C98/1 -> 1.4985 | H98: =GBP!B98/1 -> 1.6599 | I98: =GBP!C98/1 -> 1.6595 | J98: =1/INR!B98 -> 0.02147997 | K98: =1/INR!C98 -> 0.021427041 | L98: =1/JPY!B98 -> 0.010978153 | M98: =1/JPY!C98 -> 0.010979877 | N98: =1/KRW!B98 -> 0.00084309923 | O98: =1/KRW!C98 -> 0.00084306163 | P98: =1/NOK!B98 -> 0.17953966 | Q98: =1/NOK!C98 -> 0.17932395 | R98: =NZD!B98/1 -> 0.7515 | S98: =NZD!C98/1 -> 0.7498 | T98: =1/PHP!B98 -> 0.021231423 | U98: =1/PHP!C98 -> 0.021162678 | V98: =1/TWD!B98 -> 0.030875633 | W98: =1/TWD!C98 -> 0.030875633 | X98: =1/TWD!B98 -> 0.030875633 | Y98: =1/TWD!C98 -> 0.030875633 | Z98: =1/ZAR!B98 -> 0.13467469 | AA98: =1/ZAR!C98 -> 0.13389211
A99: ="23/10/2009" -> 23/10/2009 | B99: =AUD!B99 -> 0.9286 | C99: =AUD!C99 -> 0.9258 | D99: =1/CAD!B99 -> 0.95492743 | E99: =1/CAD!C99 -> 0.95492743 | F99: =EUR!B99/1 -> 1.5033 | G99: =EUR!C99/1 -> 1.5032 | H99: =GBP!B99/1 -> 1.6644 | I99: =GBP!C99/1 -> 1.6641 | J99: =1/INR!B99 -> 0.021503064 | K99: =1/INR!C99 -> 0.021453473 | L99: =1/JPY!B99 -> 0.010908694 | M99: =1/JPY!C99 -> 0.010910265 | N99: =1/KRW!B99 -> 0.00084466593 | O99: =1/KRW!C99 -> 0.00084463476 | P99: =1/NOK!B99 -> 0.18091034 | Q99: =1/NOK!C99 -> 0.18068806 | R99: =NZD!B99/1 -> 0.757 | S99: =NZD!C99/1 -> 0.7552 | T99: =1/PHP!B99 -> 0.021226916 | U99: =1/PHP!C99 -> 0.0211582 | V99: =1/TWD!B99 -> 0.030855627 | W99: =1/TWD!C99 -> 0.030855722 | X99: =1/TWD!B99 -> 0.030855627 | Y99: =1/TWD!C99 -> 0.030855722 | Z99: =1/ZAR!B99 -> 0.1345895 | AA99: =1/ZAR!C99 -> 0.13377032
A100: ="26/10/2009" -> 26/10/2009 | B100: =AUD!B100 -> 0.9242 | C100: =AUD!C100 -> 0.9214 | D100: =1/CAD!B100 -> 0.95066071 | E100: =1/CAD!C100 -> 0.95066071 | F100: =EUR!B100/1 -> 1.5036 | G100: =EUR!C100/1 -> 1.5035 | H100: =GBP!B100/1 -> 1.6277 | I100: =GBP!C100/1 -> 1.6274 | J100: =1/INR!B100 -> 0.021505376 | K100: =1/INR!C100 -> 0.021452322 | L100: =1/JPY!B100 -> 0.010898826 | M100: =1/JPY!C100 -> 0.010900644 | N100: =1/KRW!B100 -> 0.00084860828 | O100: =1/KRW!C100 -> 0.00084857062 | P100: =1/NOK!B100 -> 0.18023214 | Q100: =1/NOK!C100 -> 0.18000828 | R100: =NZD!B100/1 -> 0.7538 | S100: =NZD!C100/1 -> 0.752 | T100: =1/PHP!B100 -> 0.021285653 | U100: =1/PHP!C100 -> 0.021217908 | V100: =1/TWD!B100 -> 0.030882308 | W100: =1/TWD!C100 -> 0.030882403 | X100: =1/TWD!B100 -> 0.030882308 | Y100: =1/TWD!C100 -> 0.030882403 | Z100: =1/ZAR!B100 -> 0.13345789 | AA100: =1/ZAR!C100 -> 0.1325961
...

Sheet AUD
A1: Date | B1: SAUD | C1: FAUD
A2: 39962 | B2: 0.787 | C2: 0.7861
A3: 39965 | B3: 0.806 | C3: 0.8042
A4: 39966 | B4: 0.8112 | C4: 0.8094
A5: 39967 | B5: 0.823 | C5: 0.8211
A6: 39968 | B6: 0.8017 | C6: 0.7998
A7: 39969 | B7: 0.8038 | C7: 0.802
A8: 39972 | B8: 0.7851 | C8: 0.7833
A9: 39973 | B9: 0.7878 | C9: 0.786
A10: 39974 | B10: 0.8043 | C10: 0.8024
A11: 39975 | B11: 0.8094 | C11: 0.8075
A12: 39976 | B12: 0.8134 | C12: 0.8115
A13: 39979 | B13: 0.8071 | C13: 0.8053
... A2612: 43921 | B2612: 0.6122 | C2612: 0.6123

Sheet CAD
A1: Date | B1: SCAD | C1: FCAD
A2: ="29/05/2009" -> 29/05/2009 | B2: ="1.1127" -> 1.1127 | C2: ="1.1125" -> 1.1125
A3: ="01/06/2009" -> 01/06/2009 | B3: ="1.0873" -> 1.0873 | C3: ="1.0871" -> 1.0871
A4: ="02/06/2009" -> 02/06/2009 | B4: ="1.0912" -> 1.0912 | C4: ="1.091" -> 1.091
A5: ="03/06/2009" -> 03/06/2009 | B5: ="1.0834" -> 1.0834 | C5: ="1.0832" -> 1.0832
A6: ="04/06/2009" -> 04/06/2009 | B6: ="1.1111" -> 1.1111 | C6: ="1.1109" -> 1.1109
A7: ="05/06/2009" -> 05/06/2009 | B7: ="1.0984" -> 1.0984 | C7: ="1.0982" -> 1.0982
A8: ="08/06/2009" -> 08/06/2009 | B8: ="1.1254" -> 1.1254 | C8: ="1.1252" -> 1.1252
A9: ="09/06/2009" -> 09/06/2009 | B9: ="1.1195" -> 1.1195 | C9: ="1.1192" -> 1.1192
A10: ="10/06/2009" -> 10/06/2009 | B10: ="1.1032" -> 1.1032 | C10: ="1.103" -> 1.103
A11: ="11/06/2009" -> 11/06/2009 | B11: ="1.1052" -> 1.1052 | C11: ="1.105" -> 1.105
A12: ="12/06/2009" -> 12/06/2009 | B12: ="1.1083" -> 1.1083 | C12: ="1.1081" -> 1.1081
A13: ="15/06/2009" -> 15/06/2009 | B13: ="1.1235" -> 1.1235 | C13: ="1.1233" -> 1.1233
A14: ="16/06/2009" -> 16/06/2009 | B14: ="1.1355" -> 1.1355 | C14: ="1.1354" -> 1.1354
A15: ="17/06/2009" -> 17/06/2009 | B15: ="1.1338" -> 1.1338 | C15: ="1.1336" -> 1.1336
A16: ="18/06/2009" -> 18/06/2009 | B16: ="1.1322" -> 1.1322 | C16: ="1.1321" -> 1.1321
A17: ="19/06/2009" -> 19/06/2009 | B17: ="1.1312" -> 1.1312 | C17: ="1.131" -> 1.131
A18: ="22/06/2009" -> 22/06/2009 | B18: ="1.1376" -> 1.1376 | C18: ="1.1374" -> 1.1374
A19: ="23/06/2009" -> 23/06/2009 | B19: ="1.1544" -> 1.1544 | C19: ="1.1542" -> 1.1542
A20: ="24/06/2009" -> 24/06/2009 | B20: ="1.1477" -> 1.1477 | C20: ="1.1475" -> 1.1475
A21: ="25/06/2009" -> 25/06/2009 | B21: ="1.1548" -> 1.1548 | C21: ="1.1546" -> 1.1546
A22: ="26/06/2009" -> 26/06/2009 | B22: ="1.1524" -> 1.1524 | C22: ="1.1522" -> 1.1522
A23: ="29/06/2009" -> 29/06/2009 | B23: ="1.1556" -> 1.1556 | C23: ="1.1554" -> 1.1554
A24: ="30/06/2009" -> 30/06/2009 | B24: ="1.1559" -> 1.1559 | C24: ="1.1557" -> 1.1557
A25: ="01/07/2009" -> 01/07/2009 | B25: ="1.1616" -> 1.1616 | C25: ="1.1614" -> 1.1614
A26: ="03/07/2009" -> 03/07/2009 | B26: ="1.1608" -> 1.1608 | C26: ="1.1606" -> 1.1606
A27: ="06/07/2009" -> 06/07/2009 | B27: ="1.1633" -> 1.1633 | C27: ="1.1631" -> 1.1631
A28: ="07/07/2009" -> 07/07/2009 | B28: ="1.1611" -> 1.1611 | C28: ="1.1608" -> 1.1608
A29: ="08/07/2009" -> 08/07/2009 | B29: ="1.1639" -> 1.1639 | C29: ="1.1637" -> 1.1637
A30: ="09/07/2009" -> 09/07/2009 | B30: ="1.1634" -> 1.1634 | C30: ="1.1632" -> 1.1632
A31: ="10/07/2009" -> 10/07/2009 | B31: ="1.1616" -> 1.1616 | C31: ="1.1614" -> 1.1614
A32: ="13/07/2009" -> 13/07/2009 | B32: ="1.164" -> 1.164 | C32: ="1.1638" -> 1.1638
A33: ="14/07/2009" -> 14/07/2009 | B33: ="1.1515" -> 1.1515 | C33: ="1.1514" -> 1.1514
A34: ="15/07/2009" -> 15/07/2009 | B34: ="1.1342" -> 1.1342 | C34: ="1.1341" -> 1.1341
A35: ="16/07/2009" -> 16/07/2009 | B35: ="1.1202" -> 1.1202 | C35: ="1.1201" -> 1.1201
A36: ="17/07/2009" -> 17/07/2009 | B36: ="1.1181" -> 1.1181 | C36: ="1.118" -> 1.118
A37: ="20/07/2009" -> 20/07/2009 | B37: ="1.1079" -> 1.1079 | C37: ="1.1078" -> 1.1078
A38: ="21/07/2009" -> 21/07/2009 | B38: ="1.1085" -> 1.1085 | C38: ="1.1084" -> 1.1084
A39: ="22/07/2009" -> 22/07/2009 | B39: ="1.1062" -> 1.1062 | C39: ="1.1061" -> 1.1061
A40: ="23/07/2009" -> 23/07/2009 | B40: ="1.0995" -> 1.0995 | C40: ="1.0994" -> 1.0994
A41: ="24/07/2009" -> 24/07/2009 | B41: ="1.0917" -> 1.0917 | C41: ="1.0916" -> 1.0916
A42: ="27/07/2009" -> 27/07/2009 | B42: ="1.0844" -> 1.0844 | C42: ="1.0843" -> 1.0843
A43: ="28/07/2009" -> 28/07/2009 | B43: ="1.0812" -> 1.0812 | C43: ="1.0811" -> 1.0811
A44: ="29/07/2009" -> 29/07/2009 | B44: ="1.0821" -> 1.0821 | C44: ="1.082" -> 1.082
A45: ="30/07/2009" -> 30/07/2009 | B45: ="1.0908" -> 1.0908 | C45: ="1.0907" -> 1.0907
A46: ="31/07/2009" -> 31/07/2009 | B46: ="1.081" -> 1.081 | C46: ="1.0809" -> 1.0809
A47: ="03/08/2009" -> 03/08/2009 | B47: ="1.0781" -> 1.0781 | C47: ="1.078" -> 1.078
A48: ="04/08/2009" -> 04/08/2009 | B48: ="1.0663" -> 1.0663 | C48: ="1.0662" -> 1.0662
A49: ="05/08/2009" -> 05/08/2009 | B49: ="1.0728" -> 1.0728 | C49: ="1.0726" -> 1.0726
A50: ="06/08/2009" -> 06/08/2009 | B50: ="1.072" -> 1.072 | C50: ="1.0719" -> 1.0719
A51: ="07/08/2009" -> 07/08/2009 | B51: ="1.0774" -> 1.0774 | C51: ="1.0773" -> 1.0773
A52: ="10/08/2009" -> 10/08/2009 | B52: ="1.0826" -> 1.0826 | C52: ="1.0825" -> 1.0825
A53: ="11/08/2009" -> 11/08/2009 | B53: ="1.0896" -> 1.0896 | C53: ="1.0895" -> 1.0895
A54: ="12/08/2009" -> 12/08/2009 | B54: ="1.1023" -> 1.1023 | C54: ="1.1023" -> 1.1023
A55: ="13/08/2009" -> 13/08/2009 | B55: ="1.0903" -> 1.0903 | C55: ="1.0903" -> 1.0903
A56: ="14/08/2009" -> 14/08/2009 | B56: ="1.0876" -> 1.0876 | C56: ="1.0876" -> 1.0876
A57: ="17/08/2009" -> 17/08/2009 | B57: ="1.1045" -> 1.1045 | C57: ="1.1045" -> 1.1045
A58: ="18/08/2009" -> 18/08/2009 | B58: ="1.1065" -> 1.1065 | C58: ="1.1065" -> 1.1065
A59: ="20/08/2009" -> 20/08/2009 | B59: ="1.0967" -> 1.0967 | C59: ="1.0966" -> 1.0966
A60: ="21/08/2009" -> 21/08/2009 | B60: ="1.0913" -> 1.0913 | C60: ="1.0913" -> 1.0913
A61: ="24/08/2009" -> 24/08/2009 | B61: ="1.0791" -> 1.0791 | C61: ="1.0791" -> 1.0791
A62: ="25/08/2009" -> 25/08/2009 | B62: ="1.0771" -> 1.0771 | C62: ="1.0771" -> 1.0771
A63: ="26/08/2009" -> 26/08/2009 | B63: ="1.0866" -> 1.0866 | C63: ="1.0865" -> 1.0865
A64: ="27/08/2009" -> 27/08/2009 | B64: ="1.0979" -> 1.0979 | C64: ="1.0979" -> 1.0979
A65: ="28/08/2009" -> 28/08/2009 | B65: ="1.0888" -> 1.0888 | C65: ="1.0888" -> 1.0888
A66: ="31/08/2009" -> 31/08/2009 | B66: ="1.0959" -> 1.0959 | C66: ="1.0959" -> 1.0959
A67: ="01/09/2009" -> 01/09/2009 | B67: ="1.0936" -> 1.0936 | C67: ="1.0936" -> 1.0936
A68: ="02/09/2009" -> 02/09/2009 | B68: ="1.1021" -> 1.1021 | C68: ="1.102" -> 1.102
A69: ="03/09/2009" -> 03/09/2009 | B69: ="1.1029" -> 1.1029 | C69: ="1.1029" -> 1.1029
A70: ="04/09/2009" -> 04/09/2009 | B70: ="1.1031" -> 1.1031 | C70: ="1.1031" -> 1.1031
A71: ="07/09/2009" -> 07/09/2009 | B71: ="1.0852" -> 1.0852 | C71: ="1.0851" -> 1.0851
A72: ="08/09/2009" -> 08/09/2009 | B72: ="1.0783" -> 1.0783 | C72: ="1.0783" -> 1.0783
A73: ="09/09/2009" -> 09/09/2009 | B73: ="1.0793" -> 1.0793 | C73: ="1.0793" -> 1.0793
A74: ="10/09/2009" -> 10/09/2009 | B74: ="1.0793" -> 1.0793 | C74: ="1.0792" -> 1.0792
A75: ="11/09/2009" -> 11/09/2009 | B75: ="1.0765" -> 1.0765 | C75: ="1.0765" -> 1.0765
A76: ="14/09/2009" -> 14/09/2009 | B76: ="1.0843" -> 1.0843 | C76: ="1.0843" -> 1.0843
A77: ="15/09/2009" -> 15/09/2009 | B77: ="1.0839" -> 1.0839 | C77: ="1.0839" -> 1.0839
A78: ="16/09/2009" -> 16/09/2009 | B78: ="1.0724" -> 1.0724 | C78: ="1.0724" -> 1.0724
A79: ="17/09/2009" -> 17/09/2009 | B79: ="1.0663" -> 1.0663 | C79: ="1.0663" -> 1.0663
A80: ="18/09/2009" -> 18/09/2009 | B80: ="1.0686" -> 1.0686 | C80: ="1.0686" -> 1.0686
A81: ="22/09/2009" -> 22/09/2009 | B81: ="1.0751" -> 1.0751 | C81: ="1.075" -> 1.075
A82: ="23/09/2009" -> 23/09/2009 | B82: ="1.0675" -> 1.0675 | C82: ="1.0675" -> 1.0675
A83: ="24/09/2009" -> 24/09/2009 | B83: ="1.0752" -> 1.0752 | C83: ="1.0751" -> 1.0751
A84: ="25/09/2009" -> 25/09/2009 | B84: ="1.0906" -> 1.0906 | C84: ="1.0906" -> 1.0906
A85: ="29/09/2009" -> 29/09/2009 | B85: ="1.0848" -> 1.0848 | C85: ="1.0848" -> 1.0848
A86: ="01/10/2009" -> 01/10/2009 | B86: ="1.0708" -> 1.0708 | C86: ="1.0708" -> 1.0708
A87: ="05/10/2009" -> 05/10/2009 | B87: ="1.0744" -> 1.0744 | C87: ="1.0744" -> 1.0744
A88: ="06/10/2009" -> 06/10/2009 | B88: ="1.069" -> 1.069 | C88: ="1.069" -> 1.069
A89: ="07/10/2009" -> 07/10/2009 | B89: ="1.0614" -> 1.0614 | C89: ="1.0614" -> 1.0614
A90: ="08/10/2009" -> 08/10/2009 | B90: ="1.0556" -> 1.0556 | C90: ="1.0556" -> 1.0556
A91: ="09/10/2009" -> 09/10/2009 | B91: ="1.0546" -> 1.0546 | C91: ="1.0546" -> 1.0546
A92: ="12/10/2009" -> 12/10/2009 | B92: ="1.0437" -> 1.0437 | C92: ="1.0437" -> 1.0437
A93: ="14/10/2009" -> 14/10/2009 | B93: ="1.0281" -> 1.0281 | C93: ="1.0281" -> 1.0281
A94: ="15/10/2009" -> 15/10/2009 | B94: ="1.0212" -> 1.0212 | C94: ="1.0212" -> 1.0212
A95: ="16/10/2009" -> 16/10/2009 | B95: ="1.0316" -> 1.0316 | C95: ="1.0316" -> 1.0316
A96: ="20/10/2009" -> 20/10/2009 | B96: ="1.0286" -> 1.0286 | C96: ="1.0286" -> 1.0286
A97: ="21/10/2009" -> 21/10/2009 | B97: ="1.0497" -> 1.0497 | C97: ="1.0497" -> 1.0497
A98: ="22/10/2009" -> 22/10/2009 | B98: ="1.047" -> 1.047 | C98: ="1.047" -> 1.047
A99: ="23/10/2009" -> 23/10/2009 | B99: ="1.0472" -> 1.0472 | C99: ="1.0472" -> 1.0472
A100: ="26/10/2009" -> 26/10/2009 | B100: ="1.0519" -> 1.0519 | C100: ="1.0519" -> 1.0519
...

Sheet EUR
A2: ="29/05/2009" -> 29/05/2009 | B2: ="1.3981" -> 1.3981 | C2: ="1.3977" -> 1.3977
A3: ="01/06/2009" -> 01/06/2009 | B3: ="1.4151" -> 1.4151 | C3: ="1.4148" -> 1.4148
A4: ="02/06/2009" -> 02/06/2009 | B4: ="1.4168" -> 1.4168 | C4: ="1.4164" -> 1.4164
A5: ="03/06/2009" -> 03/06/2009 | B5: ="1.4292" -> 1.4292 | C5: ="1.4288" -> 1.4288
A6: ="04/06/2009" -> 04/06/2009 | B6: ="1.418" -> 1.418 | C6: ="1.4176" -> 1.4176
A7: ="05/06/2009" -> 05/06/2009 | B7: ="1.4202" -> 1.4202 | C7: ="1.4198" -> 1.4198
A8: ="08/06/2009" -> 08/06/2009 | B8: ="1.3868" -> 1.3868 | C8: ="1.3864" -> 1.3864
A9: ="09/06/2009" -> 09/06/2009 | B9: ="1.386" -> 1.386 | C9: ="1.3855" -> 1.3855
A10: ="10/06/2009" -> 10/06/2009 | B10: ="1.4074" -> 1.4074 | C10: ="1.4069" -> 1.4069
A11: ="11/06/2009" -> 11/06/2009 | B11: ="1.4029" -> 1.4029 | C11: ="1.4025" -> 1.4025
A12: ="12/06/2009" -> 12/06/2009 | B12: ="1.4095" -> 1.4095 | C12: ="1.4091" -> 1.4091
A13: ="15/06/2009" -> 15/06/2009 | B13: ="1.395" -> 1.395 | C13: ="1.3946" -> 1.3946
A14: ="16/06/2009" -> 16/06/2009 | B14: ="1.3796" -> 1.3796 | C14: ="1.3792" -> 1.3792
A15: ="17/06/2009" -> 17/06/2009 | B15: ="1.385" -> 1.385 | C15: ="1.3846" -> 1.3846
A16: ="18/06/2009" -> 18/06/2009 | B16: ="1.395" -> 1.395 | C16: ="1.3947" -> 1.3947
A17: ="19/06/2009" -> 19/06/2009 | B17: ="1.3923" -> 1.3923 | C17: ="1.392" -> 1.392
A18: ="22/06/2009" -> 22/06/2009 | B18: ="1.3912" -> 1.3912 | C18: ="1.3909" -> 1.3909
A19: ="23/06/2009" -> 23/06/2009 | B19: ="1.3855" -> 1.3855 | C19: ="1.3852" -> 1.3852
A20: ="24/06/2009" -> 24/06/2009 | B20: ="1.4087" -> 1.4087 | C20: ="1.4085" -> 1.4085
A21: ="25/06/2009" -> 25/06/2009 | B21: ="1.3957" -> 1.3957 | C21: ="1.3956" -> 1.3956
A22: ="26/06/2009" -> 26/06/2009 | B22: ="1.4041" -> 1.4041 | C22: ="1.4041" -> 1.4041
A23: ="29/06/2009" -> 29/06/2009 | B23: ="1.4027" -> 1.4027 | C23: ="1.4027" -> 1.4027
A24: ="30/06/2009" -> 30/06/2009 | B24: ="1.4107" -> 1.4107 | C24: ="1.4106" -> 1.4106
A25: ="01/07/2009" -> 01/07/2009 | B25: ="1.404" -> 1.404 | C25: ="1.404" -> 1.404
A26: ="03/07/2009" -> 03/07/2009 | B26: ="1.3984" -> 1.3984 | C26: ="1.3985" -> 1.3985
A27: ="06/07/2009" -> 06/07/2009 | B27: ="1.3962" -> 1.3962 | C27: ="1.3962" -> 1.3962
A28: ="07/07/2009" -> 07/07/2009 | B28: ="1.3964" -> 1.3964 | C28: ="1.3964" -> 1.3964
A29: ="08/07/2009" -> 08/07/2009 | B29: ="1.3902" -> 1.3902 | C29: ="1.3903" -> 1.3903
A30: ="09/07/2009" -> 09/07/2009 | B30: ="1.3893" -> 1.3893 | C30: ="1.3894" -> 1.3894
A31: ="10/07/2009" -> 10/07/2009 | B31: ="1.3969" -> 1.3969 | C31: ="1.397" -> 1.397
A32: ="13/07/2009" -> 13/07/2009 | B32: ="1.3932" -> 1.3932 | C32: ="1.3933" -> 1.3933
A33: ="14/07/2009" -> 14/07/2009 | B33: ="1.3983" -> 1.3983 | C33: ="1.3983" -> 1.3983
A34: ="15/07/2009" -> 15/07/2009 | B34: ="1.3986" -> 1.3986 | C34: ="1.3987" -> 1.3987
A35: ="16/07/2009" -> 16/07/2009 | B35: ="1.4069" -> 1.4069 | C35: ="1.407" -> 1.407
A36: ="17/07/2009" -> 17/07/2009 | B36: ="1.4122" -> 1.4122 | C36: ="1.4123" -> 1.4123
A37: ="20/07/2009" -> 20/07/2009 | B37: ="1.4159" -> 1.4159 | C37: ="1.416" -> 1.416
A38: ="21/07/2009" -> 21/07/2009 | B38: ="1.4213" -> 1.4213 | C38: ="1.4214" -> 1.4214
A39: ="22/07/2009" -> 22/07/2009 | B39: ="1.4194" -> 1.4194 | C39: ="1.4194" -> 1.4194
A40: ="23/07/2009" -> 23/07/2009 | B40: ="1.4231" -> 1.4231 | C40: ="1.4231" -> 1.4231
A41: ="24/07/2009" -> 24/07/2009 | B41: ="1.416" -> 1.416 | C41: ="1.416" -> 1.416
A42: ="27/07/2009" -> 27/07/2009 | B42: ="1.4225" -> 1.4225 | C42: ="1.4225" -> 1.4225
A43: ="28/07/2009" -> 28/07/2009 | B43: ="1.4243" -> 1.4243 | C43: ="1.4243" -> 1.4243
A44: ="29/07/2009" -> 29/07/2009 | B44: ="1.418" -> 1.418 | C44: ="1.418" -> 1.418
A45: ="30/07/2009" -> 30/07/2009 | B45: ="1.4049" -> 1.4049 | C45: ="1.4049" -> 1.4049
A46: ="31/07/2009" -> 31/07/2009 | B46: ="1.4125" -> 1.4125 | C46: ="1.4125" -> 1.4125
A47: ="03/08/2009" -> 03/08/2009 | B47: ="1.4241" -> 1.4241 | C47: ="1.4242" -> 1.4242
A48: ="04/08/2009" -> 04/08/2009 | B48: ="1.4403" -> 1.4403 | C48: ="1.4403" -> 1.4403
A49: ="05/08/2009" -> 05/08/2009 | B49: ="1.4414" -> 1.4414 | C49: ="1.4414" -> 1.4414
A50: ="06/08/2009" -> 06/08/2009 | B50: ="1.439" -> 1.439 | C50: ="1.439" -> 1.439
A51: ="07/08/2009" -> 07/08/2009 | B51: ="1.4357" -> 1.4357 | C51: ="1.4357" -> 1.4357
A52: ="10/08/2009" -> 10/08/2009 | B52: ="1.4195" -> 1.4195 | C52: ="1.4195" -> 1.4195
A53: ="11/08/2009" -> 11/08/2009 | B53: ="1.4145" -> 1.4145 | C53: ="1.4145" -> 1.4145
A54: ="12/08/2009" -> 12/08/2009 | B54: ="1.4142" -> 1.4142 | C54: ="1.4142" -> 1.4142
A55: ="13/08/2009" -> 13/08/2009 | B55: ="1.4219" -> 1.4219 | C55: ="1.4219" -> 1.4219
A56: ="14/08/2009" -> 14/08/2009 | B56: ="1.4262" -> 1.4262 | C56: ="1.4262" -> 1.4262
A57: ="17/08/2009" -> 17/08/2009 | B57: ="1.4147" -> 1.4147 | C57: ="1.4147" -> 1.4147
A58: ="18/08/2009" -> 18/08/2009 | B58: ="1.4101" -> 1.4101 | C58: ="1.4101" -> 1.4101
A59: ="20/08/2009" -> 20/08/2009 | B59: ="1.4222" -> 1.4222 | C59: ="1.4222" -> 1.4222
A60: ="21/08/2009" -> 21/08/2009 | B60: ="1.4233" -> 1.4233 | C60: ="1.4233" -> 1.4233
A61: ="24/08/2009" -> 24/08/2009 | B61: ="1.434" -> 1.434 | C61: ="1.434" -> 1.434
A62: ="25/08/2009" -> 25/08/2009 | B62: ="1.43" -> 1.43 | C62: ="1.43" -> 1.43
A63: ="26/08/2009" -> 26/08/2009 | B63: ="1.43" -> 1.43 | C63: ="1.43" -> 1.43
A64: ="27/08/2009" -> 27/08/2009 | B64: ="1.4246" -> 1.4246 | C64: ="1.4246" -> 1.4246
A65: ="28/08/2009" -> 28/08/2009 | B65: ="1.4357" -> 1.4357 | C65: ="1.4357" -> 1.4357
A66: ="31/08/2009" -> 31/08/2009 | B66: ="1.4281" -> 1.4281 | C66: ="1.4281" -> 1.4281
A67: ="01/09/2009" -> 01/09/2009 | B67: ="1.4345" -> 1.4345 | C67: ="1.4345" -> 1.4345
A68: ="02/09/2009" -> 02/09/2009 | B68: ="1.4216" -> 1.4216 | C68: ="1.4216" -> 1.4216
A69: ="03/09/2009" -> 03/09/2009 | B69: ="1.4277" -> 1.4277 | C69: ="1.4277" -> 1.4277
A70: ="04/09/2009" -> 04/09/2009 | B70: ="1.4248" -> 1.4248 | C70: ="1.4248" -> 1.4248
A71: ="07/09/2009" -> 07/09/2009 | B71: ="1.433" -> 1.433 | C71: ="1.433" -> 1.433
A72: ="08/09/2009" -> 08/09/2009 | B72: ="1.4341" -> 1.4341 | C72: ="1.4341" -> 1.4341
A73: ="09/09/2009" -> 09/09/2009 | B73: ="1.4489" -> 1.4489 | C73: ="1.4489" -> 1.4489
A74: ="10/09/2009" -> 10/09/2009 | B74: ="1.4565" -> 1.4565 | C74: ="1.4565" -> 1.4565
A75: ="11/09/2009" -> 11/09/2009 | B75: ="1.46" -> 1.46 | C75: ="1.4599" -> 1.4599
A76: ="14/09/2009" -> 14/09/2009 | B76: ="1.4545" -> 1.4545 | C76: ="1.4545" -> 1.4545
A77: ="15/09/2009" -> 15/09/2009 | B77: ="1.4612" -> 1.4612 | C77: ="1.4612" -> 1.4612
A78: ="16/09/2009" -> 16/09/2009 | B78: ="1.4675" -> 1.4675 | C78: ="1.4675" -> 1.4675
A79: ="17/09/2009" -> 17/09/2009 | B79: ="1.473" -> 1.473 | C79: ="1.473" -> 1.473
A80: ="18/09/2009" -> 18/09/2009 | B80: ="1.4714" -> 1.4714 | C80: ="1.4714" -> 1.4714
A81: ="22/09/2009" -> 22/09/2009 | B81: ="1.4718" -> 1.4718 | C81: ="1.4718" -> 1.4718
A82: ="23/09/2009" -> 23/09/2009 | B82: ="1.4816" -> 1.4816 | C82: ="1.4816" -> 1.4816
A83: ="24/09/2009" -> 24/09/2009 | B83: ="1.4722" -> 1.4722 | C83: ="1.4722" -> 1.4722
A84: ="25/09/2009" -> 25/09/2009 | B84: ="1.4649" -> 1.4649 | C84: ="1.4648" -> 1.4648
A85: ="29/09/2009" -> 29/09/2009 | B85: ="1.4635" -> 1.4635 | C85: ="1.4635" -> 1.4635
A86: ="01/10/2009" -> 01/10/2009 | B86: ="1.4625" -> 1.4625 | C86: ="1.4625" -> 1.4625
A87: ="05/10/2009" -> 05/10/2009 | B87: ="1.4629" -> 1.4629 | C87: ="1.4628" -> 1.4628
A88: ="06/10/2009" -> 06/10/2009 | B88: ="1.4705" -> 1.4705 | C88: ="1.4704" -> 1.4704
A89: ="07/10/2009" -> 07/10/2009 | B89: ="1.4697" -> 1.4697 | C89: ="1.4697" -> 1.4697
A90: ="08/10/2009" -> 08/10/2009 | B90: ="1.4763" -> 1.4763 | C90: ="1.4762" -> 1.4762
A91: ="09/10/2009" -> 09/10/2009 | B91: ="1.4718" -> 1.4718 | C91: ="1.4717" -> 1.4717
A92: ="12/10/2009" -> 12/10/2009 | B92: ="1.47" -> 1.47 | C92: ="1.4699" -> 1.4699
A93: ="14/10/2009" -> 14/10/2009 | B93: ="1.4884" -> 1.4884 | C93: ="1.4883" -> 1.4883
A94: ="15/10/2009" -> 15/10/2009 | B94: ="1.4956" -> 1.4956 | C94: ="1.4955" -> 1.4955
A95: ="16/10/2009" -> 16/10/2009 | B95: ="1.4934" -> 1.4934 | C95: ="1.4933" -> 1.4933
A96: ="20/10/2009" -> 20/10/2009 | B96: ="1.4978" -> 1.4978 | C96: ="1.4977" -> 1.4977
A97: ="21/10/2009" -> 21/10/2009 | B97: ="1.4921" -> 1.4921 | C97: ="1.492" -> 1.492
A98: ="22/10/2009" -> 22/10/2009 | B98: ="1.4987" -> 1.4987 | C98: ="1.4985" -> 1.4985
A99: ="23/10/2009" -> 23/10/2009 | B99: ="1.5033" -> 1.5033 | C99: ="1.5032" -> 1.5032
A100: ="26/10/2009" -> 26/10/2009 | B100: ="1.5036" -> 1.5036 | C100: ="1.5035" -> 1.5035
A101: ="27/10/2009" -> 27/10/2009 | B101: ="1.4885" -> 1.4885 | C101: ="1.4884" -> 1.4884
...

Sheet GBP
A2: ="29/05/2009" -> 29/05/2009 | B2: ="1.5958" -> 1.5958 | C2: ="1.5956" -> 1.5956
A3: ="01/06/2009" -> 01/06/2009 | B3: ="1.6218" -> 1.6218 | C3: ="1.6216" -> 1.6216
A4: ="02/06/2009" -> 02/06/2009 | B4: ="1.6441" -> 1.6441 | C4: ="1.6439" -> 1.6439
A5: ="03/06/2009" -> 03/06/2009 | B5: ="1.657" -> 1.657 | C5: ="1.6569" -> 1.6569
A6: ="04/06/2009" -> 04/06/2009 | B6: ="1.6302" -> 1.6302 | C6: ="1.6301" -> 1.6301
A7: ="05/06/2009" -> 05/06/2009 | B7: ="1.6126" -> 1.6126 | C7: ="1.6124" -> 1.6124
A8: ="08/06/2009" -> 08/06/2009 | B8: ="1.5836" -> 1.5836 | C8: ="1.5834" -> 1.5834
A9: ="09/06/2009" -> 09/06/2009 | B9: ="1.5996" -> 1.5996 | C9: ="1.5994" -> 1.5994
A10: ="10/06/2009" -> 10/06/2009 | B10: ="1.6322" -> 1.6322 | C10: ="1.632" -> 1.632
A11: ="11/06/2009" -> 11/06/2009 | B11: ="1.641" -> 1.641 | C11: ="1.6409" -> 1.6409
A12: ="12/06/2009" -> 12/06/2009 | B12: ="1.6547" -> 1.6547 | C12: ="1.6546" -> 1.6546
A13: ="15/06/2009" -> 15/06/2009 | B13: ="1.6374" -> 1.6374 | C13: ="1.6373" -> 1.6373
A14: ="16/06/2009" -> 16/06/2009 | B14: ="1.6245" -> 1.6245 | C14: ="1.6244" -> 1.6244
A15: ="17/06/2009" -> 17/06/2009 | B15: ="1.6385" -> 1.6385 | C15: ="1.6384" -> 1.6384
A16: ="18/06/2009" -> 18/06/2009 | B16: ="1.638" -> 1.638 | C16: ="1.6379" -> 1.6379
A17: ="19/06/2009" -> 19/06/2009 | B17: ="1.6357" -> 1.6357 | C17: ="1.6356" -> 1.6356
A18: ="22/06/2009" -> 22/06/2009 | B18: ="1.6469" -> 1.6469 | C18: ="1.6468" -> 1.6468
A19: ="23/06/2009" -> 23/06/2009 | B19: ="1.6313" -> 1.6313 | C19: ="1.6312" -> 1.6312
A20: ="24/06/2009" -> 24/06/2009 | B20: ="1.6461" -> 1.6461 | C20: ="1.646" -> 1.646
A21: ="25/06/2009" -> 25/06/2009 | B21: ="1.6441" -> 1.6441 | C21: ="1.644" -> 1.644
A22: ="26/06/2009" -> 26/06/2009 | B22: ="1.6427" -> 1.6427 | C22: ="1.6426" -> 1.6426
A23: ="29/06/2009" -> 29/06/2009 | B23: ="1.6473" -> 1.6473 | C23: ="1.6472" -> 1.6472
A24: ="30/06/2009" -> 30/06/2009 | B24: ="1.6625" -> 1.6625 | C24: ="1.6624" -> 1.6624
A25: ="01/07/2009" -> 01/07/2009 | B25: ="1.6456" -> 1.6456 | C25: ="1.6455" -> 1.6455
A26: ="03/07/2009" -> 03/07/2009 | B26: ="1.6371" -> 1.6371 | C26: ="1.637" -> 1.637
A27: ="06/07/2009" -> 06/07/2009 | B27: ="1.6266" -> 1.6266 | C27: ="1.6265" -> 1.6265
A28: ="07/07/2009" -> 07/07/2009 | B28: ="1.6262" -> 1.6262 | C28: ="1.626" -> 1.626
A29: ="08/07/2009" -> 08/07/2009 | B29: ="1.6081" -> 1.6081 | C29: ="1.608" -> 1.608
A30: ="09/07/2009" -> 09/07/2009 | B30: ="1.6077" -> 1.6077 | C30: ="1.6076" -> 1.6076
A31: ="10/07/2009" -> 10/07/2009 | B31: ="1.6293" -> 1.6293 | C31: ="1.6292" -> 1.6292
A32: ="13/07/2009" -> 13/07/2009 | B32: ="1.613" -> 1.613 | C32: ="1.6129" -> 1.6129
A33: ="14/07/2009" -> 14/07/2009 | B33: ="1.6256" -> 1.6256 | C33: ="1.6255" -> 1.6255
A34: ="15/07/2009" -> 15/07/2009 | B34: ="1.6331" -> 1.6331 | C34: ="1.633" -> 1.633
A35: ="16/07/2009" -> 16/07/2009 | B35: ="1.6396" -> 1.6396 | C35: ="1.6395" -> 1.6395
A36: ="17/07/2009" -> 17/07/2009 | B36: ="1.6392" -> 1.6392 | C36: ="1.6391" -> 1.6391
A37: ="20/07/2009" -> 20/07/2009 | B37: ="1.6397" -> 1.6397 | C37: ="1.6396" -> 1.6396
A38: ="21/07/2009" -> 21/07/2009 | B38: ="1.6512" -> 1.6512 | C38: ="1.651" -> 1.651
A39: ="22/07/2009" -> 22/07/2009 | B39: ="1.6402" -> 1.6402 | C39: ="1.6401" -> 1.6401
A40: ="23/07/2009" -> 23/07/2009 | B40: ="1.6478" -> 1.6478 | C40: ="1.6477" -> 1.6477
A41: ="24/07/2009" -> 24/07/2009 | B41: ="1.6488" -> 1.6488 | C41: ="1.6487" -> 1.6487
A42: ="27/07/2009" -> 27/07/2009 | B42: ="1.6445" -> 1.6445 | C42: ="1.6444" -> 1.6444
A43: ="28/07/2009" -> 28/07/2009 | B43: ="1.6485" -> 1.6485 | C43: ="1.6484" -> 1.6484
A44: ="29/07/2009" -> 29/07/2009 | B44: ="1.6443" -> 1.6443 | C44: ="1.6442" -> 1.6442
A45: ="30/07/2009" -> 30/07/2009 | B45: ="1.637" -> 1.637 | C45: ="1.6369" -> 1.6369
A46: ="31/07/2009" -> 31/07/2009 | B46: ="1.6518" -> 1.6518 | C46: ="1.6517" -> 1.6517
A47: ="03/08/2009" -> 03/08/2009 | B47: ="1.6728" -> 1.6728 | C47: ="1.6726" -> 1.6726
A48: ="04/08/2009" -> 04/08/2009 | B48: ="1.6964" -> 1.6964 | C48: ="1.6962" -> 1.6962
A49: ="05/08/2009" -> 05/08/2009 | B49: ="1.6943" -> 1.6943 | C49: ="1.6942" -> 1.6942
A50: ="06/08/2009" -> 06/08/2009 | B50: ="1.6972" -> 1.6972 | C50: ="1.6971" -> 1.6971
A51: ="07/08/2009" -> 07/08/2009 | B51: ="1.6761" -> 1.6761 | C51: ="1.676" -> 1.676
A52: ="10/08/2009" -> 10/08/2009 | B52: ="1.6707" -> 1.6707 | C52: ="1.6706" -> 1.6706
A53: ="11/08/2009" -> 11/08/2009 | B53: ="1.6488" -> 1.6488 | C53: ="1.6487" -> 1.6487
A54: ="12/08/2009" -> 12/08/2009 | B54: ="1.648" -> 1.648 | C54: ="1.6478" -> 1.6478
A55: ="13/08/2009" -> 13/08/2009 | B55: ="1.6491" -> 1.6491 | C55: ="1.6489" -> 1.6489
A56: ="14/08/2009" -> 14/08/2009 | B56: ="1.6564" -> 1.6564 | C56: ="1.6563" -> 1.6563
A57: ="17/08/2009" -> 17/08/2009 | B57: ="1.6448" -> 1.6448 | C57: ="1.6447" -> 1.6447
A58: ="18/08/2009" -> 18/08/2009 | B58: ="1.6343" -> 1.6343 | C58: ="1.6341" -> 1.6341
A59: ="20/08/2009" -> 20/08/2009 | B59: ="1.6515" -> 1.6515 | C59: ="1.6514" -> 1.6514
A60: ="21/08/2009" -> 21/08/2009 | B60: ="1.646" -> 1.646 | C60: ="1.6459" -> 1.6459
A61: ="24/08/2009" -> 24/08/2009 | B61: ="1.6524" -> 1.6524 | C61: ="1.6522" -> 1.6522
A62: ="25/08/2009" -> 25/08/2009 | B62: ="1.6404" -> 1.6404 | C62: ="1.6402" -> 1.6402
A63: ="26/08/2009" -> 26/08/2009 | B63: ="1.6323" -> 1.6323 | C63: ="1.6321" -> 1.6321
A64: ="27/08/2009" -> 27/08/2009 | B64: ="1.6229" -> 1.6229 | C64: ="1.6228" -> 1.6228
A65: ="28/08/2009" -> 28/08/2009 | B65: ="1.6266" -> 1.6266 | C65: ="1.6265" -> 1.6265
A66: ="31/08/2009" -> 31/08/2009 | B66: ="1.6229" -> 1.6229 | C66: ="1.6228" -> 1.6228
A67: ="01/09/2009" -> 01/09/2009 | B67: ="1.6291" -> 1.6291 | C67: ="1.629" -> 1.629
A68: ="02/09/2009" -> 02/09/2009 | B68: ="1.6165" -> 1.6165 | C68: ="1.6164" -> 1.6164
A69: ="03/09/2009" -> 03/09/2009 | B69: ="1.6278" -> 1.6278 | C69: ="1.6277" -> 1.6277
A70: ="04/09/2009" -> 04/09/2009 | B70: ="1.632" -> 1.632 | C70: ="1.6319" -> 1.6319
A71: ="07/09/2009" -> 07/09/2009 | B71: ="1.6385" -> 1.6385 | C71: ="1.6384" -> 1.6384
A72: ="08/09/2009" -> 08/09/2009 | B72: ="1.6345" -> 1.6345 | C72: ="1.6344" -> 1.6344
A73: ="09/09/2009" -> 09/09/2009 | B73: ="1.6521" -> 1.6521 | C73: ="1.652" -> 1.652
A74: ="10/09/2009" -> 10/09/2009 | B74: ="1.6537" -> 1.6537 | C74: ="1.6536" -> 1.6536
A75: ="11/09/2009" -> 11/09/2009 | B75: ="1.6693" -> 1.6693 | C75: ="1.6691" -> 1.6691
A76: ="14/09/2009" -> 14/09/2009 | B76: ="1.6613" -> 1.6613 | C76: ="1.6611" -> 1.6611
A77: ="15/09/2009" -> 15/09/2009 | B77: ="1.6612" -> 1.6612 | C77: ="1.661" -> 1.661
A78: ="16/09/2009" -> 16/09/2009 | B78: ="1.6466" -> 1.6466 | C78: ="1.6465" -> 1.6465
A79: ="17/09/2009" -> 17/09/2009 | B79: ="1.6491" -> 1.6491 | C79: ="1.649" -> 1.649
A80: ="18/09/2009" -> 18/09/2009 | B80: ="1.6386" -> 1.6386 | C80: ="1.6384" -> 1.6384
A81: ="22/09/2009" -> 22/09/2009 | B81: ="1.6241" -> 1.6241 | C81: ="1.624" -> 1.624
A82: ="23/09/2009" -> 23/09/2009 | B82: ="1.6393" -> 1.6393 | C82: ="1.6392" -> 1.6392
A83: ="24/09/2009" -> 24/09/2009 | B83: ="1.6342" -> 1.6342 | C83: ="1.634" -> 1.634
A84: ="25/09/2009" -> 25/09/2009 | B84: ="1.5945" -> 1.5945 | C84: ="1.5943" -> 1.5943
A85: ="29/09/2009" -> 29/09/2009 | B85: ="1.5938" -> 1.5938 | C85: ="1.5936" -> 1.5936
A86: ="01/10/2009" -> 01/10/2009 | B86: ="1.5958" -> 1.5958 | C86: ="1.5956" -> 1.5956
A87: ="05/10/2009" -> 05/10/2009 | B87: ="1.5976" -> 1.5976 | C87: ="1.5973" -> 1.5973
A88: ="06/10/2009" -> 06/10/2009 | B88: ="1.5965" -> 1.5965 | C88: ="1.5962" -> 1.5962
A89: ="07/10/2009" -> 07/10/2009 | B89: ="1.5893" -> 1.5893 | C89: ="1.5891" -> 1.5891
A90: ="08/10/2009" -> 08/10/2009 | B90: ="1.5999" -> 1.5999 | C90: ="1.5997" -> 1.5997
A91: ="09/10/2009" -> 09/10/2009 | B91: ="1.601" -> 1.601 | C91: ="1.6008" -> 1.6008
A92: ="12/10/2009" -> 12/10/2009 | B92: ="1.5827" -> 1.5827 | C92: ="1.5824" -> 1.5824
A93: ="14/10/2009" -> 14/10/2009 | B93: ="1.5936" -> 1.5936 | C93: ="1.5933" -> 1.5933
A94: ="15/10/2009" -> 15/10/2009 | B94: ="1.6056" -> 1.6056 | C94: ="1.6053" -> 1.6053
A95: ="16/10/2009" -> 16/10/2009 | B95: ="1.6366" -> 1.6366 | C95: ="1.6363" -> 1.6363
A96: ="20/10/2009" -> 20/10/2009 | B96: ="1.6398" -> 1.6398 | C96: ="1.6395" -> 1.6395
A97: ="21/10/2009" -> 21/10/2009 | B97: ="1.638" -> 1.638 | C97: ="1.6377" -> 1.6377
A98: ="22/10/2009" -> 22/10/2009 | B98: ="1.6599" -> 1.6599 | C98: ="1.6595" -> 1.6595
A99: ="23/10/2009" -> 23/10/2009 | B99: ="1.6644" -> 1.6644 | C99: ="1.6641" -> 1.6641
A100: ="26/10/2009" -> 26/10/2009 | B100: ="1.6277" -> 1.6277 | C100: ="1.6274" -> 1.6274
A101: ="27/10/2009" -> 27/10/2009 | B101: ="1.6321" -> 1.6321 | C101: ="1.6318" -> 1.6318
...

Sheet INR
A1: Date | B1: S | C1: F
A2: ="29/05/2009" -> 29/05/2009 | B2: ="47.4875" -> 47.4875 | C2: ="47.6325" -> 47.6325
A3: ="01/06/2009" -> 01/06/2009 | B3: ="47.0225" -> 47.0225 | C3: ="47.185" -> 47.185
A4: ="02/06/2009" -> 02/06/2009 | B4: ="47.10" -> 47.10 | C4: ="47.265" -> 47.265
A5: ="03/06/2009" -> 03/06/2009 | B5: ="46.8525" -> 46.8525 | C5: ="47.01" -> 47.01
A6: ="04/06/2009" -> 04/06/2009 | B6: ="47.225" -> 47.225 | C6: ="47.38" -> 47.38
A7: ="05/06/2009" -> 05/06/2009 | B7: ="47.09" -> 47.09 | C7: ="47.2375" -> 47.2375
A8: ="08/06/2009" -> 08/06/2009 | B8: ="47.63" -> 47.63 | C8: ="47.7725" -> 47.7725
A9: ="09/06/2009" -> 09/06/2009 | B9: ="47.675" -> 47.675 | C9: ="47.8325" -> 47.8325
A10: ="10/06/2009" -> 10/06/2009 | B10: ="47.34" -> 47.34 | C10: ="47.4975" -> 47.4975
A11: ="11/06/2009" -> 11/06/2009 | B11: ="47.365" -> 47.365 | C11: ="47.5225" -> 47.5225
A12: ="12/06/2009" -> 12/06/2009 | B12: ="47.46" -> 47.46 | C12: ="47.61" -> 47.61
A13: ="15/06/2009" -> 15/06/2009 | B13: ="47.80" -> 47.80 | C13: ="47.9475" -> 47.9475
A14: ="16/06/2009" -> 16/06/2009 | B14: ="47.925" -> 47.925 | C14: ="48.0825" -> 48.0825
A15: ="17/06/2009" -> 17/06/2009 | B15: ="47.87" -> 47.87 | C15: ="48.025" -> 48.025
A16: ="18/06/2009" -> 18/06/2009 | B16: ="48.11" -> 48.11 | C16: ="48.2725" -> 48.2725
A17: ="19/06/2009" -> 19/06/2009 | B17: ="48.12" -> 48.12 | C17: ="48.255" -> 48.255
A18: ="22/06/2009" -> 22/06/2009 | B18: ="48.19" -> 48.19 | C18: ="48.3375" -> 48.3375
A19: ="23/06/2009" -> 23/06/2009 | B19: ="48.88" -> 48.88 | C19: ="49.0325" -> 49.0325
A20: ="24/06/2009" -> 24/06/2009 | B20: ="48.40" -> 48.40 | C20: ="48.5425" -> 48.5425
A21: ="25/06/2009" -> 25/06/2009 | B21: ="48.57" -> 48.57 | C21: ="48.7225" -> 48.7225
A22: ="26/06/2009" -> 26/06/2009 | B22: ="48.525" -> 48.525 | C22: ="48.6575" -> 48.6575
A23: ="29/06/2009" -> 29/06/2009 | B23: ="48.1225" -> 48.1225 | C23: ="48.2625" -> 48.2625
A24: ="30/06/2009" -> 30/06/2009 | B24: ="47.87" -> 47.87 | C24: ="48.0025" -> 48.0025
A25: ="01/07/2009" -> 01/07/2009 | B25: ="47.91" -> 47.91 | C25: ="48.0425" -> 48.0425
A26: ="03/07/2009" -> 03/07/2009 | B26: ="48.10" -> 48.10 | C26: ="48.2275" -> 48.2275
A27: ="06/07/2009" -> 06/07/2009 | B27: ="47.96" -> 47.96 | C27: ="48.0825" -> 48.0825
A28: ="07/07/2009" -> 07/07/2009 | B28: ="48.39" -> 48.39 | C28: ="48.5175" -> 48.5175
A29: ="08/07/2009" -> 08/07/2009 | B29: ="48.81" -> 48.81 | C29: ="48.9275" -> 48.9275
A30: ="09/07/2009" -> 09/07/2009 | B30: ="49.01" -> 49.01 | C30: ="49.135" -> 49.135
A31: ="10/07/2009" -> 10/07/2009 | B31: ="48.73" -> 48.73 | C31: ="48.845" -> 48.845
A32: ="13/07/2009" -> 13/07/2009 | B32: ="49.23" -> 49.23 | C32: ="49.35" -> 49.35
A33: ="14/07/2009" -> 14/07/2009 | B33: ="48.82" -> 48.82 | C33: ="48.94" -> 48.94
A34: ="15/07/2009" -> 15/07/2009 | B34: ="48.75" -> 48.75 | C34: ="48.865" -> 48.865
A35: ="16/07/2009" -> 16/07/2009 | B35: ="48.52" -> 48.52 | C35: ="48.64" -> 48.64
A36: ="17/07/2009" -> 17/07/2009 | B36: ="48.67" -> 48.67 | C36: ="48.775" -> 48.775
A37: ="20/07/2009" -> 20/07/2009 | B37: ="48.4875" -> 48.4875 | C37: ="48.60" -> 48.60
A38: ="21/07/2009" -> 21/07/2009 | B38: ="48.29" -> 48.29 | C38: ="48.4025" -> 48.4025
A39: ="22/07/2009" -> 22/07/2009 | B39: ="48.39" -> 48.39 | C39: ="48.5025" -> 48.5025
A40: ="23/07/2009" -> 23/07/2009 | B40: ="48.385" -> 48.385 | C40: ="48.505" -> 48.505
A41: ="24/07/2009" -> 24/07/2009 | B41: ="48.40" -> 48.40 | C41: ="48.515" -> 48.515
A42: ="27/07/2009" -> 27/07/2009 | B42: ="48.19" -> 48.19 | C42: ="48.305" -> 48.305
A43: ="28/07/2009" -> 28/07/2009 | B43: ="48.265" -> 48.265 | C43: ="48.38" -> 48.38
A44: ="29/07/2009" -> 29/07/2009 | B44: ="48.3525" -> 48.3525 | C44: ="48.4575" -> 48.4575
A45: ="30/07/2009" -> 30/07/2009 | B45: ="48.545" -> 48.545 | C45: ="48.6625" -> 48.6625
A46: ="31/07/2009" -> 31/07/2009 | B46: ="48.245" -> 48.245 | C46: ="48.365" -> 48.365
A47: ="03/08/2009" -> 03/08/2009 | B47: ="47.84" -> 47.84 | C47: ="47.975" -> 47.975
A48: ="04/08/2009" -> 04/08/2009 | B48: ="47.4775" -> 47.4775 | C48: ="47.61" -> 47.61
A49: ="05/08/2009" -> 05/08/2009 | B49: ="47.65" -> 47.65 | C49: ="47.78" -> 47.78
A50: ="06/08/2009" -> 06/08/2009 | B50: ="47.665" -> 47.665 | C50: ="47.8025" -> 47.8025
A51: ="07/08/2009" -> 07/08/2009 | B51: ="47.83" -> 47.83 | C51: ="47.96" -> 47.96
A52: ="10/08/2009" -> 10/08/2009 | B52: ="47.79" -> 47.79 | C52: ="47.9225" -> 47.9225
A53: ="11/08/2009" -> 11/08/2009 | B53: ="48.03" -> 48.03 | C53: ="48.1675" -> 48.1675
A54: ="12/08/2009" -> 12/08/2009 | B54: ="48.145" -> 48.145 | C54: ="48.2775" -> 48.2775
A55: ="13/08/2009" -> 13/08/2009 | B55: ="48.17" -> 48.17 | C55: ="48.315" -> 48.315
A56: ="14/08/2009" -> 14/08/2009 | B56: ="48.2525" -> 48.2525 | C56: ="48.3825" -> 48.3825
A57: ="17/08/2009" -> 17/08/2009 | B57: ="48.59" -> 48.59 | C57: ="48.72" -> 48.72
A58: ="18/08/2009" -> 18/08/2009 | B58: ="48.85" -> 48.85 | C58: ="48.97" -> 48.97
A59: ="20/08/2009" -> 20/08/2009 | B59: ="48.7175" -> 48.7175 | C59: ="48.845" -> 48.845
A60: ="21/08/2009" -> 21/08/2009 | B60: ="48.67" -> 48.67 | C60: ="48.795" -> 48.795
A61: ="24/08/2009" -> 24/08/2009 | B61: ="48.43" -> 48.43 | C61: ="48.56" -> 48.56
A62: ="25/08/2009" -> 25/08/2009 | B62: ="48.83" -> 48.83 | C62: ="48.96" -> 48.96
A63: ="26/08/2009" -> 26/08/2009 | B63: ="48.8325" -> 48.8325 | C63: ="48.9625" -> 48.9625
A64: ="27/08/2009" -> 27/08/2009 | B64: ="49.04" -> 49.04 | C64: ="49.16" -> 49.16
A65: ="28/08/2009" -> 28/08/2009 | B65: ="48.85" -> 48.85 | C65: ="48.955" -> 48.955
A66: ="31/08/2009" -> 31/08/2009 | B66: ="48.88" -> 48.88 | C66: ="48.99" -> 48.99
A67: ="01/09/2009" -> 01/09/2009 | B67: ="48.75" -> 48.75 | C67: ="48.86" -> 48.86
A68: ="02/09/2009" -> 02/09/2009 | B68: ="49.20" -> 49.20 | C68: ="49.3075" -> 49.3075
A69: ="03/09/2009" -> 03/09/2009 | B69: ="48.85" -> 48.85 | C69: ="48.9625" -> 48.9625
A70: ="04/09/2009" -> 04/09/2009 | B70: ="48.955" -> 48.955 | C70: ="49.06" -> 49.06
A71: ="07/09/2009" -> 07/09/2009 | B71: ="48.75" -> 48.75 | C71: ="48.8525" -> 48.8525
A72: ="08/09/2009" -> 08/09/2009 | B72: ="48.64" -> 48.64 | C72: ="48.7525" -> 48.7525
A73: ="09/09/2009" -> 09/09/2009 | B73: ="48.54" -> 48.54 | C73: ="48.6525" -> 48.6525
A74: ="10/09/2009" -> 10/09/2009 | B74: ="48.4325" -> 48.4325 | C74: ="48.535" -> 48.535
A75: ="11/09/2009" -> 11/09/2009 | B75: ="48.44" -> 48.44 | C75: ="48.5425" -> 48.5425
A76: ="14/09/2009" -> 14/09/2009 | B76: ="48.69" -> 48.69 | C76: ="48.79" -> 48.79
A77: ="15/09/2009" -> 15/09/2009 | B77: ="48.67" -> 48.67 | C77: ="48.7925" -> 48.7925
A78: ="16/09/2009" -> 16/09/2009 | B78: ="48.47" -> 48.47 | C78: ="48.585" -> 48.585
A79: ="17/09/2009" -> 17/09/2009 | B79: ="48.00" -> 48.00 | C79: ="48.125" -> 48.125
A80: ="18/09/2009" -> 18/09/2009 | B80: ="48.19" -> 48.19 | C80: ="48.3075" -> 48.3075
A81: ="22/09/2009" -> 22/09/2009 | B81: ="48.17" -> 48.17 | C81: ="48.3475" -> 48.3475
A82: ="23/09/2009" -> 23/09/2009 | B82: ="47.91" -> 47.91 | C82: ="48.0325" -> 48.0325
A83: ="24/09/2009" -> 24/09/2009 | B83: ="48.19" -> 48.19 | C83: ="48.3225" -> 48.3225
A84: ="25/09/2009" -> 25/09/2009 | B84: ="48.2375" -> 48.2375 | C84: ="48.3675" -> 48.3675
A85: ="29/09/2009" -> 29/09/2009 | B85: ="48.02" -> 48.02 | C85: ="48.1325" -> 48.1325
A86: ="01/10/2009" -> 01/10/2009 | B86: ="47.89" -> 47.89 | C86: ="48.0075" -> 48.0075
A87: ="05/10/2009" -> 05/10/2009 | B87: ="47.5975" -> 47.5975 | C87: ="47.7175" -> 47.7175
A88: ="06/10/2009" -> 06/10/2009 | B88: ="47.19" -> 47.19 | C88: ="47.30" -> 47.30
A89: ="07/10/2009" -> 07/10/2009 | B89: ="46.905" -> 46.905 | C89: ="47.0125" -> 47.0125
A90: ="08/10/2009" -> 08/10/2009 | B90: ="46.43" -> 46.43 | C90: ="46.555" -> 46.555
A91: ="09/10/2009" -> 09/10/2009 | B91: ="46.385" -> 46.385 | C91: ="46.495" -> 46.495
A92: ="12/10/2009" -> 12/10/2009 | B92: ="46.5375" -> 46.5375 | C92: ="46.65" -> 46.65
A93: ="14/10/2009" -> 14/10/2009 | B93: ="46.1925" -> 46.1925 | C93: ="46.29" -> 46.29
A94: ="15/10/2009" -> 15/10/2009 | B94: ="45.875" -> 45.875 | C94: ="45.9825" -> 45.9825
A95: ="16/10/2009" -> 16/10/2009 | B95: ="46.135" -> 46.135 | C95: ="46.2475" -> 46.2475
A96: ="20/10/2009" -> 20/10/2009 | B96: ="46.045" -> 46.045 | C96: ="46.155" -> 46.155
A97: ="21/10/2009" -> 21/10/2009 | B97: ="46.4925" -> 46.4925 | C97: ="46.6075" -> 46.6075
A98: ="22/10/2009" -> 22/10/2009 | B98: ="46.555" -> 46.555 | C98: ="46.67" -> 46.67
A99: ="23/10/2009" -> 23/10/2009 | B99: ="46.505" -> 46.505 | C99: ="46.6125" -> 46.6125
A100: ="26/10/2009" -> 26/10/2009 | B100: ="46.50" -> 46.50 | C100: ="46.615" -> 46.615
...

Sheet JPY
A2: ="29/05/2009" -> 29/05/2009 | B2: ="96.38" -> 96.38 | C2: ="96.3475" -> 96.3475
A3: ="01/06/2009" -> 01/06/2009 | B3: ="94.96" -> 94.96 | C3: ="94.9266" -> 94.9266
A4: ="02/06/2009" -> 02/06/2009 | B4: ="96.37" -> 96.37 | C4: ="96.3308" -> 96.3308
A5: ="03/06/2009" -> 03/06/2009 | B5: ="95.68" -> 95.68 | C5: ="95.6466" -> 95.6466
A6: ="04/06/2009" -> 04/06/2009 | B6: ="96.12" -> 96.12 | C6: ="96.0907" -> 96.0907
A7: ="05/06/2009" -> 05/06/2009 | B7: ="96.80" -> 96.80 | C7: ="96.7677" -> 96.7677
A8: ="08/06/2009" -> 08/06/2009 | B8: ="98.38" -> 98.38 | C8: ="98.3452" -> 98.3452
A9: ="09/06/2009" -> 09/06/2009 | B9: ="98.24" -> 98.24 | C9: ="98.205" -> 98.205
A10: ="10/06/2009" -> 10/06/2009 | B10: ="97.64" -> 97.64 | C10: ="97.6078" -> 97.6078
A11: ="11/06/2009" -> 11/06/2009 | B11: ="97.89" -> 97.89 | C11: ="97.8607" -> 97.8607
A12: ="12/06/2009" -> 12/06/2009 | B12: ="97.75" -> 97.75 | C12: ="97.7215" -> 97.7215
A13: ="15/06/2009" -> 15/06/2009 | B13: ="98.30" -> 98.30 | C13: ="98.2718" -> 98.2718
A14: ="16/06/2009" -> 16/06/2009 | B14: ="96.65" -> 96.65 | C14: ="96.62" -> 96.62
A15: ="17/06/2009" -> 17/06/2009 | B15: ="96.44" -> 96.44 | C15: ="96.41" -> 96.41
A16: ="18/06/2009" -> 18/06/2009 | B16: ="95.81" -> 95.81 | C16: ="95.781" -> 95.781
A17: ="19/06/2009" -> 19/06/2009 | B17: ="96.66" -> 96.66 | C17: ="96.6265" -> 96.6265
A18: ="22/06/2009" -> 22/06/2009 | B18: ="95.94" -> 95.94 | C18: ="95.9053" -> 95.9053
A19: ="23/06/2009" -> 23/06/2009 | B19: ="95.2695" -> 95.2695 | C19: ="95.2317" -> 95.2317
A20: ="24/06/2009" -> 24/06/2009 | B20: ="95.54" -> 95.54 | C20: ="95.5032" -> 95.5032
A21: ="25/06/2009" -> 25/06/2009 | B21: ="96.09" -> 96.09 | C21: ="96.0572" -> 96.0572
A22: ="26/06/2009" -> 26/06/2009 | B22: ="95.90" -> 95.90 | C22: ="95.8664" -> 95.8664
A23: ="29/06/2009" -> 29/06/2009 | B23: ="95.523" -> 95.523 | C23: ="95.4865" -> 95.4865
A24: ="30/06/2009" -> 30/06/2009 | B24: ="95.92" -> 95.92 | C24: ="95.8848" -> 95.8848
A25: ="01/07/2009" -> 01/07/2009 | B25: ="96.82" -> 96.82 | C25: ="96.7875" -> 96.7875
A26: ="03/07/2009" -> 03/07/2009 | B26: ="96.001" -> 96.001 | C26: ="95.9712" -> 95.9712
A27: ="06/07/2009" -> 06/07/2009 | B27: ="95.42" -> 95.42 | C27: ="95.3904" -> 95.3904
A28: ="07/07/2009" -> 07/07/2009 | B28: ="95.38" -> 95.38 | C28: ="95.3497" -> 95.3497
A29: ="08/07/2009" -> 08/07/2009 | B29: ="94.557" -> 94.557 | C29: ="94.5283" -> 94.5283
A30: ="09/07/2009" -> 09/07/2009 | B30: ="93.18" -> 93.18 | C30: ="93.152" -> 93.152
A31: ="10/07/2009" -> 10/07/2009 | B31: ="92.86" -> 92.86 | C31: ="92.831" -> 92.831
A32: ="13/07/2009" -> 13/07/2009 | B32: ="92.51" -> 92.51 | C32: ="92.4806" -> 92.4806
A33: ="14/07/2009" -> 14/07/2009 | B33: ="93.0775" -> 93.0775 | C33: ="93.0471" -> 93.0471
A34: ="15/07/2009" -> 15/07/2009 | B34: ="93.581" -> 93.581 | C34: ="93.55" -> 93.55
A35: ="16/07/2009" -> 16/07/2009 | B35: ="94.07" -> 94.07 | C35: ="94.0405" -> 94.0405
A36: ="17/07/2009" -> 17/07/2009 | B36: ="93.67" -> 93.67 | C36: ="93.6388" -> 93.6388
A37: ="20/07/2009" -> 20/07/2009 | B37: ="94.59" -> 94.59 | C37: ="94.5585" -> 94.5585
A38: ="21/07/2009" -> 21/07/2009 | B38: ="93.83" -> 93.83 | C38: ="93.8016" -> 93.8016
A39: ="22/07/2009" -> 22/07/2009 | B39: ="93.56" -> 93.56 | C39: ="93.5338" -> 93.5338
A40: ="23/07/2009" -> 23/07/2009 | B40: ="94.18" -> 94.18 | C40: ="94.1555" -> 94.1555
A41: ="24/07/2009" -> 24/07/2009 | B41: ="94.6075" -> 94.6075 | C41: ="94.583" -> 94.583
A42: ="27/07/2009" -> 27/07/2009 | B42: ="94.834" -> 94.834 | C42: ="94.8075" -> 94.8075
A43: ="28/07/2009" -> 28/07/2009 | B43: ="95.10" -> 95.10 | C43: ="95.076" -> 95.076
A44: ="29/07/2009" -> 29/07/2009 | B44: ="94.302" -> 94.302 | C44: ="94.2798" -> 94.2798
A45: ="30/07/2009" -> 30/07/2009 | B45: ="94.9335" -> 94.9335 | C45: ="94.9088" -> 94.9088
A46: ="31/07/2009" -> 31/07/2009 | B46: ="95.30" -> 95.30 | C46: ="95.2782" -> 95.2782
A47: ="03/08/2009" -> 03/08/2009 | B47: ="94.752" -> 94.752 | C47: ="94.7267" -> 94.7267
A48: ="04/08/2009" -> 04/08/2009 | B48: ="95.32" -> 95.32 | C48: ="95.2949" -> 95.2949
A49: ="05/08/2009" -> 05/08/2009 | B49: ="95.10" -> 95.10 | C49: ="95.0744" -> 95.0744
A50: ="06/08/2009" -> 06/08/2009 | B50: ="95.07" -> 95.07 | C50: ="95.0453" -> 95.0453
A51: ="07/08/2009" -> 07/08/2009 | B51: ="95.301" -> 95.301 | C51: ="95.2769" -> 95.2769
A52: ="10/08/2009" -> 10/08/2009 | B52: ="97.26" -> 97.26 | C52: ="97.2354" -> 97.2354
A53: ="11/08/2009" -> 11/08/2009 | B53: ="96.72" -> 96.72 | C53: ="96.6945" -> 96.6945
A54: ="12/08/2009" -> 12/08/2009 | B54: ="95.58" -> 95.58 | C54: ="95.5568" -> 95.5568
A55: ="13/08/2009" -> 13/08/2009 | B55: ="95.90" -> 95.90 | C55: ="95.8774" -> 95.8774
A56: ="14/08/2009" -> 14/08/2009 | B56: ="95.16" -> 95.16 | C56: ="95.1391" -> 95.1391
A57: ="17/08/2009" -> 17/08/2009 | B57: ="94.58" -> 94.58 | C57: ="94.5546" -> 94.5546
A58: ="18/08/2009" -> 18/08/2009 | B58: ="94.88" -> 94.88 | C58: ="94.8556" -> 94.8556
A59: ="20/08/2009" -> 20/08/2009 | B59: ="94.38" -> 94.38 | C59: ="94.361" -> 94.361
A60: ="21/08/2009" -> 21/08/2009 | B60: ="93.55" -> 93.55 | C60: ="93.5312" -> 93.5312
A61: ="24/08/2009" -> 24/08/2009 | B61: ="94.88" -> 94.88 | C61: ="94.8598" -> 94.8598
A62: ="25/08/2009" -> 25/08/2009 | B62: ="93.98" -> 93.98 | C62: ="93.9601" -> 93.9601
A63: ="26/08/2009" -> 26/08/2009 | B63: ="94.13" -> 94.13 | C63: ="94.1114" -> 94.1114
A64: ="27/08/2009" -> 27/08/2009 | B64: ="93.671" -> 93.671 | C64: ="93.6541" -> 93.6541
A65: ="28/08/2009" -> 28/08/2009 | B65: ="93.70" -> 93.70 | C65: ="93.6833" -> 93.6833
A66: ="31/08/2009" -> 31/08/2009 | B66: ="92.58" -> 92.58 | C66: ="92.5623" -> 92.5623
A67: ="01/09/2009" -> 01/09/2009 | B67: ="93.13" -> 93.13 | C67: ="93.1105" -> 93.1105
A68: ="02/09/2009" -> 02/09/2009 | B68: ="92.86" -> 92.86 | C68: ="92.84" -> 92.84
A69: ="03/09/2009" -> 03/09/2009 | B69: ="92.35" -> 92.35 | C69: ="92.3285" -> 92.3285
A70: ="04/09/2009" -> 04/09/2009 | B70: ="92.58" -> 92.58 | C70: ="92.5607" -> 92.5607
A71: ="07/09/2009" -> 07/09/2009 | B71: ="93.1905" -> 93.1905 | C71: ="93.1724" -> 93.1724
A72: ="08/09/2009" -> 08/09/2009 | B72: ="92.80" -> 92.80 | C72: ="92.7795" -> 92.7795
A73: ="09/09/2009" -> 09/09/2009 | B73: ="92.29" -> 92.29 | C73: ="92.2762" -> 92.2762
A74: ="10/09/2009" -> 10/09/2009 | B74: ="92.09" -> 92.09 | C74: ="92.0755" -> 92.0755
A75: ="11/09/2009" -> 11/09/2009 | B75: ="91.422" -> 91.422 | C75: ="91.4083" -> 91.4083
A76: ="14/09/2009" -> 14/09/2009 | B76: ="90.5005" -> 90.5005 | C76: ="90.4864" -> 90.4864
A77: ="15/09/2009" -> 15/09/2009 | B77: ="91.143" -> 91.143 | C77: ="91.1257" -> 91.1257
A78: ="16/09/2009" -> 16/09/2009 | B78: ="91.011" -> 91.011 | C78: ="90.9969" -> 90.9969
A79: ="17/09/2009" -> 17/09/2009 | B79: ="91.045" -> 91.045 | C79: ="91.0273" -> 91.0273
A80: ="18/09/2009" -> 18/09/2009 | B80: ="91.234" -> 91.234 | C80: ="91.2165" -> 91.2165
A81: ="22/09/2009" -> 22/09/2009 | B81: ="91.6925" -> 91.6925 | C81: ="91.6735" -> 91.6735
A82: ="23/09/2009" -> 23/09/2009 | B82: ="90.72" -> 90.72 | C82: ="90.7016" -> 90.7016
A83: ="24/09/2009" -> 24/09/2009 | B83: ="91.02" -> 91.02 | C83: ="91.0028" -> 91.0028
A84: ="25/09/2009" -> 25/09/2009 | B84: ="90.751" -> 90.751 | C84: ="90.7336" -> 90.7336
A85: ="29/09/2009" -> 29/09/2009 | B85: ="89.9205" -> 89.9205 | C85: ="89.9026" -> 89.9026
A86: ="01/10/2009" -> 01/10/2009 | B86: ="89.93" -> 89.93 | C86: ="89.9133" -> 89.9133
A87: ="05/10/2009" -> 05/10/2009 | B87: ="89.86" -> 89.86 | C87: ="89.8448" -> 89.8448
A88: ="06/10/2009" -> 06/10/2009 | B88: ="89.14" -> 89.14 | C88: ="89.1234" -> 89.1234
A89: ="07/10/2009" -> 07/10/2009 | B89: ="88.921" -> 88.921 | C89: ="88.9036" -> 88.9036
A90: ="08/10/2009" -> 08/10/2009 | B90: ="88.30" -> 88.30 | C90: ="88.2832" -> 88.2832
A91: ="09/10/2009" -> 09/10/2009 | B91: ="89.11" -> 89.11 | C91: ="89.0906" -> 89.0906
A92: ="12/10/2009" -> 12/10/2009 | B92: ="90.13" -> 90.13 | C92: ="90.1105" -> 90.1105
A93: ="14/10/2009" -> 14/10/2009 | B93: ="89.191" -> 89.191 | C93: ="89.1732" -> 89.1732
A94: ="15/10/2009" -> 15/10/2009 | B94: ="89.451" -> 89.451 | C94: ="89.4341" -> 89.4341
A95: ="16/10/2009" -> 16/10/2009 | B95: ="90.732" -> 90.732 | C95: ="90.7153" -> 90.7153
A96: ="20/10/2009" -> 20/10/2009 | B96: ="90.42" -> 90.42 | C96: ="90.4016" -> 90.4016
A97: ="21/10/2009" -> 21/10/2009 | B97: ="90.68" -> 90.68 | C97: ="90.6634" -> 90.6634
A98: ="22/10/2009" -> 22/10/2009 | B98: ="91.09" -> 91.09 | C98: ="91.0757" -> 91.0757
A99: ="23/10/2009" -> 23/10/2009 | B99: ="91.67" -> 91.67 | C99: ="91.6568" -> 91.6568
A100: ="26/10/2009" -> 26/10/2009 | B100: ="91.753" -> 91.753 | C100: ="91.7377" -> 91.7377
A101: ="27/10/2009" -> 27/10/2009 | B101: ="92.10" -> 92.10 | C101: ="92.086" -> 92.086
...

Sheet KRW
A2: ="29/05/2009" -> 29/05/2009 | B2: ="1261.10" -> 1261.10 | C2: ="1261.1395" -> 1261.1395
A3: ="01/06/2009" -> 01/06/2009 | B3: ="1249.60" -> 1249.60 | C3: ="1249.6405" -> 1249.6405
A4: ="02/06/2009" -> 02/06/2009 | B4: ="1239.10" -> 1239.10 | C4: ="1239.1362" -> 1239.1362
A5: ="03/06/2009" -> 03/06/2009 | B5: ="1240.10" -> 1240.10 | C5: ="1240.1446" -> 1240.1446
A6: ="04/06/2009" -> 04/06/2009 | B6: ="1250.90" -> 1250.90 | C6: ="1250.9385" -> 1250.9385
A7: ="05/06/2009" -> 05/06/2009 | B7: ="1244.10" -> 1244.10 | C7: ="1244.1414" -> 1244.1414
A8: ="08/06/2009" -> 08/06/2009 | B8: ="1251.60" -> 1251.60 | C8: ="1251.6246" -> 1251.6246
A9: ="09/06/2009" -> 09/06/2009 | B9: ="1259.00" -> 1259.00 | C9: ="1259.0409" -> 1259.0409
A10: ="10/06/2009" -> 10/06/2009 | B10: ="1253.20" -> 1253.20 | C10: ="1253.2385" -> 1253.2385
A11: ="11/06/2009" -> 11/06/2009 | B11: ="1250.00" -> 1250.00 | C11: ="1250.0378" -> 1250.0378
A12: ="12/06/2009" -> 12/06/2009 | B12: ="1253.50" -> 1253.50 | C12: ="1253.53" -> 1253.53
A13: ="15/06/2009" -> 15/06/2009 | B13: ="1260.40" -> 1260.40 | C13: ="1260.4299" -> 1260.4299
A14: ="16/06/2009" -> 16/06/2009 | B14: ="1265.50" -> 1265.50 | C14: ="1265.5186" -> 1265.5186
A15: ="17/06/2009" -> 17/06/2009 | B15: ="1260.20" -> 1260.20 | C15: ="1260.2129" -> 1260.2129
A16: ="18/06/2009" -> 18/06/2009 | B16: ="1263.70" -> 1263.70 | C16: ="1263.7252" -> 1263.7252
A17: ="19/06/2009" -> 19/06/2009 | B17: ="1267.30" -> 1267.30 | C17: ="1267.3311" -> 1267.3311
A18: ="22/06/2009" -> 22/06/2009 | B18: ="1273.10" -> 1273.10 | C18: ="1273.1246" -> 1273.1246
A19: ="23/06/2009" -> 23/06/2009 | B19: ="1289.10" -> 1289.10 | C19: ="1289.1505" -> 1289.1505
A20: ="24/06/2009" -> 24/06/2009 | B20: ="1278.95" -> 1278.95 | C20: ="1279.0038" -> 1279.0038
A21: ="25/06/2009" -> 25/06/2009 | B21: ="1286.80" -> 1286.80 | C21: ="1286.852" -> 1286.852
A22: ="26/06/2009" -> 26/06/2009 | B22: ="1291.30" -> 1291.30 | C22: ="1291.3492" -> 1291.3492
A23: ="29/06/2009" -> 29/06/2009 | B23: ="1288.60" -> 1288.60 | C23: ="1288.6539" -> 1288.6539
A24: ="30/06/2009" -> 30/06/2009 | B24: ="1278.30" -> 1278.30 | C24: ="1278.3581" -> 1278.3581
A25: ="01/07/2009" -> 01/07/2009 | B25: ="1267.10" -> 1267.10 | C25: ="1267.1554" -> 1267.1554
A26: ="03/07/2009" -> 03/07/2009 | B26: ="1272.20" -> 1272.20 | C26: ="1272.2649" -> 1272.2649
A27: ="06/07/2009" -> 06/07/2009 | B27: ="1269.00" -> 1269.00 | C27: ="1269.0415" -> 1269.0415
A28: ="07/07/2009" -> 07/07/2009 | B28: ="1269.30" -> 1269.30 | C28: ="1269.3432" -> 1269.3432
A29: ="08/07/2009" -> 08/07/2009 | B29: ="1279.00" -> 1279.00 | C29: ="1279.0406" -> 1279.0406
A30: ="09/07/2009" -> 09/07/2009 | B30: ="1278.00" -> 1278.00 | C30: ="1278.0328" -> 1278.0328
A31: ="10/07/2009" -> 10/07/2009 | B31: ="1277.95" -> 1277.95 | C31: ="1277.983" -> 1277.983
A32: ="13/07/2009" -> 13/07/2009 | B32: ="1290.90" -> 1290.90 | C32: ="1290.9303" -> 1290.9303
A33: ="14/07/2009" -> 14/07/2009 | B33: ="1293.00" -> 1293.00 | C33: ="1293.0289" -> 1293.0289
A34: ="15/07/2009" -> 15/07/2009 | B34: ="1282.50" -> 1282.50 | C34: ="1282.5305" -> 1282.5305
A35: ="16/07/2009" -> 16/07/2009 | B35: ="1269.00" -> 1269.00 | C35: ="1269.03" -> 1269.03
A36: ="17/07/2009" -> 17/07/2009 | B36: ="1262.50" -> 1262.50 | C36: ="1262.5308" -> 1262.5308
A37: ="20/07/2009" -> 20/07/2009 | B37: ="1252.90" -> 1252.90 | C37: ="1252.9366" -> 1252.9366
A38: ="21/07/2009" -> 21/07/2009 | B38: ="1253.45" -> 1253.45 | C38: ="1253.4794" -> 1253.4794
A39: ="22/07/2009" -> 22/07/2009 | B39: ="1251.90" -> 1251.90 | C39: ="1251.9296" -> 1251.9296
A40: ="23/07/2009" -> 23/07/2009 | B40: ="1248.75" -> 1248.75 | C40: ="1248.783" -> 1248.783
A41: ="24/07/2009" -> 24/07/2009 | B41: ="1246.80" -> 1246.80 | C41: ="1246.8324" -> 1246.8324
A42: ="27/07/2009" -> 27/07/2009 | B42: ="1246.50" -> 1246.50 | C42: ="1246.5301" -> 1246.5301
A43: ="28/07/2009" -> 28/07/2009 | B43: ="1243.00" -> 1243.00 | C43: ="1243.0326" -> 1243.0326
A44: ="29/07/2009" -> 29/07/2009 | B44: ="1239.30" -> 1239.30 | C44: ="1239.3379" -> 1239.3379
A45: ="30/07/2009" -> 30/07/2009 | B45: ="1241.00" -> 1241.00 | C45: ="1241.0304" -> 1241.0304
A46: ="31/07/2009" -> 31/07/2009 | B46: ="1231.70" -> 1231.70 | C46: ="1231.7351" -> 1231.7351
A47: ="03/08/2009" -> 03/08/2009 | B47: ="1223.70" -> 1223.70 | C47: ="1223.7314" -> 1223.7314
A48: ="04/08/2009" -> 04/08/2009 | B48: ="1218.60" -> 1218.60 | C48: ="1218.6371" -> 1218.6371
A49: ="05/08/2009" -> 05/08/2009 | B49: ="1220.10" -> 1220.10 | C49: ="1220.135" -> 1220.135
A50: ="06/08/2009" -> 06/08/2009 | B50: ="1223.80" -> 1223.80 | C50: ="1223.8311" -> 1223.8311
A51: ="07/08/2009" -> 07/08/2009 | B51: ="1228.10" -> 1228.10 | C51: ="1228.1294" -> 1228.1294
A52: ="10/08/2009" -> 10/08/2009 | B52: ="1223.80" -> 1223.80 | C52: ="1223.8399" -> 1223.8399
A53: ="11/08/2009" -> 11/08/2009 | B53: ="1242.75" -> 1242.75 | C53: ="1242.7812" -> 1242.7812
A54: ="12/08/2009" -> 12/08/2009 | B54: ="1251.95" -> 1251.95 | C54: ="1251.983" -> 1251.983
A55: ="13/08/2009" -> 13/08/2009 | B55: ="1238.60" -> 1238.60 | C55: ="1238.6371" -> 1238.6371
A56: ="14/08/2009" -> 14/08/2009 | B56: ="1237.50" -> 1237.50 | C56: ="1237.5393" -> 1237.5393
A57: ="17/08/2009" -> 17/08/2009 | B57: ="1251.80" -> 1251.80 | C57: ="1251.8319" -> 1251.8319
A58: ="18/08/2009" -> 18/08/2009 | B58: ="1256.10" -> 1256.10 | C58: ="1256.1508" -> 1256.1508
A59: ="20/08/2009" -> 20/08/2009 | B59: ="1250.10" -> 1250.10 | C59: ="1250.14" -> 1250.14
A60: ="21/08/2009" -> 21/08/2009 | B60: ="1249.70" -> 1249.70 | C60: ="1249.7372" -> 1249.7372
A61: ="24/08/2009" -> 24/08/2009 | B61: ="1243.30" -> 1243.30 | C61: ="1243.3459" -> 1243.3459
A62: ="25/08/2009" -> 25/08/2009 | B62: ="1247.70" -> 1247.70 | C62: ="1247.7293" -> 1247.7293
A63: ="26/08/2009" -> 26/08/2009 | B63: ="1247.35" -> 1247.35 | C63: ="1247.3815" -> 1247.3815
A64: ="27/08/2009" -> 27/08/2009 | B64: ="1249.50" -> 1249.50 | C64: ="1249.5337" -> 1249.5337
A65: ="28/08/2009" -> 28/08/2009 | B65: ="1245.10" -> 1245.10 | C65: ="1245.1309" -> 1245.1309
A66: ="31/08/2009" -> 31/08/2009 | B66: ="1248.30" -> 1248.30 | C66: ="1248.3381" -> 1248.3381
A67: ="01/09/2009" -> 01/09/2009 | B67: ="1247.00" -> 1247.00 | C67: ="1247.0353" -> 1247.0353
A68: ="02/09/2009" -> 02/09/2009 | B68: ="1247.90" -> 1247.90 | C68: ="1247.934" -> 1247.934
A69: ="03/09/2009" -> 03/09/2009 | B69: ="1246.30" -> 1246.30 | C69: ="1246.3306" -> 1246.3306
A70: ="04/09/2009" -> 04/09/2009 | B70: ="1242.80" -> 1242.80 | C70: ="1242.8345" -> 1242.8345
A71: ="07/09/2009" -> 07/09/2009 | B71: ="1234.00" -> 1234.00 | C71: ="1234.0351" -> 1234.0351
A72: ="08/09/2009" -> 08/09/2009 | B72: ="1232.50" -> 1232.50 | C72: ="1232.5268" -> 1232.5268
A73: ="09/09/2009" -> 09/09/2009 | B73: ="1226.10" -> 1226.10 | C73: ="1226.1308" -> 1226.1308
A74: ="10/09/2009" -> 10/09/2009 | B74: ="1227.10" -> 1227.10 | C74: ="1227.1346" -> 1227.1346
A75: ="11/09/2009" -> 11/09/2009 | B75: ="1221.50" -> 1221.50 | C75: ="1221.5338" -> 1221.5338
A76: ="14/09/2009" -> 14/09/2009 | B76: ="1223.80" -> 1223.80 | C76: ="1223.8337" -> 1223.8337
A77: ="15/09/2009" -> 15/09/2009 | B77: ="1221.50" -> 1221.50 | C77: ="1221.547" -> 1221.547
A78: ="16/09/2009" -> 16/09/2009 | B78: ="1212.00" -> 1212.00 | C78: ="1212.0348" -> 1212.0348
A79: ="17/09/2009" -> 17/09/2009 | B79: ="1206.40" -> 1206.40 | C79: ="1206.4371" -> 1206.4371
A80: ="18/09/2009" -> 18/09/2009 | B80: ="1207.20" -> 1207.20 | C80: ="1207.2308" -> 1207.2308
A81: ="22/09/2009" -> 22/09/2009 | B81: ="1203.70" -> 1203.70 | C81: ="1203.7303" -> 1203.7303
A82: ="23/09/2009" -> 23/09/2009 | B82: ="1195.50" -> 1195.50 | C82: ="1195.5381" -> 1195.5381
A83: ="24/09/2009" -> 24/09/2009 | B83: ="1197.70" -> 1197.70 | C83: ="1197.7368" -> 1197.7368
A84: ="25/09/2009" -> 25/09/2009 | B84: ="1195.80" -> 1195.80 | C84: ="1195.8293" -> 1195.8293
A85: ="29/09/2009" -> 29/09/2009 | B85: ="1187.20" -> 1187.20 | C85: ="1187.2397" -> 1187.2397
A86: ="01/10/2009" -> 01/10/2009 | B86: ="1179.00" -> 1179.00 | C86: ="1179.0355" -> 1179.0355
A87: ="05/10/2009" -> 05/10/2009 | B87: ="1172.70" -> 1172.70 | C87: ="1172.7392" -> 1172.7392
A88: ="06/10/2009" -> 06/10/2009 | B88: ="1169.90" -> 1169.90 | C88: ="1169.9362" -> 1169.9362
A89: ="07/10/2009" -> 07/10/2009 | B89: ="1172.60" -> 1172.60 | C89: ="1172.6359" -> 1172.6359
A90: ="08/10/2009" -> 08/10/2009 | B90: ="1168.60" -> 1168.60 | C90: ="1168.6314" -> 1168.6314
A91: ="09/10/2009" -> 09/10/2009 | B91: ="1168.00" -> 1168.00 | C91: ="1168.0336" -> 1168.0336
A92: ="12/10/2009" -> 12/10/2009 | B92: ="1169.25" -> 1169.25 | C92: ="1169.283" -> 1169.283
A93: ="14/10/2009" -> 14/10/2009 | B93: ="1165.90" -> 1165.90 | C93: ="1165.9288" -> 1165.9288
A94: ="15/10/2009" -> 15/10/2009 | B94: ="1158.50" -> 1158.50 | C94: ="1158.5342" -> 1158.5342
A95: ="16/10/2009" -> 16/10/2009 | B95: ="1157.80" -> 1157.80 | C95: ="1157.835" -> 1157.835
A96: ="20/10/2009" -> 20/10/2009 | B96: ="1167.30" -> 1167.30 | C96: ="1167.3373" -> 1167.3373
A97: ="21/10/2009" -> 21/10/2009 | B97: ="1180.00" -> 1180.00 | C97: ="1180.0515" -> 1180.0515
A98: ="22/10/2009" -> 22/10/2009 | B98: ="1186.10" -> 1186.10 | C98: ="1186.1529" -> 1186.1529
A99: ="23/10/2009" -> 23/10/2009 | B99: ="1183.90" -> 1183.90 | C99: ="1183.9437" -> 1183.9437
A100: ="26/10/2009" -> 26/10/2009 | B100: ="1178.40" -> 1178.40 | C100: ="1178.4523" -> 1178.4523
A101: ="27/10/2009" -> 27/10/2009 | B101: ="1187.10" -> 1187.10 | C101: ="1187.1565" -> 1187.1565
...

Sheet NOK
A2: ="29/05/2009" -> 29/05/2009 | B2: ="6.4159" -> 6.4159 | C2: ="6.4225" -> 6.4225
A3: ="01/06/2009" -> 01/06/2009 | B3: ="6.2862" -> 6.2862 | C3: ="6.2927" -> 6.2927
A4: ="02/06/2009" -> 02/06/2009 | B4: ="6.1825" -> 6.1825 | C4: ="6.1893" -> 6.1893
A5: ="03/06/2009" -> 03/06/2009 | B5: ="6.1915" -> 6.1915 | C5: ="6.1984" -> 6.1984
A6: ="04/06/2009" -> 04/06/2009 | B6: ="6.3409" -> 6.3409 | C6: ="6.3479" -> 6.3479
A7: ="05/06/2009" -> 05/06/2009 | B7: ="6.3123" -> 6.3123 | C7: ="6.3187" -> 6.3187
A8: ="08/06/2009" -> 08/06/2009 | B8: ="6.4193" -> 6.4193 | C8: ="6.4258" -> 6.4258
A9: ="09/06/2009" -> 09/06/2009 | B9: ="6.4562" -> 6.4562 | C9: ="6.4627" -> 6.4627
A10: ="10/06/2009" -> 10/06/2009 | B10: ="6.334" -> 6.334 | C10: ="6.3403" -> 6.3403
A11: ="11/06/2009" -> 11/06/2009 | B11: ="6.3516" -> 6.3516 | C11: ="6.3577" -> 6.3577
A12: ="12/06/2009" -> 12/06/2009 | B12: ="6.3031" -> 6.3031 | C12: ="6.3089" -> 6.3089
A13: ="15/06/2009" -> 15/06/2009 | B13: ="6.3951" -> 6.3951 | C13: ="6.4011" -> 6.4011
A14: ="16/06/2009" -> 16/06/2009 | B14: ="6.4886" -> 6.4886 | C14: ="6.4945" -> 6.4945
A15: ="17/06/2009" -> 17/06/2009 | B15: ="6.4148" -> 6.4148 | C15: ="6.4213" -> 6.4213
A16: ="18/06/2009" -> 18/06/2009 | B16: ="6.3613" -> 6.3613 | C16: ="6.3666" -> 6.3666
A17: ="19/06/2009" -> 19/06/2009 | B17: ="6.4118" -> 6.4118 | C17: ="6.4169" -> 6.4169
A18: ="22/06/2009" -> 22/06/2009 | B18: ="6.421" -> 6.421 | C18: ="6.426" -> 6.426
A19: ="23/06/2009" -> 23/06/2009 | B19: ="6.6031" -> 6.6031 | C19: ="6.6083" -> 6.6083
A20: ="24/06/2009" -> 24/06/2009 | B20: ="6.4878" -> 6.4878 | C20: ="6.4934" -> 6.4934
A21: ="25/06/2009" -> 25/06/2009 | B21: ="6.4878" -> 6.4878 | C21: ="6.4933" -> 6.4933
A22: ="26/06/2009" -> 26/06/2009 | B22: ="6.4578" -> 6.4578 | C22: ="6.463" -> 6.463
A23: ="29/06/2009" -> 29/06/2009 | B23: ="6.4692" -> 6.4692 | C23: ="6.4746" -> 6.4746
A24: ="30/06/2009" -> 30/06/2009 | B24: ="6.4026" -> 6.4026 | C24: ="6.4083" -> 6.4083
A25: ="01/07/2009" -> 01/07/2009 | B25: ="6.4407" -> 6.4407 | C25: ="6.4462" -> 6.4462
A26: ="03/07/2009" -> 03/07/2009 | B26: ="6.4205" -> 6.4205 | C26: ="6.4257" -> 6.4257
A27: ="06/07/2009" -> 06/07/2009 | B27: ="6.435" -> 6.435 | C27: ="6.4399" -> 6.4399
A28: ="07/07/2009" -> 07/07/2009 | B28: ="6.4753" -> 6.4753 | C28: ="6.4807" -> 6.4807
A29: ="08/07/2009" -> 08/07/2009 | B29: ="6.5441" -> 6.5441 | C29: ="6.5494" -> 6.5494
A30: ="09/07/2009" -> 09/07/2009 | B30: ="6.5545" -> 6.5545 | C30: ="6.5598" -> 6.5598
A31: ="10/07/2009" -> 10/07/2009 | B31: ="6.5085" -> 6.5085 | C31: ="6.5138" -> 6.5138
A32: ="13/07/2009" -> 13/07/2009 | B32: ="6.5235" -> 6.5235 | C32: ="6.5288" -> 6.5288
A33: ="14/07/2009" -> 14/07/2009 | B33: ="6.4871" -> 6.4871 | C33: ="6.4926" -> 6.4926
A34: ="15/07/2009" -> 15/07/2009 | B34: ="6.4433" -> 6.4433 | C34: ="6.4486" -> 6.4486
A35: ="16/07/2009" -> 16/07/2009 | B35: ="6.4062" -> 6.4062 | C35: ="6.4113" -> 6.4113
A36: ="17/07/2009" -> 17/07/2009 | B36: ="6.3811" -> 6.3811 | C36: ="6.3863" -> 6.3863
A37: ="20/07/2009" -> 20/07/2009 | B37: ="6.363" -> 6.363 | C37: ="6.3682" -> 6.3682
A38: ="21/07/2009" -> 21/07/2009 | B38: ="6.3178" -> 6.3178 | C38: ="6.3232" -> 6.3232
A39: ="22/07/2009" -> 22/07/2009 | B39: ="6.3014" -> 6.3014 | C39: ="6.3066" -> 6.3066
A40: ="23/07/2009" -> 23/07/2009 | B40: ="6.2847" -> 6.2847 | C40: ="6.2899" -> 6.2899
A41: ="24/07/2009" -> 24/07/2009 | B41: ="6.2936" -> 6.2936 | C41: ="6.2989" -> 6.2989
A42: ="27/07/2009" -> 27/07/2009 | B42: ="6.2399" -> 6.2399 | C42: ="6.2451" -> 6.2451
A43: ="28/07/2009" -> 28/07/2009 | B43: ="6.1881" -> 6.1881 | C43: ="6.1935" -> 6.1935
A44: ="29/07/2009" -> 29/07/2009 | B44: ="6.1959" -> 6.1959 | C44: ="6.2012" -> 6.2012
A45: ="30/07/2009" -> 30/07/2009 | B45: ="6.2504" -> 6.2504 | C45: ="6.2555" -> 6.2555
A46: ="31/07/2009" -> 31/07/2009 | B46: ="6.2008" -> 6.2008 | C46: ="6.2059" -> 6.2059
A47: ="03/08/2009" -> 03/08/2009 | B47: ="6.1299" -> 6.1299 | C47: ="6.135" -> 6.135
A48: ="04/08/2009" -> 04/08/2009 | B48: ="6.0268" -> 6.0268 | C48: ="6.0322" -> 6.0322
A49: ="05/08/2009" -> 05/08/2009 | B49: ="6.045" -> 6.045 | C49: ="6.0502" -> 6.0502
A50: ="06/08/2009" -> 06/08/2009 | B50: ="6.0351" -> 6.0351 | C50: ="6.04" -> 6.04
A51: ="07/08/2009" -> 07/08/2009 | B51: ="6.072" -> 6.072 | C51: ="6.0767" -> 6.0767
A52: ="10/08/2009" -> 10/08/2009 | B52: ="6.1197" -> 6.1197 | C52: ="6.1249" -> 6.1249
A53: ="11/08/2009" -> 11/08/2009 | B53: ="6.2155" -> 6.2155 | C53: ="6.2207" -> 6.2207
A54: ="12/08/2009" -> 12/08/2009 | B54: ="6.2476" -> 6.2476 | C54: ="6.2529" -> 6.2529
A55: ="13/08/2009" -> 13/08/2009 | B55: ="6.0929" -> 6.0929 | C55: ="6.0981" -> 6.0981
A56: ="14/08/2009" -> 14/08/2009 | B56: ="6.0556" -> 6.0556 | C56: ="6.0609" -> 6.0609
A57: ="17/08/2009" -> 17/08/2009 | B57: ="6.1213" -> 6.1213 | C57: ="6.1266" -> 6.1266
A58: ="18/08/2009" -> 18/08/2009 | B58: ="6.1686" -> 6.1686 | C58: ="6.1743" -> 6.1743
A59: ="20/08/2009" -> 20/08/2009 | B59: ="6.0635" -> 6.0635 | C59: ="6.069" -> 6.069
A60: ="21/08/2009" -> 21/08/2009 | B60: ="6.0378" -> 6.0378 | C60: ="6.0435" -> 6.0435
A61: ="24/08/2009" -> 24/08/2009 | B61: ="5.9896" -> 5.9896 | C61: ="5.9962" -> 5.9962
A62: ="25/08/2009" -> 25/08/2009 | B62: ="6.0146" -> 6.0146 | C62: ="6.0207" -> 6.0207
A63: ="26/08/2009" -> 26/08/2009 | B63: ="6.0455" -> 6.0455 | C63: ="6.0511" -> 6.0511
A64: ="27/08/2009" -> 27/08/2009 | B64: ="6.0679" -> 6.0679 | C64: ="6.0735" -> 6.0735
A65: ="28/08/2009" -> 28/08/2009 | B65: ="6.03" -> 6.03 | C65: ="6.0355" -> 6.0355
A66: ="31/08/2009" -> 31/08/2009 | B66: ="6.0522" -> 6.0522 | C66: ="6.0575" -> 6.0575
A67: ="01/09/2009" -> 01/09/2009 | B67: ="6.0041" -> 6.0041 | C67: ="6.0099" -> 6.0099
A68: ="02/09/2009" -> 02/09/2009 | B68: ="6.0921" -> 6.0921 | C68: ="6.0978" -> 6.0978
A69: ="03/09/2009" -> 03/09/2009 | B69: ="6.0862" -> 6.0862 | C69: ="6.0917" -> 6.0917
A70: ="04/09/2009" -> 04/09/2009 | B70: ="6.0591" -> 6.0591 | C70: ="6.0645" -> 6.0645
A71: ="07/09/2009" -> 07/09/2009 | B71: ="6.0025" -> 6.0025 | C71: ="6.0079" -> 6.0079
A72: ="08/09/2009" -> 08/09/2009 | B72: ="5.9906" -> 5.9906 | C72: ="5.9969" -> 5.9969
A73: ="09/09/2009" -> 09/09/2009 | B73: ="5.9367" -> 5.9367 | C73: ="5.9425" -> 5.9425
A74: ="10/09/2009" -> 10/09/2009 | B74: ="5.9018" -> 5.9018 | C74: ="5.9075" -> 5.9075
A75: ="11/09/2009" -> 11/09/2009 | B75: ="5.9371" -> 5.9371 | C75: ="5.9422" -> 5.9422
A76: ="14/09/2009" -> 14/09/2009 | B76: ="5.9598" -> 5.9598 | C76: ="5.965" -> 5.965
A77: ="15/09/2009" -> 15/09/2009 | B77: ="5.9154" -> 5.9154 | C77: ="5.9205" -> 5.9205
A78: ="16/09/2009" -> 16/09/2009 | B78: ="5.8718" -> 5.8718 | C78: ="5.8773" -> 5.8773
A79: ="17/09/2009" -> 17/09/2009 | B79: ="5.8495" -> 5.8495 | C79: ="5.8547" -> 5.8547
A80: ="18/09/2009" -> 18/09/2009 | B80: ="5.8713" -> 5.8713 | C80: ="5.8763" -> 5.8763
A81: ="22/09/2009" -> 22/09/2009 | B81: ="5.8984" -> 5.8984 | C81: ="5.9036" -> 5.9036
A82: ="23/09/2009" -> 23/09/2009 | B82: ="5.833" -> 5.833 | C82: ="5.8382" -> 5.8382
A83: ="24/09/2009" -> 24/09/2009 | B83: ="5.8025" -> 5.8025 | C83: ="5.8076" -> 5.8076
A84: ="25/09/2009" -> 25/09/2009 | B84: ="5.8394" -> 5.8394 | C84: ="5.8446" -> 5.8446
A85: ="29/09/2009" -> 29/09/2009 | B85: ="5.8308" -> 5.8308 | C85: ="5.8365" -> 5.8365
A86: ="01/10/2009" -> 01/10/2009 | B86: ="5.7847" -> 5.7847 | C86: ="5.7903" -> 5.7903
A87: ="05/10/2009" -> 05/10/2009 | B87: ="5.7753" -> 5.7753 | C87: ="5.7815" -> 5.7815
A88: ="06/10/2009" -> 06/10/2009 | B88: ="5.7203" -> 5.7203 | C88: ="5.7263" -> 5.7263
A89: ="07/10/2009" -> 07/10/2009 | B89: ="5.6994" -> 5.6994 | C89: ="5.7054" -> 5.7054
A90: ="08/10/2009" -> 08/10/2009 | B90: ="5.6508" -> 5.6508 | C90: ="5.6566" -> 5.6566
A91: ="09/10/2009" -> 09/10/2009 | B91: ="5.6788" -> 5.6788 | C91: ="5.6848" -> 5.6848
A92: ="12/10/2009" -> 12/10/2009 | B92: ="5.6512" -> 5.6512 | C92: ="5.6573" -> 5.6573
A93: ="14/10/2009" -> 14/10/2009 | B93: ="5.609" -> 5.609 | C93: ="5.6151" -> 5.6151
A94: ="15/10/2009" -> 15/10/2009 | B94: ="5.523" -> 5.523 | C94: ="5.5292" -> 5.5292
A95: ="16/10/2009" -> 16/10/2009 | B95: ="5.562" -> 5.562 | C95: ="5.5685" -> 5.5685
A96: ="20/10/2009" -> 20/10/2009 | B96: ="5.5654" -> 5.5654 | C96: ="5.5725" -> 5.5725
A97: ="21/10/2009" -> 21/10/2009 | B97: ="5.6028" -> 5.6028 | C97: ="5.6095" -> 5.6095
A98: ="22/10/2009" -> 22/10/2009 | B98: ="5.5698" -> 5.5698 | C98: ="5.5765" -> 5.5765
A99: ="23/10/2009" -> 23/10/2009 | B99: ="5.5276" -> 5.5276 | C99: ="5.5344" -> 5.5344
A100: ="26/10/2009" -> 26/10/2009 | B100: ="5.5484" -> 5.5484 | C100: ="5.5553" -> 5.5553
A101: ="27/10/2009" -> 27/10/2009 | B101: ="5.6334" -> 5.6334 | C101: ="5.6408" -> 5.6408
...

Sheet NZD
A2: ="29/05/2009" -> 29/05/2009 | B2: ="0.6254" -> 0.6254 | C2: ="0.6242" -> 0.6242
A3: ="01/06/2009" -> 01/06/2009 | B3: ="0.6427" -> 0.6427 | C3: ="0.6415" -> 0.6415
A4: ="02/06/2009" -> 02/06/2009 | B4: ="0.6473" -> 0.6473 | C4: ="0.6461" -> 0.6461
A5: ="03/06/2009" -> 03/06/2009 | B5: ="0.653" -> 0.653 | C5: ="0.6517" -> 0.6517
A6: ="04/06/2009" -> 04/06/2009 | B6: ="0.6318" -> 0.6318 | C6: ="0.6306" -> 0.6306
A7: ="05/06/2009" -> 05/06/2009 | B7: ="0.6357" -> 0.6357 | C7: ="0.6345" -> 0.6345
A8: ="08/06/2009" -> 08/06/2009 | B8: ="0.6192" -> 0.6192 | C8: ="0.618" -> 0.618
A9: ="09/06/2009" -> 09/06/2009 | B9: ="0.6186" -> 0.6186 | C9: ="0.6175" -> 0.6175
A10: ="10/06/2009" -> 10/06/2009 | B10: ="0.6294" -> 0.6294 | C10: ="0.6281" -> 0.6281
A11: ="11/06/2009" -> 11/06/2009 | B11: ="0.6363" -> 0.6363 | C11: ="0.6351" -> 0.6351
A12: ="12/06/2009" -> 12/06/2009 | B12: ="0.6426" -> 0.6426 | C12: ="0.6413" -> 0.6413
A13: ="15/06/2009" -> 15/06/2009 | B13: ="0.6372" -> 0.6372 | C13: ="0.636" -> 0.636
A14: ="16/06/2009" -> 16/06/2009 | B14: ="0.6272" -> 0.6272 | C14: ="0.6259" -> 0.6259
A15: ="17/06/2009" -> 17/06/2009 | B15: ="0.6289" -> 0.6289 | C15: ="0.6276" -> 0.6276
A16: ="18/06/2009" -> 18/06/2009 | B16: ="0.633" -> 0.633 | C16: ="0.6318" -> 0.6318
A17: ="19/06/2009" -> 19/06/2009 | B17: ="0.6394" -> 0.6394 | C17: ="0.6382" -> 0.6382
A18: ="22/06/2009" -> 22/06/2009 | B18: ="0.6384" -> 0.6384 | C18: ="0.6372" -> 0.6372
A19: ="23/06/2009" -> 23/06/2009 | B19: ="0.6266" -> 0.6266 | C19: ="0.6253" -> 0.6253
A20: ="24/06/2009" -> 24/06/2009 | B20: ="0.6395" -> 0.6395 | C20: ="0.6382" -> 0.6382
A21: ="25/06/2009" -> 25/06/2009 | B21: ="0.6396" -> 0.6396 | C21: ="0.6384" -> 0.6384
A22: ="26/06/2009" -> 26/06/2009 | B22: ="0.6438" -> 0.6438 | C22: ="0.6426" -> 0.6426
A23: ="29/06/2009" -> 29/06/2009 | B23: ="0.6434" -> 0.6434 | C23: ="0.6422" -> 0.6422
A24: ="30/06/2009" -> 30/06/2009 | B24: ="0.6532" -> 0.6532 | C24: ="0.6519" -> 0.6519
A25: ="01/07/2009" -> 01/07/2009 | B25: ="0.6455" -> 0.6455 | C25: ="0.6443" -> 0.6443
A26: ="03/07/2009" -> 03/07/2009 | B26: ="0.6296" -> 0.6296 | C26: ="0.6285" -> 0.6285
A27: ="06/07/2009" -> 06/07/2009 | B27: ="0.6262" -> 0.6262 | C27: ="0.6251" -> 0.6251
A28: ="07/07/2009" -> 07/07/2009 | B28: ="0.6356" -> 0.6356 | C28: ="0.6343" -> 0.6343
A29: ="08/07/2009" -> 08/07/2009 | B29: ="0.628" -> 0.628 | C29: ="0.6267" -> 0.6267
A30: ="09/07/2009" -> 09/07/2009 | B30: ="0.626" -> 0.626 | C30: ="0.6247" -> 0.6247
A31: ="10/07/2009" -> 10/07/2009 | B31: ="0.6292" -> 0.6292 | C31: ="0.6279" -> 0.6279
A32: ="13/07/2009" -> 13/07/2009 | B32: ="0.6262" -> 0.6262 | C32: ="0.6249" -> 0.6249
A33: ="14/07/2009" -> 14/07/2009 | B33: ="0.6337" -> 0.6337 | C33: ="0.6324" -> 0.6324
A34: ="15/07/2009" -> 15/07/2009 | B34: ="0.6407" -> 0.6407 | C34: ="0.6394" -> 0.6394
A35: ="16/07/2009" -> 16/07/2009 | B35: ="0.6464" -> 0.6464 | C35: ="0.6451" -> 0.6451
A36: ="17/07/2009" -> 17/07/2009 | B36: ="0.6443" -> 0.6443 | C36: ="0.643" -> 0.643
A37: ="20/07/2009" -> 20/07/2009 | B37: ="0.6478" -> 0.6478 | C37: ="0.6465" -> 0.6465
A38: ="21/07/2009" -> 21/07/2009 | B38: ="0.6544" -> 0.6544 | C38: ="0.653" -> 0.653
A39: ="22/07/2009" -> 22/07/2009 | B39: ="0.6553" -> 0.6553 | C39: ="0.654" -> 0.654
A40: ="23/07/2009" -> 23/07/2009 | B40: ="0.6598" -> 0.6598 | C40: ="0.6585" -> 0.6585
A41: ="24/07/2009" -> 24/07/2009 | B41: ="0.6552" -> 0.6552 | C41: ="0.6539" -> 0.6539
A42: ="27/07/2009" -> 27/07/2009 | B42: ="0.6569" -> 0.6569 | C42: ="0.6556" -> 0.6556
A43: ="28/07/2009" -> 28/07/2009 | B43: ="0.6564" -> 0.6564 | C43: ="0.6551" -> 0.6551
A44: ="29/07/2009" -> 29/07/2009 | B44: ="0.6577" -> 0.6577 | C44: ="0.6564" -> 0.6564
A45: ="30/07/2009" -> 30/07/2009 | B45: ="0.6494" -> 0.6494 | C45: ="0.6481" -> 0.6481
A46: ="31/07/2009" -> 31/07/2009 | B46: ="0.6553" -> 0.6553 | C46: ="0.654" -> 0.654
A47: ="03/08/2009" -> 03/08/2009 | B47: ="0.6623" -> 0.6623 | C47: ="0.6607" -> 0.6607
A48: ="04/08/2009" -> 04/08/2009 | B48: ="0.6684" -> 0.6684 | C48: ="0.6669" -> 0.6669
A49: ="05/08/2009" -> 05/08/2009 | B49: ="0.6726" -> 0.6726 | C49: ="0.6711" -> 0.6711
A50: ="06/08/2009" -> 06/08/2009 | B50: ="0.6696" -> 0.6696 | C50: ="0.6682" -> 0.6682
A51: ="07/08/2009" -> 07/08/2009 | B51: ="0.6709" -> 0.6709 | C51: ="0.6695" -> 0.6695
A52: ="10/08/2009" -> 10/08/2009 | B52: ="0.6728" -> 0.6728 | C52: ="0.6714" -> 0.6714
A53: ="11/08/2009" -> 11/08/2009 | B53: ="0.6744" -> 0.6744 | C53: ="0.673" -> 0.673
A54: ="12/08/2009" -> 12/08/2009 | B54: ="0.6649" -> 0.6649 | C54: ="0.6636" -> 0.6636
A55: ="13/08/2009" -> 13/08/2009 | B55: ="0.6724" -> 0.6724 | C55: ="0.6711" -> 0.6711
A56: ="14/08/2009" -> 14/08/2009 | B56: ="0.6789" -> 0.6789 | C56: ="0.6776" -> 0.6776
A57: ="17/08/2009" -> 17/08/2009 | B57: ="0.6694" -> 0.6694 | C57: ="0.668" -> 0.668
A58: ="18/08/2009" -> 18/08/2009 | B58: ="0.6692" -> 0.6692 | C58: ="0.6679" -> 0.6679
A59: ="20/08/2009" -> 20/08/2009 | B59: ="0.6751" -> 0.6751 | C59: ="0.6738" -> 0.6738
A60: ="21/08/2009" -> 21/08/2009 | B60: ="0.6736" -> 0.6736 | C60: ="0.6722" -> 0.6722
A61: ="24/08/2009" -> 24/08/2009 | B61: ="0.6854" -> 0.6854 | C61: ="0.684" -> 0.684
A62: ="25/08/2009" -> 25/08/2009 | B62: ="0.6851" -> 0.6851 | C62: ="0.6837" -> 0.6837
A63: ="26/08/2009" -> 26/08/2009 | B63: ="0.6862" -> 0.6862 | C63: ="0.6849" -> 0.6849
A64: ="27/08/2009" -> 27/08/2009 | B64: ="0.6789" -> 0.6789 | C64: ="0.6777" -> 0.6777
A65: ="28/08/2009" -> 28/08/2009 | B65: ="0.6861" -> 0.6861 | C65: ="0.6848" -> 0.6848
A66: ="31/08/2009" -> 31/08/2009 | B66: ="0.6815" -> 0.6815 | C66: ="0.6802" -> 0.6802
A67: ="01/09/2009" -> 01/09/2009 | B67: ="0.6872" -> 0.6872 | C67: ="0.6858" -> 0.6858
A68: ="02/09/2009" -> 02/09/2009 | B68: ="0.6745" -> 0.6745 | C68: ="0.6731" -> 0.6731
A69: ="03/09/2009" -> 03/09/2009 | B69: ="0.6755" -> 0.6755 | C69: ="0.6742" -> 0.6742
A70: ="04/09/2009" -> 04/09/2009 | B70: ="0.6793" -> 0.6793 | C70: ="0.678" -> 0.678
A71: ="07/09/2009" -> 07/09/2009 | B71: ="0.6884" -> 0.6884 | C71: ="0.6871" -> 0.6871
A72: ="08/09/2009" -> 08/09/2009 | B72: ="0.6919" -> 0.6919 | C72: ="0.6904" -> 0.6904
A73: ="09/09/2009" -> 09/09/2009 | B73: ="0.6955" -> 0.6955 | C73: ="0.6941" -> 0.6941
A74: ="10/09/2009" -> 10/09/2009 | B74: ="0.6961" -> 0.6961 | C74: ="0.6947" -> 0.6947
A75: ="11/09/2009" -> 11/09/2009 | B75: ="0.7036" -> 0.7036 | C75: ="0.7022" -> 0.7022
A76: ="14/09/2009" -> 14/09/2009 | B76: ="0.6983" -> 0.6983 | C76: ="0.6969" -> 0.6969
A77: ="15/09/2009" -> 15/09/2009 | B77: ="0.7012" -> 0.7012 | C77: ="0.6996" -> 0.6996
A78: ="16/09/2009" -> 16/09/2009 | B78: ="0.7054" -> 0.7054 | C78: ="0.7039" -> 0.7039
A79: ="17/09/2009" -> 17/09/2009 | B79: ="0.7145" -> 0.7145 | C79: ="0.713" -> 0.713
A80: ="18/09/2009" -> 18/09/2009 | B80: ="0.7097" -> 0.7097 | C80: ="0.7083" -> 0.7083
A81: ="22/09/2009" -> 22/09/2009 | B81: ="0.7172" -> 0.7172 | C81: ="0.7157" -> 0.7157
A82: ="23/09/2009" -> 23/09/2009 | B82: ="0.7263" -> 0.7263 | C82: ="0.7248" -> 0.7248
A83: ="24/09/2009" -> 24/09/2009 | B83: ="0.7207" -> 0.7207 | C83: ="0.7193" -> 0.7193
A84: ="25/09/2009" -> 25/09/2009 | B84: ="0.7145" -> 0.7145 | C84: ="0.713" -> 0.713
A85: ="29/09/2009" -> 29/09/2009 | B85: ="0.7204" -> 0.7204 | C85: ="0.7189" -> 0.7189
A86: ="01/10/2009" -> 01/10/2009 | B86: ="0.7219" -> 0.7219 | C86: ="0.7204" -> 0.7204
A87: ="05/10/2009" -> 05/10/2009 | B87: ="0.7199" -> 0.7199 | C87: ="0.7183" -> 0.7183
A88: ="06/10/2009" -> 06/10/2009 | B88: ="0.7323" -> 0.7323 | C88: ="0.7306" -> 0.7306
A89: ="07/10/2009" -> 07/10/2009 | B89: ="0.7338" -> 0.7338 | C89: ="0.7322" -> 0.7322
A90: ="08/10/2009" -> 08/10/2009 | B90: ="0.7404" -> 0.7404 | C90: ="0.7388" -> 0.7388
A91: ="09/10/2009" -> 09/10/2009 | B91: ="0.739" -> 0.739 | C91: ="0.7373" -> 0.7373
A92: ="12/10/2009" -> 12/10/2009 | B92: ="0.7277" -> 0.7277 | C92: ="0.7259" -> 0.7259
A93: ="14/10/2009" -> 14/10/2009 | B93: ="0.7391" -> 0.7391 | C93: ="0.7375" -> 0.7375
A94: ="15/10/2009" -> 15/10/2009 | B94: ="0.7477" -> 0.7477 | C94: ="0.746" -> 0.746
A95: ="16/10/2009" -> 16/10/2009 | B95: ="0.7462" -> 0.7462 | C95: ="0.7445" -> 0.7445
A96: ="20/10/2009" -> 20/10/2009 | B96: ="0.7542" -> 0.7542 | C96: ="0.7524" -> 0.7524
A97: ="21/10/2009" -> 21/10/2009 | B97: ="0.7492" -> 0.7492 | C97: ="0.7475" -> 0.7475
A98: ="22/10/2009" -> 22/10/2009 | B98: ="0.7515" -> 0.7515 | C98: ="0.7498" -> 0.7498
A99: ="23/10/2009" -> 23/10/2009 | B99: ="0.757" -> 0.757 | C99: ="0.7552" -> 0.7552
A100: ="26/10/2009" -> 26/10/2009 | B100: ="0.7538" -> 0.7538 | C100: ="0.752" -> 0.752
A101: ="27/10/2009" -> 27/10/2009 | B101: ="0.7479" -> 0.7479 | C101: ="0.7462" -> 0.7462
...

Sheet PHP
A2: ="29/05/2009" -> 29/05/2009 | B2: ="47.5475" -> 47.5475 | C2: ="47.5475" -> 47.5475
A3: ="01/06/2009" -> 01/06/2009 | B3: ="47.19" -> 47.19 | C3: ="47.19" -> 47.19
A4: ="02/06/2009" -> 02/06/2009 | B4: ="47.165" -> 47.165 | C4: ="47.165" -> 47.165
A5: ="03/06/2009" -> 03/06/2009 | B5: ="47.25" -> 47.25 | C5: ="47.25" -> 47.25
A6: ="04/06/2009" -> 04/06/2009 | B6: ="47.345" -> 47.345 | C6: ="47.345" -> 47.345
A7: ="05/06/2009" -> 05/06/2009 | B7: ="47.29" -> 47.29 | C7: ="47.29" -> 47.29
A8: ="08/06/2009" -> 08/06/2009 | B8: ="47.47" -> 47.47 | C8: ="47.47" -> 47.47
A9: ="09/06/2009" -> 09/06/2009 | B9: ="47.71" -> 47.71 | C9: ="47.71" -> 47.71
A10: ="10/06/2009" -> 10/06/2009 | B10: ="47.545" -> 47.545 | C10: ="47.545" -> 47.545
A11: ="11/06/2009" -> 11/06/2009 | B11: ="47.70" -> 47.70 | C11: ="47.70" -> 47.70
A12: ="12/06/2009" -> 12/06/2009 | B12: ="47.89" -> 47.89 | C12: ="47.89" -> 47.89
A13: ="15/06/2009" -> 15/06/2009 | B13: ="48.20" -> 48.20 | C13: ="48.20" -> 48.20
A14: ="16/06/2009" -> 16/06/2009 | B14: ="48.43" -> 48.43 | C14: ="48.43" -> 48.43
A15: ="17/06/2009" -> 17/06/2009 | B15: ="48.43" -> 48.43 | C15: ="48.43" -> 48.43
A16: ="18/06/2009" -> 18/06/2009 | B16: ="48.50" -> 48.50 | C16: ="48.50" -> 48.50
A17: ="19/06/2009" -> 19/06/2009 | B17: ="48.46" -> 48.46 | C17: ="48.61" -> 48.61
A18: ="22/06/2009" -> 22/06/2009 | B18: ="48.395" -> 48.395 | C18: ="48.535" -> 48.535
A19: ="23/06/2009" -> 23/06/2009 | B19: ="48.61" -> 48.61 | C19: ="48.748" -> 48.748
A20: ="24/06/2009" -> 24/06/2009 | B20: ="48.22" -> 48.22 | C20: ="48.365" -> 48.365
A21: ="25/06/2009" -> 25/06/2009 | B21: ="48.26" -> 48.26 | C21: ="48.405" -> 48.405
A22: ="26/06/2009" -> 26/06/2009 | B22: ="48.30" -> 48.30 | C22: ="48.44" -> 48.44
A23: ="29/06/2009" -> 29/06/2009 | B23: ="48.29" -> 48.29 | C23: ="48.433" -> 48.433
A24: ="30/06/2009" -> 30/06/2009 | B24: ="48.195" -> 48.195 | C24: ="48.34" -> 48.34
A25: ="01/07/2009" -> 01/07/2009 | B25: ="48.195" -> 48.195 | C25: ="48.342" -> 48.342
A26: ="03/07/2009" -> 03/07/2009 | B26: ="48.21" -> 48.21 | C26: ="48.357" -> 48.357
A27: ="06/07/2009" -> 06/07/2009 | B27: ="48.15" -> 48.15 | C27: ="48.33" -> 48.33
A28: ="07/07/2009" -> 07/07/2009 | B28: ="48.22" -> 48.22 | C28: ="48.375" -> 48.375
A29: ="08/07/2009" -> 08/07/2009 | B29: ="48.35" -> 48.35 | C29: ="48.498" -> 48.498
A30: ="09/07/2009" -> 09/07/2009 | B30: ="48.25" -> 48.25 | C30: ="48.395" -> 48.395
A31: ="10/07/2009" -> 10/07/2009 | B31: ="48.19" -> 48.19 | C31: ="48.34" -> 48.34
A32: ="13/07/2009" -> 13/07/2009 | B32: ="48.2475" -> 48.2475 | C32: ="48.3975" -> 48.3975
A33: ="14/07/2009" -> 14/07/2009 | B33: ="48.29" -> 48.29 | C33: ="48.45" -> 48.45
A34: ="15/07/2009" -> 15/07/2009 | B34: ="48.16" -> 48.16 | C34: ="48.315" -> 48.315
A35: ="16/07/2009" -> 16/07/2009 | B35: ="48.035" -> 48.035 | C35: ="48.19" -> 48.19
A36: ="17/07/2009" -> 17/07/2009 | B36: ="48.08" -> 48.08 | C36: ="48.235" -> 48.235
A37: ="20/07/2009" -> 20/07/2009 | B37: ="47.98" -> 47.98 | C37: ="48.148" -> 48.148
A38: ="21/07/2009" -> 21/07/2009 | B38: ="48.105" -> 48.105 | C38: ="48.27" -> 48.27
A39: ="22/07/2009" -> 22/07/2009 | B39: ="48.125" -> 48.125 | C39: ="48.29" -> 48.29
A40: ="23/07/2009" -> 23/07/2009 | B40: ="48.15" -> 48.15 | C40: ="48.305" -> 48.305
A41: ="24/07/2009" -> 24/07/2009 | B41: ="48.125" -> 48.125 | C41: ="48.282" -> 48.282
A42: ="27/07/2009" -> 27/07/2009 | B42: ="48.0775" -> 48.0775 | C42: ="48.3575" -> 48.3575
A43: ="28/07/2009" -> 28/07/2009 | B43: ="48.11" -> 48.11 | C43: ="48.27" -> 48.27
A44: ="29/07/2009" -> 29/07/2009 | B44: ="48.09" -> 48.09 | C44: ="48.378" -> 48.378
A45: ="30/07/2009" -> 30/07/2009 | B45: ="48.16" -> 48.16 | C45: ="48.30" -> 48.30
A46: ="31/07/2009" -> 31/07/2009 | B46: ="48.065" -> 48.065 | C46: ="48.218" -> 48.218
A47: ="03/08/2009" -> 03/08/2009 | B47: ="48.065" -> 48.065 | C47: ="48.22" -> 48.22
A48: ="04/08/2009" -> 04/08/2009 | B48: ="47.905" -> 47.905 | C48: ="48.069" -> 48.069
A49: ="05/08/2009" -> 05/08/2009 | B49: ="47.86" -> 47.86 | C49: ="48.06" -> 48.06
A50: ="06/08/2009" -> 06/08/2009 | B50: ="47.77" -> 47.77 | C50: ="47.929" -> 47.929
A51: ="07/08/2009" -> 07/08/2009 | B51: ="47.81" -> 47.81 | C51: ="47.965" -> 47.965
A52: ="10/08/2009" -> 10/08/2009 | B52: ="47.71" -> 47.71 | C52: ="47.865" -> 47.865
A53: ="11/08/2009" -> 11/08/2009 | B53: ="47.77" -> 47.77 | C53: ="47.94" -> 47.94
A54: ="12/08/2009" -> 12/08/2009 | B54: ="47.90" -> 47.90 | C54: ="48.10" -> 48.10
A55: ="13/08/2009" -> 13/08/2009 | B55: ="47.96" -> 47.96 | C55: ="48.122" -> 48.122
A56: ="14/08/2009" -> 14/08/2009 | B56: ="47.97" -> 47.97 | C56: ="48.13" -> 48.13
A57: ="17/08/2009" -> 17/08/2009 | B57: ="48.3275" -> 48.3275 | C57: ="48.4855" -> 48.4855
A58: ="18/08/2009" -> 18/08/2009 | B58: ="48.36" -> 48.36 | C58: ="48.53" -> 48.53
A59: ="20/08/2009" -> 20/08/2009 | B59: ="48.51" -> 48.51 | C59: ="48.667" -> 48.667
A60: ="21/08/2009" -> 21/08/2009 | B60: ="48.42" -> 48.42 | C60: ="48.542" -> 48.542
A61: ="24/08/2009" -> 24/08/2009 | B61: ="48.33" -> 48.33 | C61: ="48.487" -> 48.487
A62: ="25/08/2009" -> 25/08/2009 | B62: ="48.60" -> 48.60 | C62: ="48.768" -> 48.768
A63: ="26/08/2009" -> 26/08/2009 | B63: ="48.72" -> 48.72 | C63: ="48.884" -> 48.884
A64: ="27/08/2009" -> 27/08/2009 | B64: ="48.92" -> 48.92 | C64: ="49.082" -> 49.082
A65: ="28/08/2009" -> 28/08/2009 | B65: ="48.83" -> 48.83 | C65: ="48.979" -> 48.979
A66: ="31/08/2009" -> 31/08/2009 | B66: ="48.805" -> 48.805 | C66: ="48.96" -> 48.96
A67: ="01/09/2009" -> 01/09/2009 | B67: ="48.86" -> 48.86 | C67: ="49.021" -> 49.021
A68: ="02/09/2009" -> 02/09/2009 | B68: ="48.905" -> 48.905 | C68: ="49.068" -> 49.068
A69: ="03/09/2009" -> 03/09/2009 | B69: ="48.805" -> 48.805 | C69: ="48.965" -> 48.965
A70: ="04/09/2009" -> 04/09/2009 | B70: ="48.695" -> 48.695 | C70: ="48.853" -> 48.853
A71: ="07/09/2009" -> 07/09/2009 | B71: ="48.62" -> 48.62 | C71: ="48.80" -> 48.80
A72: ="08/09/2009" -> 08/09/2009 | B72: ="48.43" -> 48.43 | C72: ="48.59" -> 48.59
A73: ="09/09/2009" -> 09/09/2009 | B73: ="48.295" -> 48.295 | C73: ="48.466" -> 48.466
A74: ="10/09/2009" -> 10/09/2009 | B74: ="48.31" -> 48.31 | C74: ="48.475" -> 48.475
A75: ="11/09/2009" -> 11/09/2009 | B75: ="48.28" -> 48.28 | C75: ="48.435" -> 48.435
A76: ="14/09/2009" -> 14/09/2009 | B76: ="48.42" -> 48.42 | C76: ="48.575" -> 48.575
A77: ="15/09/2009" -> 15/09/2009 | B77: ="48.37" -> 48.37 | C77: ="48.524" -> 48.524
A78: ="16/09/2009" -> 16/09/2009 | B78: ="48.13" -> 48.13 | C78: ="48.293" -> 48.293
A79: ="17/09/2009" -> 17/09/2009 | B79: ="47.775" -> 47.775 | C79: ="47.93" -> 47.93
A80: ="18/09/2009" -> 18/09/2009 | B80: ="47.64" -> 47.64 | C80: ="47.793" -> 47.793
A81: ="22/09/2009" -> 22/09/2009 | B81: ="47.6225" -> 47.6225 | C81: ="47.7765" -> 47.7765
A82: ="23/09/2009" -> 23/09/2009 | B82: ="47.345" -> 47.345 | C82: ="47.51" -> 47.51
A83: ="24/09/2009" -> 24/09/2009 | B83: ="47.54" -> 47.54 | C83: ="47.70" -> 47.70
A84: ="25/09/2009" -> 25/09/2009 | B84: ="47.37" -> 47.37 | C84: ="47.53" -> 47.53
A85: ="29/09/2009" -> 29/09/2009 | B85: ="47.56" -> 47.56 | C85: ="47.727" -> 47.727
A86: ="01/10/2009" -> 01/10/2009 | B86: ="47.21" -> 47.21 | C86: ="47.385" -> 47.385
A87: ="05/10/2009" -> 05/10/2009 | B87: ="46.79" -> 46.79 | C87: ="46.955" -> 46.955
A88: ="06/10/2009" -> 06/10/2009 | B88: ="46.52" -> 46.52 | C88: ="46.68" -> 46.68
A89: ="07/10/2009" -> 07/10/2009 | B89: ="46.69" -> 46.69 | C89: ="46.83" -> 46.83
A90: ="08/10/2009" -> 08/10/2009 | B90: ="46.475" -> 46.475 | C90: ="46.623" -> 46.623
A91: ="09/10/2009" -> 09/10/2009 | B91: ="46.57" -> 46.57 | C91: ="46.71" -> 46.71
A92: ="12/10/2009" -> 12/10/2009 | B92: ="46.535" -> 46.535 | C92: ="46.685" -> 46.685
A93: ="14/10/2009" -> 14/10/2009 | B93: ="46.46" -> 46.46 | C93: ="46.618" -> 46.618
A94: ="15/10/2009" -> 15/10/2009 | B94: ="46.255" -> 46.255 | C94: ="46.40" -> 46.40
A95: ="16/10/2009" -> 16/10/2009 | B95: ="46.36" -> 46.36 | C95: ="46.513" -> 46.513
A96: ="20/10/2009" -> 20/10/2009 | B96: ="46.52" -> 46.52 | C96: ="46.687" -> 46.687
A97: ="21/10/2009" -> 21/10/2009 | B97: ="46.99" -> 46.99 | C97: ="47.15" -> 47.15
A98: ="22/10/2009" -> 22/10/2009 | B98: ="47.10" -> 47.10 | C98: ="47.253" -> 47.253
A99: ="23/10/2009" -> 23/10/2009 | B99: ="47.11" -> 47.11 | C99: ="47.263" -> 47.263
A100: ="26/10/2009" -> 26/10/2009 | B100: ="46.98" -> 46.98 | C100: ="47.13" -> 47.13
A101: ="27/10/2009" -> 27/10/2009 | B101: ="47.17" -> 47.17 | C101: ="47.318" -> 47.318
...

Sheet THB
A2: ="29/05/2009" -> 29/05/2009 | B2: ="34.42" -> 34.42 | C2: ="34.441" -> 34.441
A3: ="01/06/2009" -> 01/06/2009 | B3: ="34.16" -> 34.16 | C3: ="34.181" -> 34.181
A4: ="02/06/2009" -> 02/06/2009 | B4: ="34.13" -> 34.13 | C4: ="34.151" -> 34.151
A5: ="03/06/2009" -> 03/06/2009 | B5: ="34.03" -> 34.03 | C5: ="34.053" -> 34.053
A6: ="04/06/2009" -> 04/06/2009 | B6: ="34.16" -> 34.16 | C6: ="34.182" -> 34.182
A7: ="05/06/2009" -> 05/06/2009 | B7: ="34.17" -> 34.17 | C7: ="34.1925" -> 34.1925
A8: ="08/06/2009" -> 08/06/2009 | B8: ="34.35" -> 34.35 | C8: ="34.372" -> 34.372
A9: ="09/06/2009" -> 09/06/2009 | B9: ="34.32" -> 34.32 | C9: ="34.342" -> 34.342
A10: ="10/06/2009" -> 10/06/2009 | B10: ="34.17" -> 34.17 | C10: ="34.192" -> 34.192
A11: ="11/06/2009" -> 11/06/2009 | B11: ="34.095" -> 34.095 | C11: ="34.1175" -> 34.1175
A12: ="12/06/2009" -> 12/06/2009 | B12: ="34.10" -> 34.10 | C12: ="34.1225" -> 34.1225
A13: ="15/06/2009" -> 15/06/2009 | B13: ="34.21" -> 34.21 | C13: ="34.232" -> 34.232
A14: ="16/06/2009" -> 16/06/2009 | B14: ="34.21" -> 34.21 | C14: ="34.231" -> 34.231
A15: ="17/06/2009" -> 17/06/2009 | B15: ="34.20" -> 34.20 | C15: ="34.2225" -> 34.2225
A16: ="18/06/2009" -> 18/06/2009 | B16: ="34.16" -> 34.16 | C16: ="34.1825" -> 34.1825
A17: ="19/06/2009" -> 19/06/2009 | B17: ="34.17" -> 34.17 | C17: ="34.191" -> 34.191
A18: ="22/06/2009" -> 22/06/2009 | B18: ="34.19" -> 34.19 | C18: ="34.2115" -> 34.2115
A19: ="23/06/2009" -> 23/06/2009 | B19: ="34.24" -> 34.24 | C19: ="34.262" -> 34.262
A20: ="24/06/2009" -> 24/06/2009 | B20: ="34.18" -> 34.18 | C20: ="34.203" -> 34.203
A21: ="25/06/2009" -> 25/06/2009 | B21: ="34.18" -> 34.18 | C21: ="34.202" -> 34.202
A22: ="26/06/2009" -> 26/06/2009 | B22: ="34.11" -> 34.11 | C22: ="34.132" -> 34.132
A23: ="29/06/2009" -> 29/06/2009 | B23: ="34.09" -> 34.09 | C23: ="34.1115" -> 34.1115
A24: ="30/06/2009" -> 30/06/2009 | B24: ="34.015" -> 34.015 | C24: ="34.036" -> 34.036
A25: ="01/07/2009" -> 01/07/2009 | B25: ="34.06" -> 34.06 | C25: ="34.081" -> 34.081
A26: ="03/07/2009" -> 03/07/2009 | B26: ="34.14" -> 34.14 | C26: ="34.163" -> 34.163
A27: ="06/07/2009" -> 06/07/2009 | B27: ="34.13" -> 34.13 | C27: ="34.153" -> 34.153
A28: ="07/07/2009" -> 07/07/2009 | B28: ="34.13" -> 34.13 | C28: ="34.153" -> 34.153
A29: ="08/07/2009" -> 08/07/2009 | B29: ="34.14" -> 34.14 | C29: ="34.158" -> 34.158
A30: ="09/07/2009" -> 09/07/2009 | B30: ="34.11" -> 34.11 | C30: ="34.13" -> 34.13
A31: ="10/07/2009" -> 10/07/2009 | B31: ="34.13" -> 34.13 | C31: ="34.15" -> 34.15
A32: ="13/07/2009" -> 13/07/2009 | B32: ="34.13" -> 34.13 | C32: ="34.151" -> 34.151
A33: ="14/07/2009" -> 14/07/2009 | B33: ="34.14" -> 34.14 | C33: ="34.161" -> 34.161
A34: ="15/07/2009" -> 15/07/2009 | B34: ="34.14" -> 34.14 | C34: ="34.161" -> 34.161
A35: ="16/07/2009" -> 16/07/2009 | B35: ="34.095" -> 34.095 | C35: ="34.117" -> 34.117
A36: ="17/07/2009" -> 17/07/2009 | B36: ="34.07" -> 34.07 | C36: ="34.0905" -> 34.0905
A37: ="20/07/2009" -> 20/07/2009 | B37: ="34.05" -> 34.05 | C37: ="34.07" -> 34.07
A38: ="21/07/2009" -> 21/07/2009 | B38: ="34.03" -> 34.03 | C38: ="34.051" -> 34.051
A39: ="22/07/2009" -> 22/07/2009 | B39: ="34.03" -> 34.03 | C39: ="34.051" -> 34.051
A40: ="23/07/2009" -> 23/07/2009 | B40: ="33.97" -> 33.97 | C40: ="33.99" -> 33.99
A41: ="24/07/2009" -> 24/07/2009 | B41: ="34.02" -> 34.02 | C41: ="34.042" -> 34.042
A42: ="27/07/2009" -> 27/07/2009 | B42: ="33.99" -> 33.99 | C42: ="34.01" -> 34.01
A43: ="28/07/2009" -> 28/07/2009 | B43: ="33.98" -> 33.98 | C43: ="34.0015" -> 34.0015
A44: ="29/07/2009" -> 29/07/2009 | B44: ="33.985" -> 33.985 | C44: ="34.005" -> 34.005
A45: ="30/07/2009" -> 30/07/2009 | B45: ="34.07" -> 34.07 | C45: ="34.091" -> 34.091
A46: ="31/07/2009" -> 31/07/2009 | B46: ="34.05" -> 34.05 | C46: ="34.07" -> 34.07
A47: ="03/08/2009" -> 03/08/2009 | B47: ="34.04" -> 34.04 | C47: ="34.061" -> 34.061
A48: ="04/08/2009" -> 04/08/2009 | B48: ="33.99" -> 33.99 | C48: ="34.012" -> 34.012
A49: ="05/08/2009" -> 05/08/2009 | B49: ="33.98" -> 33.98 | C49: ="34.003" -> 34.003
A50: ="06/08/2009" -> 06/08/2009 | B50: ="34.00" -> 34.00 | C50: ="34.019" -> 34.019
A51: ="07/08/2009" -> 07/08/2009 | B51: ="33.98" -> 33.98 | C51: ="34.001" -> 34.001
A52: ="10/08/2009" -> 10/08/2009 | B52: ="34.01" -> 34.01 | C52: ="34.03" -> 34.03
A53: ="11/08/2009" -> 11/08/2009 | B53: ="34.07" -> 34.07 | C53: ="34.091" -> 34.091
A54: ="12/08/2009" -> 12/08/2009 | B54: ="34.05" -> 34.05 | C54: ="34.071" -> 34.071
A55: ="13/08/2009" -> 13/08/2009 | B55: ="34.07" -> 34.07 | C55: ="34.10" -> 34.10
A56: ="14/08/2009" -> 14/08/2009 | B56: ="34.05" -> 34.05 | C56: ="34.07" -> 34.07
A57: ="17/08/2009" -> 17/08/2009 | B57: ="34.065" -> 34.065 | C57: ="34.085" -> 34.085
A58: ="18/08/2009" -> 18/08/2009 | B58: ="34.065" -> 34.065 | C58: ="34.0855" -> 34.0855
A59: ="20/08/2009" -> 20/08/2009 | B59: ="34.06" -> 34.06 | C59: ="34.081" -> 34.081
A60: ="21/08/2009" -> 21/08/2009 | B60: ="34.08" -> 34.08 | C60: ="34.10" -> 34.10
A61: ="24/08/2009" -> 24/08/2009 | B61: ="34.03" -> 34.03 | C61: ="34.0505" -> 34.0505
A62: ="25/08/2009" -> 25/08/2009 | B62: ="34.03" -> 34.03 | C62: ="34.051" -> 34.051
A63: ="26/08/2009" -> 26/08/2009 | B63: ="34.02" -> 34.02 | C63: ="34.041" -> 34.041
A64: ="27/08/2009" -> 27/08/2009 | B64: ="34.04" -> 34.04 | C64: ="34.061" -> 34.061
A65: ="28/08/2009" -> 28/08/2009 | B65: ="34.03" -> 34.03 | C65: ="34.051" -> 34.051
A66: ="31/08/2009" -> 31/08/2009 | B66: ="34.03" -> 34.03 | C66: ="34.051" -> 34.051
A67: ="01/09/2009" -> 01/09/2009 | B67: ="34.02" -> 34.02 | C67: ="34.042" -> 34.042
A68: ="02/09/2009" -> 02/09/2009 | B68: ="34.04" -> 34.04 | C68: ="34.0625" -> 34.0625
A69: ="03/09/2009" -> 03/09/2009 | B69: ="34.06" -> 34.06 | C69: ="34.082" -> 34.082
A70: ="04/09/2009" -> 04/09/2009 | B70: ="34.07" -> 34.07 | C70: ="34.091" -> 34.091
A71: ="07/09/2009" -> 07/09/2009 | B71: ="34.07" -> 34.07 | C71: ="34.092" -> 34.092
A72: ="08/09/2009" -> 08/09/2009 | B72: ="34.07" -> 34.07 | C72: ="34.092" -> 34.092
A73: ="09/09/2009" -> 09/09/2009 | B73: ="34.06" -> 34.06 | C73: ="34.082" -> 34.082
A74: ="10/09/2009" -> 10/09/2009 | B74: ="34.02" -> 34.02 | C74: ="34.042" -> 34.042
A75: ="11/09/2009" -> 11/09/2009 | B75: ="33.97" -> 33.97 | C75: ="33.992" -> 33.992
A76: ="14/09/2009" -> 14/09/2009 | B76: ="33.97" -> 33.97 | C76: ="33.994" -> 33.994
A77: ="15/09/2009" -> 15/09/2009 | B77: ="33.95" -> 33.95 | C77: ="33.974" -> 33.974
A78: ="16/09/2009" -> 16/09/2009 | B78: ="33.835" -> 33.835 | C78: ="33.858" -> 33.858
A79: ="17/09/2009" -> 17/09/2009 | B79: ="33.68" -> 33.68 | C79: ="33.7025" -> 33.7025
A80: ="18/09/2009" -> 18/09/2009 | B80: ="33.72" -> 33.72 | C80: ="33.743" -> 33.743
A81: ="22/09/2009" -> 22/09/2009 | B81: ="33.69" -> 33.69 | C81: ="33.714" -> 33.714
A82: ="23/09/2009" -> 23/09/2009 | B82: ="33.52" -> 33.52 | C82: ="33.545" -> 33.545
A83: ="24/09/2009" -> 24/09/2009 | B83: ="33.60" -> 33.60 | C83: ="33.623" -> 33.623
A84: ="25/09/2009" -> 25/09/2009 | B84: ="33.67" -> 33.67 | C84: ="33.693" -> 33.693
A85: ="29/09/2009" -> 29/09/2009 | B85: ="33.60" -> 33.60 | C85: ="33.622" -> 33.622
A86: ="01/10/2009" -> 01/10/2009 | B86: ="33.44" -> 33.44 | C86: ="33.463" -> 33.463
A87: ="05/10/2009" -> 05/10/2009 | B87: ="33.45" -> 33.45 | C87: ="33.473" -> 33.473
A88: ="06/10/2009" -> 06/10/2009 | B88: ="33.37" -> 33.37 | C88: ="33.395" -> 33.395
A89: ="07/10/2009" -> 07/10/2009 | B89: ="33.38" -> 33.38 | C89: ="33.4035" -> 33.4035
A90: ="08/10/2009" -> 08/10/2009 | B90: ="33.325" -> 33.325 | C90: ="33.355" -> 33.355
A91: ="09/10/2009" -> 09/10/2009 | B91: ="33.34" -> 33.34 | C91: ="33.362" -> 33.362
A92: ="12/10/2009" -> 12/10/2009 | B92: ="33.37" -> 33.37 | C92: ="33.393" -> 33.393
A93: ="14/10/2009" -> 14/10/2009 | B93: ="33.27" -> 33.27 | C93: ="33.292" -> 33.292
A94: ="15/10/2009" -> 15/10/2009 | B94: ="33.40" -> 33.40 | C94: ="33.4215" -> 33.4215
A95: ="16/10/2009" -> 16/10/2009 | B95: ="33.48" -> 33.48 | C95: ="33.502" -> 33.502
A96: ="20/10/2009" -> 20/10/2009 | B96: ="33.35" -> 33.35 | C96: ="33.372" -> 33.372
A97: ="21/10/2009" -> 21/10/2009 | B97: ="33.48" -> 33.48 | C97: ="33.502" -> 33.502
A98: ="22/10/2009" -> 22/10/2009 | B98: ="33.48" -> 33.48 | C98: ="33.502" -> 33.502
A99: ="23/10/2009" -> 23/10/2009 | B99: ="33.47" -> 33.47 | C99: ="33.493" -> 33.493
A100: ="26/10/2009" -> 26/10/2009 | B100: ="33.42" -> 33.42 | C100: ="33.443" -> 33.443
A101: ="27/10/2009" -> 27/10/2009 | B101: ="33.475" -> 33.475 | C101: ="33.498" -> 33.498
...

Sheet TWD
A2: ="29/05/2009" -> 29/05/2009 | B2: ="32.55" -> 32.55 | C2: ="32.55" -> 32.55
A3: ="01/06/2009" -> 01/06/2009 | B3: ="32.364" -> 32.364 | C3: ="32.364" -> 32.364
A4: ="02/06/2009" -> 02/06/2009 | B4: ="32.32" -> 32.32 | C4: ="32.3199" -> 32.3199
A5: ="03/06/2009" -> 03/06/2009 | B5: ="32.50" -> 32.50 | C5: ="32.4999" -> 32.4999
A6: ="04/06/2009" -> 04/06/2009 | B6: ="32.668" -> 32.668 | C6: ="32.6679" -> 32.6679
A7: ="05/06/2009" -> 05/06/2009 | B7: ="32.554" -> 32.554 | C7: ="32.5539" -> 32.5539
A8: ="08/06/2009" -> 08/06/2009 | B8: ="32.824" -> 32.824 | C8: ="32.8239" -> 32.8239
A9: ="09/06/2009" -> 09/06/2009 | B9: ="32.923" -> 32.923 | C9: ="32.9229" -> 32.9229
A10: ="10/06/2009" -> 10/06/2009 | B10: ="32.728" -> 32.728 | C10: ="32.7279" -> 32.7279
A11: ="11/06/2009" -> 11/06/2009 | B11: ="32.719" -> 32.719 | C11: ="32.7189" -> 32.7189
A12: ="12/06/2009" -> 12/06/2009 | B12: ="32.757" -> 32.757 | C12: ="32.7569" -> 32.7569
A13: ="15/06/2009" -> 15/06/2009 | B13: ="32.891" -> 32.891 | C13: ="32.8909" -> 32.8909
A14: ="16/06/2009" -> 16/06/2009 | B14: ="32.935" -> 32.935 | C14: ="32.9349" -> 32.9349
A15: ="17/06/2009" -> 17/06/2009 | B15: ="32.902" -> 32.902 | C15: ="32.9019" -> 32.9019
A16: ="18/06/2009" -> 18/06/2009 | B16: ="32.92" -> 32.92 | C16: ="32.9199" -> 32.9199
A17: ="19/06/2009" -> 19/06/2009 | B17: ="32.87" -> 32.87 | C17: ="32.8699" -> 32.8699
A18: ="22/06/2009" -> 22/06/2009 | B18: ="32.90" -> 32.90 | C18: ="32.8999" -> 32.8999
A19: ="23/06/2009" -> 23/06/2009 | B19: ="32.955" -> 32.955 | C19: ="32.9549" -> 32.9549
A20: ="24/06/2009" -> 24/06/2009 | B20: ="32.866" -> 32.866 | C20: ="32.8659" -> 32.8659
A21: ="25/06/2009" -> 25/06/2009 | B21: ="32.865" -> 32.865 | C21: ="32.8649" -> 32.8649
A22: ="26/06/2009" -> 26/06/2009 | B22: ="32.944" -> 32.944 | C22: ="32.944" -> 32.944
A23: ="29/06/2009" -> 29/06/2009 | B23: ="32.925" -> 32.925 | C23: ="32.925" -> 32.925
A24: ="30/06/2009" -> 30/06/2009 | B24: ="32.858" -> 32.858 | C24: ="32.8579" -> 32.8579
A25: ="01/07/2009" -> 01/07/2009 | B25: ="32.759" -> 32.759 | C25: ="32.7589" -> 32.7589
A26: ="03/07/2009" -> 03/07/2009 | B26: ="32.905" -> 32.905 | C26: ="32.9041" -> 32.9041
A27: ="06/07/2009" -> 06/07/2009 | B27: ="32.932" -> 32.932 | C27: ="32.9319" -> 32.9319
A28: ="07/07/2009" -> 07/07/2009 | B28: ="32.98" -> 32.98 | C28: ="32.9799" -> 32.9799
A29: ="08/07/2009" -> 08/07/2009 | B29: ="33.049" -> 33.049 | C29: ="33.0489" -> 33.0489
A30: ="09/07/2009" -> 09/07/2009 | B30: ="33.003" -> 33.003 | C30: ="33.0029" -> 33.0029
A31: ="10/07/2009" -> 10/07/2009 | B31: ="32.997" -> 32.997 | C31: ="32.9969" -> 32.9969
A32: ="13/07/2009" -> 13/07/2009 | B32: ="33.14" -> 33.14 | C32: ="33.1399" -> 33.1399
A33: ="14/07/2009" -> 14/07/2009 | B33: ="33.085" -> 33.085 | C33: ="33.0849" -> 33.0849
A34: ="15/07/2009" -> 15/07/2009 | B34: ="32.985" -> 32.985 | C34: ="32.9849" -> 32.9849
A35: ="16/07/2009" -> 16/07/2009 | B35: ="32.924" -> 32.924 | C35: ="32.9239" -> 32.9239
A36: ="17/07/2009" -> 17/07/2009 | B36: ="32.947" -> 32.947 | C36: ="32.9469" -> 32.9469
A37: ="20/07/2009" -> 20/07/2009 | B37: ="32.83" -> 32.83 | C37: ="32.8299" -> 32.8299
A38: ="21/07/2009" -> 21/07/2009 | B38: ="32.80" -> 32.80 | C38: ="32.7999" -> 32.7999
A39: ="22/07/2009" -> 22/07/2009 | B39: ="32.803" -> 32.803 | C39: ="32.8018" -> 32.8018
A40: ="23/07/2009" -> 23/07/2009 | B40: ="32.82" -> 32.82 | C40: ="32.8199" -> 32.8199
A41: ="24/07/2009" -> 24/07/2009 | B41: ="32.796" -> 32.796 | C41: ="32.7959" -> 32.7959
A42: ="27/07/2009" -> 27/07/2009 | B42: ="32.847" -> 32.847 | C42: ="32.8469" -> 32.8469
A43: ="28/07/2009" -> 28/07/2009 | B43: ="32.768" -> 32.768 | C43: ="32.7679" -> 32.7679
A44: ="29/07/2009" -> 29/07/2009 | B44: ="32.84" -> 32.84 | C44: ="32.8399" -> 32.8399
A45: ="30/07/2009" -> 30/07/2009 | B45: ="32.868" -> 32.868 | C45: ="32.8679" -> 32.8679
A46: ="31/07/2009" -> 31/07/2009 | B46: ="32.765" -> 32.765 | C46: ="32.7649" -> 32.7649
A47: ="03/08/2009" -> 03/08/2009 | B47: ="32.767" -> 32.767 | C47: ="32.7669" -> 32.7669
A48: ="04/08/2009" -> 04/08/2009 | B48: ="32.686" -> 32.686 | C48: ="32.6859" -> 32.6859
A49: ="05/08/2009" -> 05/08/2009 | B49: ="32.68" -> 32.68 | C49: ="32.6799" -> 32.6799
A50: ="06/08/2009" -> 06/08/2009 | B50: ="32.74" -> 32.74 | C50: ="32.74" -> 32.74
A51: ="07/08/2009" -> 07/08/2009 | B51: ="32.793" -> 32.793 | C51: ="32.793" -> 32.793
A52: ="10/08/2009" -> 10/08/2009 | B52: ="32.812" -> 32.812 | C52: ="32.8119" -> 32.8119
A53: ="11/08/2009" -> 11/08/2009 | B53: ="32.88" -> 32.88 | C53: ="32.8799" -> 32.8799
A54: ="12/08/2009" -> 12/08/2009 | B54: ="32.893" -> 32.893 | C54: ="32.8929" -> 32.8929
A55: ="13/08/2009" -> 13/08/2009 | B55: ="32.914" -> 32.914 | C55: ="32.914" -> 32.914
A56: ="14/08/2009" -> 14/08/2009 | B56: ="32.892" -> 32.892 | C56: ="32.8919" -> 32.8919
A57: ="17/08/2009" -> 17/08/2009 | B57: ="32.927" -> 32.927 | C57: ="32.927" -> 32.927
A58: ="18/08/2009" -> 18/08/2009 | B58: ="32.988" -> 32.988 | C58: ="32.988" -> 32.988
A59: ="20/08/2009" -> 20/08/2009 | B59: ="32.989" -> 32.989 | C59: ="32.989" -> 32.989
A60: ="21/08/2009" -> 21/08/2009 | B60: ="32.92" -> 32.92 | C60: ="32.9199" -> 32.9199
A61: ="24/08/2009" -> 24/08/2009 | B61: ="32.835" -> 32.835 | C61: ="32.8349" -> 32.8349
A62: ="25/08/2009" -> 25/08/2009 | B62: ="32.906" -> 32.906 | C62: ="32.906" -> 32.906
A63: ="26/08/2009" -> 26/08/2009 | B63: ="32.928" -> 32.928 | C63: ="32.928" -> 32.928
A64: ="27/08/2009" -> 27/08/2009 | B64: ="32.937" -> 32.937 | C64: ="32.9369" -> 32.9369
A65: ="28/08/2009" -> 28/08/2009 | B65: ="32.864" -> 32.864 | C65: ="32.8639" -> 32.8639
A66: ="31/08/2009" -> 31/08/2009 | B66: ="32.915" -> 32.915 | C66: ="32.9149" -> 32.9149
A67: ="01/09/2009" -> 01/09/2009 | B67: ="32.878" -> 32.878 | C67: ="32.8779" -> 32.8779
A68: ="02/09/2009" -> 02/09/2009 | B68: ="32.8915" -> 32.8915 | C68: ="32.8915" -> 32.8915
A69: ="03/09/2009" -> 03/09/2009 | B69: ="32.882" -> 32.882 | C69: ="32.8819" -> 32.8819
A70: ="04/09/2009" -> 04/09/2009 | B70: ="32.915" -> 32.915 | C70: ="32.9149" -> 32.9149
A71: ="07/09/2009" -> 07/09/2009 | B71: ="32.838" -> 32.838 | C71: ="32.838" -> 32.838
A72: ="08/09/2009" -> 08/09/2009 | B72: ="32.805" -> 32.805 | C72: ="32.8049" -> 32.8049
A73: ="09/09/2009" -> 09/09/2009 | B73: ="32.69" -> 32.69 | C73: ="32.69" -> 32.69
A74: ="10/09/2009" -> 10/09/2009 | B74: ="32.673" -> 32.673 | C74: ="32.6729" -> 32.6729
A75: ="11/09/2009" -> 11/09/2009 | B75: ="32.632" -> 32.632 | C75: ="32.6319" -> 32.6319
A76: ="14/09/2009" -> 14/09/2009 | B76: ="32.642" -> 32.642 | C76: ="32.642" -> 32.642
A77: ="15/09/2009" -> 15/09/2009 | B77: ="32.641" -> 32.641 | C77: ="32.6409" -> 32.6409
A78: ="16/09/2009" -> 16/09/2009 | B78: ="32.565" -> 32.565 | C78: ="32.5649" -> 32.5649
A79: ="17/09/2009" -> 17/09/2009 | B79: ="32.367" -> 32.367 | C79: ="32.3669" -> 32.3669
A80: ="18/09/2009" -> 18/09/2009 | B80: ="32.439" -> 32.439 | C80: ="32.4389" -> 32.4389
A81: ="22/09/2009" -> 22/09/2009 | B81: ="32.372" -> 32.372 | C81: ="32.3719" -> 32.3719
A82: ="23/09/2009" -> 23/09/2009 | B82: ="32.345" -> 32.345 | C82: ="32.3449" -> 32.3449
A83: ="24/09/2009" -> 24/09/2009 | B83: ="32.425" -> 32.425 | C83: ="32.4249" -> 32.4249
A84: ="25/09/2009" -> 25/09/2009 | B84: ="32.448" -> 32.448 | C84: ="32.4479" -> 32.4479
A85: ="29/09/2009" -> 29/09/2009 | B85: ="32.387" -> 32.387 | C85: ="32.387" -> 32.387
A86: ="01/10/2009" -> 01/10/2009 | B86: ="32.129" -> 32.129 | C86: ="32.1289" -> 32.1289
A87: ="05/10/2009" -> 05/10/2009 | B87: ="32.262" -> 32.262 | C87: ="32.2619" -> 32.2619
A88: ="06/10/2009" -> 06/10/2009 | B88: ="32.138" -> 32.138 | C88: ="32.1379" -> 32.1379
A89: ="07/10/2009" -> 07/10/2009 | B89: ="32.183" -> 32.183 | C89: ="32.1829" -> 32.1829
A90: ="08/10/2009" -> 08/10/2009 | B90: ="32.133" -> 32.133 | C90: ="32.1329" -> 32.1329
A91: ="09/10/2009" -> 09/10/2009 | B91: ="32.23" -> 32.23 | C91: ="32.2299" -> 32.2299
A92: ="12/10/2009" -> 12/10/2009 | B92: ="32.272" -> 32.272 | C92: ="32.2719" -> 32.2719
A93: ="14/10/2009" -> 14/10/2009 | B93: ="32.248" -> 32.248 | C93: ="32.2479" -> 32.2479
A94: ="15/10/2009" -> 15/10/2009 | B94: ="32.216" -> 32.216 | C94: ="32.2159" -> 32.2159
A95: ="16/10/2009" -> 16/10/2009 | B95: ="32.265" -> 32.265 | C95: ="32.2649" -> 32.2649
A96: ="20/10/2009" -> 20/10/2009 | B96: ="32.265" -> 32.265 | C96: ="32.2649" -> 32.2649
A97: ="21/10/2009" -> 21/10/2009 | B97: ="32.366" -> 32.366 | C97: ="32.3659" -> 32.3659
A98: ="22/10/2009" -> 22/10/2009 | B98: ="32.388" -> 32.388 | C98: ="32.388" -> 32.388
A99: ="23/10/2009" -> 23/10/2009 | B99: ="32.409" -> 32.409 | C99: ="32.4089" -> 32.4089
A100: ="26/10/2009" -> 26/10/2009 | B100: ="32.381" -> 32.381 | C100: ="32.3809" -> 32.3809
A101: ="27/10/2009" -> 27/10/2009 | B101: ="32.47" -> 32.47 | C101: ="32.47" -> 32.47
...

Sheet ZAR
A2: ="29/05/2009" -> 29/05/2009 | B2: ="8.0713" -> 8.0713 | C2: ="8.1205" -> 8.1205
A3: ="01/06/2009" -> 01/06/2009 | B3: ="7.9716" -> 7.9716 | C3: ="8.0208" -> 8.0208
A4: ="02/06/2009" -> 02/06/2009 | B4: ="8.017" -> 8.017 | C4: ="8.0661" -> 8.0661
A5: ="03/06/2009" -> 03/06/2009 | B5: ="8.0013" -> 8.0013 | C5: ="8.0534" -> 8.0534
A6: ="04/06/2009" -> 04/06/2009 | B6: ="8.0913" -> 8.0913 | C6: ="8.1408" -> 8.1408
A7: ="05/06/2009" -> 05/06/2009 | B7: ="8.0405" -> 8.0405 | C7: ="8.0891" -> 8.0891
A8: ="08/06/2009" -> 08/06/2009 | B8: ="8.1138" -> 8.1138 | C8: ="8.1625" -> 8.1625
A9: ="09/06/2009" -> 09/06/2009 | B9: ="8.1766" -> 8.1766 | C9: ="8.2251" -> 8.2251
A10: ="10/06/2009" -> 10/06/2009 | B10: ="8.121" -> 8.121 | C10: ="8.1727" -> 8.1727
A11: ="11/06/2009" -> 11/06/2009 | B11: ="8.0836" -> 8.0836 | C11: ="8.1333" -> 8.1333
A12: ="12/06/2009" -> 12/06/2009 | B12: ="7.9782" -> 7.9782 | C12: ="8.025" -> 8.025
A13: ="15/06/2009" -> 15/06/2009 | B13: ="8.0424" -> 8.0424 | C13: ="8.0895" -> 8.0895
A14: ="16/06/2009" -> 16/06/2009 | B14: ="8.1454" -> 8.1454 | C14: ="8.1956" -> 8.1956
A15: ="17/06/2009" -> 17/06/2009 | B15: ="8.0898" -> 8.0898 | C15: ="8.1404" -> 8.1404
A16: ="18/06/2009" -> 18/06/2009 | B16: ="8.0611" -> 8.0611 | C16: ="8.1102" -> 8.1102
A17: ="19/06/2009" -> 19/06/2009 | B17: ="8.1675" -> 8.1675 | C17: ="8.2145" -> 8.2145
A18: ="22/06/2009" -> 22/06/2009 | B18: ="8.1297" -> 8.1297 | C18: ="8.1772" -> 8.1772
A19: ="23/06/2009" -> 23/06/2009 | B19: ="8.239" -> 8.239 | C19: ="8.2871" -> 8.2871
A20: ="24/06/2009" -> 24/06/2009 | B20: ="8.1857" -> 8.1857 | C20: ="8.2362" -> 8.2362
A21: ="25/06/2009" -> 25/06/2009 | B21: ="8.0812" -> 8.0812 | C21: ="8.13" -> 8.13
A22: ="26/06/2009" -> 26/06/2009 | B22: ="8.0265" -> 8.0265 | C22: ="8.0782" -> 8.0782
A23: ="29/06/2009" -> 29/06/2009 | B23: ="7.9462" -> 7.9462 | C23: ="7.9972" -> 7.9972
A24: ="30/06/2009" -> 30/06/2009 | B24: ="7.8364" -> 7.8364 | C24: ="7.8892" -> 7.8892
A25: ="01/07/2009" -> 01/07/2009 | B25: ="7.7815" -> 7.7815 | C25: ="7.8319" -> 7.8319
A26: ="03/07/2009" -> 03/07/2009 | B26: ="7.8788" -> 7.8788 | C26: ="7.9285" -> 7.9285
A27: ="06/07/2009" -> 06/07/2009 | B27: ="7.9673" -> 7.9673 | C27: ="8.0173" -> 8.0173
A28: ="07/07/2009" -> 07/07/2009 | B28: ="7.9872" -> 7.9872 | C28: ="8.0404" -> 8.0404
A29: ="08/07/2009" -> 08/07/2009 | B29: ="8.13" -> 8.13 | C29: ="8.1829" -> 8.1829
A30: ="09/07/2009" -> 09/07/2009 | B30: ="8.1998" -> 8.1998 | C30: ="8.2521" -> 8.2521
A31: ="10/07/2009" -> 10/07/2009 | B31: ="8.1513" -> 8.1513 | C31: ="8.2034" -> 8.2034
A32: ="13/07/2009" -> 13/07/2009 | B32: ="8.241" -> 8.241 | C32: ="8.2932" -> 8.2932
A33: ="14/07/2009" -> 14/07/2009 | B33: ="8.2605" -> 8.2605 | C33: ="8.3171" -> 8.3171
A34: ="15/07/2009" -> 15/07/2009 | B34: ="8.2065" -> 8.2065 | C34: ="8.2588" -> 8.2588
A35: ="16/07/2009" -> 16/07/2009 | B35: ="8.169" -> 8.169 | C35: ="8.2206" -> 8.2206
A36: ="17/07/2009" -> 17/07/2009 | B36: ="8.13" -> 8.13 | C36: ="8.182" -> 8.182
A37: ="20/07/2009" -> 20/07/2009 | B37: ="8.0642" -> 8.0642 | C37: ="8.1166" -> 8.1166
A38: ="21/07/2009" -> 21/07/2009 | B38: ="7.9075" -> 7.9075 | C38: ="7.9623" -> 7.9623
A39: ="22/07/2009" -> 22/07/2009 | B39: ="7.858" -> 7.858 | C39: ="7.9099" -> 7.9099
A40: ="23/07/2009" -> 23/07/2009 | B40: ="7.759" -> 7.759 | C40: ="7.8091" -> 7.8091
A41: ="24/07/2009" -> 24/07/2009 | B41: ="7.747" -> 7.747 | C41: ="7.7965" -> 7.7965
A42: ="27/07/2009" -> 27/07/2009 | B42: ="7.7622" -> 7.7622 | C42: ="7.8112" -> 7.8112
A43: ="28/07/2009" -> 28/07/2009 | B43: ="7.8111" -> 7.8111 | C43: ="7.8626" -> 7.8626
A44: ="29/07/2009" -> 29/07/2009 | B44: ="7.8908" -> 7.8908 | C44: ="7.9409" -> 7.9409
A45: ="30/07/2009" -> 30/07/2009 | B45: ="7.9249" -> 7.9249 | C45: ="7.9751" -> 7.9751
A46: ="31/07/2009" -> 31/07/2009 | B46: ="7.8249" -> 7.8249 | C46: ="7.8741" -> 7.8741
A47: ="03/08/2009" -> 03/08/2009 | B47: ="7.7977" -> 7.7977 | C47: ="7.8463" -> 7.8463
A48: ="04/08/2009" -> 04/08/2009 | B48: ="7.7653" -> 7.7653 | C48: ="7.8171" -> 7.8171
A49: ="05/08/2009" -> 05/08/2009 | B49: ="7.8562" -> 7.8562 | C49: ="7.9066" -> 7.9066
A50: ="06/08/2009" -> 06/08/2009 | B50: ="7.94" -> 7.94 | C50: ="7.9901" -> 7.9901
A51: ="07/08/2009" -> 07/08/2009 | B51: ="8.0612" -> 8.0612 | C51: ="8.1134" -> 8.1134
A52: ="10/08/2009" -> 10/08/2009 | B52: ="8.00" -> 8.00 | C52: ="8.0535" -> 8.0535
A53: ="11/08/2009" -> 11/08/2009 | B53: ="8.1218" -> 8.1218 | C53: ="8.1753" -> 8.1753
A54: ="12/08/2009" -> 12/08/2009 | B54: ="8.1363" -> 8.1363 | C54: ="8.188" -> 8.188
A55: ="13/08/2009" -> 13/08/2009 | B55: ="8.0563" -> 8.0563 | C55: ="8.1072" -> 8.1072
A56: ="14/08/2009" -> 14/08/2009 | B56: ="8.0128" -> 8.0128 | C56: ="8.0612" -> 8.0612
A57: ="17/08/2009" -> 17/08/2009 | B57: ="8.1382" -> 8.1382 | C57: ="8.1869" -> 8.1869
A58: ="18/08/2009" -> 18/08/2009 | B58: ="8.1211" -> 8.1211 | C58: ="8.174" -> 8.174
A59: ="20/08/2009" -> 20/08/2009 | B59: ="8.0277" -> 8.0277 | C59: ="8.0788" -> 8.0788
A60: ="21/08/2009" -> 21/08/2009 | B60: ="7.9795" -> 7.9795 | C60: ="8.0282" -> 8.0282
A61: ="24/08/2009" -> 24/08/2009 | B61: ="7.8463" -> 7.8463 | C61: ="7.8944" -> 7.8944
A62: ="25/08/2009" -> 25/08/2009 | B62: ="7.8617" -> 7.8617 | C62: ="7.9117" -> 7.9117
A63: ="26/08/2009" -> 26/08/2009 | B63: ="7.8478" -> 7.8478 | C63: ="7.8957" -> 7.8957
A64: ="27/08/2009" -> 27/08/2009 | B64: ="7.8859" -> 7.8859 | C64: ="7.9323" -> 7.9323
A65: ="28/08/2009" -> 28/08/2009 | B65: ="7.7962" -> 7.7962 | C65: ="7.8424" -> 7.8424
A66: ="31/08/2009" -> 31/08/2009 | B66: ="7.8189" -> 7.8189 | C66: ="7.8648" -> 7.8648
A67: ="01/09/2009" -> 01/09/2009 | B67: ="7.7916" -> 7.7916 | C67: ="7.8363" -> 7.8363
A68: ="02/09/2009" -> 02/09/2009 | B68: ="7.9009" -> 7.9009 | C68: ="7.9482" -> 7.9482
A69: ="03/09/2009" -> 03/09/2009 | B69: ="7.8227" -> 7.8227 | C69: ="7.8701" -> 7.8701
A70: ="04/09/2009" -> 04/09/2009 | B70: ="7.6987" -> 7.6987 | C70: ="7.7439" -> 7.7439
A71: ="07/09/2009" -> 07/09/2009 | B71: ="7.6523" -> 7.6523 | C71: ="7.6972" -> 7.6972
A72: ="08/09/2009" -> 08/09/2009 | B72: ="7.6149" -> 7.6149 | C72: ="7.659" -> 7.659
A73: ="09/09/2009" -> 09/09/2009 | B73: ="7.546" -> 7.546 | C73: ="7.595" -> 7.595
A74: ="10/09/2009" -> 10/09/2009 | B74: ="7.5628" -> 7.5628 | C74: ="7.6079" -> 7.6079
A75: ="11/09/2009" -> 11/09/2009 | B75: ="7.5778" -> 7.5778 | C75: ="7.6258" -> 7.6258
A76: ="14/09/2009" -> 14/09/2009 | B76: ="7.5347" -> 7.5347 | C76: ="7.5811" -> 7.5811
A77: ="15/09/2009" -> 15/09/2009 | B77: ="7.4828" -> 7.4828 | C77: ="7.5263" -> 7.5263
A78: ="16/09/2009" -> 16/09/2009 | B78: ="7.4168" -> 7.4168 | C78: ="7.4629" -> 7.4629
A79: ="17/09/2009" -> 17/09/2009 | B79: ="7.355" -> 7.355 | C79: ="7.3958" -> 7.3958
A80: ="18/09/2009" -> 18/09/2009 | B80: ="7.4293" -> 7.4293 | C80: ="7.4723" -> 7.4723
A81: ="22/09/2009" -> 22/09/2009 | B81: ="7.4728" -> 7.4728 | C81: ="7.5144" -> 7.5144
A82: ="23/09/2009" -> 23/09/2009 | B82: ="7.3883" -> 7.3883 | C82: ="7.4313" -> 7.4313
A83: ="24/09/2009" -> 24/09/2009 | B83: ="7.4692" -> 7.4692 | C83: ="7.5157" -> 7.5157
A84: ="25/09/2009" -> 25/09/2009 | B84: ="7.4949" -> 7.4949 | C84: ="7.5398" -> 7.5398
A85: ="29/09/2009" -> 29/09/2009 | B85: ="7.4406" -> 7.4406 | C85: ="7.4842" -> 7.4842
A86: ="01/10/2009" -> 01/10/2009 | B86: ="7.5437" -> 7.5437 | C86: ="7.5888" -> 7.5888
A87: ="05/10/2009" -> 05/10/2009 | B87: ="7.62" -> 7.62 | C87: ="7.6649" -> 7.6649
A88: ="06/10/2009" -> 06/10/2009 | B88: ="7.495" -> 7.495 | C88: ="7.542" -> 7.542
A89: ="07/10/2009" -> 07/10/2009 | B89: ="7.4525" -> 7.4525 | C89: ="7.497" -> 7.497
A90: ="08/10/2009" -> 08/10/2009 | B90: ="7.3847" -> 7.3847 | C90: ="7.4292" -> 7.4292
A91: ="09/10/2009" -> 09/10/2009 | B91: ="7.4049" -> 7.4049 | C91: ="7.4489" -> 7.4489
A92: ="12/10/2009" -> 12/10/2009 | B92: ="7.43" -> 7.43 | C92: ="7.475" -> 7.475
A93: ="14/10/2009" -> 14/10/2009 | B93: ="7.3285" -> 7.3285 | C93: ="7.3725" -> 7.3725
A94: ="15/10/2009" -> 15/10/2009 | B94: ="7.255" -> 7.255 | C94: ="7.2978" -> 7.2978
A95: ="16/10/2009" -> 16/10/2009 | B95: ="7.2875" -> 7.2875 | C95: ="7.3308" -> 7.3308
A96: ="20/10/2009" -> 20/10/2009 | B96: ="7.334" -> 7.334 | C96: ="7.3844" -> 7.3844
A97: ="21/10/2009" -> 21/10/2009 | B97: ="7.4106" -> 7.4106 | C97: ="7.4597" -> 7.4597
A98: ="22/10/2009" -> 22/10/2009 | B98: ="7.4253" -> 7.4253 | C98: ="7.4687" -> 7.4687
A99: ="23/10/2009" -> 23/10/2009 | B99: ="7.43" -> 7.43 | C99: ="7.4755" -> 7.4755
A100: ="26/10/2009" -> 26/10/2009 | B100: ="7.493" -> 7.493 | C100: ="7.5417" -> 7.5417
A101: ="27/10/2009" -> 27/10/2009 | B101: ="7.595" -> 7.595 | C101: ="7.643" -> 7.643
...
