Workbook
Name SUbshare_COM_Code: #REF!

Sheet Sector_Cust_Loc
A1: Cust_Code | B1: Sector | C1: Loc_Code | D1: Cust_Loc ID | E1: Cust_Loc_ID | F1: Sector_Cust_Loc_ID | G1: Subshare | H1: Alg | I1: Cnt
A2: CALCASIEU | B2: =VLOOKUP(A2,'GPCM-Cust'!$A$2:$C$874,3,FALSE) -> EXP | C2: M - CALCASIEU | D2: =CONCATENATE(A2,C2) -> CALCASIEUM - CALCASIEU | E2: 4095 | F2: =CONCATENATE(B2,E2) -> EXP4095 | G2: =VLOOKUP(Sector_Cust_Loc!D2,Customer!$D$2:$I$821,6,FALSE) -> #N/A | H2: 0 | I2: 0
A3: cIND098 | B3: =VLOOKUP(A3,'GPCM-Cust'!$A$2:$C$874,3,FALSE) -> IND | C3: M - NNBR - NS | D3: =CONCATENATE(A3,C3) -> cIND098M - NNBR - NS | E3: 3275 | F3: =CONCATENATE(B3,E3) -> IND3275 | G3: =VLOOKUP(Sector_Cust_Loc!D3,Customer!$D$2:$I$821,6,FALSE) -> #N/A | H3: 0 | I3: 0
A4: COM000 | B4: =VLOOKUP(A4,'GPCM-Cust'!$A$2:$C$874,3,FALSE) -> COM | C4: M - ALASKA | D4: =CONCATENATE(A4,C4) -> COM000M - ALASKA | E4: 3423 | F4: =CONCATENATE(B4,E4) -> COM3423 | G4: =VLOOKUP(Sector_Cust_Loc!D4,Customer!$D$2:$I$821,6,FALSE) -> #N/A | H4: 0 | I4: 0
A5: COM002 | B5: =VLOOKUP(A5,'GPCM-Cust'!$A$2:$C$874,3,FALSE) -> COM | C5: M - STHN - AL | D5: =CONCATENATE(A5,C5) -> COM002M - STHN - AL | E5: 3335 | F5: =CONCATENATE(B5,E5) -> COM3335 | G5: =VLOOKUP(Sector_Cust_Loc!D5,Customer!$D$2:$I$821,6,FALSE) -> 0.5621419 | H5: 0 | I5: 0
A6: COM008 | B6: =VLOOKUP(A6,'GPCM-Cust'!$A$2:$C$874,3,FALSE) -> COM | C6: M - ARLM - AR | D6: =CONCATENATE(A6,C6) -> COM008M - ARLM - AR | E6: 3351 | F6: =CONCATENATE(B6,E6) -> COM3351 | G6: =VLOOKUP(Sector_Cust_Loc!D6,Customer!$D$2:$I$821,6,FALSE) -> 0.054197311 | H6: 0 | I6: 0
A7: COM010 | B7: =VLOOKUP(A7,'GPCM-Cust'!$A$2:$C$874,3,FALSE) -> COM | C7: M - ARLM - AR | D7: =CONCATENATE(A7,C7) -> COM010M - ARLM - AR | E7: 3331 | F7: =CONCATENATE(B7,E7) -> COM3331 | G7: =VLOOKUP(Sector_Cust_Loc!D7,Customer!$D$2:$I$821,6,FALSE) -> 0.17203976 | H7: 0 | I7: 0
A8: COM012 | B8: =VLOOKUP(A8,'GPCM-Cust'!$A$2:$C$874,3,FALSE) -> COM | C8: M - ARLM - AR | D8: =CONCATENATE(A8,C8) -> COM012M - ARLM - AR | E8: 3332 | F8: =CONCATENATE(B8,E8) -> COM3332 | G8: =VLOOKUP(Sector_Cust_Loc!D8,Customer!$D$2:$I$821,6,FALSE) -> 0.77187818 | H8: 0 | I8: 0
A9: COM012 | B9: =VLOOKUP(A9,'GPCM-Cust'!$A$2:$C$874,3,FALSE) -> COM | C9: M - ARLM - LA | D9: =CONCATENATE(A9,C9) -> COM012M - ARLM - LA | E9: 3333 | F9: =CONCATENATE(B9,E9) -> COM3333 | G9: =VLOOKUP(Sector_Cust_Loc!D9,Customer!$D$2:$I$821,6,FALSE) -> 0.1514286 | H9: 0 | I9: 0
A10: COM012 | B10: =VLOOKUP(A10,'GPCM-Cust'!$A$2:$C$874,3,FALSE) -> COM | C10: M - SPPW - OK | D10: =CONCATENATE(A10,C10) -> COM012M - SPPW - OK | E10: 3362 | F10: =CONCATENATE(B10,E10) -> COM3362 | G10: =VLOOKUP(Sector_Cust_Loc!D10,Customer!$D$2:$I$821,6,FALSE) -> 0.13140374 | H10: 0 | I10: 0
A11: COM013 | B11: =VLOOKUP(A11,'GPCM-Cust'!$A$2:$C$874,3,FALSE) -> COM | C11: M - SPPN - KS | D11: =CONCATENATE(A11,C11) -> COM013M - SPPN - KS | E11: 3344 | F11: =CONCATENATE(B11,E11) -> COM3344 | G11: =VLOOKUP(Sector_Cust_Loc!D11,Customer!$D$2:$I$821,6,FALSE) -> 0.0604846 | H11: 0 | I11: 0
A12: COM016 | B12: =VLOOKUP(A12,'GPCM-Cust'!$A$2:$C$874,3,FALSE) -> COM | C12: M - STHN - GA | D12: =CONCATENATE(A12,C12) -> COM016M - STHN - GA | E12: 3337 | F12: =CONCATENATE(B12,E12) -> COM3337 | G12: =VLOOKUP(Sector_Cust_Loc!D12,Customer!$D$2:$I$821,6,FALSE) -> 0.79366088 | H12: 0 | I12: 0
A13: COM022 | B13: =VLOOKUP(A13,'GPCM-Cust'!$A$2:$C$874,3,FALSE) -> COM | C13: M - PJMS - MD | D13: =CONCATENATE(A13,C13) -> COM022M - PJMS - MD | E13: 3329 | F13: =CONCATENATE(B13,E13) -> COM3329 | G13: =VLOOKUP(Sector_Cust_Loc!D13,Customer!$D$2:$I$821,6,FALSE) -> 0.53909096 | H13: 0 | I13: 0
... A895: VEHMXYU | B895: =VLOOKUP(A895,'GPCM-Cust'!$A$2:$C$874,3,FALSE) -> VEH | C895: M - MXYU | D895: =CONCATENATE(A895,C895) -> VEHMXYUM - MXYU | E895: 4114 | F895: =CONCATENATE(B895,E895) -> VEH4114 | G895: =VLOOKUP(Sector_Cust_Loc!D895,Customer!$D$2:$I$821,6,FALSE) -> #N/A | H895: 0 | I895: 0

Sheet Customer
A1: Cust_Code | B1: Cust_Name | C1: Loc_Code | D1: Cust_Loc ID | E1: State | F1: Sub_State | G1: Sector | H1: Cust_State ID | I1: Subshare_COM | M1: COM | N1: VEH | O1: IND | P1: RES
A2: VEH163 | B2: AB:VEH Mkt | C2: M - SALB | D2: =CONCATENATE(A2,C2) -> VEH163M - SALB | E2: =VLOOKUP([1]Customer!C2,'Location Unique Code'!$A$2:$H$113,8,FALSE) -> AB | F2: =VLOOKUP(C2,'Location Unique Code'!$A$2:$B$113,2,FALSE) -> Alberta (South) | G2: VEH | H2: =CONCATENATE(B2,"-",F2) -> AB:VEH Mkt-Alberta (South) | I2: =VLOOKUP(H2,SubShare_All!$E$2:$F$698,2,FALSE) -> 1 | K2: COM | L2: AB | M2: =SUMIFS($I$2:$I$821,$E$2:$E$821,L2,$G$2:$G$821,$K$2) -> 1 | N2: =SUMIFS($I$2:$I$821,$E$2:$E$821,L2,$G$2:$G$821,$K$3) -> 1 | O2: =SUMIFS($I$2:$I$821,$E$2:$E$821,L2,$G$2:$G$821,$K$4) -> 1 | P2: =SUMIFS($I$2:$I$821,$E$2:$E$821,L2,$G$2:$G$821,$P$1) -> 1
A3: EXP002 | B3: AK Valdez LNG Exports | C3: M - JAPAN | D3: =CONCATENATE(A3,C3) -> EXP002M - JAPAN | E3: =VLOOKUP([1]Customer!C3,'Location Unique Code'!$A$2:$H$113,8,FALSE) -> JAPAN | F3: =VLOOKUP(C3,'Location Unique Code'!$A$2:$B$113,2,FALSE) -> Japan | G3: EXP | H3: =CONCATENATE(B3,"-",F3) -> AK Valdez LNG Exports-Japan | I3: =VLOOKUP(H3,SubShare_All!$E$2:$F$698,2,FALSE) -> #N/A | K3: VEH | L3: JAPAN | M3: =SUMIFS($I$2:$I$821,$E$2:$E$821,L3,$G$2:$G$821,$K$2) -> 0 | N3: =SUMIFS($I$2:$I$821,$E$2:$E$821,L3,$G$2:$G$821,$K$3) -> 0 | O3: =SUMIFS($I$2:$I$821,$E$2:$E$821,L3,$G$2:$G$821,$K$4) -> 0 | P3: =SUMIFS($I$2:$I$821,$E$2:$E$821,L3,$G$2:$G$821,$P$1) -> 0
A4: COM002 | B4: Alabama Gas Corp. (Alagasco): COM | C4: M - STHN - AL | D4: =CONCATENATE(A4,C4) -> COM002M - STHN - AL | E4: =VLOOKUP([1]Customer!C4,'Location Unique Code'!$A$2:$H$113,8,FALSE) -> AL | F4: =VLOOKUP(C4,'Location Unique Code'!$A$2:$B$113,2,FALSE) -> Alabama | G4: COM | H4: =CONCATENATE(B4,"-",F4) -> Alabama Gas Corp. (Alagasco): COM-Alabama | I4: =VLOOKUP(H4,SubShare_All!$E$2:$F$698,2,FALSE) -> 0.5621419 | K4: IND | L4: AL | M4: =SUMIFS($I$2:$I$821,$E$2:$E$821,L4,$G$2:$G$821,$K$2) -> 1 | N4: =SUMIFS($I$2:$I$821,$E$2:$E$821,L4,$G$2:$G$821,$K$3) -> 1 | O4: =SUMIFS($I$2:$I$821,$E$2:$E$821,L4,$G$2:$G$821,$K$4) -> 1 | P4: =SUMIFS($I$2:$I$821,$E$2:$E$821,L4,$G$2:$G$821,$P$1) -> 1
A5: RES002 | B5: Alabama Gas Corp. (Alagasco): RES | C5: M - STHN - AL | D5: =CONCATENATE(A5,C5) -> RES002M - STHN - AL | E5: =VLOOKUP([1]Customer!C5,'Location Unique Code'!$A$2:$H$113,8,FALSE) -> AL | F5: =VLOOKUP(C5,'Location Unique Code'!$A$2:$B$113,2,FALSE) -> Alabama | G5: RES | H5: =CONCATENATE(B5,"-",F5) -> Alabama Gas Corp. (Alagasco): RES-Alabama | I5: =VLOOKUP(H5,SubShare_All!$E$2:$F$698,2,FALSE) -> 0.58766077 | K5: RES | L5: AK | M5: =SUMIFS($I$2:$I$821,$E$2:$E$821,L5,$G$2:$G$821,$K$2) -> 0.15746302 | N5: =SUMIFS($I$2:$I$821,$E$2:$E$821,L5,$G$2:$G$821,$K$3) -> 0 | O5: =SUMIFS($I$2:$I$821,$E$2:$E$821,L5,$G$2:$G$821,$K$4) -> 1 | P5: =SUMIFS($I$2:$I$821,$E$2:$E$821,L5,$G$2:$G$821,$P$1) -> 1
A6: MK151 | B6: Alabama Power: Gas-fired Gen | C6: M - STHN - AL | D6: =CONCATENATE(A6,C6) -> MK151M - STHN - AL | E6: =VLOOKUP([1]Customer!C6,'Location Unique Code'!$A$2:$H$113,8,FALSE) -> AL | F6: =VLOOKUP(C6,'Location Unique Code'!$A$2:$B$113,2,FALSE) -> Alabama | G6: ELC | H6: =CONCATENATE(B6,"-",F6) -> Alabama Power: Gas-fired Gen-Alabama | I6: =VLOOKUP(H6,SubShare_All!$E$2:$F$698,2,FALSE) -> #N/A | L6: IL | M6: =SUMIFS($I$2:$I$821,$E$2:$E$821,L6,$G$2:$G$821,$K$2) -> 1 | N6: =SUMIFS($I$2:$I$821,$E$2:$E$821,L6,$G$2:$G$821,$K$3) -> 1 | O6: =SUMIFS($I$2:$I$821,$E$2:$E$821,L6,$G$2:$G$821,$K$4) -> 1 | P6: =SUMIFS($I$2:$I$821,$E$2:$E$821,L6,$G$2:$G$821,$P$1) -> 1
A7: IND094 | B7: Alabama: Ind Gas Mkt | C7: M - STHN - AL | D7: =CONCATENATE(A7,C7) -> IND094M - STHN - AL | E7: =VLOOKUP([1]Customer!C7,'Location Unique Code'!$A$2:$H$113,8,FALSE) -> AL | F7: =VLOOKUP(C7,'Location Unique Code'!$A$2:$B$113,2,FALSE) -> Alabama | G7: IND | H7: =CONCATENATE(B7,"-",F7) -> Alabama: Ind Gas Mkt-Alabama | I7: =VLOOKUP(H7,SubShare_All!$E$2:$F$698,2,FALSE) -> 1 | L7: MO | M7: =SUMIFS($I$2:$I$821,$E$2:$E$821,L7,$G$2:$G$821,$K$2) -> 1 | N7: =SUMIFS($I$2:$I$821,$E$2:$E$821,L7,$G$2:$G$821,$K$3) -> 1 | O7: =SUMIFS($I$2:$I$821,$E$2:$E$821,L7,$G$2:$G$821,$K$4) -> 1 | P7: =SUMIFS($I$2:$I$821,$E$2:$E$821,L7,$G$2:$G$821,$P$1) -> 1
A8: COMx01 | B8: Alabama: Other LDC Gas Sales: COM | C8: M - STHN - AL | D8: =CONCATENATE(A8,C8) -> COMx01M - STHN - AL | E8: =VLOOKUP([1]Customer!C8,'Location Unique Code'!$A$2:$H$113,8,FALSE) -> AL | F8: =VLOOKUP(C8,'Location Unique Code'!$A$2:$B$113,2,FALSE) -> Alabama | G8: COM | H8: =CONCATENATE(B8,"-",F8) -> Alabama: Other LDC Gas Sales: COM-Alabama | I8: =VLOOKUP(H8,SubShare_All!$E$2:$F$698,2,FALSE) -> 0.26581508 | L8: AZ | M8: =SUMIFS($I$2:$I$821,$E$2:$E$821,L8,$G$2:$G$821,$K$2) -> 1 | N8: =SUMIFS($I$2:$I$821,$E$2:$E$821,L8,$G$2:$G$821,$K$3) -> 1 | O8: =SUMIFS($I$2:$I$821,$E$2:$E$821,L8,$G$2:$G$821,$K$4) -> 1 | P8: =SUMIFS($I$2:$I$821,$E$2:$E$821,L8,$G$2:$G$821,$P$1) -> 1
A9: RESx01 | B9: Alabama: Other LDC Gas Sales: RES | C9: M - STHN - AL | D9: =CONCATENATE(A9,C9) -> RESx01M - STHN - AL | E9: =VLOOKUP([1]Customer!C9,'Location Unique Code'!$A$2:$H$113,8,FALSE) -> AL | F9: =VLOOKUP(C9,'Location Unique Code'!$A$2:$B$113,2,FALSE) -> Alabama | G9: RES | H9: =CONCATENATE(B9,"-",F9) -> Alabama: Other LDC Gas Sales: RES-Alabama | I9: =VLOOKUP(H9,SubShare_All!$E$2:$F$698,2,FALSE) -> 0.24281266 | L9: AR | M9: =SUMIFS($I$2:$I$821,$E$2:$E$821,L9,$G$2:$G$821,$K$2) -> 1 | N9: =SUMIFS($I$2:$I$821,$E$2:$E$821,L9,$G$2:$G$821,$K$3) -> 1 | O9: =SUMIFS($I$2:$I$821,$E$2:$E$821,L9,$G$2:$G$821,$K$4) -> 1 | P9: =SUMIFS($I$2:$I$821,$E$2:$E$821,L9,$G$2:$G$821,$P$1) -> 1
A10: VEH094 | B10: Alabama: veh Gas Mkt | C10: M - STHN - AL | D10: =CONCATENATE(A10,C10) -> VEH094M - STHN - AL | E10: =VLOOKUP([1]Customer!C10,'Location Unique Code'!$A$2:$H$113,8,FALSE) -> AL | F10: =VLOOKUP(C10,'Location Unique Code'!$A$2:$B$113,2,FALSE) -> Alabama | G10: VEH | H10: =CONCATENATE(B10,"-",F10) -> Alabama: veh Gas Mkt-Alabama | I10: =VLOOKUP(H10,SubShare_All!$E$2:$F$698,2,FALSE) -> 1 | L10: GA | M10: =SUMIFS($I$2:$I$821,$E$2:$E$821,L10,$G$2:$G$821,$K$2) -> 1 | N10: =SUMIFS($I$2:$I$821,$E$2:$E$821,L10,$G$2:$G$821,$K$3) -> 1 | O10: =SUMIFS($I$2:$I$821,$E$2:$E$821,L10,$G$2:$G$821,$K$4) -> 1 | P10: =SUMIFS($I$2:$I$821,$E$2:$E$821,L10,$G$2:$G$821,$P$1) -> 1
A11: LPF001 | B11: Alaska, Northern: Industrial Gas Market | C11: M - ALASKA | D11: =CONCATENATE(A11,C11) -> LPF001M - ALASKA | E11: =VLOOKUP([1]Customer!C11,'Location Unique Code'!$A$2:$H$113,8,FALSE) -> AK | F11: =VLOOKUP(C11,'Location Unique Code'!$A$2:$B$113,2,FALSE) -> Alaska | G11: LPF | H11: =CONCATENATE(B11,"-",F11) -> Alaska, Northern: Industrial Gas Market-Alaska | I11: =VLOOKUP(H11,SubShare_All!$E$2:$F$698,2,FALSE) -> #N/A | L11: KY | M11: =SUMIFS($I$2:$I$821,$E$2:$E$821,L11,$G$2:$G$821,$K$2) -> 1 | N11: =SUMIFS($I$2:$I$821,$E$2:$E$821,L11,$G$2:$G$821,$K$3) -> 1 | O11: =SUMIFS($I$2:$I$821,$E$2:$E$821,L11,$G$2:$G$821,$K$4) -> 1 | P11: =SUMIFS($I$2:$I$821,$E$2:$E$821,L11,$G$2:$G$821,$P$1) -> 1
A12: IND000 | B12: Alaska, Southern: Ind Gas Mkt | C12: M - ALASKA | D12: =CONCATENATE(A12,C12) -> IND000M - ALASKA | E12: =VLOOKUP([1]Customer!C12,'Location Unique Code'!$A$2:$H$113,8,FALSE) -> AK | F12: =VLOOKUP(C12,'Location Unique Code'!$A$2:$B$113,2,FALSE) -> Alaska | G12: IND | H12: =CONCATENATE(B12,"-",F12) -> Alaska, Southern: Ind Gas Mkt-Alaska | I12: =VLOOKUP(H12,SubShare_All!$E$2:$F$698,2,FALSE) -> 1 | L12: LA | M12: =SUMIFS($I$2:$I$821,$E$2:$E$821,L12,$G$2:$G$821,$K$2) -> 1 | N12: =SUMIFS($I$2:$I$821,$E$2:$E$821,L12,$G$2:$G$821,$K$3) -> 1 | O12: =SUMIFS($I$2:$I$821,$E$2:$E$821,L12,$G$2:$G$821,$K$4) -> 1 | P12: =SUMIFS($I$2:$I$821,$E$2:$E$821,L12,$G$2:$G$821,$P$1) -> 0.9999
A13: ELC000 | B13: Alaska: Gas-fired Gen | C13: M - ALASKA | D13: =CONCATENATE(A13,C13) -> ELC000M - ALASKA | E13: =VLOOKUP([1]Customer!C13,'Location Unique Code'!$A$2:$H$113,8,FALSE) -> AK | F13: =VLOOKUP(C13,'Location Unique Code'!$A$2:$B$113,2,FALSE) -> Alaska | G13: ELC | H13: =CONCATENATE(B13,"-",F13) -> Alaska: Gas-fired Gen-Alaska | I13: =VLOOKUP(H13,SubShare_All!$E$2:$F$698,2,FALSE) -> #N/A | L13: KS | M13: =SUMIFS($I$2:$I$821,$E$2:$E$821,L13,$G$2:$G$821,$K$2) -> 1 | N13: =SUMIFS($I$2:$I$821,$E$2:$E$821,L13,$G$2:$G$821,$K$3) -> 1 | O13: =SUMIFS($I$2:$I$821,$E$2:$E$821,L13,$G$2:$G$821,$K$4) -> 1 | P13: =SUMIFS($I$2:$I$821,$E$2:$E$821,L13,$G$2:$G$821,$P$1) -> 1
A14: EXP000 | B14: Alaska: LNG Exports | C14: M - JAPAN | D14: =CONCATENATE(A14,C14) -> EXP000M - JAPAN | E14: =VLOOKUP([1]Customer!C14,'Location Unique Code'!$A$2:$H$113,8,FALSE) -> JAPAN | F14: =VLOOKUP(C14,'Location Unique Code'!$A$2:$B$113,2,FALSE) -> Japan | G14: EXP | H14: =CONCATENATE(B14,"-",F14) -> Alaska: LNG Exports-Japan | I14: =VLOOKUP(H14,SubShare_All!$E$2:$F$698,2,FALSE) -> #N/A | L14: MS | M14: =SUMIFS($I$2:$I$821,$E$2:$E$821,L14,$G$2:$G$821,$K$2) -> 1 | N14: =SUMIFS($I$2:$I$821,$E$2:$E$821,L14,$G$2:$G$821,$K$3) -> 1 | O14: =SUMIFS($I$2:$I$821,$E$2:$E$821,L14,$G$2:$G$821,$K$4) -> 1 | P14: =SUMIFS($I$2:$I$821,$E$2:$E$821,L14,$G$2:$G$821,$P$1) -> 1
A15: COMx44 | B15: Alaska: Other LDC Gas Sales: COM | C15: M - ALASKA | D15: =CONCATENATE(A15,C15) -> COMx44M - ALASKA | E15: =VLOOKUP([1]Customer!C15,'Location Unique Code'!$A$2:$H$113,8,FALSE) -> AK | F15: =VLOOKUP(C15,'Location Unique Code'!$A$2:$B$113,2,FALSE) -> Alaska | G15: COM | H15: =CONCATENATE(B15,"-",F15) -> Alaska: Other LDC Gas Sales: COM-Alaska | I15: =VLOOKUP(H15,SubShare_All!$E$2:$F$698,2,FALSE) -> 0.15746302 | L15: CO | M15: =SUMIFS($I$2:$I$821,$E$2:$E$821,L15,$G$2:$G$821,$K$2) -> 1 | N15: =SUMIFS($I$2:$I$821,$E$2:$E$821,L15,$G$2:$G$821,$K$3) -> 1 | O15: =SUMIFS($I$2:$I$821,$E$2:$E$821,L15,$G$2:$G$821,$K$4) -> 1 | P15: =SUMIFS($I$2:$I$821,$E$2:$E$821,L15,$G$2:$G$821,$P$1) -> 1
A16: RESx44 | B16: Alaska: Other LDC Gas Sales: RES | C16: M - ALASKA | D16: =CONCATENATE(A16,C16) -> RESx44M - ALASKA | E16: =VLOOKUP([1]Customer!C16,'Location Unique Code'!$A$2:$H$113,8,FALSE) -> AK | F16: =VLOOKUP(C16,'Location Unique Code'!$A$2:$B$113,2,FALSE) -> Alaska | G16: RES | H16: =CONCATENATE(B16,"-",F16) -> Alaska: Other LDC Gas Sales: RES-Alaska | I16: =VLOOKUP(H16,SubShare_All!$E$2:$F$698,2,FALSE) -> 0.012830409 | L16: ID | M16: =SUMIFS($I$2:$I$821,$E$2:$E$821,L16,$G$2:$G$821,$K$2) -> 1 | N16: =SUMIFS($I$2:$I$821,$E$2:$E$821,L16,$G$2:$G$821,$K$3) -> 1 | O16: =SUMIFS($I$2:$I$821,$E$2:$E$821,L16,$G$2:$G$821,$K$4) -> 1 | P16: =SUMIFS($I$2:$I$821,$E$2:$E$821,L16,$G$2:$G$821,$P$1) -> 1
A17: OIL001 | B17: Alberta (Northern): Ind Gas Mkt | C17: M - NALB | D17: =CONCATENATE(A17,C17) -> OIL001M - NALB | E17: =VLOOKUP([1]Customer!C17,'Location Unique Code'!$A$2:$H$113,8,FALSE) -> AB | F17: =VLOOKUP(C17,'Location Unique Code'!$A$2:$B$113,2,FALSE) -> Alberta (North) | G17: IND | H17: =CONCATENATE(B17,"-",F17) -> Alberta (Northern): Ind Gas Mkt-Alberta (North) | I17: =VLOOKUP(H17,SubShare_All!$E$2:$F$698,2,FALSE) -> 0.45 | L17: WA | M17: =SUMIFS($I$2:$I$821,$E$2:$E$821,L17,$G$2:$G$821,$K$2) -> 0.99999997 | N17: =SUMIFS($I$2:$I$821,$E$2:$E$821,L17,$G$2:$G$821,$K$3) -> 1 | O17: =SUMIFS($I$2:$I$821,$E$2:$E$821,L17,$G$2:$G$821,$K$4) -> 1 | P17: =SUMIFS($I$2:$I$821,$E$2:$E$821,L17,$G$2:$G$821,$P$1) -> 1
... A71: RES030 | B71: Boston Gas Co.: RES | C71: M - NENE - MA | D71: =CONCATENATE(A71,C71) -> RES030M - NENE - MA | E71: =VLOOKUP([1]Customer!C71,'Location Unique Code'!$A$2:$H$113,8,FALSE) -> MA | F71: =VLOOKUP(C71,'Location Unique Code'!$A$2:$B$113,2,FALSE) -> Massachusetts Eastern | G71: RES | H71: =CONCATENATE(B71,"-",F71) -> Boston Gas Co.: RES-Massachusetts Eastern | I71: =VLOOKUP(H71,SubShare_All!$E$2:$F$698,2,FALSE) -> 0.37422922 | L71: VT | M71: =SUMIFS($I$2:$I$821,$E$2:$E$821,L71,$G$2:$G$821,$K$2) -> 1 | N71: =SUMIFS($I$2:$I$821,$E$2:$E$821,L71,$G$2:$G$821,$K$3) -> 1 | O71: =SUMIFS($I$2:$I$821,$E$2:$E$821,L71,$G$2:$G$821,$K$4) -> 1 | P71: =SUMIFS($I$2:$I$821,$E$2:$E$821,L71,$G$2:$G$821,$P$1) -> 1
A72: IND163 | B72: British Columbia (Central): Ind Gas Mkt | C72: M - BCC | D72: =CONCATENATE(A72,C72) -> IND163M - BCC | E72: =VLOOKUP([1]Customer!C72,'Location Unique Code'!$A$2:$H$113,8,FALSE) -> BC | F72: =VLOOKUP(C72,'Location Unique Code'!$A$2:$B$113,2,FALSE) -> British Columbia (Central) | G72: IND | H72: =CONCATENATE(B72,"-",F72) -> British Columbia (Central): Ind Gas Mkt-British Columbia (Central) | I72: =VLOOKUP(H72,SubShare_All!$E$2:$F$698,2,FALSE) -> 0.1297
A73: COM598 | B73: British Columbia (Central): LDC Sales: COM | C73: M - BCC | D73: =CONCATENATE(A73,C73) -> COM598M - BCC | E73: =VLOOKUP([1]Customer!C73,'Location Unique Code'!$A$2:$H$113,8,FALSE) -> BC | F73: =VLOOKUP(C73,'Location Unique Code'!$A$2:$B$113,2,FALSE) -> British Columbia (Central) | G73: COM | H73: =CONCATENATE(B73,"-",F73) -> British Columbia (Central): LDC Sales: COM-British Columbia (Central) | I73: =VLOOKUP(H73,SubShare_All!$E$2:$F$698,2,FALSE) -> 0.2173
A74: RES598 | B74: British Columbia (Central): LDC Sales: RES | C74: M - BCC | D74: =CONCATENATE(A74,C74) -> RES598M - BCC | E74: =VLOOKUP([1]Customer!C74,'Location Unique Code'!$A$2:$H$113,8,FALSE) -> BC | F74: =VLOOKUP(C74,'Location Unique Code'!$A$2:$B$113,2,FALSE) -> British Columbia (Central) | G74: RES | H74: =CONCATENATE(B74,"-",F74) -> British Columbia (Central): LDC Sales: RES-British Columbia (Central) | I74: =VLOOKUP(H74,SubShare_All!$E$2:$F$698,2,FALSE) -> 0.2173
A75: MK273 | B75: British Columbia (North): Gas-fired Gen | C75: M - WBRC | D75: =CONCATENATE(A75,C75) -> MK273M - WBRC | E75: =VLOOKUP([1]Customer!C75,'Location Unique Code'!$A$2:$H$113,8,FALSE) -> BC | F75: =VLOOKUP(C75,'Location Unique Code'!$A$2:$B$113,2,FALSE) -> British Columbia (North) | G75: ELC | H75: =CONCATENATE(B75,"-",F75) -> British Columbia (North): Gas-fired Gen-British Columbia (North) | I75: =VLOOKUP(H75,SubShare_All!$E$2:$F$698,2,FALSE) -> #N/A
A76: IND173 | B76: British Columbia (North): Ind Gas Mkt | C76: M - WBRC | D76: =CONCATENATE(A76,C76) -> IND173M - WBRC | E76: =VLOOKUP([1]Customer!C76,'Location Unique Code'!$A$2:$H$113,8,FALSE) -> BC | F76: =VLOOKUP(C76,'Location Unique Code'!$A$2:$B$113,2,FALSE) -> British Columbia (North) | G76: IND | H76: =CONCATENATE(B76,"-",F76) -> British Columbia (North): Ind Gas Mkt-British Columbia (North) | I76: =VLOOKUP(H76,SubShare_All!$E$2:$F$698,2,FALSE) -> 0.132
A77: COM597 | B77: British Columbia (North): LDC Sales: COM | C77: M - WBRC | D77: =CONCATENATE(A77,C77) -> COM597M - WBRC | E77: =VLOOKUP([1]Customer!C77,'Location Unique Code'!$A$2:$H$113,8,FALSE) -> BC | F77: =VLOOKUP(C77,'Location Unique Code'!$A$2:$B$113,2,FALSE) -> British Columbia (North) | G77: COM | H77: =CONCATENATE(B77,"-",F77) -> British Columbia (North): LDC Sales: COM-British Columbia (North) | I77: =VLOOKUP(H77,SubShare_All!$E$2:$F$698,2,FALSE) -> 0.0207
A78: RES597 | B78: British Columbia (North): LDC Sales: RES | C78: M - WBRC | D78: =CONCATENATE(A78,C78) -> RES597M - WBRC | E78: =VLOOKUP([1]Customer!C78,'Location Unique Code'!$A$2:$H$113,8,FALSE) -> BC | F78: =VLOOKUP(C78,'Location Unique Code'!$A$2:$B$113,2,FALSE) -> British Columbia (North) | G78: RES | H78: =CONCATENATE(B78,"-",F78) -> British Columbia (North): LDC Sales: RES-British Columbia (North) | I78: =VLOOKUP(H78,SubShare_All!$E$2:$F$698,2,FALSE) -> 0.0207
A79: IND172 | B79: British Columbia (NW): Ind Gas Mkt | C79: M - BCNW | D79: =CONCATENATE(A79,C79) -> IND172M - BCNW | E79: =VLOOKUP([1]Customer!C79,'Location Unique Code'!$A$2:$H$113,8,FALSE) -> BC | F79: =VLOOKUP(C79,'Location Unique Code'!$A$2:$B$113,2,FALSE) -> British Columbia (Northwest) | G79: IND | H79: =CONCATENATE(B79,"-",F79) -> British Columbia (NW): Ind Gas Mkt-British Columbia (Northwest) | I79: =VLOOKUP(H79,SubShare_All!$E$2:$F$698,2,FALSE) -> 0.3161
A80: COM608 | B80: British Columbia (NW): Other LDC Gas Sales: COM | C80: M - BCNW | D80: =CONCATENATE(A80,C80) -> COM608M - BCNW | E80: =VLOOKUP([1]Customer!C80,'Location Unique Code'!$A$2:$H$113,8,FALSE) -> BC | F80: =VLOOKUP(C80,'Location Unique Code'!$A$2:$B$113,2,FALSE) -> British Columbia (Northwest) | G80: COM | H80: =CONCATENATE(B80,"-",F80) -> British Columbia (NW): Other LDC Gas Sales: COM-British Columbia (Northwest) | I80: =VLOOKUP(H80,SubShare_All!$E$2:$F$698,2,FALSE) -> 0.001
A81: RES608 | B81: British Columbia (NW): Other LDC Gas Sales: RES | C81: M - BCNW | D81: =CONCATENATE(A81,C81) -> RES608M - BCNW | E81: =VLOOKUP([1]Customer!C81,'Location Unique Code'!$A$2:$H$113,8,FALSE) -> BC | F81: =VLOOKUP(C81,'Location Unique Code'!$A$2:$B$113,2,FALSE) -> British Columbia (Northwest) | G81: RES | H81: =CONCATENATE(B81,"-",F81) -> British Columbia (NW): Other LDC Gas Sales: RES-British Columbia (Northwest) | I81: =VLOOKUP(H81,SubShare_All!$E$2:$F$698,2,FALSE) -> 0.001
A82: COM599 | B82: British Columbia (SE): LDC Sales: COM | C82: M - BCSE | D82: =CONCATENATE(A82,C82) -> COM599M - BCSE | E82: =VLOOKUP([1]Customer!C82,'Location Unique Code'!$A$2:$H$113,8,FALSE) -> BC | F82: =VLOOKUP(C82,'Location Unique Code'!$A$2:$B$113,2,FALSE) -> British Columbia (Southeast) | G82: COM | H82: =CONCATENATE(B82,"-",F82) -> British Columbia (SE): LDC Sales: COM-British Columbia (Southeast) | I82: =VLOOKUP(H82,SubShare_All!$E$2:$F$698,2,FALSE) -> 0.0338
A83: RES599 | B83: British Columbia (SE): LDC Sales: RES | C83: M - BCSE | D83: =CONCATENATE(A83,C83) -> RES599M - BCSE | E83: =VLOOKUP([1]Customer!C83,'Location Unique Code'!$A$2:$H$113,8,FALSE) -> BC | F83: =VLOOKUP(C83,'Location Unique Code'!$A$2:$B$113,2,FALSE) -> British Columbia (Southeast) | G83: RES | H83: =CONCATENATE(B83,"-",F83) -> British Columbia (SE): LDC Sales: RES-British Columbia (Southeast) | I83: =VLOOKUP(H83,SubShare_All!$E$2:$F$698,2,FALSE) -> 0.0338
... A468: VEH074 | B468: New York City: veh Gas Mkt | C468: M - NNYC | D468: =CONCATENATE(A468,C468) -> VEH074M - NNYC | E468: =VLOOKUP([1]Customer!C468,'Location Unique Code'!$A$2:$H$113,8,FALSE) -> NY | F468: =VLOOKUP(C468,'Location Unique Code'!$A$2:$B$113,2,FALSE) -> New York City | G468: VEH | H468: =CONCATENATE(B468,"-",F468) -> New York City: veh Gas Mkt-New York City | I468: =VLOOKUP(H468,SubShare_All!$E$2:$F$698,2,FALSE) -> 0.64750056
A469: COMx76 | B469: New York Southern: COM Gas Mkt | C469: M - NYPS | D469: =CONCATENATE(A469,C469) -> COMx76M - NYPS | E469: =VLOOKUP([1]Customer!C469,'Location Unique Code'!$A$2:$H$113,8,FALSE) -> NY | F469: =VLOOKUP(C469,'Location Unique Code'!$A$2:$B$113,2,FALSE) -> New York Southern | G469: COM | H469: =M469 -> New York Southern: COM Gas Mkt-New York Southern | I469: =VLOOKUP(H469,SubShare_All!$E$2:$F$698,2,FALSE) -> 0.0503 | M469: New York Southern: COM Gas Mkt-New York Southern
A470: RESx76 | B470: New York Southern: RES Gas Mkt | C470: M - NYPS | D470: =CONCATENATE(A470,C470) -> RESx76M - NYPS | E470: =VLOOKUP([1]Customer!C470,'Location Unique Code'!$A$2:$H$113,8,FALSE) -> NY | F470: =VLOOKUP(C470,'Location Unique Code'!$A$2:$B$113,2,FALSE) -> New York Southern | G470: RES | H470: =M470 -> New York Southern: RES Gas Mkt-New York Southern | I470: =VLOOKUP(H470,SubShare_All!$E$2:$F$698,2,FALSE) -> 0.0442 | M470: New York Southern: RES Gas Mkt-New York Southern
A471: MK145 | B471: New York State E&G, Upstate NY: Gas-fired Gen | C471: M - NYPU | D471: =CONCATENATE(A471,C471) -> MK145M - NYPU | E471: =VLOOKUP([1]Customer!C471,'Location Unique Code'!$A$2:$H$113,8,FALSE) -> NY | F471: =VLOOKUP(C471,'Location Unique Code'!$A$2:$B$113,2,FALSE) -> New York Central Northern | G471: ELC | H471: =CONCATENATE(B471,"-",F471) -> New York State E&G, Upstate NY: Gas-fired Gen-New York Central Northern | I471: =VLOOKUP(H471,SubShare_All!$E$2:$F$698,2,FALSE) -> #N/A
A472: MK149 | B472: New York State E&G, Western NY: Gas-fired Gen | C472: M - NYPW | D472: =CONCATENATE(A472,C472) -> MK149M - NYPW | E472: =VLOOKUP([1]Customer!C472,'Location Unique Code'!$A$2:$H$113,8,FALSE) -> NY | F472: =VLOOKUP(C472,'Location Unique Code'!$A$2:$B$113,2,FALSE) -> New York Western | G472: ELC | H472: =CONCATENATE(B472,"-",F472) -> New York State E&G, Western NY: Gas-fired Gen-New York Western | I472: =VLOOKUP(H472,SubShare_All!$E$2:$F$698,2,FALSE) -> #N/A
A473: MK141 | B473: New York, Central Hudson G&E: Gas-fired Gen | C473: M - NYPS | D473: =CONCATENATE(A473,C473) -> MK141M - NYPS | E473: =VLOOKUP([1]Customer!C473,'Location Unique Code'!$A$2:$H$113,8,FALSE) -> NY | F473: =VLOOKUP(C473,'Location Unique Code'!$A$2:$B$113,2,FALSE) -> New York Southern | G473: ELC | H473: =CONCATENATE(B473,"-",F473) -> New York, Central Hudson G&E: Gas-fired Gen-New York Southern | I473: =VLOOKUP(H473,SubShare_All!$E$2:$F$698,2,FALSE) -> #N/A
A474: COMx77 | B474: New York, Central North: COM Gas Mkt | C474: M - NYPU | D474: =CONCATENATE(A474,C474) -> COMx77M - NYPU | E474: =VLOOKUP([1]Customer!C474,'Location Unique Code'!$A$2:$H$113,8,FALSE) -> NY | F474: =VLOOKUP(C474,'Location Unique Code'!$A$2:$B$113,2,FALSE) -> New York Central Northern | G474: COM | H474: New York, Central North: COM Gas Mkt-New York Central Northern | I474: =VLOOKUP(H474,SubShare_All!$E$2:$F$698,2,FALSE) -> 0.1129 | M474: New York, Central North: COM Gas Mkt-New York Central Northern | N474: =IF(H474=M474,1,0) -> 1
A475: RESx77 | B475: New York, Central North: RES Gas Mkt | C475: M - NYPU | D475: =CONCATENATE(A475,C475) -> RESx77M - NYPU | E475: =VLOOKUP([1]Customer!C475,'Location Unique Code'!$A$2:$H$113,8,FALSE) -> NY | F475: =VLOOKUP(C475,'Location Unique Code'!$A$2:$B$113,2,FALSE) -> New York Central Northern | G475: RES | H475: New York, Central North: RES Gas Mkt-New York Central Northern | I475: =VLOOKUP(H475,SubShare_All!$E$2:$F$698,2,FALSE) -> 0.1133 | M475: New York, Central North: RES Gas Mkt-New York Central Northern
A476: IND062 | B476: New York, Central-North: Ind Gas Mkt | C476: M - NYPU | D476: =CONCATENATE(A476,C476) -> IND062M - NYPU | E476: =VLOOKUP([1]Customer!C476,'Location Unique Code'!$A$2:$H$113,8,FALSE) -> NY | F476: =VLOOKUP(C476,'Location Unique Code'!$A$2:$B$113,2,FALSE) -> New York Central Northern | G476: IND | H476: =CONCATENATE(B476,"-",F476) -> New York, Central-North: Ind Gas Mkt-New York Central Northern | I476: =VLOOKUP(H476,SubShare_All!$E$2:$F$698,2,FALSE) -> 0.3599
A477: VEH062 | B477: New York, Central-North: veh Gas Mkt | C477: M - NYPU | D477: =CONCATENATE(A477,C477) -> VEH062M - NYPU | E477: =VLOOKUP([1]Customer!C477,'Location Unique Code'!$A$2:$H$113,8,FALSE) -> NY | F477: =VLOOKUP(C477,'Location Unique Code'!$A$2:$B$113,2,FALSE) -> New York Central Northern | G477: VEH | H477: =CONCATENATE(B477,"-",F477) -> New York, Central-North: veh Gas Mkt-New York Central Northern | I477: =VLOOKUP(H477,SubShare_All!$E$2:$F$698,2,FALSE) -> 0.13959363
...

Sheet SubShare_All
A1: STATE | B1: Sector | C1: Cust_Name | D1: Sub_State | E1: Cust_State ID | F1: Sub_statefctr | J1: COM | K1: VEH | L1: IND | M1: RES
A2: AL | B2: COM | C2: Alabama Gas Corp. (Alagasco): COM | D2: Alabama | E2: =CONCATENATE(C2,"-",D2) -> Alabama Gas Corp. (Alagasco): COM-Alabama | F2: 0.5621419 | I2: AB | J2: =SUMIFS($F$2:$F$698,$A$2:$A$698,I2,$B$2:$B$698,$J$1) -> 1 | K2: =SUMIFS($F$2:$F$698,$A$2:$A$698,I2,$B$2:$B$698,$K$1) -> 1 | L2: =SUMIFS($F$2:$F$698,$A$2:$A$698,I2,$B$2:$B$698,$L$1) -> 1 | M2: =SUMIFS($F$2:$F$698,$A$2:$A$698,I2,$B$2:$B$698,$M$1) -> 1
A3: AL | B3: COM | C3: Alabama: Other LDC Gas Sales: COM | D3: Alabama | E3: =CONCATENATE(C3,"-",D3) -> Alabama: Other LDC Gas Sales: COM-Alabama | F3: 0.26581508 | I3: JAPAN | J3: =SUMIFS($F$2:$F$698,$A$2:$A$698,I3,$B$2:$B$698,$J$1) -> 0 | K3: =SUMIFS($F$2:$F$698,$A$2:$A$698,I3,$B$2:$B$698,$K$1) -> 0 | L3: =SUMIFS($F$2:$F$698,$A$2:$A$698,I3,$B$2:$B$698,$L$1) -> 0 | M3: =SUMIFS($F$2:$F$698,$A$2:$A$698,I3,$B$2:$B$698,$M$1) -> 0
A4: AK | B4: COM | C4: Alaska: Other LDC Gas Sales: COM | D4: Alaska | E4: =CONCATENATE(C4,"-",D4) -> Alaska: Other LDC Gas Sales: COM-Alaska | F4: 0.15746302 | I4: AL | J4: =SUMIFS($F$2:$F$698,$A$2:$A$698,I4,$B$2:$B$698,$J$1) -> 1 | K4: =SUMIFS($F$2:$F$698,$A$2:$A$698,I4,$B$2:$B$698,$K$1) -> 1 | L4: =SUMIFS($F$2:$F$698,$A$2:$A$698,I4,$B$2:$B$698,$L$1) -> 1 | M4: =SUMIFS($F$2:$F$698,$A$2:$A$698,I4,$B$2:$B$698,$M$1) -> 1
A5: AB | B5: COM | C5: Alberta (Southern): Other LDC Gas Sales: COM | D5: Alberta (South) | E5: =CONCATENATE(C5,"-",D5) -> Alberta (Southern): Other LDC Gas Sales: COM-Alberta (South) | F5: 1 | I5: AK | J5: =SUMIFS($F$2:$F$698,$A$2:$A$698,I5,$B$2:$B$698,$J$1) -> 1 | K5: =SUMIFS($F$2:$F$698,$A$2:$A$698,I5,$B$2:$B$698,$K$1) -> 0 | L5: =SUMIFS($F$2:$F$698,$A$2:$A$698,I5,$B$2:$B$698,$L$1) -> 1 | M5: =SUMIFS($F$2:$F$698,$A$2:$A$698,I5,$B$2:$B$698,$M$1) -> 1
A6: IL | B6: COM | C6: AmerenCILCO: COM | D6: Illinois Southern | E6: =CONCATENATE(C6,"-",D6) -> AmerenCILCO: COM-Illinois Southern | F6: 0.061733772 | I6: IL | J6: =SUMIFS($F$2:$F$698,$A$2:$A$698,I6,$B$2:$B$698,$J$1) -> 1 | K6: =SUMIFS($F$2:$F$698,$A$2:$A$698,I6,$B$2:$B$698,$K$1) -> 1 | L6: =SUMIFS($F$2:$F$698,$A$2:$A$698,I6,$B$2:$B$698,$L$1) -> 1 | M6: =SUMIFS($F$2:$F$698,$A$2:$A$698,I6,$B$2:$B$698,$M$1) -> 1
A7: IL | B7: COM | C7: AmerenCIPS: COM | D7: Illinois Southern | E7: =CONCATENATE(C7,"-",D7) -> AmerenCIPS: COM-Illinois Southern | F7: 0.034656662 | I7: MO | J7: =SUMIFS($F$2:$F$698,$A$2:$A$698,I7,$B$2:$B$698,$J$1) -> 1 | K7: =SUMIFS($F$2:$F$698,$A$2:$A$698,I7,$B$2:$B$698,$K$1) -> 1 | L7: =SUMIFS($F$2:$F$698,$A$2:$A$698,I7,$B$2:$B$698,$L$1) -> 1 | M7: =SUMIFS($F$2:$F$698,$A$2:$A$698,I7,$B$2:$B$698,$M$1) -> 1
A8: IL | B8: COM | C8: AmerenIP: COM | D8: Illinois Southern | E8: =CONCATENATE(C8,"-",D8) -> AmerenIP: COM-Illinois Southern | F8: 0.079562922 | I8: AZ | J8: =SUMIFS($F$2:$F$698,$A$2:$A$698,I8,$B$2:$B$698,$J$1) -> 1 | K8: =SUMIFS($F$2:$F$698,$A$2:$A$698,I8,$B$2:$B$698,$K$1) -> 1 | L8: =SUMIFS($F$2:$F$698,$A$2:$A$698,I8,$B$2:$B$698,$L$1) -> 1 | M8: =SUMIFS($F$2:$F$698,$A$2:$A$698,I8,$B$2:$B$698,$M$1) -> 1
A9: MO | B9: COM | C9: AmerenUE: COM | D9: Missouri Eastern | E9: =CONCATENATE(C9,"-",D9) -> AmerenUE: COM-Missouri Eastern | F9: 0.059321257 | I9: AR | J9: =SUMIFS($F$2:$F$698,$A$2:$A$698,I9,$B$2:$B$698,$J$1) -> 1 | K9: =SUMIFS($F$2:$F$698,$A$2:$A$698,I9,$B$2:$B$698,$K$1) -> 1 | L9: =SUMIFS($F$2:$F$698,$A$2:$A$698,I9,$B$2:$B$698,$L$1) -> 1 | M9: =SUMIFS($F$2:$F$698,$A$2:$A$698,I9,$B$2:$B$698,$M$1) -> 1
A10: AZ | B10: COM | C10: Arizona: Other LDC Gas Sales: COM | D10: Arizona | E10: =CONCATENATE(C10,"-",D10) -> Arizona: Other LDC Gas Sales: COM-Arizona | F10: 0.0235 | I10: GA | J10: =SUMIFS($F$2:$F$698,$A$2:$A$698,I10,$B$2:$B$698,$J$1) -> 1 | K10: =SUMIFS($F$2:$F$698,$A$2:$A$698,I10,$B$2:$B$698,$K$1) -> 1 | L10: =SUMIFS($F$2:$F$698,$A$2:$A$698,I10,$B$2:$B$698,$L$1) -> 1 | M10: =SUMIFS($F$2:$F$698,$A$2:$A$698,I10,$B$2:$B$698,$M$1) -> 1
A11: AR | B11: COM | C11: Arkansas Oklahoma Gas Corp.: COM | D11: Arkansas | E11: =CONCATENATE(C11,"-",D11) -> Arkansas Oklahoma Gas Corp.: COM-Arkansas | F11: 0.054197311 | I11: KY | J11: =SUMIFS($F$2:$F$698,$A$2:$A$698,I11,$B$2:$B$698,$J$1) -> 1 | K11: =SUMIFS($F$2:$F$698,$A$2:$A$698,I11,$B$2:$B$698,$K$1) -> 1 | L11: =SUMIFS($F$2:$F$698,$A$2:$A$698,I11,$B$2:$B$698,$L$1) -> 1 | M11: =SUMIFS($F$2:$F$698,$A$2:$A$698,I11,$B$2:$B$698,$M$1) -> 1
A12: AR | B12: COM | C12: Arkansas Western Gas Co.: COM | D12: Arkansas | E12: =CONCATENATE(C12,"-",D12) -> Arkansas Western Gas Co.: COM-Arkansas | F12: 0.17203976 | I12: LA | J12: =SUMIFS($F$2:$F$698,$A$2:$A$698,I12,$B$2:$B$698,$J$1) -> 1 | K12: =SUMIFS($F$2:$F$698,$A$2:$A$698,I12,$B$2:$B$698,$K$1) -> 1 | L12: =SUMIFS($F$2:$F$698,$A$2:$A$698,I12,$B$2:$B$698,$L$1) -> 1 | M12: =SUMIFS($F$2:$F$698,$A$2:$A$698,I12,$B$2:$B$698,$M$1) -> 0.9999
A13: AR | B13: COM | C13: Arkansas: Other LDC Gas Sales: COM | D13: Arkansas | E13: =CONCATENATE(C13,"-",D13) -> Arkansas: Other LDC Gas Sales: COM-Arkansas | F13: 0.0018847573 | I13: KS | J13: =SUMIFS($F$2:$F$698,$A$2:$A$698,I13,$B$2:$B$698,$J$1) -> 1 | K13: =SUMIFS($F$2:$F$698,$A$2:$A$698,I13,$B$2:$B$698,$K$1) -> 1 | L13: =SUMIFS($F$2:$F$698,$A$2:$A$698,I13,$B$2:$B$698,$L$1) -> 1 | M13: =SUMIFS($F$2:$F$698,$A$2:$A$698,I13,$B$2:$B$698,$M$1) -> 1
... A71: LA | B71: COM | C71: Entergy New Orleans, Inc.: COM | D71: Louisiana Southern | E71: =CONCATENATE(C71,"-",D71) -> Entergy New Orleans, Inc.: COM-Louisiana Southern | F71: 0.25809918 | I71: VT | J71: =SUMIFS($F$2:$F$698,$A$2:$A$698,I71,$B$2:$B$698,$J$1) -> 1 | K71: =SUMIFS($F$2:$F$698,$A$2:$A$698,I71,$B$2:$B$698,$K$1) -> 1 | L71: =SUMIFS($F$2:$F$698,$A$2:$A$698,I71,$B$2:$B$698,$L$1) -> 1 | M71: =SUMIFS($F$2:$F$698,$A$2:$A$698,I71,$B$2:$B$698,$M$1) -> 1
A72: FL | B72: COM | C72: Florida Panhandle SERC: COM Gas Mkt | D72: Florida Panhandle (SERC) | E72: =CONCATENATE(C72,"-",D72) -> Florida Panhandle SERC: COM Gas Mkt-Florida Panhandle (SERC) | F72: 0.0114
A73: FL | B73: COM | C73: Florida Peninsula FRCC: COM Gas Mkt | D73: Florida Peninsula (FRCC) | E73: =CONCATENATE(C73,"-",D73) -> Florida Peninsula FRCC: COM Gas Mkt-Florida Peninsula (FRCC) | F73: 0.9886
A74: SC | B74: COM | C74: Fort Hill Natural Gas Authority: COM | D74: South Carolina | E74: =CONCATENATE(C74,"-",D74) -> Fort Hill Natural Gas Authority: COM-South Carolina | F74: 0.046183722
A75: GA | B75: COM | C75: Georgia: Other LDC Gas Sales: COM | D75: Georgia | E75: =CONCATENATE(C75,"-",D75) -> Georgia: Other LDC Gas Sales: COM-Georgia | F75: 0.17328364
A76: MN | B76: COM | C76: Great Plains Natural Gas Co.: COM | D76: Minnesota | E76: =CONCATENATE(C76,"-",D76) -> Great Plains Natural Gas Co.: COM-Minnesota | F76: 0.01774104
A77: WV | B77: COM | C77: Hope Gas, Inc.: COM | D77: West Virginia | E77: =CONCATENATE(C77,"-",D77) -> Hope Gas, Inc.: COM-West Virginia | F77: 0.16012692
A78: AL | B78: COM | C78: Huntsville Utilities: COM | D78: Alabama | E78: =CONCATENATE(C78,"-",D78) -> Huntsville Utilities: COM-Alabama | F78: 0.079588407
A79: IL | B79: COM | C79: Illinois, Northern: Other LDC Gas Sales: COM | D79: Illinois Northern | E79: =CONCATENATE(C79,"-",D79) -> Illinois, Northern: Other LDC Gas Sales: COM-Illinois Northern | F79: 0.038167372
A80: IL | B80: COM | C80: Illinois, Southern: Other LDC Gas Sales: COM | D80: Illinois Southern | E80: =CONCATENATE(C80,"-",D80) -> Illinois, Southern: Other LDC Gas Sales: COM-Illinois Southern | F80: 0.016046644
A81: IN | B81: COM | C81: Indiana: Other LDC Gas Sales: COM | D81: Indiana | E81: =CONCATENATE(C81,"-",D81) -> Indiana: Other LDC Gas Sales: COM-Indiana | F81: 0.091650681
A82: ID | B82: COM | C82: Intermountain Gas Co.: COM | D82: Idaho Southern | E82: =CONCATENATE(C82,"-",D82) -> Intermountain Gas Co.: COM-Idaho Southern | F82: 0.80815089
A83: IA | B83: COM | C83: Interstate Power and Light: COM | D83: Iowa | E83: =CONCATENATE(C83,"-",D83) -> Interstate Power and Light: COM-Iowa | F83: 0.23893755
... A698: WY | B698: VEH | C698: Wyoming: veh Gas Mkt | D698: Wyoming | E698: =CONCATENATE(C698,"-",D698) -> Wyoming: veh Gas Mkt-Wyoming | F698: 1

Sheet SUbshare_COM
A1: STATE | B1: Sector | C1: Cust_Name | D1: Sub_State | E1: Sub_statefctr | F1: Cust_State ID
A2: AL | B2: COM | C2: Alabama Gas Corp. (Alagasco): COM | D2: Alabama | E2: 0.5621419 | F2: =CONCATENATE(C2,"-",D2) -> Alabama Gas Corp. (Alagasco): COM-Alabama
A3: AL | B3: COM | C3: Alabama: Other LDC Gas Sales: COM | D3: Alabama | E3: 0.26581508 | F3: =CONCATENATE(C3,"-",D3) -> Alabama: Other LDC Gas Sales: COM-Alabama
A4: AK | B4: COM | C4: Alaska: Other LDC Gas Sales: COM | D4: Alaska | E4: 0.15746302 | F4: =CONCATENATE(C4,"-",D4) -> Alaska: Other LDC Gas Sales: COM-Alaska
A5: AB | B5: COM | C5: Alberta (Southern): Other LDC Gas Sales: COM | D5: Alberta (South) | E5: 1 | F5: =CONCATENATE(C5,"-",D5) -> Alberta (Southern): Other LDC Gas Sales: COM-Alberta (South)
A6: IL | B6: COM | C6: AmerenCILCO: COM | D6: Illinois Southern | E6: 0.061733772 | F6: =CONCATENATE(C6,"-",D6) -> AmerenCILCO: COM-Illinois Southern
A7: IL | B7: COM | C7: AmerenCIPS: COM | D7: Illinois Southern | E7: 0.034656662 | F7: =CONCATENATE(C7,"-",D7) -> AmerenCIPS: COM-Illinois Southern
A8: IL | B8: COM | C8: AmerenIP: COM | D8: Illinois Southern | E8: 0.079562922 | F8: =CONCATENATE(C8,"-",D8) -> AmerenIP: COM-Illinois Southern
A9: MO | B9: COM | C9: AmerenUE: COM | D9: Missouri Eastern | E9: 0.059321257 | F9: =CONCATENATE(C9,"-",D9) -> AmerenUE: COM-Missouri Eastern
A10: AZ | B10: COM | C10: Arizona: Other LDC Gas Sales: COM | D10: Arizona | E10: 0.0235 | F10: =CONCATENATE(C10,"-",D10) -> Arizona: Other LDC Gas Sales: COM-Arizona
A11: AR | B11: COM | C11: Arkansas Oklahoma Gas Corp.: COM | D11: Arkansas | E11: 0.054197311 | F11: =CONCATENATE(C11,"-",D11) -> Arkansas Oklahoma Gas Corp.: COM-Arkansas
A12: AR | B12: COM | C12: Arkansas Western Gas Co.: COM | D12: Arkansas | E12: 0.17203976 | F12: =CONCATENATE(C12,"-",D12) -> Arkansas Western Gas Co.: COM-Arkansas
A13: AR | B13: COM | C13: Arkansas: Other LDC Gas Sales: COM | D13: Arkansas | E13: 0.0018847573 | F13: =CONCATENATE(C13,"-",D13) -> Arkansas: Other LDC Gas Sales: COM-Arkansas
... A256: NM | B256: COM | C256: Zia Natural Gas Co.: COM | D256: New Mexico | E256: 0.029828354 | F256: =CONCATENATE(C256,"-",D256) -> Zia Natural Gas Co.: COM-New Mexico

Sheet SubShare_IND
A1: STATE | B1: Sector | C1: Cust_Name | D1: Sub_State | E1: Sub_statefctr
A2: AB | B2: IND | C2: Alberta (Southern): Ind Gas Mkt | D2: Alberta (South) | E2: 0.55
A3: AB | B3: IND | C3: Alberta (Northern): Ind Gas Mkt | D3: Alberta (North) | E3: 0.45
A4: AK | B4: IND | C4: Alaska, Southern: Ind Gas Mkt | D4: Alaska | E4: 1
A5: AL | B5: IND | C5: Alabama: Ind Gas Mkt | D5: Alabama | E5: 1
A6: AR | B6: IND | C6: Arkansas: Ind Gas Mkt | D6: Arkansas | E6: 1
A7: AZ | B7: IND | C7: Arizona: Ind Gas Mkt | D7: Arizona | E7: 1
A8: BC | B8: IND | C8: British Columbia (SW): Ind Gas Mkt | D8: British Columbia (Southwest) | E8: 0.4222
A9: BC | B9: IND | C9: British Columbia (Central): Ind Gas Mkt | D9: British Columbia (Central) | E9: 0.1297
A10: BC | B10: IND | C10: British Columbia (NW): Ind Gas Mkt | D10: British Columbia (Northwest) | E10: 0.3161
A11: BC | B11: IND | C11: British Columbia (North): Ind Gas Mkt | D11: British Columbia (North) | E11: 0.132
A12: CA | B12: IND | C12: California, Northern: Ind Gas Mkt | D12: California Northern | E12: 0.3686
A13: CA | B13: IND | C13: California, Kern-Bakersfld: Ind Gas Mkt | D13: California Southern | E13: 0.33637342
... A107: WY | B107: IND | C107: Wyoming: Ind Gas Mkt | D107: Wyoming | E107: 1

Sheet SubShare_RES
A1: STATE | B1: Sector | C1: Cust_Name | D1: Sub_State | E1: Sub_statefctr
A2: AB | B2: RES | C2: Alberta (Southern): Other LDC Gas Sales: RES | D2: Alberta (South) | E2: 1
A3: AK | B3: RES | C3: Enstar Natural Gas Co.: RES | D3: Alaska | E3: 0.98716959
A4: AK | B4: RES | C4: Alaska: Other LDC Gas Sales: RES | D4: Alaska | E4: 0.012830409
A5: AL | B5: RES | C5: Alabama Gas Corp. (Alagasco): RES | D5: Alabama | E5: 0.58766077
A6: AL | B6: RES | C6: Alabama: Other LDC Gas Sales: RES | D6: Alabama | E6: 0.24281266
A7: AL | B7: RES | C7: Huntsville Utilities: RES | D7: Alabama | E7: 0.044236037
A8: AL | B8: RES | C8: Southeast Alabama Gas District: RES | D8: Alabama | E8: 0.044840939
A9: AL | B9: RES | C9: Mobile Gas Service Corp.: RES | D9: Alabama | E9: 0.08044959
A10: AR | B10: RES | C10: Arkansas Western Gas Co.: RES | D10: Arkansas | E10: 0.23610714
A11: AR | B11: RES | C11: CenterPoint Energy Arkla Division: RES | D11: Arkansas | E11: 0.68644178
A12: AR | B12: RES | C12: Arkansas: Other LDC Gas Sales: RES | D12: Arkansas | E12: 0.0043781432
A13: AR | B13: RES | C13: Arkansas Oklahoma Gas Corp.: RES | D13: Arkansas | E13: 0.073072933
... A256: WY | B256: RES | C256: Questar Gas Co.: RES | D256: Wyoming | E256: 0.16823853

Sheet SubShare_VEH
A1: STATE | B1: Sector | C1: Cust_Name | D1: Sub_State | E1: Sub_statefctr
A2: AB | B2: VEH | C2: AB:VEH Mkt | D2: Alberta (South) | E2: 1
A3: AL | B3: VEH | C3: Alabama: veh Gas Mkt | D3: Alabama | E3: 1
A4: AZ | B4: VEH | C4: Arizona: veh Gas Mkt | D4: Arizona | E4: 1
A5: AR | B5: VEH | C5: Arkansas: veh Gas Mkt | D5: Arkansas | E5: 1
A6: BC | B6: VEH | C6: BC:VEH Mkt | D6: British Columbia (Southwest) | E6: 1
A7: CA | B7: VEH | C7: California, Northern: veh Gas Mkt | D7: California Northern | E7: 0.36
A8: CA | B8: VEH | C8: California, Southern: veh Gas Mkt | D8: California Southern | E8: 0.64
A9: CO | B9: VEH | C9: Colorado, Eastern: veh Gas Mkt | D9: Colorado Eastern | E9: 0.9
A10: CO | B10: VEH | C10: Colorado, Western: veh Gas Mkt | D10: Colorado Western | E10: 0.1
A11: CT | B11: VEH | C11: Connecticut: veh Gas Mkt | D11: Connecticut | E11: 1
A12: DC | B12: VEH | C12: DC: veh Gas Mkt | D12: District of Columbia | E12: 1
A13: DE | B13: VEH | C13: Delaware: veh Gas Mkt | D13: Delaware | E13: 1
... A82: WY | B82: VEH | C82: Wyoming: veh Gas Mkt | D82: Wyoming | E82: 1

Sheet GPCM-Cust
A1: Cust_Code | B1: Cust_Name | C1: Cust_Type | D1: Cust_ID
A2: IND002 | B2: Indiana: Ind Gas Mkt | C2: IND | D2: 475
A3: IND004 | B3: Kentucky: Ind Gas Mkt | C3: IND | D3: 476
A4: IND006 | B4: Maryland, Eastern: Ind Gas Mkt | C4: IND | D4: 477
A5: IND008 | B5: Michigan: Ind Gas Mkt | C5: IND | D5: 478
A6: IND010 | B6: Ohio: Ind Gas Mkt | C6: IND | D6: 479
A7: IND012 | B7: Pennsylvania, Southwest: Ind Gas Mkt | C7: IND | D7: 480
A8: IND014 | B8: West Virginia: Ind Gas Mkt | C8: IND | D8: 481
A9: IND016 | B9: Texas, North: Ind Gas Mkt | C9: IND | D9: 482
A10: IND018 | B10: Texas, Houston: Ind Gas Mkt | C10: IND | D10: 483
A11: IND020 | B11: Texas, West: Ind Gas Mkt | C11: IND | D11: 484
A12: IND022 | B12: Delaware: Ind Gas Mkt | C12: IND | D12: 485
A13: IND024 | B13: Maryland, Western: Ind Gas Mkt | C13: IND | D13: 486
... A874: ELC169 | B874: Morelos ELC | C874: ELC | D874: 3823

Sheet Location Unique Code
A1: Loc_Code | B1: Loc_Name | C1: Cust | D1: Sup | E1: Trans | F1: Census_Region | G1: NERCsub | H1: State | I1: NERC | J1: Country | K1: Other | L1: Misc | M1: Loc_ID | N1: Market_Point_ID | O1: Ref_Point_ID | P1: Basin_Group | Q1: PADD
A2: M - ALASKA | B2: Alaska | C2: TRUE | D2: FALSE | E2: FALSE | F2: AK | G2: AKMS | H2: AK | I2: ASCC | J2: AK | K2: Alaska | L2: North America | M2: 434 | Q2: PADD V
A3: M - ARLM - AR | B3: Arkansas | C3: TRUE | D3: FALSE | E3: FALSE | F3: WSC | G3: SRMV | H3: AR | I3: SERC | J3: USA | K3: West South Central | L3: North America | M3: 44 | Q3: PADD III
A4: M - ARLM - LA | B4: Louisiana Northern | C4: TRUE | D4: FALSE | E4: FALSE | F4: WSC | G4: SRMV | H4: LA | I4: SERC | J4: USA | K4: West South Central | L4: North America | M4: 45 | N4: 156 | Q4: PADD III
A5: M - AZNM - AZ | B5: Arizona | C5: TRUE | D5: FALSE | E5: FALSE | F5: MNT | G5: AZNM | H5: AZ | I5: WECC | J5: USA | K5: Mountain | L5: North America | M5: 46 | N5: 140 | Q5: PADD V
A6: M - AZNM - NM | B6: New Mexico | C6: TRUE | D6: FALSE | E6: FALSE | F6: MNT | G6: AZNM | H6: NM | I6: WECC | J6: USA | K6: Mountain | L6: North America | M6: 47 | Q6: PADD III
A7: M - BCC | B7: British Columbia (Central) | C7: TRUE | D7: FALSE | E7: FALSE | F7: CAN-W | G7: WECC-BC | H7: BC | I7: WECC | J7: CAN | K7: Western Canada | L7: North America | M7: 4154 | Q7: CAN
A8: M - BCNW | B8: British Columbia (Northwest) | C8: TRUE | D8: FALSE | E8: FALSE | F8: CAN-W | G8: WECC-BC | H8: BC | I8: WECC | J8: CAN | K8: Western Canada | L8: North America | M8: 4152 | Q8: CAN
A9: M - BCSE | B9: British Columbia (Southeast) | C9: TRUE | D9: FALSE | E9: FALSE | F9: CAN-W | G9: WECC-BC | H9: BC | I9: WECC | J9: CAN | K9: Western Canada | L9: North America | M9: 4147 | Q9: CAN
A10: M - BCSW | B10: British Columbia (Southwest) | C10: TRUE | D10: FALSE | E10: FALSE | F10: CAN-W | G10: WECC-BC | H10: BC | I10: WECC | J10: CAN | K10: Western Canada | L10: North America | M10: 4153 | Q10: CAN
A11: M - CWMS - MA | B11: Massachusetts Western | C11: TRUE | D11: FALSE | E11: FALSE | F11: NE | G11: NEWE | H11: MA | I11: NPCC | J11: USA | K11: New England | L11: North America | M11: 50 | N11: 201 | Q11: PADD I
A12: M - ERCH | B12: Texas Houston (ERCOT) | C12: TRUE | D12: FALSE | E12: FALSE | F12: WSC | G12: ERCT-H | H12: TX | I12: ERCOT | J12: USA | K12: West South Central | L12: North America | M12: 15939 | Q12: PADD III
A13: M - ERCN | B13: Texas North (ERCOT) | C13: TRUE | D13: FALSE | E13: FALSE | F13: WSC | G13: ERCT-N | H13: TX | I13: ERCOT | J13: USA | K13: West South Central | L13: North America | M13: 51 | Q13: PADD III
A14: M - ERCS | B14: Texas South (ERCOT) | C14: TRUE | D14: FALSE | E14: FALSE | F14: WSC | G14: ERCT-S | H14: TX | I14: ERCOT | J14: USA | K14: West South Central | L14: North America | M14: 52 | N14: 23 | Q14: PADD III
A15: M - ERCW | B15: Texas West (ERCOT) | C15: TRUE | D15: FALSE | E15: FALSE | F15: WSC | G15: ERCT-W | H15: TX | I15: ERCOT | J15: USA | K15: West South Central | L15: North America | M15: 53 | Q15: PADD III
A16: M - FLSERC | B16: Florida Panhandle (SERC) | C16: TRUE | D16: FALSE | E16: FALSE | F16: SA | G16: SERC | H16: FL | I16: SERC | J16: USA | K16: South Atlantic | L16: North America | M16: 18643 | N16: 90 | Q16: PADD I
A17: M - HYQB | B17: Quebec | C17: TRUE | D17: FALSE | E17: FALSE | F17: CAN-E | G17: NPCC-QB | H17: QB | I17: NPCC | J17: CAN | K17: Eastern Canada | L17: North America | M17: 55 | Q17: CAN
A18: M - INDI | B18: Indiana | C18: TRUE | D18: FALSE | E18: FALSE | F18: ENC | G18: RFCW | H18: IN | I18: RFC | J18: USA | K18: East North Central | L18: North America | M18: 56 | N18: 63 | Q18: PADD II
A19: M - JAPAN | B19: Japan | C19: TRUE | D19: FALSE | E19: FALSE | F19: JAPAN | G19: JAPAN | H19: JAPAN | I19: JAPAN | J19: JAPAN | K19: JAPAN | L19: North America | M19: 450
A20: M - MDKT - MT | B20: Montana Eastern | C20: TRUE | D20: FALSE | E20: FALSE | F20: MNT | G20: MROW | H20: MT | I20: MRO | J20: USA | K20: Mountain | L20: North America | M20: 57 | Q20: PADD IV
A21: M - MDKT - ND | B21: North Dakota | C21: TRUE | D21: FALSE | E21: FALSE | F21: WNC | G21: MROW | H21: ND | I21: MRO | J21: USA | K21: West North Central | L21: North America | M21: 58 | Q21: PADD II
A22: M - MDKT - SD | B22: South Dakota | C22: TRUE | D22: FALSE | E22: FALSE | F22: WNC | G22: MROW | H22: SD | I22: MRO | J22: USA | K22: West North Central | L22: North America | M22: 59 | Q22: PADD II
A23: M - MEMO | B23: Missouri Eastern | C23: TRUE | D23: FALSE | E23: FALSE | F23: WNC | G23: SRMW | H23: MO | I23: SERC | J23: USA | K23: West North Central | L23: North America | M23: 60 | Q23: PADD II
A24: M - MICH | B24: Michigan Lower Peninsula | C24: TRUE | D24: FALSE | E24: FALSE | F24: ENC | G24: RFCW | H24: MI | I24: RFC | J24: USA | K24: East North Central | L24: North America | M24: 62 | N24: 107 | Q24: PADD II
A25: M - MMIN - MN | B25: Minnesota | C25: TRUE | D25: FALSE | E25: FALSE | F25: WNC | G25: MROW | H25: MN | I25: MRO | J25: USA | K25: West North Central | L25: North America | M25: 63 | N25: 172 | Q25: PADD II
A26: M - MMIN - WI | B26: Wisconsin Western (MRO) | C26: TRUE | D26: FALSE | E26: FALSE | F26: ENC | G26: MORE | H26: WI | I26: MRO | J26: USA | K26: East North Central | L26: North America | M26: 64 | Q26: PADD II
A27: M - MMTB | B27: Manitoba | C27: TRUE | D27: FALSE | E27: FALSE | F27: CAN-W | G27: MRO-MTB | H27: MB | I27: MRO | J27: CAN | K27: Western Canada | L27: North America | M27: 65 | Q27: CAN
A28: M - MNBI - IA | B28: Iowa | C28: TRUE | D28: FALSE | E28: FALSE | F28: WNC | G28: MROW | H28: IA | I28: MRO | J28: USA | K28: West North Central | L28: North America | M28: 66 | N28: 125 | Q28: PADD II
A29: M - MNBI - NE | B29: Nebraska | C29: TRUE | D29: FALSE | E29: FALSE | F29: WNC | G29: MROW | H29: NE | I29: MRO | J29: USA | K29: West North Central | L29: North America | M29: 67 | N29: 115 | Q29: PADD II
A30: M - MNIL | B30: Illinois Northern | C30: TRUE | D30: FALSE | E30: FALSE | F30: ENC | G30: RFCW | H30: IL | I30: RFC | J30: USA | K30: East North Central | L30: North America | M30: 68 | N30: 69 | Q30: PADD II
A31: M - MSASA | B31: Saskatchewan (A) | C31: TRUE | D31: FALSE | E31: FALSE | F31: CAN-W | G31: MRO-SK | H31: SK | I31: MRO | J31: CAN | K31: Western Canada | L31: North America | M31: 69 | Q31: CAN
A32: M - MSASB | B32: Saskatchewan (B) | C32: TRUE | D32: FALSE | E32: FALSE | F32: CAN-W | G32: MRO-CAN | H32: SK | I32: MRO | J32: CAN | K32: Western Canada | L32: North America | M32: 11659 | Q32: CAN
A33: M - MXBC | B33: Mexico Baja | C33: TRUE | D33: FALSE | E33: FALSE | F33: MXBC | G33: WECC-BJ | H33: MXBC | I33: WECC | J33: MEX | K33: Mexico | L33: North America | M33: 489 | Q33: MEX
A34: M - MXNC | B34: Mexico North Central | C34: TRUE | D34: FALSE | E34: FALSE | F34: MXNC | G34: CFE | H34: MXNC | I34: CFE | J34: MEX | K34: Mexico | L34: North America | M34: 490 | Q34: MEX
A35: M - MXNE | B35: Mexico North East | C35: TRUE | D35: FALSE | E35: FALSE | F35: MXNE | G35: CFE | H35: MXNE | I35: CFE | J35: MEX | K35: Mexico | L35: North America | M35: 491 | Q35: MEX
A36: M - MXNW | B36: Mexico North West | C36: TRUE | D36: FALSE | E36: FALSE | F36: MXNW | G36: CFE | H36: MXNW | I36: CFE | J36: MEX | K36: Mexico | L36: North America | M36: 61 | Q36: MEX
A37: M - MXSC | B37: Mexico South Central | C37: TRUE | D37: FALSE | E37: FALSE | F37: MXSC | G37: CFE | H37: MXSC | I37: CFE | J37: MEX | K37: Mexico | L37: North America | M37: 2975 | Q37: MEX
A38: M - MXSE | B38: Mexico South East | C38: TRUE | D38: FALSE | E38: FALSE | F38: MXSE | G38: CFE | H38: MXSE | I38: CFE | J38: MEX | K38: Mexico | L38: North America | M38: 2976 | Q38: MEX
A39: M - MXSOF | B39: Mexico South Offshore | C39: TRUE | D39: FALSE | E39: FALSE | F39: MXSOF | G39: CFE | H39: MXSOF | I39: CFE | J39: MEX | K39: Mexico | L39: North America | M39: 15949 | Q39: MEX
A40: M - MXSW | B40: Mexico South West | C40: TRUE | D40: FALSE | E40: FALSE | F40: MXSW | G40: CFE | H40: MXSW | I40: CFE | J40: MEX | K40: Mexico | L40: North America | M40: 2977 | Q40: MEX
...

Sheet Issues

Sheet Sheet2
D1: Customer Table | I1: Subshare Table
D3: COM | E3: VEH | F3: IND | G3: RES | J3: COM | K3: VEH | L3: IND | M3: RES
C4: AB | D4: 1 | E4: 1 | F4: 1 | G4: 1 | I4: AB | J4: 1 | K4: 1 | L4: 1 | M4: 1 | P4: =IF(D4=J4,1,0) -> 1 | Q4: =IF(E4=K4,1,0) -> 1 | R4: =IF(F4=L4,1,0) -> 1 | S4: =IF(G4=M4,1,0) -> 1
C5: JAPAN | D5: 0 | E5: 0 | F5: 0 | G5: 0 | I5: JAPAN | J5: 0 | K5: 0 | L5: 0 | M5: 0 | P5: =IF(D5=J5,1,0) -> 1 | Q5: =IF(E5=K5,1,0) -> 1 | R5: =IF(F5=L5,1,0) -> 1 | S5: =IF(G5=M5,1,0) -> 1
C6: AL | D6: 1 | E6: 1 | F6: 1 | G6: 1 | I6: AL | J6: 1 | K6: 1 | L6: 1 | M6: 1 | P6: =IF(D6=J6,1,0) -> 1 | Q6: =IF(E6=K6,1,0) -> 1 | R6: =IF(F6=L6,1,0) -> 1 | S6: =IF(G6=M6,1,0) -> 1
C7: AK | D7: 0.15746302 | E7: 0 | F7: 1 | G7: 1 | I7: AK | J7: 1 | K7: 0 | L7: 1 | M7: 1 | P7: =IF(D7=J7,1,0) -> 0 | Q7: =IF(E7=K7,1,0) -> 1 | R7: =IF(F7=L7,1,0) -> 1 | S7: =IF(G7=M7,1,0) -> 1
C8: IL | D8: 1 | E8: 1 | F8: 1 | G8: 1 | I8: IL | J8: 1 | K8: 1 | L8: 1 | M8: 1 | P8: =IF(D8=J8,1,0) -> 1 | Q8: =IF(E8=K8,1,0) -> 1 | R8: =IF(F8=L8,1,0) -> 1 | S8: =IF(G8=M8,1,0) -> 1
C9: MO | D9: 1 | E9: 1 | F9: 1 | G9: 1 | I9: MO | J9: 1 | K9: 1 | L9: 1 | M9: 1 | P9: =IF(D9=J9,1,0) -> 1 | Q9: =IF(E9=K9,1,0) -> 1 | R9: =IF(F9=L9,1,0) -> 1 | S9: =IF(G9=M9,1,0) -> 0
C10: AZ | D10: 1 | E10: 1 | F10: 1 | G10: 1 | I10: AZ | J10: 1 | K10: 1 | L10: 1 | M10: 1 | P10: =IF(D10=J10,1,0) -> 1 | Q10: =IF(E10=K10,1,0) -> 1 | R10: =IF(F10=L10,1,0) -> 1 | S10: =IF(G10=M10,1,0) -> 1
C11: AR | D11: 1 | E11: 1 | F11: 1 | G11: 1 | I11: AR | J11: 1 | K11: 1 | L11: 1 | M11: 1 | P11: =IF(D11=J11,1,0) -> 1 | Q11: =IF(E11=K11,1,0) -> 1 | R11: =IF(F11=L11,1,0) -> 1 | S11: =IF(G11=M11,1,0) -> 1
C12: GA | D12: 1 | E12: 1 | F12: 1 | G12: 1 | I12: GA | J12: 1 | K12: 1 | L12: 1 | M12: 1 | P12: =IF(D12=J12,1,0) -> 1 | Q12: =IF(E12=K12,1,0) -> 1 | R12: =IF(F12=L12,1,0) -> 1 | S12: =IF(G12=M12,1,0) -> 1
C13: KY | D13: 1 | E13: 1 | F13: 1 | G13: 1 | I13: KY | J13: 1 | K13: 1 | L13: 1 | M13: 1 | P13: =IF(D13=J13,1,0) -> 1 | Q13: =IF(E13=K13,1,0) -> 1 | R13: =IF(F13=L13,1,0) -> 1 | S13: =IF(G13=M13,1,0) -> 1
C14: LA | D14: 1 | E14: 1 | F14: 1 | G14: 0.9999 | I14: LA | J14: 1 | K14: 1 | L14: 1 | M14: 0.9999 | P14: =IF(D14=J14,1,0) -> 1 | Q14: =IF(E14=K14,1,0) -> 1 | R14: =IF(F14=L14,1,0) -> 1 | S14: =IF(G14=M14,1,0) -> 1
C15: KS | D15: 1 | E15: 1 | F15: 1 | G15: 1 | I15: KS | J15: 1 | K15: 1 | L15: 1 | M15: 1 | P15: =IF(D15=J15,1,0) -> 1 | Q15: =IF(E15=K15,1,0) -> 1 | R15: =IF(F15=L15,1,0) -> 1 | S15: =IF(G15=M15,1,0) -> 1
... C73: VT | D73: 1 | E73: 1 | F73: 1 | G73: 1 | I73: VT | J73: 1 | K73: 1 | L73: 1 | M73: 1 | P73: =IF(D73=J73,1,0) -> 1 | Q73: =IF(E73=K73,1,0) -> 1 | R73: =IF(F73=L73,1,0) -> 1 | S73: =IF(G73=M73,1,0) -> 1
