Workbook

Sheet Sheet1
A1: Kode Emiten | B1: Tahun | C1: DAR | D1: ROA | E1: Size | F1: Growth | G1: Tobin's Q
B2: 2011 | C2: =LN(('[1]DAR 1'!C2/'[1]DAR 1'!D2)) -> -0.5648725 | D2: =LN(ABS('[1]ROA 1'!C2/'[1]ROA 1'!D2)) -> -2.327261 | E2: =LN([1]SIZE!C2) -> 31.571436 | F2: =LN([2]Sheet1!A1) -> -1.3093333 | G2: =LN(('[1]TOBIN''S Q 1'!E2+'[1]TOBIN''S Q 1'!F2)/'[1]TOBIN''S Q 1'!G2) -> 0.51224812
B3: 2012 | C3: =LN(('[1]DAR 1'!C3/'[1]DAR 1'!D3)) -> -0.59337472 | D3: =LN(ABS('[1]ROA 1'!C3/'[1]ROA 1'!D3)) -> -2.8598701 | E3: =LN([1]SIZE!C3) -> 31.804922 | F3: =LN([2]Sheet1!A2) -> -1.3470736 | G3: =LN(('[1]TOBIN''S Q 1'!E3+'[1]TOBIN''S Q 1'!F3)/'[1]TOBIN''S Q 1'!G3) -> 0.28913044
A4: ADRO | B4: 2013 | C4: =LN(('[1]DAR 1'!C4/'[1]DAR 1'!D4)) -> -0.64335452 | D4: =LN(ABS('[1]ROA 1'!C4/'[1]ROA 1'!D4)) -> -3.3800232 | E4: =LN([1]SIZE!C4) -> 32.039185 | F4: =LN([2]Sheet1!A3) -> -1.3470736 | G4: =LN(('[1]TOBIN''S Q 1'!E4+'[1]TOBIN''S Q 1'!F4)/'[1]TOBIN''S Q 1'!G4) -> -0.051196345
B5: 2014 | C5: =LN(('[1]DAR 1'!C5/'[1]DAR 1'!D5)) -> -0.70931494 | D5: =LN(ABS('[1]ROA 1'!C5/'[1]ROA 1'!D5)) -> -3.5537845 | E5: =LN([1]SIZE!C5) -> 32.015212 | F5: =LN([2]Sheet1!A4) -> -3.912023 | G5: =LN(('[1]TOBIN''S Q 1'!E5+'[1]TOBIN''S Q 1'!F5)/'[1]TOBIN''S Q 1'!G5) -> -0.097723299
B6: 2015 | C6: =LN(('[1]DAR 1'!C6/'[1]DAR 1'!D6)) -> -0.82718282 | D6: =LN(ABS('[1]ROA 1'!C6/'[1]ROA 1'!D6)) -> -3.675296 | E6: =LN([1]SIZE!C6) -> 32.046887 | F6: =LN([2]Sheet1!A5) -> -3.5065579 | G6: =LN(('[1]TOBIN''S Q 1'!E6+'[1]TOBIN''S Q 1'!F6)/'[1]TOBIN''S Q 1'!G6) -> -0.45202559
B7: 2011 | C7: =LN(('[1]DAR 1'!C7/'[1]DAR 1'!D7)) -> -1.2331596 | D7: =LN(ABS('[1]ROA 1'!C7/'[1]ROA 1'!D7)) -> -2.0649495 | E7: =LN([1]SIZE!C7) -> 30.352398 | F7: =LN([2]Sheet1!A6) -> -1.469676 | G7: =LN(('[1]TOBIN''S Q 1'!E7+'[1]TOBIN''S Q 1'!F7)/'[1]TOBIN''S Q 1'!G7) -> 0.13559604
B8: 2012 | C8: =LN(('[1]DAR 1'!C8/'[1]DAR 1'!D8)) -> -1.0529823 | D8: =LN(ABS('[1]ROA 1'!C8/'[1]ROA 1'!D8)) -> -1.8847372 | E8: =LN([1]SIZE!C8) -> 30.612073 | F8: =LN([2]Sheet1!A7) -> -1.2039728 | G8: =LN(('[1]TOBIN''S Q 1'!E8+'[1]TOBIN''S Q 1'!F8)/'[1]TOBIN''S Q 1'!G8) -> -0.14012209
A9: ANTM | B9: 2013 | C9: =LN(('[1]DAR 1'!C9/'[1]DAR 1'!D9)) -> -0.87974061 | D9: =LN(ABS('[1]ROA 1'!C9/'[1]ROA 1'!D9)) -> -3.976619 | E9: =LN([1]SIZE!C9) -> 30.715914 | F9: =LN([2]Sheet1!A8) -> -2.2072749 | G9: =LN(('[1]TOBIN''S Q 1'!E9+'[1]TOBIN''S Q 1'!F9)/'[1]TOBIN''S Q 1'!G9) -> -0.2054215
B10: 2014 | C10: =LN(('[1]DAR 1'!C10/'[1]DAR 1'!D10)) -> -0.77906566 | D10: =LN(ABS('[1]ROA 1'!C10/'[1]ROA 1'!D10)) -> -3.3475725 | E10: =LN([1]SIZE!C10) -> 30.724071 | F10: =LN([2]Sheet1!A9) -> -4.6051702 | G10: =LN(('[1]TOBIN''S Q 1'!E10+'[1]TOBIN''S Q 1'!F10)/'[1]TOBIN''S Q 1'!G10) -> -0.16733452
B11: 2015 | C11: =LN(('[1]DAR 1'!C11/'[1]DAR 1'!D11)) -> -0.92477682 | D11: =LN(ABS('[1]ROA 1'!C11/'[1]ROA 1'!D11)) -> -3.047787 | E11: =LN([1]SIZE!C11) -> 31.044043 | F11: =LN([2]Sheet1!A10) -> -0.96758403 | G11: =LN(('[1]TOBIN''S Q 1'!E11+'[1]TOBIN''S Q 1'!F11)/'[1]TOBIN''S Q 1'!G11) -> -0.43821781
B12: 2011 | C12: =LN(('[1]DAR 1'!C12/'[1]DAR 1'!D12)) -> -0.92622812 | D12: =LN(ABS('[1]ROA 1'!C12/'[1]ROA 1'!D12)) -> -4.4483965 | E12: =LN([1]SIZE!C12) -> 28.464532 | F12: =LN([2]Sheet1!A11) -> 1.1817272 | G12: =LN(('[1]TOBIN''S Q 1'!E12+'[1]TOBIN''S Q 1'!F12)/'[1]TOBIN''S Q 1'!G12) -> 0.86603317
B13: 2012 | C13: =LN(('[1]DAR 1'!C13/'[1]DAR 1'!D13)) -> -0.65866718 | D13: =LN(ABS('[1]ROA 1'!C13/'[1]ROA 1'!D13)) -> -3.2893552 | E13: =LN([1]SIZE!C13) -> 28.697011 | F13: =LN([2]Sheet1!A12) -> -1.3470736 | G13: =LN(('[1]TOBIN''S Q 1'!E13+'[1]TOBIN''S Q 1'!F13)/'[1]TOBIN''S Q 1'!G13) -> 0.73121968
A14: ARII | B14: 2013 | C14: =LN(('[1]DAR 1'!C14/'[1]DAR 1'!D14)) -> -0.54582745 | D14: =LN(ABS('[1]ROA 1'!C14/'[1]ROA 1'!D14)) -> -3.3930925 | E14: =LN([1]SIZE!C14) -> 29.005297 | F14: =LN([2]Sheet1!A13) -> -1.0216512 | G14: =LN(('[1]TOBIN''S Q 1'!E14+'[1]TOBIN''S Q 1'!F14)/'[1]TOBIN''S Q 1'!G14) -> 0.2025901
B15: 2014 | C15: =LN(('[1]DAR 1'!C15/'[1]DAR 1'!D15)) -> -0.38059481 | D15: =LN(ABS('[1]ROA 1'!C15/'[1]ROA 1'!D15)) -> -2.6229617 | E15: =LN([1]SIZE!C15) -> 29.075434 | F15: =LN([2]Sheet1!A14) -> -2.65926 | G15: =LN(('[1]TOBIN''S Q 1'!E15+'[1]TOBIN''S Q 1'!F15)/'[1]TOBIN''S Q 1'!G15) -> 0.00048344639
B16: 2015 | C16: =LN(('[1]DAR 1'!C16/'[1]DAR 1'!D16)) -> -0.2656292 | D16: =LN(ABS('[1]ROA 1'!C16/'[1]ROA 1'!D16)) -> -2.5849063 | E16: =LN([1]SIZE!C16) -> 29.24464 | F16: =LN([2]Sheet1!A15) -> -1.7147984 | G16: =LN(('[1]TOBIN''S Q 1'!E16+'[1]TOBIN''S Q 1'!F16)/'[1]TOBIN''S Q 1'!G16) -> 0.0057057163
B17: 2011 | C17: =LN(('[1]DAR 1'!C17/'[1]DAR 1'!D17)) -> -0.59250667 | D17: =LN(ABS('[1]ROA 1'!C17/'[1]ROA 1'!D17)) -> -2.0386187 | E17: =LN([1]SIZE!C17) -> 30.297293 | F17: =LN([2]Sheet1!A16) -> -0.32850407 | G17: =LN(('[1]TOBIN''S Q 1'!E17+'[1]TOBIN''S Q 1'!F17)/'[1]TOBIN''S Q 1'!G17) -> 1.5525694
B18: 2012 | C18: =LN(('[1]DAR 1'!C18/'[1]DAR 1'!D18)) -> -0.46313544 | D18: =LN(ABS('[1]ROA 1'!C18/'[1]ROA 1'!D18)) -> -3.5480222 | E18: =LN([1]SIZE!C18) -> 30.550606 | F18: =LN([2]Sheet1!A17) -> -1.2378744 | G18: =LN(('[1]TOBIN''S Q 1'!E18+'[1]TOBIN''S Q 1'!F18)/'[1]TOBIN''S Q 1'!G18) -> 0.76503542
A19: BYAN | B19: 2013 | C19: =LN(('[1]DAR 1'!C19/'[1]DAR 1'!D19)) -> -0.33842857 | D19: =LN(ABS('[1]ROA 1'!C19/'[1]ROA 1'!D19)) -> -3.3455302 | E19: =LN([1]SIZE!C19) -> 30.581075 | F19: =LN([2]Sheet1!A18) -> -3.5065579 | G19: =LN(('[1]TOBIN''S Q 1'!E19+'[1]TOBIN''S Q 1'!F19)/'[1]TOBIN''S Q 1'!G19) -> 0.78653172
B20: 2014 | C20: =LN(('[1]DAR 1'!C20/'[1]DAR 1'!D20)) -> -0.24842566 | D20: =LN(ABS('[1]ROA 1'!C20/'[1]ROA 1'!D20)) -> -1.8157641 | E20: =LN([1]SIZE!C20) -> 30.301785 | F20: =LN([2]Sheet1!A19) -> -1.4271164 | G20: =LN(('[1]TOBIN''S Q 1'!E20+'[1]TOBIN''S Q 1'!F20)/'[1]TOBIN''S Q 1'!G20) -> 0.83895458
B21: 2015 | C21: =LN(('[1]DAR 1'!C21/'[1]DAR 1'!D21)) -> -0.20281224 | D21: =LN(ABS('[1]ROA 1'!C21/'[1]ROA 1'!D21)) -> -2.4393384 | E21: =LN([1]SIZE!C21) -> 30.191164 | F21: =LN([2]Sheet1!A20) -> -2.3025851 | G21: =LN(('[1]TOBIN''S Q 1'!E21+'[1]TOBIN''S Q 1'!F21)/'[1]TOBIN''S Q 1'!G21) -> 1.0457006
B22: 2011 | C22: =LN(('[1]DAR 1'!C22/'[1]DAR 1'!D22)) -> -0.42799856 | D22: =LN(ABS('[1]ROA 1'!C22/'[1]ROA 1'!D22)) -> -5.4728859 | E22: =LN([1]SIZE!C22) -> 26.108914 | F22: =LN([2]Sheet1!A21) -> -2.4079456 | G22: =LN(('[1]TOBIN''S Q 1'!E22+'[1]TOBIN''S Q 1'!F22)/'[1]TOBIN''S Q 1'!G22) -> 0.050902426
B23: 2012 | C23: =LN(('[1]DAR 1'!C23/'[1]DAR 1'!D23)) -> -0.35842628 | D23: =LN(ABS('[1]ROA 1'!C23/'[1]ROA 1'!D23)) -> -4.5512222 | E23: =LN([1]SIZE!C23) -> 26.289465 | F23: =LN([2]Sheet1!A22) -> -1.6094379 | G23: =LN(('[1]TOBIN''S Q 1'!E23+'[1]TOBIN''S Q 1'!F23)/'[1]TOBIN''S Q 1'!G23) -> -0.0285679
A24: CTTH | B24: 2013 | C24: =LN(('[1]DAR 1'!C24/'[1]DAR 1'!D24)) -> -0.277522 | D24: =LN(ABS('[1]ROA 1'!C24/'[1]ROA 1'!D24)) -> -6.5153436 | E24: =LN([1]SIZE!C24) -> 26.513104 | F24: =LN([2]Sheet1!A23) -> -1.3862944 | G24: =LN(('[1]TOBIN''S Q 1'!E24+'[1]TOBIN''S Q 1'!F24)/'[1]TOBIN''S Q 1'!G24) -> -0.0014143712
B25: 2014 | C25: =LN(('[1]DAR 1'!C25/'[1]DAR 1'!D25)) -> -0.24747578 | D25: =LN(ABS('[1]ROA 1'!C25/'[1]ROA 1'!D25)) -> -5.8885623 | E25: =LN([1]SIZE!C25) -> 26.626045 | F25: =LN([2]Sheet1!A24) -> -2.1202635 | G25: =LN(('[1]TOBIN''S Q 1'!E25+'[1]TOBIN''S Q 1'!F25)/'[1]TOBIN''S Q 1'!G25) -> 0.0060357444
B26: 2015 | C26: =LN(('[1]DAR 1'!C26/'[1]DAR 1'!D26)) -> -0.64844099 | D26: =LN(ABS('[1]ROA 1'!C26/'[1]ROA 1'!D26)) -> -5.7386278 | E26: =LN([1]SIZE!C26) -> 27.129596 | F26: =LN([2]Sheet1!A25) -> -0.43078292 | G26: =LN(('[1]TOBIN''S Q 1'!E26+'[1]TOBIN''S Q 1'!F26)/'[1]TOBIN''S Q 1'!G26) -> -0.45151357
B27: 2011 | C27: =LN(('[1]DAR 1'!C27/'[1]DAR 1'!D27)) -> -1.4513286 | D27: =LN(ABS('[1]ROA 1'!C27/'[1]ROA 1'!D27)) -> -0.95978082 | E27: =LN([1]SIZE!C27) -> 29.166844 | F27: =LN([2]Sheet1!A26) -> -1.0788097 | G27: =LN(('[1]TOBIN''S Q 1'!E27+'[1]TOBIN''S Q 1'!F27)/'[1]TOBIN''S Q 1'!G27) -> 1.4388707
B28: 2012 | C28: =LN(('[1]DAR 1'!C28/'[1]DAR 1'!D28)) -> -1.588567 | D28: =LN(ABS('[1]ROA 1'!C28/'[1]ROA 1'!D28)) -> -1.2034882 | E28: =LN([1]SIZE!C28) -> 29.314897 | F28: =LN([2]Sheet1!A27) -> -1.8325815 | G28: =LN(('[1]TOBIN''S Q 1'!E28+'[1]TOBIN''S Q 1'!F28)/'[1]TOBIN''S Q 1'!G28) -> 1.1680592
A29: HRUM | B29: 2013 | C29: =LN(('[1]DAR 1'!C29/'[1]DAR 1'!D29)) -> -1.7248621 | D29: =LN(ABS('[1]ROA 1'!C29/'[1]ROA 1'!D29)) -> -2.2714898 | E29: =LN([1]SIZE!C29) -> 29.424074 | F29: =LN([2]Sheet1!A28) -> -2.1202635 | G29: =LN(('[1]TOBIN''S Q 1'!E29+'[1]TOBIN''S Q 1'!F29)/'[1]TOBIN''S Q 1'!G29) -> 0.3476632
B30: 2014 | C30: =LN(('[1]DAR 1'!C30/'[1]DAR 1'!D30)) -> -1.6876623 | D30: =LN(ABS('[1]ROA 1'!C30/'[1]ROA 1'!D30)) -> -5.1382668 | E30: =LN([1]SIZE!C30) -> 29.34506 | F30: =LN([2]Sheet1!A29) -> -2.5257286 | G30: =LN(('[1]TOBIN''S Q 1'!E30+'[1]TOBIN''S Q 1'!F30)/'[1]TOBIN''S Q 1'!G30) -> -0.0066147199
B31: 2015 | C31: =LN(('[1]DAR 1'!C31/'[1]DAR 1'!D31)) -> -2.3249279 | D31: =LN(ABS('[1]ROA 1'!C31/'[1]ROA 1'!D31)) -> -2.9976188 | E31: =LN([1]SIZE!C31) -> 29.324367 | F31: =LN([2]Sheet1!A30) -> -3.912023 | G31: =LN(('[1]TOBIN''S Q 1'!E31+'[1]TOBIN''S Q 1'!F31)/'[1]TOBIN''S Q 1'!G31) -> -0.84547212
B32: 2011 | C32: =LN(('[1]DAR 1'!C32/'[1]DAR 1'!D32)) -> -1.1542766 | D32: =LN(ABS('[1]ROA 1'!C32/'[1]ROA 1'!D32)) -> -1.0613641 | E32: =LN([1]SIZE!C32) -> 30.292231 | F32: =LN([2]Sheet1!A31) -> -0.77652879 | G32: =LN(('[1]TOBIN''S Q 1'!E32+'[1]TOBIN''S Q 1'!F32)/'[1]TOBIN''S Q 1'!G32) -> 1.2138265
B33: 2012 | C33: =LN(('[1]DAR 1'!C33/'[1]DAR 1'!D33)) -> -1.1153848 | D33: =LN(ABS('[1]ROA 1'!C33/'[1]ROA 1'!D33)) -> -1.2388274 | E33: =LN([1]SIZE!C33) -> 30.299647 | F33: =LN([2]Sheet1!A32) -> -4.6051702 | G33: =LN(('[1]TOBIN''S Q 1'!E33+'[1]TOBIN''S Q 1'!F33)/'[1]TOBIN''S Q 1'!G33) -> 1.2763514
A34: ITMG | B34: 2013 | C34: =LN(('[1]DAR 1'!C34/'[1]DAR 1'!D34)) -> -1.1788085 | D34: =LN(ABS('[1]ROA 1'!C34/'[1]ROA 1'!D34)) -> -1.798416 | E34: =LN([1]SIZE!C34) -> 30.462397 | F34: =LN([2]Sheet1!A33) -> -1.7147984 | G34: =LN(('[1]TOBIN''S Q 1'!E34+'[1]TOBIN''S Q 1'!F34)/'[1]TOBIN''S Q 1'!G34) -> 0.79091555
B35: 2014 | C35: =LN(('[1]DAR 1'!C35/'[1]DAR 1'!D35)) -> -1.1627158 | D35: =LN(ABS('[1]ROA 1'!C35/'[1]ROA 1'!D35)) -> -1.8763492 | E35: =LN([1]SIZE!C35) -> 30.419939 | F35: =LN([2]Sheet1!A34) -> -3.2188758 | G35: =LN(('[1]TOBIN''S Q 1'!E35+'[1]TOBIN''S Q 1'!F35)/'[1]TOBIN''S Q 1'!G35) -> 0.32269012
B36: 2015 | C36: =LN(('[1]DAR 1'!C36/'[1]DAR 1'!D36)) -> -1.2318039 | D36: =LN(ABS('[1]ROA 1'!C36/'[1]ROA 1'!D36)) -> -2.9270498 | E36: =LN([1]SIZE!C36) -> 30.419454 | F36: =LN([2]Sheet1!A35) -> -7.6009025 | G36: =LN(('[1]TOBIN''S Q 1'!E36+'[1]TOBIN''S Q 1'!F36)/'[1]TOBIN''S Q 1'!G36) -> -0.37148126
B37: 2011 | C37: =LN(('[1]DAR 1'!C37/'[1]DAR 1'!D37)) -> -1.1147539 | D37: =LN(ABS('[1]ROA 1'!C37/'[1]ROA 1'!D37)) -> -0.77570014 | E37: =LN([1]SIZE!C37) -> 27.608666 | F37: =LN([2]Sheet1!A36) -> 0.62593843 | G37: =LN(('[1]TOBIN''S Q 1'!E37+'[1]TOBIN''S Q 1'!F37)/'[1]TOBIN''S Q 1'!G37) -> 1.9349662
B38: 2012 | C38: =LN(('[1]DAR 1'!C38/'[1]DAR 1'!D38)) -> -1.2246664 | D38: =LN(ABS('[1]ROA 1'!C38/'[1]ROA 1'!D38)) -> -1.4816651 | E38: =LN([1]SIZE!C38) -> 27.634775 | F38: =LN([2]Sheet1!A37) -> -3.5065579 | G38: =LN(('[1]TOBIN''S Q 1'!E38+'[1]TOBIN''S Q 1'!F38)/'[1]TOBIN''S Q 1'!G38) -> 1.0150796
A39: KKGI | B39: 2013 | C39: =LN(('[1]DAR 1'!C39/'[1]DAR 1'!D39)) -> -1.1757603 | D39: =LN(ABS('[1]ROA 1'!C39/'[1]ROA 1'!D39)) -> -1.8170136 | E39: =LN([1]SIZE!C39) -> 27.888066 | F39: =LN([2]Sheet1!A38) -> -1.2378744 | G39: =LN(('[1]TOBIN''S Q 1'!E39+'[1]TOBIN''S Q 1'!F39)/'[1]TOBIN''S Q 1'!G39) -> 0.63864778
B40: 2014 | C40: =LN(('[1]DAR 1'!C40/'[1]DAR 1'!D40)) -> -1.2912436 | D40: =LN(ABS('[1]ROA 1'!C40/'[1]ROA 1'!D40)) -> -2.5211215 | E40: =LN([1]SIZE!C40) -> 27.845031 | F40: =LN([2]Sheet1!A39) -> -3.2188758 | G40: =LN(('[1]TOBIN''S Q 1'!E40+'[1]TOBIN''S Q 1'!F40)/'[1]TOBIN''S Q 1'!G40) -> 0.082782986
B41: 2015 | C41: =LN(('[1]DAR 1'!C41/'[1]DAR 1'!D41)) -> -1.5094676 | D41: =LN(ABS('[1]ROA 1'!C41/'[1]ROA 1'!D41)) -> -2.8548992 | E41: =LN([1]SIZE!C41) -> 27.938051 | F41: =LN([2]Sheet1!A40) -> -2.3025851 | G41: =LN(('[1]TOBIN''S Q 1'!E41+'[1]TOBIN''S Q 1'!F41)/'[1]TOBIN''S Q 1'!G41) -> -0.6348938
B42: 2011 | C42: =LN(('[1]DAR 1'!C42/'[1]DAR 1'!D42)) -> -0.76015633 | D42: =LN(ABS('[1]ROA 1'!C42/'[1]ROA 1'!D42)) -> -1.4569679 | E42: =LN([1]SIZE!C42) -> 25.493669 | F42: =LN([2]Sheet1!A41) -> -3.5065579 | G42: =LN(('[1]TOBIN''S Q 1'!E42+'[1]TOBIN''S Q 1'!F42)/'[1]TOBIN''S Q 1'!G42) -> 2.891731
B43: 2012 | C43: =LN(('[1]DAR 1'!C43/'[1]DAR 1'!D43)) -> -1.0168691 | D43: =LN(ABS('[1]ROA 1'!C43/'[1]ROA 1'!D43)) -> -1.9057037 | E43: =LN([1]SIZE!C43) -> 25.724125 | F43: =LN([2]Sheet1!A42) -> -1.3470736 | G43: =LN(('[1]TOBIN''S Q 1'!E43+'[1]TOBIN''S Q 1'!F43)/'[1]TOBIN''S Q 1'!G43) -> 3.1383053
A44: MITI | B44: 2013 | C44: =LN(('[1]DAR 1'!C44/'[1]DAR 1'!D44)) -> -1.2400379 | D44: =LN(ABS('[1]ROA 1'!C44/'[1]ROA 1'!D44)) -> -1.9650422 | E44: =LN([1]SIZE!C44) -> 25.779469 | F44: =LN([2]Sheet1!A43) -> -2.8134107 | G44: =LN(('[1]TOBIN''S Q 1'!E44+'[1]TOBIN''S Q 1'!F44)/'[1]TOBIN''S Q 1'!G44) -> 2.9803093
B45: 2014 | C45: =LN(('[1]DAR 1'!C45/'[1]DAR 1'!D45)) -> -1.4060176 | D45: =LN(ABS('[1]ROA 1'!C45/'[1]ROA 1'!D45)) -> -3.8641565 | E45: =LN([1]SIZE!C45) -> 26.616783 | F45: =LN([2]Sheet1!A44) -> 0.27002714 | G45: =LN(('[1]TOBIN''S Q 1'!E45+'[1]TOBIN''S Q 1'!F45)/'[1]TOBIN''S Q 1'!G45) -> -0.10571237
B46: 2015 | C46: =LN(('[1]DAR 1'!C46/'[1]DAR 1'!D46)) -> -0.58980358 | D46: =LN(ABS('[1]ROA 1'!C46/'[1]ROA 1'!D46)) -> -0.32665238 | E46: =LN([1]SIZE!C46) -> 26.240431 | F46: =LN([2]Sheet1!A45) -> -1.171183 | G46: =LN(('[1]TOBIN''S Q 1'!E46+'[1]TOBIN''S Q 1'!F46)/'[1]TOBIN''S Q 1'!G46) -> 0.1770217
B47: 2011 | C47: =LN(('[1]DAR 1'!C47/'[1]DAR 1'!D47)) -> -0.5141906 | D47: =LN(ABS('[1]ROA 1'!C47/'[1]ROA 1'!D47)) -> -5.0852027 | E47: =LN([1]SIZE!C47) -> 26.879902 | F47: =LN([2]Sheet1!A46) -> -4.6051702 | G47: =LN(('[1]TOBIN''S Q 1'!E47+'[1]TOBIN''S Q 1'!F47)/'[1]TOBIN''S Q 1'!G47) -> -0.18702906
B48: 2012 | C48: =LN(('[1]DAR 1'!C48/'[1]DAR 1'!D48)) -> -0.58144316 | D48: =LN(ABS('[1]ROA 1'!C48/'[1]ROA 1'!D48)) -> -3.7771752 | E48: =LN([1]SIZE!C48) -> 26.705381 | F48: =LN([2]Sheet1!A47) -> -1.8325815 | G48: =LN(('[1]TOBIN''S Q 1'!E48+'[1]TOBIN''S Q 1'!F48)/'[1]TOBIN''S Q 1'!G48) -> -0.10562577
A49: PKPK | B49: 2013 | C49: =LN(('[1]DAR 1'!C49/'[1]DAR 1'!D49)) -> -0.66255352 | D49: =LN(ABS('[1]ROA 1'!C49/'[1]ROA 1'!D49)) -> -6.9879729 | E49: =LN([1]SIZE!C49) -> 26.613663 | F49: =LN([2]Sheet1!A48) -> -2.4079456 | G49: =LN(('[1]TOBIN''S Q 1'!E49+'[1]TOBIN''S Q 1'!F49)/'[1]TOBIN''S Q 1'!G49) -> -0.41816661
B50: 2014 | C50: =LN(('[1]DAR 1'!C50/'[1]DAR 1'!D50)) -> -0.66138539 | D50: =LN(ABS('[1]ROA 1'!C50/'[1]ROA 1'!D50)) -> -2.3670783 | E50: =LN([1]SIZE!C50) -> 26.437842 | F50: =LN([2]Sheet1!A49) -> -1.8325815 | G50: =LN(('[1]TOBIN''S Q 1'!E50+'[1]TOBIN''S Q 1'!F50)/'[1]TOBIN''S Q 1'!G50) -> -0.37070683
B51: 2015 | C51: =LN(('[1]DAR 1'!C51/'[1]DAR 1'!D51)) -> -0.67244462 | D51: =LN(ABS('[1]ROA 1'!C51/'[1]ROA 1'!D51)) -> -1.0363328 | E51: =LN([1]SIZE!C51) -> 25.862579 | F51: =LN([2]Sheet1!A50) -> -0.82098055 | G51: =LN(('[1]TOBIN''S Q 1'!E51+'[1]TOBIN''S Q 1'!F51)/'[1]TOBIN''S Q 1'!G51) -> -0.37642499
B52: 2011 | C52: =LN(('[1]DAR 1'!C52/'[1]DAR 1'!D52)) -> -1.2363646 | D52: =LN(ABS('[1]ROA 1'!C52/'[1]ROA 1'!D52)) -> -1.3154193 | E52: =LN([1]SIZE!C52) -> 30.073986 | F52: =LN([2]Sheet1!A51) -> -1.1394343 | G52: =LN(('[1]TOBIN''S Q 1'!E52+'[1]TOBIN''S Q 1'!F52)/'[1]TOBIN''S Q 1'!G52) -> 1.3256219
B53: 2012 | C53: =LN(('[1]DAR 1'!C53/'[1]DAR 1'!D53)) -> -1.1031433 | D53: =LN(ABS('[1]ROA 1'!C53/'[1]ROA 1'!D53)) -> -1.4759273 | E53: =LN([1]SIZE!C53) -> 30.174902 | F53: =LN([2]Sheet1!A52) -> -2.2072749 | G53: =LN(('[1]TOBIN''S Q 1'!E53+'[1]TOBIN''S Q 1'!F53)/'[1]TOBIN''S Q 1'!G53) -> 1.1200957
A54: PTBA | B54: 2013 | C54: =LN(('[1]DAR 1'!C54/'[1]DAR 1'!D54)) -> -1.0404263 | D54: =LN(ABS('[1]ROA 1'!C54/'[1]ROA 1'!D54)) -> -1.8401373 | E54: =LN([1]SIZE!C54) -> 30.088655 | F54: =LN([2]Sheet1!A53) -> -2.5257286 | G54: =LN(('[1]TOBIN''S Q 1'!E54+'[1]TOBIN''S Q 1'!F54)/'[1]TOBIN''S Q 1'!G54) -> 0.86118564
B55: 2014 | C55: =LN(('[1]DAR 1'!C55/'[1]DAR 1'!D55)) -> -0.88042215 | D55: =LN(ABS('[1]ROA 1'!C55/'[1]ROA 1'!D55)) -> -1.9927309 | E55: =LN([1]SIZE!C55) -> 30.32646 | F55: =LN([2]Sheet1!A54) -> -1.3093333 | G55: =LN(('[1]TOBIN''S Q 1'!E55+'[1]TOBIN''S Q 1'!F55)/'[1]TOBIN''S Q 1'!G55) -> 0.85827406
B56: 2015 | C56: =LN(('[1]DAR 1'!C56/'[1]DAR 1'!D56)) -> -0.79795846 | D56: =LN(ABS('[1]ROA 1'!C56/'[1]ROA 1'!D56)) -> -2.1154284 | E56: =LN([1]SIZE!C56) -> 30.457982 | F56: =LN([2]Sheet1!A55) -> -1.9661129 | G56: =LN(('[1]TOBIN''S Q 1'!E56+'[1]TOBIN''S Q 1'!F56)/'[1]TOBIN''S Q 1'!G56) -> 0.065225293
B57: 2011 | C57: =LN(('[1]DAR 1'!C57/'[1]DAR 1'!D57)) -> -0.80442937 | D57: =LN(ABS('[1]ROA 1'!C57/'[1]ROA 1'!D57)) -> -4.8161801 | E57: =LN([1]SIZE!C57) -> 28.004717 | F57: =LN([2]Sheet1!A56) -> -2.8134107 | G57: =LN(('[1]TOBIN''S Q 1'!E57+'[1]TOBIN''S Q 1'!F57)/'[1]TOBIN''S Q 1'!G57) -> -0.32502766
B58: 2012 | C58: =LN(('[1]DAR 1'!C58/'[1]DAR 1'!D58)) -> -0.91005386 | D58: =LN(ABS('[1]ROA 1'!C58/'[1]ROA 1'!D58)) -> -3.3185036 | E58: =LN([1]SIZE!C58) -> 27.99026 | F58: =LN([2]Sheet1!A57) -> -4.6051702 | G58: =LN(('[1]TOBIN''S Q 1'!E58+'[1]TOBIN''S Q 1'!F58)/'[1]TOBIN''S Q 1'!G58) -> -0.37520586
A59: ARTI | B59: 2013 | C59: =LN(('[1]DAR 1'!C59/'[1]DAR 1'!D59)) -> -0.88732578 | D59: =LN(ABS('[1]ROA 1'!C59/'[1]ROA 1'!D59)) -> -3.1673766 | E59: =LN([1]SIZE!C59) -> 28.08682 | F59: =LN([2]Sheet1!A58) -> -2.3025851 | G59: =LN(('[1]TOBIN''S Q 1'!E59+'[1]TOBIN''S Q 1'!F59)/'[1]TOBIN''S Q 1'!G59) -> -0.52480097
B60: 2014 | C60: =LN(('[1]DAR 1'!C60/'[1]DAR 1'!D60)) -> -0.78840228 | D60: =LN(ABS('[1]ROA 1'!C60/'[1]ROA 1'!D60)) -> -4.0770239 | E60: =LN([1]SIZE!C60) -> 28.204073 | F60: =LN([2]Sheet1!A59) -> -2.1202635 | G60: =LN(('[1]TOBIN''S Q 1'!E60+'[1]TOBIN''S Q 1'!F60)/'[1]TOBIN''S Q 1'!G60) -> -0.60906571
B61: 2015 | C61: =LN(('[1]DAR 1'!C61/'[1]DAR 1'!D61)) -> -1.1659405 | D61: =LN(ABS('[1]ROA 1'!C61/'[1]ROA 1'!D61)) -> -4.9241833 | E61: =LN([1]SIZE!C61) -> 28.52682 | F61: =LN([2]Sheet1!A60) -> -0.96758403 | G61: =LN(('[1]TOBIN''S Q 1'!E61+'[1]TOBIN''S Q 1'!F61)/'[1]TOBIN''S Q 1'!G61) -> -0.15573434
B62: 2011 | C62: =LN(('[1]DAR 1'!C62/'[1]DAR 1'!D62)) -> -0.42476395 | D62: =LN(ABS('[1]ROA 1'!C62/'[1]ROA 1'!D62)) -> -1.6758372 | E62: =LN([1]SIZE!C62) -> 25.438725 | F62: =LN([2]Sheet1!A61) -> -1.4271164 | G62: =LN(('[1]TOBIN''S Q 1'!E62+'[1]TOBIN''S Q 1'!F62)/'[1]TOBIN''S Q 1'!G62) -> 0.61246526
B63: 2012 | C63: =LN(('[1]DAR 1'!C63/'[1]DAR 1'!D63)) -> -0.34327008 | D63: =LN(ABS('[1]ROA 1'!C63/'[1]ROA 1'!D63)) -> -2.1983113 | E63: =LN([1]SIZE!C63) -> 25.739417 | F63: =LN([2]Sheet1!A62) -> -1.0498221 | G63: =LN(('[1]TOBIN''S Q 1'!E63+'[1]TOBIN''S Q 1'!F63)/'[1]TOBIN''S Q 1'!G63) -> 0.33131351
A64: ATPK | B64: 2013 | C64: =LN(('[1]DAR 1'!C64/'[1]DAR 1'!D64)) -> -1.3976725 | D64: =LN(ABS('[1]ROA 1'!C64/'[1]ROA 1'!D64)) -> -4.7380129 | E64: =LN([1]SIZE!C64) -> 28.029354 | F64: =LN([2]Sheet1!A63) -> 2.1826748 | G64: =LN(('[1]TOBIN''S Q 1'!E64+'[1]TOBIN''S Q 1'!F64)/'[1]TOBIN''S Q 1'!G64) -> -0.88448202
B65: 2014 | C65: =LN(('[1]DAR 1'!C65/'[1]DAR 1'!D65)) -> -1.0607722 | D65: =LN(ABS('[1]ROA 1'!C65/'[1]ROA 1'!D65)) -> -3.524083 | E65: =LN([1]SIZE!C65) -> 28.216508 | F65: =LN([2]Sheet1!A64) -> -1.5606477 | G65: =LN(('[1]TOBIN''S Q 1'!E65+'[1]TOBIN''S Q 1'!F65)/'[1]TOBIN''S Q 1'!G65) -> 0.016421276
B66: 2015 | C66: =LN(('[1]DAR 1'!C66/'[1]DAR 1'!D66)) -> -0.84246551 | D66: =LN(ABS('[1]ROA 1'!C66/'[1]ROA 1'!D66)) -> -2.3951354 | E66: =LN([1]SIZE!C66) -> 28.203871 | F66: =LN([2]Sheet1!A65) -> -4.6051702 | G66: =LN(('[1]TOBIN''S Q 1'!E66+'[1]TOBIN''S Q 1'!F66)/'[1]TOBIN''S Q 1'!G66) -> 0.05903876
B67: 2011 | C67: =LN(('[1]DAR 1'!C67/'[1]DAR 1'!D67)) -> -1.827821 | D67: =LN(ABS('[1]ROA 1'!C67/'[1]ROA 1'!D67)) -> -4.1036414 | E67: =LN([1]SIZE!C67) -> 28.944845 | F67: =LN([2]Sheet1!A66) -> -1.5606477 | G67: =LN(('[1]TOBIN''S Q 1'!E67+'[1]TOBIN''S Q 1'!F67)/'[1]TOBIN''S Q 1'!G67) -> 0.59773556
B68: 2012 | C68: =LN(('[1]DAR 1'!C68/'[1]DAR 1'!D68)) -> -1.7798885 | D68: =LN(ABS('[1]ROA 1'!C68/'[1]ROA 1'!D68)) -> -6.2470907 | E68: =LN([1]SIZE!C68) -> 29.130456 | F68: =LN([2]Sheet1!A67) -> -1.6094379 | G68: =LN(('[1]TOBIN''S Q 1'!E68+'[1]TOBIN''S Q 1'!F68)/'[1]TOBIN''S Q 1'!G68) -> 0.5363514
A69: BIPI | B69: 2013 | C69: =LN(('[1]DAR 1'!C69/'[1]DAR 1'!D69)) -> -0.43844936 | D69: =LN(ABS('[1]ROA 1'!C69/'[1]ROA 1'!D69)) -> -3.187209 | E69: =LN([1]SIZE!C69) -> 30.424484 | F69: =LN([2]Sheet1!A68) -> 0.97455964 | G69: =LN(('[1]TOBIN''S Q 1'!E69+'[1]TOBIN''S Q 1'!F69)/'[1]TOBIN''S Q 1'!G69) -> -0.1130801
B70: 2014 | C70: =LN(('[1]DAR 1'!C70/'[1]DAR 1'!D70)) -> -0.4199852 | D70: =LN(ABS('[1]ROA 1'!C70/'[1]ROA 1'!D70)) -> -3.9997281 | E70: =LN([1]SIZE!C70) -> 30.508537 | F70: =LN([2]Sheet1!A69) -> -2.4079456 | G70: =LN(('[1]TOBIN''S Q 1'!E70+'[1]TOBIN''S Q 1'!F70)/'[1]TOBIN''S Q 1'!G70) -> -0.099104521
B71: 2015 | C71: =LN(('[1]DAR 1'!C71/'[1]DAR 1'!D71)) -> -0.34795523 | D71: =LN(ABS('[1]ROA 1'!C71/'[1]ROA 1'!D71)) -> -3.5775944 | E71: =LN([1]SIZE!C71) -> 30.653116 | F71: =LN([2]Sheet1!A70) -> -1.8325815 | G71: =LN(('[1]TOBIN''S Q 1'!E71+'[1]TOBIN''S Q 1'!F71)/'[1]TOBIN''S Q 1'!G71) -> -0.22938016
B72: 2011 | C72: =LN(('[1]DAR 1'!C72/'[1]DAR 1'!D72)) -> -0.80211891 | D72: =LN(ABS('[1]ROA 1'!C72/'[1]ROA 1'!D72)) -> -1.9561273 | E72: =LN([1]SIZE!C72) -> 28.246561 | F72: =LN([2]Sheet1!A71) -> -1.2039728 | G72: =LN(('[1]TOBIN''S Q 1'!E72+'[1]TOBIN''S Q 1'!F72)/'[1]TOBIN''S Q 1'!G72) -> 0.021869706
B73: 2012 | C73: =LN(('[1]DAR 1'!C73/'[1]DAR 1'!D73)) -> -0.8589217 | D73: =LN(ABS('[1]ROA 1'!C73/'[1]ROA 1'!D73)) -> -2.1199059 | E73: =LN([1]SIZE!C73) -> 28.308333 | F73: =LN([2]Sheet1!A72) -> -2.8134107 | G73: =LN(('[1]TOBIN''S Q 1'!E73+'[1]TOBIN''S Q 1'!F73)/'[1]TOBIN''S Q 1'!G73) -> -0.037719493
A74: CITA | B74: 2013 | C74: =LN(('[1]DAR 1'!C74/'[1]DAR 1'!D74)) -> -0.81202053 | D74: =LN(ABS('[1]ROA 1'!C74/'[1]ROA 1'!D74)) -> -1.7039081 | E74: =LN([1]SIZE!C74) -> 28.959052 | F74: =LN([2]Sheet1!A73) -> -0.083381609 | G74: =LN(('[1]TOBIN''S Q 1'!E74+'[1]TOBIN''S Q 1'!F74)/'[1]TOBIN''S Q 1'!G74) -> -0.23278531
B75: 2014 | C75: =LN(('[1]DAR 1'!C75/'[1]DAR 1'!D75)) -> -0.89037705 | D75: =LN(ABS('[1]ROA 1'!C75/'[1]ROA 1'!D75)) -> -1.981378 | E75: =LN([1]SIZE!C75) -> 28.657106 | F75: =LN([2]Sheet1!A74) -> -1.3470736 | G75: =LN(('[1]TOBIN''S Q 1'!E75+'[1]TOBIN''S Q 1'!F75)/'[1]TOBIN''S Q 1'!G75) -> 0.43574315
B76: 2015 | C76: =LN(('[1]DAR 1'!C76/'[1]DAR 1'!D76)) -> -0.62009817 | D76: =LN(ABS('[1]ROA 1'!C76/'[1]ROA 1'!D76)) -> -2.1034455 | E76: =LN([1]SIZE!C76) -> 28.659197 | F76: =LN([2]Sheet1!A75) -> -6.1658179 | G76: =LN(('[1]TOBIN''S Q 1'!E76+'[1]TOBIN''S Q 1'!F76)/'[1]TOBIN''S Q 1'!G76) -> 0.51349983
B77: 2011 | C77: =LN(('[1]DAR 1'!C77/'[1]DAR 1'!D77)) -> -1.4859308 | D77: =LN(ABS('[1]ROA 1'!C77/'[1]ROA 1'!D77)) -> -2.8316202 | E77: =LN([1]SIZE!C77) -> 28.939596 | F77: =LN([2]Sheet1!A76) -> -2.2072749 | G77: =LN(('[1]TOBIN''S Q 1'!E77+'[1]TOBIN''S Q 1'!F77)/'[1]TOBIN''S Q 1'!G77) -> -0.37559487
B78: 2012 | C78: =LN(('[1]DAR 1'!C78/'[1]DAR 1'!D78)) -> -0.97417909 | D78: =LN(ABS('[1]ROA 1'!C78/'[1]ROA 1'!D78)) -> -2.3617112 | E78: =LN([1]SIZE!C78) -> 29.077879 | F78: =LN([2]Sheet1!A77) -> -1.89712 | G78: =LN(('[1]TOBIN''S Q 1'!E78+'[1]TOBIN''S Q 1'!F78)/'[1]TOBIN''S Q 1'!G78) -> -0.454728
A79: DEWA | B79: 2013 | C79: =LN(('[1]DAR 1'!C79/'[1]DAR 1'!D79)) -> -0.93459157 | D79: =LN(ABS('[1]ROA 1'!C79/'[1]ROA 1'!D79)) -> -1.95566 | E79: =LN([1]SIZE!C79) -> 29.126264 | F79: =LN([2]Sheet1!A78) -> -2.9957323 | G79: =LN(('[1]TOBIN''S Q 1'!E79+'[1]TOBIN''S Q 1'!F79)/'[1]TOBIN''S Q 1'!G79) -> -0.4498556
B80: 2014 | C80: =LN(('[1]DAR 1'!C80/'[1]DAR 1'!D80)) -> -0.98078924 | D80: =LN(ABS('[1]ROA 1'!C80/'[1]ROA 1'!D80)) -> -7.0831816 | E80: =LN([1]SIZE!C80) -> 29.123529 | F80: =LN([2]Sheet1!A79) -> -5.9145035 | G80: =LN(('[1]TOBIN''S Q 1'!E80+'[1]TOBIN''S Q 1'!F80)/'[1]TOBIN''S Q 1'!G80) -> -0.47697207
B81: 2015 | C81: =LN(('[1]DAR 1'!C81/'[1]DAR 1'!D81)) -> -0.92282362 | D81: =LN(ABS('[1]ROA 1'!C81/'[1]ROA 1'!D81)) -> -6.6856089 | E81: =LN([1]SIZE!C81) -> 29.275802 | F81: =LN([2]Sheet1!A80) -> -1.8325815 | G81: =LN(('[1]TOBIN''S Q 1'!E81+'[1]TOBIN''S Q 1'!F81)/'[1]TOBIN''S Q 1'!G81) -> -0.49701511
B82: 2011 | C82: =LN(('[1]DAR 1'!C82/'[1]DAR 1'!D82)) -> -2.2106622 | D82: =LN(ABS('[1]ROA 1'!C82/'[1]ROA 1'!D82)) -> -1.992275 | E82: =LN([1]SIZE!C82) -> 27.894372 | F82: =LN([2]Sheet1!A81) -> 3.8482309 | G82: =LN(('[1]TOBIN''S Q 1'!E82+'[1]TOBIN''S Q 1'!F82)/'[1]TOBIN''S Q 1'!G82) -> -0.98967118
B83: 2012 | C83: =LN(('[1]DAR 1'!C83/'[1]DAR 1'!D83)) -> -2.3313908 | D83: =LN(ABS('[1]ROA 1'!C83/'[1]ROA 1'!D83)) -> -1.6214996 | E83: =LN([1]SIZE!C83) -> 28.059975 | F83: =LN([2]Sheet1!A82) -> -1.7147984 | G83: =LN(('[1]TOBIN''S Q 1'!E83+'[1]TOBIN''S Q 1'!F83)/'[1]TOBIN''S Q 1'!G83) -> -0.93509683
A84: DKFT | B84: 2013 | C84: =LN(('[1]DAR 1'!C84/'[1]DAR 1'!D84)) -> -2.4188585 | D84: =LN(ABS('[1]ROA 1'!C84/'[1]ROA 1'!D84)) -> -1.5538403 | E84: =LN([1]SIZE!C84) -> 28.098038 | F84: =LN([2]Sheet1!A83) -> -3.2188758 | G84: =LN(('[1]TOBIN''S Q 1'!E84+'[1]TOBIN''S Q 1'!F84)/'[1]TOBIN''S Q 1'!G84) -> 0.35786625
B85: 2014 | C85: =LN(('[1]DAR 1'!C85/'[1]DAR 1'!D85)) -> -3.0399239 | D85: =LN(ABS('[1]ROA 1'!C85/'[1]ROA 1'!D85)) -> -3.2499004 | E85: =LN([1]SIZE!C85) -> 27.806321 | F85: =LN([2]Sheet1!A84) -> -1.3862944 | G85: =LN(('[1]TOBIN''S Q 1'!E85+'[1]TOBIN''S Q 1'!F85)/'[1]TOBIN''S Q 1'!G85) -> 0.65560209
B86: 2015 | C86: =LN(('[1]DAR 1'!C86/'[1]DAR 1'!D86)) -> -3.2009875 | D86: =LN(ABS('[1]ROA 1'!C86/'[1]ROA 1'!D86)) -> -3.7318029 | E86: =LN([1]SIZE!C86) -> 27.940747 | F86: =LN([2]Sheet1!A85) -> -1.9661129 | G86: =LN(('[1]TOBIN''S Q 1'!E86+'[1]TOBIN''S Q 1'!F86)/'[1]TOBIN''S Q 1'!G86) -> 0.52052345
B87: 2011 | C87: =LN(('[1]DAR 1'!C87/'[1]DAR 1'!D87)) -> -0.092435928 | D87: =LN(ABS('[1]ROA 1'!C87/'[1]ROA 1'!D87)) -> -4.2562452 | E87: =LN([1]SIZE!C87) -> 30.012397 | F87: =LN([2]Sheet1!A86) -> -0.86750057 | G87: =LN(('[1]TOBIN''S Q 1'!E87+'[1]TOBIN''S Q 1'!F87)/'[1]TOBIN''S Q 1'!G87) -> 0.28682764
B88: 2012 | C88: =LN(('[1]DAR 1'!C88/'[1]DAR 1'!D88)) -> -0.088902552 | D88: =LN(ABS('[1]ROA 1'!C88/'[1]ROA 1'!D88)) -> -4.3415836 | E88: =LN([1]SIZE!C88) -> 30.060779 | F88: =LN([2]Sheet1!A87) -> -2.9957323 | G88: =LN(('[1]TOBIN''S Q 1'!E88+'[1]TOBIN''S Q 1'!F88)/'[1]TOBIN''S Q 1'!G88) -> 0.024680887
A89: DOID | B89: 2013 | C89: =LN(('[1]DAR 1'!C89/'[1]DAR 1'!D89)) -> -0.065328623 | D89: =LN(ABS('[1]ROA 1'!C89/'[1]ROA 1'!D89)) -> -3.6064138 | E89: =LN([1]SIZE!C89) -> 30.210678 | F89: =LN([2]Sheet1!A88) -> -1.8325815 | G89: =LN(('[1]TOBIN''S Q 1'!E89+'[1]TOBIN''S Q 1'!F89)/'[1]TOBIN''S Q 1'!G89) -> -0.0059571578
B90: 2014 | C90: =LN(('[1]DAR 1'!C90/'[1]DAR 1'!D90)) -> -0.1070816 | D90: =LN(ABS('[1]ROA 1'!C90/'[1]ROA 1'!D90)) -> -4.0693926 | E90: =LN([1]SIZE!C90) -> 30.057267 | F90: =LN([2]Sheet1!A89) -> -1.9661129 | G90: =LN(('[1]TOBIN''S Q 1'!E90+'[1]TOBIN''S Q 1'!F90)/'[1]TOBIN''S Q 1'!G90) -> 0.038330783
B91: 2015 | C91: =LN(('[1]DAR 1'!C91/'[1]DAR 1'!D91)) -> -0.10779527 | D91: =LN(ABS('[1]ROA 1'!C91/'[1]ROA 1'!D91)) -> -4.6065375 | E91: =LN([1]SIZE!C91) -> 30.077878 | F91: =LN([2]Sheet1!A90) -> -3.912023 | G91: =LN(('[1]TOBIN''S Q 1'!E91+'[1]TOBIN''S Q 1'!F91)/'[1]TOBIN''S Q 1'!G91) -> -0.065603799
B92: 2011 | C92: =LN(('[1]DAR 1'!C92/'[1]DAR 1'!D92)) -> -1.2369891 | D92: =LN(ABS('[1]ROA 1'!C92/'[1]ROA 1'!D92)) -> -3.6577343 | E92: =LN([1]SIZE!C92) -> 30.087988 | F92: =LN([2]Sheet1!A91) -> -0.072570693 | G92: =LN(('[1]TOBIN''S Q 1'!E92+'[1]TOBIN''S Q 1'!F92)/'[1]TOBIN''S Q 1'!G92) -> 0.045282866
B93: 2012 | C93: =LN(('[1]DAR 1'!C93/'[1]DAR 1'!D93)) -> -1.3957221 | D93: =LN(ABS('[1]ROA 1'!C93/'[1]ROA 1'!D93)) -> -3.9701349 | E93: =LN([1]SIZE!C93) -> 30.129347 | F93: =LN([2]Sheet1!A92) -> -3.2188758 | G93: =LN(('[1]TOBIN''S Q 1'!E93+'[1]TOBIN''S Q 1'!F93)/'[1]TOBIN''S Q 1'!G93) -> 0.10373492
A94: DSSA | B94: 2013 | C94: =LN(('[1]DAR 1'!C94/'[1]DAR 1'!D94)) -> -1.2746474 | D94: =LN(ABS('[1]ROA 1'!C94/'[1]ROA 1'!D94)) -> -4.7721565 | E94: =LN([1]SIZE!C94) -> 30.339846 | F94: =LN([2]Sheet1!A93) -> -1.469676 | G94: =LN(('[1]TOBIN''S Q 1'!E94+'[1]TOBIN''S Q 1'!F94)/'[1]TOBIN''S Q 1'!G94) -> -0.027896002
B95: 2014 | C95: =LN(('[1]DAR 1'!C95/'[1]DAR 1'!D95)) -> -1.0317253 | D95: =LN(ABS('[1]ROA 1'!C95/'[1]ROA 1'!D95)) -> -4.9892638 | E95: =LN([1]SIZE!C95) -> 30.421032 | F95: =LN([2]Sheet1!A94) -> -2.5257286 | G95: =LN(('[1]TOBIN''S Q 1'!E95+'[1]TOBIN''S Q 1'!F95)/'[1]TOBIN''S Q 1'!G95) -> -0.033640333
B96: 2015 | C96: =LN(('[1]DAR 1'!C96/'[1]DAR 1'!D96)) -> -0.75253202 | D96: =LN(ABS('[1]ROA 1'!C96/'[1]ROA 1'!D96)) -> -5.5569622 | E96: =LN([1]SIZE!C96) -> 30.840364 | F96: =LN([2]Sheet1!A95) -> -0.65392647 | G96: =LN(('[1]TOBIN''S Q 1'!E96+'[1]TOBIN''S Q 1'!F96)/'[1]TOBIN''S Q 1'!G96) -> -0.16523816
B97: 2011 | C97: =LN(('[1]DAR 1'!C97/'[1]DAR 1'!D97)) -> -0.56899488 | D97: =LN(ABS('[1]ROA 1'!C97/'[1]ROA 1'!D97)) -> -4.9820497 | E97: =LN([1]SIZE!C97) -> 29.110339 | F97: =LN([2]Sheet1!A96) -> -1.6607312 | G97: =LN(('[1]TOBIN''S Q 1'!E97+'[1]TOBIN''S Q 1'!F97)/'[1]TOBIN''S Q 1'!G97) -> -0.052894522
B98: 2012 | C98: =LN(('[1]DAR 1'!C98/'[1]DAR 1'!D98)) -> -0.64539116 | D98: =LN(ABS('[1]ROA 1'!C98/'[1]ROA 1'!D98)) -> -3.4554164 | E98: =LN([1]SIZE!C98) -> 29.08837 | F98: =LN([2]Sheet1!A97) -> -3.912023 | G98: =LN(('[1]TOBIN''S Q 1'!E98+'[1]TOBIN''S Q 1'!F98)/'[1]TOBIN''S Q 1'!G98) -> -0.2003224
A99: ELSA | B99: 2013 | C99: =LN(('[1]DAR 1'!C99/'[1]DAR 1'!D99)) -> -0.73980713 | D99: =LN(ABS('[1]ROA 1'!C99/'[1]ROA 1'!D99)) -> -2.8913043 | E99: =LN([1]SIZE!C99) -> 29.106005 | F99: =LN([2]Sheet1!A98) -> -3.912023 | G99: =LN(('[1]TOBIN''S Q 1'!E99+'[1]TOBIN''S Q 1'!F99)/'[1]TOBIN''S Q 1'!G99) -> 0.027838585
B100: 2014 | C100: =LN(('[1]DAR 1'!C100/'[1]DAR 1'!D100)) -> -0.93746005 | D100: =LN(ABS('[1]ROA 1'!C100/'[1]ROA 1'!D100)) -> -2.3179614 | E100: =LN([1]SIZE!C100) -> 29.076929 | F100: =LN([2]Sheet1!A99) -> -3.5065579 | G100: =LN(('[1]TOBIN''S Q 1'!E100+'[1]TOBIN''S Q 1'!F100)/'[1]TOBIN''S Q 1'!G100) -> 0.45053919
...

Sheet Sheet2

Sheet Sheet3
