Workbook

Sheet Sheet1
A1: Kode Emiten | B1: Tahun | C1: DAR | D1: ROA | E1: Size | F1: Growth | G1: Tobin's Q
B2: 2011 | C2: =LN(('[1]DAR 1'!C2/'[1]DAR 1'!D2)) -> -0.5648725 | D2: =LN(ABS('[1]ROA 1'!C2/'[1]ROA 1'!D2)) -> -2.327261 | E2: =LN([1]SIZE!C2) -> 31.571436 | F2: =LN([2]Sheet1!A1) -> -1.3093333 | G2: =LN(('[1]TOBIN''S Q 1'!E2+'[1]TOBIN''S Q 1'!F2)/'[1]TOBIN''S Q 1'!G2) -> 0.51224812
B3: 2012 | C3: =LN(('[1]DAR 1'!C3/'[1]DAR 1'!D3)) -> -0.59337472 | D3: =LN(ABS('[1]ROA 1'!C3/'[1]ROA 1'!D3)) -> -2.8598701 | E3: =LN([1]SIZE!C3) -> 31.804922 | F3: =LN([2]Sheet1!A2) -> -1.3470736 | G3: =LN(('[1]TOBIN''S Q 1'!E3+'[1]TOBIN''S Q 1'!F3)/'[1]TOBIN''S Q 1'!G3) -> 0.28913044
A4: ADRO | B4: 2013 | C4: =LN(('[1]DAR 1'!C4/'[1]DAR 1'!D4)) -> -0.64335452 | D4: =LN(ABS('[1]ROA 1'!C4/'[1]ROA 1'!D4)) -> -3.3800232 | E4: =LN([1]SIZE!C4) -> 32.039185 | F4: =LN([2]Sheet1!A3) -> -1.3470736 | G4: =LN(('[1]TOBIN''S Q 1'!E4+'[1]TOBIN''S Q 1'!F4)/'[1]TOBIN''S Q 1'!G4) -> -0.051196345
B5: 2014 | C5: =LN(('[1]DAR 1'!C5/'[1]DAR 1'!D5)) -> -0.70931494 | D5: =LN(ABS('[1]ROA 1'!C5/'[1]ROA 1'!D5)) -> -3.5537845 | E5: =LN([1]SIZE!C5) -> 32.015212 | F5: =LN([2]Sheet1!A4) -> -3.912023 | G5: =LN(('[1]TOBIN''S Q 1'!E5+'[1]TOBIN''S Q 1'!F5)/'[1]TOBIN''S Q 1'!G5) -> -0.097723299
B6: 2015 | C6: =LN(('[1]DAR 1'!C6/'[1]DAR 1'!D6)) -> -0.82718282 | D6: =LN(ABS('[1]ROA 1'!C6/'[1]ROA 1'!D6)) -> -3.675296 | E6: =LN([1]SIZE!C6) -> 32.046887 | F6: =LN([2]Sheet1!A5) -> -3.5065579 | G6: =LN(('[1]TOBIN''S Q 1'!E6+'[1]TOBIN''S Q 1'!F6)/'[1]TOBIN''S Q 1'!G6) -> -0.45202559
B7: 2011 | C7: =LN(('[1]DAR 1'!C7/'[1]DAR 1'!D7)) -> -1.2331596 | D7: =LN(ABS('[1]ROA 1'!C7/'[1]ROA 1'!D7)) -> -2.0649495 | E7: =LN([1]SIZE!C7) -> 30.352398 | F7: =LN([2]Sheet1!A6) -> -1.469676 | G7: =LN(('[1]TOBIN''S Q 1'!E7+'[1]TOBIN''S Q 1'!F7)/'[1]TOBIN''S Q 1'!G7) -> 0.13559604
B8: 2012 | C8: =LN(('[1]DAR 1'!C8/'[1]DAR 1'!D8)) -> -1.0529823 | D8: =LN(ABS('[1]ROA 1'!C8/'[1]ROA 1'!D8)) -> -1.8847372 | E8: =LN([1]SIZE!C8) -> 30.612073 | F8: =LN([2]Sheet1!A7) -> -1.2039728 | G8: =LN(('[1]TOBIN''S Q 1'!E8+'[1]TOBIN''S Q 1'!F8)/'[1]TOBIN''S Q 1'!G8) -> -0.14012209
A9: ANTM | B9: 2013 | C9: =LN(('[1]DAR 1'!C9/'[1]DAR 1'!D9)) -> -0.87974061 | D9: =LN(ABS('[1]ROA 1'!C9/'[1]ROA 1'!D9)) -> -3.976619 | E9: =LN([1]SIZE!C9) -> 30.715914 | F9: =LN([2]Sheet1!A8) -> -2.2072749 | G9: =LN(('[1]TOBIN''S Q 1'!E9+'[1]TOBIN''S Q 1'!F9)/'[1]TOBIN''S Q 1'!G9) -> -0.2054215
B10: 2014 | C10: =LN(('[1]DAR 1'!C10/'[1]DAR 1'!D10)) -> -0.77906566 | D10: =LN(ABS('[1]ROA 1'!C10/'[1]ROA 1'!D10)) -> -3.3475725 | E10: =LN([1]SIZE!C10) -> 30.724071 | F10: =LN([2]Sheet1!A9) -> -4.6051702 | G10: =LN(('[1]TOBIN''S Q 1'!E10+'[1]TOBIN''S Q 1'!F10)/'[1]TOBIN''S Q 1'!G10) -> -0.16733452
B11: 2015 | C11: =LN(('[1]DAR 1'!C11/'[1]DAR 1'!D11)) -> -0.92477682 | D11: =LN(ABS('[1]ROA 1'!C11/'[1]ROA 1'!D11)) -> -3.047787 | E11: =LN([1]SIZE!C11) -> 31.044043 | F11: =LN([2]Sheet1!A10) -> -0.96758403 | G11: =LN(('[1]TOBIN''S Q 1'!E11+'[1]TOBIN''S Q 1'!F11)/'[1]TOBIN''S Q 1'!G11) -> -0.43821781
B12: 2011 | C12: =LN(('[1]DAR 1'!C12/'[1]DAR 1'!D12)) -> -0.92622812 | D12: =LN(ABS('[1]ROA 1'!C12/'[1]ROA 1'!D12)) -> -4.4483965 | E12: =LN([1]SIZE!C12) -> 28.464532 | F12: =LN([2]Sheet1!A11) -> 1.1817272 | G12: =LN(('[1]TOBIN''S Q 1'!E12+'[1]TOBIN''S Q 1'!F12)/'[1]TOBIN''S Q 1'!G12) -> 0.86603317
B13: 2012 | C13: =LN(('[1]DAR 1'!C13/'[1]DAR 1'!D13)) -> -0.65866718 | D13: =LN(ABS('[1]ROA 1'!C13/'[1]ROA 1'!D13)) -> -3.2893552 | E13: =LN([1]SIZE!C13) -> 28.697011 | F13: =LN([2]Sheet1!A12) -> -1.3470736 | G13: =LN(('[1]TOBIN''S Q 1'!E13+'[1]TOBIN''S Q 1'!F13)/'[1]TOBIN''S Q 1'!G13) -> 0.73121968
A14: ARII | B14: 2013 | C14: =LN(('[1]DAR 1'!C14/'[1]DAR 1'!D14)) -> -0.54582745 | D14: =LN(ABS('[1]ROA 1'!C14/'[1]ROA 1'!D14)) -> -3.3930925 | E14: =LN([1]SIZE!C14) -> 29.005297 | F14: =LN([2]Sheet1!A13) -> -1.0216512 | G14: =LN(('[1]TOBIN''S Q 1'!E14+'[1]TOBIN''S Q 1'!F14)/'[1]TOBIN''S Q 1'!G14) -> 0.2025901
B15: 2014 | C15: =LN(('[1]DAR 1'!C15/'[1]DAR 1'!D15)) -> -0.38059481 | D15: =LN(ABS('[1]ROA 1'!C15/'[1]ROA 1'!D15)) -> -2.6229617 | E15: =LN([1]SIZE!C15) -> 29.075434 | F15: =LN([2]Sheet1!A14) -> -2.65926 | G15: =LN(('[1]TOBIN''S Q 1'!E15+'[1]TOBIN''S Q 1'!F15)/'[1]TOBIN''S Q 1'!G15) -> 0.00048344639
B16: 2015 | C16: =LN(('[1]DAR 1'!C16/'[1]DAR 1'!D16)) -> -0.2656292 | D16: =LN(ABS('[1]ROA 1'!C16/'[1]ROA 1'!D16)) -> -2.5849063 | E16: =LN([1]SIZE!C16) -> 29.24464 | F16: =LN([2]Sheet1!A15) -> -1.7147984 | G16: =LN(('[1]TOBIN''S Q 1'!E16+'[1]TOBIN''S Q 1'!F16)/'[1]TOBIN''S Q 1'!G16) -> 0.0057057163
B17: 2011 | C17: =LN(('[1]DAR 1'!C17/'[1]DAR 1'!D17)) -> -0.59250667 | D17: =LN(ABS('[1]ROA 1'!C17/'[1]ROA 1'!D17)) -> -2.0386187 | E17: =LN([1]SIZE!C17) -> 30.297293 | F17: =LN([2]Sheet1!A16) -> -0.32850407 | G17: =LN(('[1]TOBIN''S Q 1'!E17+'[1]TOBIN''S Q 1'!F17)/'[1]TOBIN''S Q 1'!G17) -> 1.5525694
B18: 2012 | C18: =LN(('[1]DAR 1'!C18/'[1]DAR 1'!D18)) -> -0.46313544 | D18: =LN(ABS('[1]ROA 1'!C18/'[1]ROA 1'!D18)) -> -3.5480222 | E18: =LN([1]SIZE!C18) -> 30.550606 | F18: =LN([2]Sheet1!A17) -> -1.2378744 | G18: =LN(('[1]TOBIN''S Q 1'!E18+'[1]TOBIN''S Q 1'!F18)/'[1]TOBIN''S Q 1'!G18) -> 0.76503542
A19: BYAN | B19: 2013 | C19: =LN(('[1]DAR 1'!C19/'[1]DAR 1'!D19)) -> -0.33842857 | D19: =LN(ABS('[1]ROA 1'!C19/'[1]ROA 1'!D19)) -> -3.3455302 | E19: =LN([1]SIZE!C19) -> 30.581075 | F19: =LN([2]Sheet1!A18) -> -3.5065579 | G19: =LN(('[1]TOBIN''S Q 1'!E19+'[1]TOBIN''S Q 1'!F19)/'[1]TOBIN''S Q 1'!G19) -> 0.78653172
B20: 2014 | C20: =LN(('[1]DAR 1'!C20/'[1]DAR 1'!D20)) -> -0.24842566 | D20: =LN(ABS('[1]ROA 1'!C20/'[1]ROA 1'!D20)) -> -1.8157641 | E20: =LN([1]SIZE!C20) -> 30.301785 | F20: =LN([2]Sheet1!A19) -> -1.4271164 | G20: =LN(('[1]TOBIN''S Q 1'!E20+'[1]TOBIN''S Q 1'!F20)/'[1]TOBIN''S Q 1'!G20) -> 0.83895458
B21: 2015 | C21: =LN(('[1]DAR 1'!C21/'[1]DAR 1'!D21)) -> -0.20281224 | D21: =LN(ABS('[1]ROA 1'!C21/'[1]ROA 1'!D21)) -> -2.4393384 | E21: =LN([1]SIZE!C21) -> 30.191164 | F21: =LN([2]Sheet1!A20) -> -2.3025851 | G21: =LN(('[1]TOBIN''S Q 1'!E21+'[1]TOBIN''S Q 1'!F21)/'[1]TOBIN''S Q 1'!G21) -> 1.0457006
B22: 2011 | C22: =LN(('[1]DAR 1'!C22/'[1]DAR 1'!D22)) -> -0.42799856 | D22: =LN(ABS('[1]ROA 1'!C22/'[1]ROA 1'!D22)) -> -5.4728859 | E22: =LN([1]SIZE!C22) -> 26.108914 | F22: =LN([2]Sheet1!A21) -> -2.4079456 | G22: =LN(('[1]TOBIN''S Q 1'!E22+'[1]TOBIN''S Q 1'!F22)/'[1]TOBIN''S Q 1'!G22) -> 0.050902426
B23: 2012 | C23: =LN(('[1]DAR 1'!C23/'[1]DAR 1'!D23)) -> -0.35842628 | D23: =LN(ABS('[1]ROA 1'!C23/'[1]ROA 1'!D23)) -> -4.5512222 | E23: =LN([1]SIZE!C23) -> 26.289465 | F23: =LN([2]Sheet1!A22) -> -1.6094379 | G23: =LN(('[1]TOBIN''S Q 1'!E23+'[1]TOBIN''S Q 1'!F23)/'[1]TOBIN''S Q 1'!G23) -> -0.0285679
A24: CTTH | B24: 2013 | C24: =LN(('[1]DAR 1'!C24/'[1]DAR 1'!D24)) -> -0.277522 | D24: =LN(ABS('[1]ROA 1'!C24/'[1]ROA 1'!D24)) -> -6.5153436 | E24: =LN([1]SIZE!C24) -> 26.513104 | F24: =LN([2]Sheet1!A23) -> -1.3862944 | G24: =LN(('[1]TOBIN''S Q 1'!E24+'[1]TOBIN''S Q 1'!F24)/'[1]TOBIN''S Q 1'!G24) -> -0.0014143712
B25: 2014 | C25: =LN(('[1]DAR 1'!C25/'[1]DAR 1'!D25)) -> -0.24747578 | D25: =LN(ABS('[1]ROA 1'!C25/'[1]ROA 1'!D25)) -> -5.8885623 | E25: =LN([1]SIZE!C25) -> 26.626045 | F25: =LN([2]Sheet1!A24) -> -2.1202635 | G25: =LN(('[1]TOBIN''S Q 1'!E25+'[1]TOBIN''S Q 1'!F25)/'[1]TOBIN''S Q 1'!G25) -> 0.0060357444
B26: 2015 | C26: =LN(('[1]DAR 1'!C26/'[1]DAR 1'!D26)) -> -0.64844099 | D26: =LN(ABS('[1]ROA 1'!C26/'[1]ROA 1'!D26)) -> -5.7386278 | E26: =LN([1]SIZE!C26) -> 27.129596 | F26: =LN([2]Sheet1!A25) -> -0.43078292 | G26: =LN(('[1]TOBIN''S Q 1'!E26+'[1]TOBIN''S Q 1'!F26)/'[1]TOBIN''S Q 1'!G26) -> -0.45151357
B27: 2011 | C27: =LN(('[1]DAR 1'!C27/'[1]DAR 1'!D27)) -> -1.4513286 | D27: =LN(ABS('[1]ROA 1'!C27/'[1]ROA 1'!D27)) -> -0.95978082 | E27: =LN([1]SIZE!C27) -> 29.166844 | F27: =LN([2]Sheet1!A26) -> -1.0788097 | G27: =LN(('[1]TOBIN''S Q 1'!E27+'[1]TOBIN''S Q 1'!F27)/'[1]TOBIN''S Q 1'!G27) -> 1.4388707
B28: 2012 | C28: =LN(('[1]DAR 1'!C28/'[1]DAR 1'!D28)) -> -1.588567 | D28: =LN(ABS('[1]ROA 1'!C28/'[1]ROA 1'!D28)) -> -1.2034882 | E28: =LN([1]SIZE!C28) -> 29.314897 | F28: =LN([2]Sheet1!A27) -> -1.8325815 | G28: =LN(('[1]TOBIN''S Q 1'!E28+'[1]TOBIN''S Q 1'!F28)/'[1]TOBIN''S Q 1'!G28) -> 1.1680592
A29: HRUM | B29: 2013 | C29: =LN(('[1]DAR 1'!C29/'[1]DAR 1'!D29)) -> -1.7248621 | D29: =LN(ABS('[1]ROA 1'!C29/'[1]ROA 1'!D29)) -> -2.2714898 | E29: =LN([1]SIZE!C29) -> 29.424074 | F29: =LN([2]Sheet1!A28) -> -2.1202635 | G29: =LN(('[1]TOBIN''S Q 1'!E29+'[1]TOBIN''S Q 1'!F29)/'[1]TOBIN''S Q 1'!G29) -> 0.3476632
B30: 2014 | C30: =LN(('[1]DAR 1'!C30/'[1]DAR 1'!D30)) -> -1.6876623 | D30: =LN(ABS('[1]ROA 1'!C30/'[1]ROA 1'!D30)) -> -5.1382668 | E30: =LN([1]SIZE!C30) -> 29.34506 | F30: =LN([2]Sheet1!A29) -> -2.5257286 | G30: =LN(('[1]TOBIN''S Q 1'!E30+'[1]TOBIN''S Q 1'!F30)/'[1]TOBIN''S Q 1'!G30) -> -0.0066147199
B31: 2015 | C31: =LN(('[1]DAR 1'!C31/'[1]DAR 1'!D31)) -> -2.3249279 | D31: =LN(ABS('[1]ROA 1'!C31/'[1]ROA 1'!D31)) -> -2.9976188 | E31: =LN([1]SIZE!C31) -> 29.324367 | F31: =LN([2]Sheet1!A30) -> -3.912023 | G31: =LN(('[1]TOBIN''S Q 1'!E31+'[1]TOBIN''S Q 1'!F31)/'[1]TOBIN''S Q 1'!G31) -> -0.84547212
B32: 2011 | C32: =LN(('[1]DAR 1'!C32/'[1]DAR 1'!D32)) -> -1.1542766 | D32: =LN(ABS('[1]ROA 1'!C32/'[1]ROA 1'!D32)) -> -1.0613641 | E32: =LN([1]SIZE!C32) -> 30.292231 | F32: =LN([2]Sheet1!A31) -> -0.77652879 | G32: =LN(('[1]TOBIN''S Q 1'!E32+'[1]TOBIN''S Q 1'!F32)/'[1]TOBIN''S Q 1'!G32) -> 1.2138265
B33: 2012 | C33: =LN(('[1]DAR 1'!C33/'[1]DAR 1'!D33)) -> -1.1153848 | D33: =LN(ABS('[1]ROA 1'!C33/'[1]ROA 1'!D33)) -> -1.2388274 | E33: =LN([1]SIZE!C33) -> 30.299647 | F33: =LN([2]Sheet1!A32) -> -4.6051702 | G33: =LN(('[1]TOBIN''S Q 1'!E33+'[1]TOBIN''S Q 1'!F33)/'[1]TOBIN''S Q 1'!G33) -> 1.2763514
A34: ITMG | B34: 2013 | C34: =LN(('[1]DAR 1'!C34/'[1]DAR 1'!D34)) -> -1.1788085 | D34: =LN(ABS('[1]ROA 1'!C34/'[1]ROA 1'!D34)) -> -1.798416 | E34: =LN([1]SIZE!C34) -> 30.462397 | F34: =LN([2]Sheet1!A33) -> -1.7147984 | G34: =LN(('[1]TOBIN''S Q 1'!E34+'[1]TOBIN''S Q 1'!F34)/'[1]TOBIN''S Q 1'!G34) -> 0.79091555
B35: 2014 | C35: =LN(('[1]DAR 1'!C35/'[1]DAR 1'!D35)) -> -1.1627158 | D35: =LN(ABS('[1]ROA 1'!C35/'[1]ROA 1'!D35)) -> -1.8763492 | E35: =LN([1]SIZE!C35) -> 30.419939 | F35: =LN([2]Sheet1!A34) -> -3.2188758 | G35: =LN(('[1]TOBIN''S Q 1'!E35+'[1]TOBIN''S Q 1'!F35)/'[1]TOBIN''S Q 1'!G35) -> 0.32269012
B36: 2015 | C36: =LN(('[1]DAR 1'!C36/'[1]DAR 1'!D36)) -> -1.2318039 | D36: =LN(ABS('[1]ROA 1'!C36/'[1]ROA 1'!D36)) -> -2.9270498 | E36: =LN([1]SIZE!C36) -> 30.419454 | F36: =LN([2]Sheet1!A35) -> -7.6009025 | G36: =LN(('[1]TOBIN''S Q 1'!E36+'[1]TOBIN''S Q 1'!F36)/'[1]TOBIN''S Q 1'!G36) -> -0.37148126
B37: 2011 | C37: =LN(('[1]DAR 1'!C37/'[1]DAR 1'!D37)) -> -1.1147539 | D37: =LN(ABS('[1]ROA 1'!C37/'[1]ROA 1'!D37)) -> -0.77570014 | E37: =LN([1]SIZE!C37) -> 27.608666 | F37: =LN([2]Sheet1!A36) -> 0.62593843 | G37: =LN(('[1]TOBIN''S Q 1'!E37+'[1]TOBIN''S Q 1'!F37)/'[1]TOBIN''S Q 1'!G37) -> 1.9349662
B38: 2012 | C38: =LN(('[1]DAR 1'!C38/'[1]DAR 1'!D38)) -> -1.2246664 | D38: =LN(ABS('[1]ROA 1'!C38/'[1]ROA 1'!D38)) -> -1.4816651 | E38: =LN([1]SIZE!C38) -> 27.634775 | F38: =LN([2]Sheet1!A37) -> -3.5065579 | G38: =LN(('[1]TOBIN''S Q 1'!E38+'[1]TOBIN''S Q 1'!F38)/'[1]TOBIN''S Q 1'!G38) -> 1.0150796
A39: KKGI | B39: 2013 | C39: =LN(('[1]DAR 1'!C39/'[1]DAR 1'!D39)) -> -1.1757603 | D39: =LN(ABS('[1]ROA 1'!C39/'[1]ROA 1'!D39)) -> -1.8170136 | E39: =LN([1]SIZE!C39) -> 27.888066 | F39: =LN([2]Sheet1!A38) -> -1.2378744 | G39: =LN(('[1]TOBIN''S Q 1'!E39+'[1]TOBIN''S Q 1'!F39)/'[1]TOBIN''S Q 1'!G39) -> 0.63864778
B40: 2014 | C40: =LN(('[1]DAR 1'!C40/'[1]DAR 1'!D40)) -> -1.2912436 | D40: =LN(ABS('[1]ROA 1'!C40/'[1]ROA 1'!D40)) -> -2.5211215 | E40: =LN([1]SIZE!C40) -> 27.845031 | F40: =LN([2]Sheet1!A39) -> -3.2188758 | G40: =LN(('[1]TOBIN''S Q 1'!E40+'[1]TOBIN''S Q 1'!F40)/'[1]TOBIN''S Q 1'!G40) -> 0.082782986
...

Sheet Sheet2

Sheet Sheet3
