Workbook

Sheet us_eviews
B1: consconf | C1: retsales | D1: tot | E1: emp | F1: ip | G1: ex | H1: pmi | J1: gdp
A2: =us_thomson!A3 -> 31427 | B2: =us_thomson!B3 -> 96.9 | C2: =us_thomson!C3 -> 68.38 | D2: =us_thomson!D3 -> 93.5 | E2: =us_thomson!E3 -> 108887 | F2: =us_thomson!F3 -> 55.6062 | G2: =us_thomson!G3 -> 116.9 | H2: =us_thomson!N3 -> #N/A N/A | I2: =us_thomson!J3 -> Q1 1986 | J2: =us_thomson!K3 -> 7784.1
A3: =us_thomson!A4 -> 31458 | B3: =us_thomson!B4 -> 96 | C3: =us_thomson!C4 -> 67.87 | D3: =us_thomson!D4 -> 94.3 | E3: =us_thomson!E4 -> 108480 | F3: =us_thomson!F4 -> 55.2091 | G3: =us_thomson!G4 -> 120.5 | H3: =us_thomson!N4 -> #N/A N/A | I3: =us_thomson!J4 -> Q2 1986 | J3: =us_thomson!K4 -> 7819.8
A4: =us_thomson!A5 -> 31486 | B4: =us_thomson!B5 -> 95.1 | C4: =us_thomson!C5 -> 67.77 | D4: =us_thomson!D5 -> 97 | E4: =us_thomson!E5 -> 108837 | F4: =us_thomson!F5 -> 54.8519 | G4: =us_thomson!G5 -> 129.6 | H4: =us_thomson!N5 -> #N/A N/A | I4: =us_thomson!J5 -> Q3 1986 | J4: =us_thomson!K5 -> 7898.6
A5: =us_thomson!A6 -> 31517 | B5: =us_thomson!B6 -> 100 | C5: =us_thomson!C6 -> 68.45 | D5: =us_thomson!D6 -> 97.6 | E5: =us_thomson!E6 -> 108952 | F5: =us_thomson!F6 -> 54.8839 | G5: =us_thomson!G6 -> 127.3 | H5: =us_thomson!N6 -> #N/A N/A | I5: =us_thomson!J6 -> Q4 1986 | J5: =us_thomson!K6 -> 7939.5
A6: =us_thomson!A7 -> 31547 | B6: =us_thomson!B7 -> 100.2 | C6: =us_thomson!C7 -> 69.25 | D6: =us_thomson!D7 -> 98.3 | E6: =us_thomson!E7 -> 109089 | F6: =us_thomson!F7 -> 54.9927 | G6: =us_thomson!G7 -> 129.3 | H6: =us_thomson!N7 -> #N/A N/A | I6: =us_thomson!J7 -> Q1 1987 | J6: =us_thomson!K7 -> 7995
A7: =us_thomson!A8 -> 31578 | B7: =us_thomson!B8 -> 100 | C7: =us_thomson!C8 -> 69.07 | D7: =us_thomson!D8 -> 98.9 | E7: =us_thomson!E8 -> 109576 | F7: =us_thomson!F8 -> 54.8165 | G7: =us_thomson!G8 -> 135.3 | H7: =us_thomson!N8 -> #N/A N/A | I7: =us_thomson!J8 -> Q2 1987 | J7: =us_thomson!K8 -> 8084.7
A8: =us_thomson!A9 -> 31608 | B8: =us_thomson!B9 -> 97.5 | C8: =us_thomson!C9 -> 69.25 | D8: =us_thomson!D9 -> 98.9 | E8: =us_thomson!E9 -> 109810 | F8: =us_thomson!F9 -> 55.1675 | G8: =us_thomson!G9 -> 123.7 | H8: =us_thomson!N9 -> #N/A N/A | I8: =us_thomson!J9 -> Q3 1987 | J8: =us_thomson!K9 -> 8158
A9: =us_thomson!A10 -> 31639 | B9: =us_thomson!B10 -> 91.7 | C9: =us_thomson!C10 -> 69.89 | D9: =us_thomson!D10 -> 98.6 | E9: =us_thomson!E10 -> 110015 | F9: =us_thomson!F10 -> 55.0457 | G9: =us_thomson!G10 -> 115 | H9: =us_thomson!N10 -> #N/A N/A | I9: =us_thomson!J10 -> Q4 1987 | J9: =us_thomson!K10 -> 8292.7
A10: =us_thomson!A11 -> 31670 | B10: =us_thomson!B11 -> 89.7 | C10: =us_thomson!C11 -> 73.73 | D10: =us_thomson!D11 -> 99.5 | E10: =us_thomson!E11 -> 110085 | F10: =us_thomson!F11 -> 55.1503 | G10: =us_thomson!G11 -> 117.3 | H10: =us_thomson!N11 -> #N/A N/A | I10: =us_thomson!J11 -> Q1 1988 | J10: =us_thomson!K11 -> 8339.3
A11: =us_thomson!A12 -> 31700 | B11: =us_thomson!B12 -> 85.8 | C11: =us_thomson!C12 -> 70.52 | D11: =us_thomson!D12 -> 96.4 | E11: =us_thomson!E12 -> 110273 | F11: =us_thomson!F12 -> 55.3968 | G11: =us_thomson!G12 -> 134.5 | H11: =us_thomson!N12 -> #N/A N/A | I11: =us_thomson!J12 -> Q2 1988 | J11: =us_thomson!K12 -> 8449.5
A12: =us_thomson!A13 -> 31731 | B12: =us_thomson!B13 -> 89.7 | C12: =us_thomson!C13 -> 70.06 | D12: =us_thomson!D13 -> 96.1 | E12: =us_thomson!E13 -> 110475 | F12: =us_thomson!F13 -> 55.6593 | G12: =us_thomson!G13 -> 128.1 | H12: =us_thomson!N13 -> #N/A N/A | I12: =us_thomson!J13 -> Q3 1988 | J12: =us_thomson!K13 -> 8498.3
A13: =us_thomson!A14 -> 31761 | B13: =us_thomson!B14 -> 93.2 | C13: =us_thomson!C14 -> 72.96 | D13: =us_thomson!D14 -> 97.1 | E13: =us_thomson!E14 -> 110728 | F13: =us_thomson!F14 -> 56.1333 | G13: =us_thomson!G14 -> 127.9 | H13: =us_thomson!N14 -> #N/A N/A | I13: =us_thomson!J14 -> Q4 1988 | J13: =us_thomson!K14 -> 8610.9
... A118: =us_thomson!A119 -> 34957 | B118: =us_thomson!B119 -> 97.3 | C118: =us_thomson!C119 -> 83.35 | D118: =us_thomson!D119 -> 94.9 | E118: =us_thomson!E119 -> 125133 | F118: =us_thomson!F119 -> 72.5149 | G118: =us_thomson!G119 -> 262.7 | H118: =us_thomson!N119 -> #N/A N/A | I118: =us_thomson!J119 -> Q1 2015 | J118: =us_thomson!K119 -> 16304.8
A119: =us_thomson!A120 -> 34987 | B119: =us_thomson!B120 -> 96.3 | C119: =us_thomson!C120 -> 82.78 | D119: =us_thomson!D120 -> 95.4 | E119: =us_thomson!E120 -> 125388 | F119: =us_thomson!F120 -> 72.4092 | G119: =us_thomson!G120 -> 273.6 | H119: =us_thomson!N120 -> #N/A N/A
A120: =us_thomson!A121 -> 35018 | B120: =us_thomson!B121 -> 101.6 | C120: =us_thomson!C121 -> 83.78 | D120: =us_thomson!D121 -> 95.2 | E120: =us_thomson!E121 -> 125188 | F120: =us_thomson!F121 -> 72.5899 | G120: =us_thomson!G121 -> 267.7 | H120: =us_thomson!N121 -> #N/A N/A
A121: =us_thomson!A122 -> 35048 | B121: =us_thomson!B122 -> 99.2 | C121: =us_thomson!C122 -> 84.45 | D121: =us_thomson!D122 -> 94.7 | E121: =us_thomson!E122 -> 125088 | F121: =us_thomson!F122 -> 72.8672 | G121: =us_thomson!G122 -> 268.7 | H121: =us_thomson!N122 -> #N/A N/A
A122: =us_thomson!A123 -> 35079 | B122: =us_thomson!B123 -> 88.4 | C122: =us_thomson!C123 -> 83.29 | D122: =us_thomson!D123 -> 95 | E122: =us_thomson!E123 -> 125125 | F122: =us_thomson!F123 -> 72.3857 | G122: =us_thomson!G123 -> 251.2 | H122: =us_thomson!N123 -> #N/A N/A
A123: =us_thomson!A124 -> 35110 | B123: =us_thomson!B124 -> 98 | C123: =us_thomson!C124 -> 84.49 | D123: =us_thomson!D124 -> 95 | E123: =us_thomson!E124 -> 125639 | F123: =us_thomson!F124 -> 73.5162 | G123: =us_thomson!G124 -> 269.3 | H123: =us_thomson!N124 -> #N/A N/A
A124: =us_thomson!A125 -> 35139 | B124: =us_thomson!B125 -> 98.4 | C124: =us_thomson!C125 -> 84.98 | D124: =us_thomson!D125 -> 94.3 | E124: =us_thomson!E125 -> 125862 | F124: =us_thomson!F125 -> 73.4143 | G124: =us_thomson!G125 -> 289.8 | H124: =us_thomson!N125 -> #N/A N/A
A125: =us_thomson!A126 -> 35170 | B125: =us_thomson!B126 -> 104.8 | C125: =us_thomson!C126 -> 84.97 | D125: =us_thomson!D126 -> 94.1 | E125: =us_thomson!E126 -> 125994 | F125: =us_thomson!F126 -> 74.0513 | G125: =us_thomson!G126 -> 272 | H125: =us_thomson!N126 -> #N/A N/A
A126: =us_thomson!A127 -> 35200 | B126: =us_thomson!B127 -> 103.5 | C126: =us_thomson!C127 -> 85.45 | D126: =us_thomson!D127 -> 95.1 | E126: =us_thomson!E127 -> 126244 | F126: =us_thomson!F127 -> 74.5812 | G126: =us_thomson!G127 -> 278.7 | H126: =us_thomson!N127 -> #N/A N/A
A127: =us_thomson!A128 -> 35231 | B127: =us_thomson!B128 -> 100.1 | C127: =us_thomson!C128 -> 85.26 | D127: =us_thomson!D128 -> 95.9 | E127: =us_thomson!E128 -> 126602 | F127: =us_thomson!F128 -> 75.2056 | G127: =us_thomson!G128 -> 271.2 | H127: =us_thomson!N128 -> #N/A N/A
A128: =us_thomson!A129 -> 35261 | B128: =us_thomson!B129 -> 107 | C128: =us_thomson!C129 -> 85.14 | D128: =us_thomson!D129 -> 95.6 | E128: =us_thomson!E129 -> 126947 | F128: =us_thomson!F129 -> 75.0578 | G128: =us_thomson!G129 -> 250.3 | H128: =us_thomson!N129 -> #N/A N/A
A129: =us_thomson!A130 -> 35292 | B129: =us_thomson!B130 -> 112 | C129: =us_thomson!C130 -> 85.02 | D129: =us_thomson!D130 -> 95.3 | E129: =us_thomson!E130 -> 127172 | F129: =us_thomson!F130 -> 75.5237 | G129: =us_thomson!G130 -> 271.7 | H129: =us_thomson!N130 -> #N/A N/A
A130: =us_thomson!A131 -> 35323 | B130: =us_thomson!B131 -> 111.8 | C130: =us_thomson!C131 -> 85.89 | D130: =us_thomson!D131 -> 93.5 | E130: =us_thomson!E131 -> 127536 | F130: =us_thomson!F131 -> 76.0082 | G130: =us_thomson!G131 -> 268.6 | H130: =us_thomson!N131 -> #N/A N/A
... A353: =us_thomson!A354 -> 42109 | B353: =us_thomson!B354 -> 95.2 | C353: =us_thomson!C354 -> NA | D353: =us_thomson!D354 -> NA | E353: =us_thomson!E354 -> NA | F353: =us_thomson!F354 -> NA | G353: =us_thomson!G354 -> NA | H353: =us_thomson!N354 -> 54.1

Sheet us_thomson
A1: =_xll.Thomson.Reuters.AFOSpreadsheetFormulas.DSGRID("USCNFCONQ,USOSLI15G,USTOTPRCF,USEMPTOTO,USIPTOT.G,USEV1975H"," ","1/1/1986","TIME","M","RowHeader=true;ColHeader=true;Code=true;SeriesMetaDataLink=true;DispSeriesDescription=false;YearlyTSFormat=false;QuarterlyTSFormat=false","") -> Application offline! Unable to process the request | B1: US CONSUMER CONFIDENCE INDEX SADJ | C1: US TOTAL RETAIL TRADE (VOLUME) VOLA | D1: US TERMS OF TRADE REBASED TO 1975=100 NADJ | E1: US TOTAL CIVILIAN EMPLOYMENT VOLA | F1: US INDUSTRIAL PRODUCTION - TOTAL INDEX VOLA | G1: US EXPORT VOLUME REBASED TO 1975=100(CONTINUOUS SERIES) VOLN | J1: =_xll.Thomson.Reuters.AFOSpreadsheetFormulas.DSGRID("USGDP...D"," ","1986-01-01","TIME","Q","RowHeader=true;ColHeader=true;Code=true;SeriesMetaDataLink=true;DispSeriesDescription=false;YearlyTSFormat=false;QuarterlyTSFormat=false","") -> Application offline! Unable to process the request | K1: US GDP (AR) CONA
A2: Code | B2: USCNFCONQ | C2: USOSLI15G | D2: USTOTPRCF | E2: USEMPTOTO | F2: USIPTOT.G | G2: USEV1975H | J2: Code | K2: USGDP...D | M2: PX_LAST | N2: MPMIUSMA Index
A3: 31427 | B3: 96.9 | C3: 68.38 | D3: 93.5 | E3: 108887 | F3: 55.6062 | G3: 116.9 | J3: Q1 1986 | K3: 7784.1 | M3: =_xll.BDH(N2,M2:M2,"1/1/1986","","Dir=V","Dts=S","Sort=a","Quote=g","QtTyp=Y","Days=w","Per=cm","DtFmt=D","Fill=P","UseDPDF=Y","cols=2;rows=353") -> 31443 | N3: #N/A N/A
A4: 31458 | B4: 96 | C4: 67.87 | D4: 94.3 | E4: 108480 | F4: 55.2091 | G4: 120.5 | J4: Q2 1986 | K4: 7819.8 | M4: 31471 | N4: #N/A N/A
A5: 31486 | B5: 95.1 | C5: 67.77 | D5: 97 | E5: 108837 | F5: 54.8519 | G5: 129.6 | J5: Q3 1986 | K5: 7898.6 | M5: 31502 | N5: #N/A N/A
A6: 31517 | B6: 100 | C6: 68.45 | D6: 97.6 | E6: 108952 | F6: 54.8839 | G6: 127.3 | J6: Q4 1986 | K6: 7939.5 | M6: 31532 | N6: #N/A N/A
A7: 31547 | B7: 100.2 | C7: 69.25 | D7: 98.3 | E7: 109089 | F7: 54.9927 | G7: 129.3 | J7: Q1 1987 | K7: 7995 | M7: 31563 | N7: #N/A N/A
A8: 31578 | B8: 100 | C8: 69.07 | D8: 98.9 | E8: 109576 | F8: 54.8165 | G8: 135.3 | J8: Q2 1987 | K8: 8084.7 | M8: 31593 | N8: #N/A N/A
A9: 31608 | B9: 97.5 | C9: 69.25 | D9: 98.9 | E9: 109810 | F9: 55.1675 | G9: 123.7 | J9: Q3 1987 | K9: 8158 | M9: 31624 | N9: #N/A N/A
A10: 31639 | B10: 91.7 | C10: 69.89 | D10: 98.6 | E10: 110015 | F10: 55.0457 | G10: 115 | J10: Q4 1987 | K10: 8292.7 | M10: 31655 | N10: #N/A N/A
A11: 31670 | B11: 89.7 | C11: 73.73 | D11: 99.5 | E11: 110085 | F11: 55.1503 | G11: 117.3 | J11: Q1 1988 | K11: 8339.3 | M11: 31685 | N11: #N/A N/A
A12: 31700 | B12: 85.8 | C12: 70.52 | D12: 96.4 | E12: 110273 | F12: 55.3968 | G12: 134.5 | J12: Q2 1988 | K12: 8449.5 | M12: 31716 | N12: #N/A N/A
A13: 31731 | B13: 89.7 | C13: 70.06 | D13: 96.1 | E13: 110475 | F13: 55.6593 | G13: 128.1 | J13: Q3 1988 | K13: 8498.3 | M13: 31746 | N13: #N/A N/A
A14: 31761 | B14: 93.2 | C14: 72.96 | D14: 97.1 | E14: 110728 | F14: 56.1333 | G14: 127.9 | J14: Q4 1988 | K14: 8610.9 | M14: 31777 | N14: #N/A N/A
A15: 31792 | B15: 85.4 | C15: 67.88 | D15: 96 | E15: 110953 | F15: 55.9679 | G15: 114.4 | J15: Q1 1989 | K15: 8697.7 | M15: 31808 | N15: #N/A N/A
... A119: 34957 | B119: 97.3 | C119: 83.35 | D119: 94.9 | E119: 125133 | F119: 72.5149 | G119: 262.7 | J119: Q1 2015 | K119: 16304.8 | M119: 34972 | N119: #N/A N/A
A120: 34987 | B120: 96.3 | C120: 82.78 | D120: 95.4 | E120: 125388 | F120: 72.4092 | G120: 273.6 | M120: 35003 | N120: #N/A N/A
A121: 35018 | B121: 101.6 | C121: 83.78 | D121: 95.2 | E121: 125188 | F121: 72.5899 | G121: 267.7 | M121: 35033 | N121: #N/A N/A
A122: 35048 | B122: 99.2 | C122: 84.45 | D122: 94.7 | E122: 125088 | F122: 72.8672 | G122: 268.7 | M122: 35064 | N122: #N/A N/A
A123: 35079 | B123: 88.4 | C123: 83.29 | D123: 95 | E123: 125125 | F123: 72.3857 | G123: 251.2 | M123: 35095 | N123: #N/A N/A
A124: 35110 | B124: 98 | C124: 84.49 | D124: 95 | E124: 125639 | F124: 73.5162 | G124: 269.3 | M124: 35124 | N124: #N/A N/A
A125: 35139 | B125: 98.4 | C125: 84.98 | D125: 94.3 | E125: 125862 | F125: 73.4143 | G125: 289.8 | M125: 35155 | N125: #N/A N/A
A126: 35170 | B126: 104.8 | C126: 84.97 | D126: 94.1 | E126: 125994 | F126: 74.0513 | G126: 272 | M126: 35185 | N126: #N/A N/A
A127: 35200 | B127: 103.5 | C127: 85.45 | D127: 95.1 | E127: 126244 | F127: 74.5812 | G127: 278.7 | M127: 35216 | N127: #N/A N/A
A128: 35231 | B128: 100.1 | C128: 85.26 | D128: 95.9 | E128: 126602 | F128: 75.2056 | G128: 271.2 | M128: 35246 | N128: #N/A N/A
A129: 35261 | B129: 107 | C129: 85.14 | D129: 95.6 | E129: 126947 | F129: 75.0578 | G129: 250.3 | M129: 35277 | N129: #N/A N/A
A130: 35292 | B130: 112 | C130: 85.02 | D130: 95.3 | E130: 127172 | F130: 75.5237 | G130: 271.7 | M130: 35308 | N130: #N/A N/A
A131: 35323 | B131: 111.8 | C131: 85.89 | D131: 93.5 | E131: 127536 | F131: 76.0082 | G131: 268.6 | M131: 35338 | N131: #N/A N/A
... A318: 41014 | B318: 68.7 | C318: 106.85 | D318: 85.7 | E318: 141953 | F318: 96.7966 | G318: 521.8 | M318: 41029 | N318: #N/A N/A
A319: 41044 | B319: 64.4 | C319: 106.96 | D319: 86.5 | E319: 142231 | F319: 97.1123 | G319: 540.2 | M319: 41060 | N319: 54
A320: 41075 | B320: 62.7 | C320: 105.84 | D320: 87 | E320: 142400 | F320: 97.1618 | G320: 555.3 | M320: 41090 | N320: 52.5
A321: 41105 | B321: 65.4 | C321: 106.51 | D321: 88 | E321: 142270 | F321: 97.7061 | G321: 506.6 | M321: 41121 | N321: 51.4
A322: 41136 | B322: 61.3 | C322: 107.37 | D322: 87.7 | E322: 142277 | F322: 97.1146 | G322: 531.7 | M322: 41152 | N322: 51.5
A323: 41167 | B323: 68.4 | C323: 108.07 | D323: 87.5 | E323: 142953 | F323: 97.3865 | G323: 526 | M323: 41182 | N323: 51.1
A324: 41197 | B324: 73.1 | C324: 107.73 | D324: 87.4 | E324: 143350 | F324: 97.3111 | G324: 547.6 | M324: 41213 | N324: 51
A325: 41228 | B325: 71.5 | C325: 108.37 | D325: 87.5 | E325: 143279 | F325: 98.2597 | G325: 536.7 | M325: 41243 | N325: 52.8
A326: 41258 | B326: 66.7 | C326: 108.68 | D326: 87.8 | E326: 143280 | F326: 98.3571 | G326: 539.8 | M326: 41274 | N326: 54
A327: 41289 | B327: 58.4 | C327: 109.38 | D327: 87.7 | E327: 143328 | F327: 98.4084 | G327: 506.5 | M327: 41305 | N327: 55.8
A328: 41320 | B328: 68 | C328: 110.04 | D328: 87.6 | E328: 143429 | F328: 99.0438 | G328: 504.4 | M328: 41333 | N328: 54.3
A329: 41348 | B329: 61.9 | C329: 109.2 | D329: 87.2 | E329: 143374 | F329: 99.488 | G329: 561.3 | M329: 41364 | N329: 54.6
A330: 41379 | B330: 69 | C330: 109.45 | D330: 87.3 | E330: 143665 | F330: 99.3112 | G330: 534.6 | M330: 41394 | N330: 52.1
... A352: 42050 | B352: 98.8 | C352: 112.24 | D352: 91.4 | E352: 148297 | F352: 105.8932 | G352: 519 | M352: 42063 | N352: 55.1
A353: 42078 | B353: 101.4 | C353: NA | D353: 91.7 | E353: 148331 | F353: 105.2161 | G353: 584.2 | M353: 42094 | N353: 55.7
A354: 42109 | B354: 95.2 | C354: NA | D354: NA | E354: NA | F354: NA | G354: NA | M354: 42124 | N354: 54.1
M355: 42155 | N355: 54.1

Sheet ez_eviews
B1: consconf | C1: retsales | D1: tot | E1: emp | F1: ip | G1: ex | H1: pmi | J1: gdp
A2: =ez_thomson!A3 -> 31427 | B2: =ez_thomson!B3 -> -9.8 | C2: =ez_thomson!C3 -> NA | D2: =ez_thomson!D3 -> 86.4 | E2: =ez_thomson!E3 -> NA | F2: =ez_thomson!F3 -> NA | G2: =ez_thomson!G3 -> NA | H2: =ez_thomson!N3 -> #N/A N/A | I2: =ez_thomson!J3 -> Q1 1986 | J2: =ez_thomson!K3 -> NA
A3: =ez_thomson!A4 -> 31458 | B3: =ez_thomson!B4 -> -9.3 | C3: =ez_thomson!C4 -> NA | D3: =ez_thomson!D4 -> 88.6 | E3: =ez_thomson!E4 -> NA | F3: =ez_thomson!F4 -> NA | G3: =ez_thomson!G4 -> NA | H3: =ez_thomson!N4 -> #N/A N/A | I3: =ez_thomson!J4 -> Q2 1986 | J3: =ez_thomson!K4 -> NA
A4: =ez_thomson!A5 -> 31486 | B4: =ez_thomson!B5 -> -7.3 | C4: =ez_thomson!C5 -> NA | D4: =ez_thomson!D5 -> 90.5 | E4: =ez_thomson!E5 -> NA | F4: =ez_thomson!F5 -> NA | G4: =ez_thomson!G5 -> NA | H4: =ez_thomson!N5 -> #N/A N/A | I4: =ez_thomson!J5 -> Q3 1986 | J4: =ez_thomson!K5 -> NA
A5: =ez_thomson!A6 -> 31517 | B5: =ez_thomson!B6 -> -6.5 | C5: =ez_thomson!C6 -> NA | D5: =ez_thomson!D6 -> 92.4 | E5: =ez_thomson!E6 -> NA | F5: =ez_thomson!F6 -> NA | G5: =ez_thomson!G6 -> NA | H5: =ez_thomson!N6 -> #N/A N/A | I5: =ez_thomson!J6 -> Q4 1986 | J5: =ez_thomson!K6 -> NA
A6: =ez_thomson!A7 -> 31547 | B6: =ez_thomson!B7 -> -5.6 | C6: =ez_thomson!C7 -> NA | D6: =ez_thomson!D7 -> 93.7 | E6: =ez_thomson!E7 -> NA | F6: =ez_thomson!F7 -> NA | G6: =ez_thomson!G7 -> NA | H6: =ez_thomson!N7 -> #N/A N/A | I6: =ez_thomson!J7 -> Q1 1987 | J6: =ez_thomson!K7 -> NA
A7: =ez_thomson!A8 -> 31578 | B7: =ez_thomson!B8 -> -7.4 | C7: =ez_thomson!C8 -> NA | D7: =ez_thomson!D8 -> 95 | E7: =ez_thomson!E8 -> NA | F7: =ez_thomson!F8 -> NA | G7: =ez_thomson!G8 -> NA | H7: =ez_thomson!N8 -> #N/A N/A | I7: =ez_thomson!J8 -> Q2 1987 | J7: =ez_thomson!K8 -> NA
A8: =ez_thomson!A9 -> 31608 | B8: =ez_thomson!B9 -> -8 | C8: =ez_thomson!C9 -> NA | D8: =ez_thomson!D9 -> 97.3 | E8: =ez_thomson!E9 -> NA | F8: =ez_thomson!F9 -> NA | G8: =ez_thomson!G9 -> NA | H8: =ez_thomson!N9 -> #N/A N/A | I8: =ez_thomson!J9 -> Q3 1987 | J8: =ez_thomson!K9 -> NA
A9: =ez_thomson!A10 -> 31639 | B9: =ez_thomson!B10 -> -8 | C9: =ez_thomson!C10 -> NA | D9: =ez_thomson!D10 -> 97.4 | E9: =ez_thomson!E10 -> NA | F9: =ez_thomson!F10 -> NA | G9: =ez_thomson!G10 -> NA | H9: =ez_thomson!N10 -> #N/A N/A | I9: =ez_thomson!J10 -> Q4 1987 | J9: =ez_thomson!K10 -> NA
A10: =ez_thomson!A11 -> 31670 | B10: =ez_thomson!B11 -> -8.2 | C10: =ez_thomson!C11 -> NA | D10: =ez_thomson!D11 -> 97 | E10: =ez_thomson!E11 -> NA | F10: =ez_thomson!F11 -> NA | G10: =ez_thomson!G11 -> NA | H10: =ez_thomson!N11 -> #N/A N/A | I10: =ez_thomson!J11 -> Q1 1988 | J10: =ez_thomson!K11 -> NA
A11: =ez_thomson!A12 -> 31700 | B11: =ez_thomson!B12 -> -7.7 | C11: =ez_thomson!C12 -> NA | D11: =ez_thomson!D12 -> 98.2 | E11: =ez_thomson!E12 -> NA | F11: =ez_thomson!F12 -> NA | G11: =ez_thomson!G12 -> NA | H11: =ez_thomson!N12 -> #N/A N/A | I11: =ez_thomson!J12 -> Q2 1988 | J11: =ez_thomson!K12 -> NA
A12: =ez_thomson!A13 -> 31731 | B12: =ez_thomson!B13 -> -8 | C12: =ez_thomson!C13 -> NA | D12: =ez_thomson!D13 -> 98.2 | E12: =ez_thomson!E13 -> NA | F12: =ez_thomson!F13 -> NA | G12: =ez_thomson!G13 -> NA | H12: =ez_thomson!N13 -> #N/A N/A | I12: =ez_thomson!J13 -> Q3 1988 | J12: =ez_thomson!K13 -> NA
A13: =ez_thomson!A14 -> 31761 | B13: =ez_thomson!B14 -> -8.6 | C13: =ez_thomson!C14 -> NA | D13: =ez_thomson!D14 -> 98.3 | E13: =ez_thomson!E14 -> NA | F13: =ez_thomson!F14 -> NA | G13: =ez_thomson!G14 -> NA | H13: =ez_thomson!N14 -> #N/A N/A | I13: =ez_thomson!J14 -> Q4 1988 | J13: =ez_thomson!K14 -> NA
... A117: =ez_thomson!A118 -> 34926 | B117: =ez_thomson!B118 -> -7.5 | C117: =ez_thomson!C118 -> 90.27 | D117: =ez_thomson!D118 -> 107.3 | E117: =ez_thomson!E118 -> 37863 | F117: =ez_thomson!F118 -> 86.78 | G117: =ez_thomson!G118 -> NA | H117: =ez_thomson!N118 -> #N/A N/A | I117: =ez_thomson!J118 -> Q4 2014 | J117: =ez_thomson!K118 -> 2416.93
A118: =ez_thomson!A119 -> 34957 | B118: =ez_thomson!B119 -> -10.3 | C118: =ez_thomson!C119 -> 90.36 | D118: =ez_thomson!D119 -> 107 | E118: =ez_thomson!E119 -> 37877 | F118: =ez_thomson!F119 -> 87.33 | G118: =ez_thomson!G119 -> NA | H118: =ez_thomson!N119 -> #N/A N/A
A119: =ez_thomson!A120 -> 34987 | B119: =ez_thomson!B120 -> -11.8 | C119: =ez_thomson!C120 -> 89.67 | D119: =ez_thomson!D120 -> 107.3 | E119: =ez_thomson!E120 -> 37912 | F119: =ez_thomson!F120 -> 86.19 | G119: =ez_thomson!G120 -> NA | H119: =ez_thomson!N120 -> #N/A N/A
A120: =ez_thomson!A121 -> 35018 | B120: =ez_thomson!B121 -> -12.5 | C120: =ez_thomson!C121 -> 90.46 | D120: =ez_thomson!D121 -> 107.2 | E120: =ez_thomson!E121 -> 37916 | F120: =ez_thomson!F121 -> 86.59 | G120: =ez_thomson!G121 -> NA | H120: =ez_thomson!N121 -> #N/A N/A
A121: =ez_thomson!A122 -> 35048 | B121: =ez_thomson!B122 -> -14.5 | C121: =ez_thomson!C122 -> 90.76 | D121: =ez_thomson!D122 -> 106.8 | E121: =ez_thomson!E122 -> 37947 | F121: =ez_thomson!F122 -> 87.51 | G121: =ez_thomson!G122 -> NA | H121: =ez_thomson!N122 -> #N/A N/A
A122: =ez_thomson!A123 -> 35079 | B122: =ez_thomson!B123 -> -15.1 | C122: =ez_thomson!C123 -> 90.07 | D122: =ez_thomson!D123 -> 106.4 | E122: =ez_thomson!E123 -> 37925 | F122: =ez_thomson!F123 -> 86.41 | G122: =ez_thomson!G123 -> NA | H122: =ez_thomson!N123 -> #N/A N/A
A123: =ez_thomson!A124 -> 35110 | B123: =ez_thomson!B124 -> -16.3 | C123: =ez_thomson!C124 -> 90.17 | D123: =ez_thomson!D124 -> 106.6 | E123: =ez_thomson!E124 -> 37900 | F123: =ez_thomson!F124 -> 86.22 | G123: =ez_thomson!G124 -> NA | H123: =ez_thomson!N124 -> #N/A N/A
A124: =ez_thomson!A125 -> 35139 | B124: =ez_thomson!B125 -> -16.9 | C124: =ez_thomson!C125 -> 90.46 | D124: =ez_thomson!D125 -> 106.3 | E124: =ez_thomson!E125 -> 37833 | F124: =ez_thomson!F125 -> 86.29 | G124: =ez_thomson!G125 -> NA | H124: =ez_thomson!N125 -> #N/A N/A
A125: =ez_thomson!A126 -> 35170 | B125: =ez_thomson!B126 -> -17.4 | C125: =ez_thomson!C126 -> 90.36 | D125: =ez_thomson!D126 -> 106 | E125: =ez_thomson!E126 -> 37903 | F125: =ez_thomson!F126 -> 85.53 | G125: =ez_thomson!G126 -> NA | H125: =ez_thomson!N126 -> #N/A N/A
A126: =ez_thomson!A127 -> 35200 | B126: =ez_thomson!B127 -> -15.9 | C126: =ez_thomson!C127 -> 89.77 | D126: =ez_thomson!D127 -> 106.2 | E126: =ez_thomson!E127 -> 37976 | F126: =ez_thomson!F127 -> 86.52 | G126: =ez_thomson!G127 -> NA | H126: =ez_thomson!N127 -> #N/A N/A
A127: =ez_thomson!A128 -> 35231 | B127: =ez_thomson!B128 -> -15.6 | C127: =ez_thomson!C128 -> 90.36 | D127: =ez_thomson!D128 -> 106.7 | E127: =ez_thomson!E128 -> 37925 | F127: =ez_thomson!F128 -> 86.45 | G127: =ez_thomson!G128 -> NA | H127: =ez_thomson!N128 -> #N/A N/A
A128: =ez_thomson!A129 -> 35261 | B128: =ez_thomson!B129 -> -17.3 | C128: =ez_thomson!C129 -> 89.87 | D128: =ez_thomson!D129 -> 106.8 | E128: =ez_thomson!E129 -> 37920 | F128: =ez_thomson!F129 -> 85.71 | G128: =ez_thomson!G129 -> NA | H128: =ez_thomson!N129 -> #N/A N/A
A129: =ez_thomson!A130 -> 35292 | B129: =ez_thomson!B130 -> -16.6 | C129: =ez_thomson!C130 -> 90.46 | D129: =ez_thomson!D130 -> 106.9 | E129: =ez_thomson!E130 -> 37894 | F129: =ez_thomson!F130 -> 86.75 | G129: =ez_thomson!G130 -> NA | H129: =ez_thomson!N130 -> #N/A N/A
... A353: =ez_thomson!A354 -> 42109 | B353: =ez_thomson!B354 -> -4.6 | C353: =ez_thomson!C354 -> NA | D353: =ez_thomson!D354 -> NA | E353: =ez_thomson!E354 -> NA | F353: =ez_thomson!F354 -> NA | G353: =ez_thomson!G354 -> NA | H353: =ez_thomson!N354 -> 52

Sheet ez_thomson
A1: =_xll.Thomson.Reuters.AFOSpreadsheetFormulas.DSGRID("EKCNFCONQ,EMRETTOTG,BDTOTPRCF,BDEMPTOTO,EKIPTOT.G,EKEBEXGTG"," ","1/1/1986","TIME","M","RowHeader=true;ColHeader=true;Code=true;SeriesMetaDataLink=true;DispSeriesDescription=false;YearlyTSFormat=false;QuarterlyTSFormat=false","") -> Application offline! Unable to process the request | B1: EK CONSUMER CONFIDENCE INDICATOR (EA) SADJ | C1: EM RETAIL SALES VOLUME INDEX VOLA | D1: BD TERMS OF TRADE (PAN BD FROM 1991) NADJ | E1: BD EMPLOYED PERSONS (RESIDENCE CONCEPT, ILO) VOLA | F1: EK INDUSTRIAL PRODUCTION EXCLUDING CONSTRUCTION (EA19) VOLA | G1: EK EXTERNAL TRADE: TOTAL EXPORTS VOLUME (EA19)(WDA) VOLA | J1: =_xll.Thomson.Reuters.AFOSpreadsheetFormulas.DSGRID("EMGDP...D"," ","1/1/1986","TIME","Q","RowHeader=true;ColHeader=true;Code=true;SeriesMetaDataLink=true;DispSeriesDescription=false;YearlyTSFormat=false;QuarterlyTSFormat=false","") -> Application offline! Unable to process the request | K1: EM GDP AT MARKET PRICES (ESA2010) CONA
A2: Code | B2: EKCNFCONQ | C2: EMRETTOTG | D2: BDTOTPRCF | E2: BDEMPTOTO | F2: EKIPTOT.G | G2: EKEBEXGTG | J2: Code | K2: EMGDP...D | M2: PX_LAST | N2: MPMIEZMA Index
A3: 31427 | B3: -9.8 | C3: NA | D3: 86.4 | E3: NA | F3: NA | G3: NA | J3: Q1 1986 | K3: NA | M3: =_xll.BDH(N2,M2:M2,"1/1/1986","","Dir=V","Dts=S","Sort=a","Quote=g","QtTyp=Y","Days=w","Per=cm","DtFmt=D","Fill=P","UseDPDF=Y","cols=2;rows=353") -> 31443 | N3: #N/A N/A
A4: 31458 | B4: -9.3 | C4: NA | D4: 88.6 | E4: NA | F4: NA | G4: NA | J4: Q2 1986 | K4: NA | M4: 31471 | N4: #N/A N/A
A5: 31486 | B5: -7.3 | C5: NA | D5: 90.5 | E5: NA | F5: NA | G5: NA | J5: Q3 1986 | K5: NA | M5: 31502 | N5: #N/A N/A
A6: 31517 | B6: -6.5 | C6: NA | D6: 92.4 | E6: NA | F6: NA | G6: NA | J6: Q4 1986 | K6: NA | M6: 31532 | N6: #N/A N/A
A7: 31547 | B7: -5.6 | C7: NA | D7: 93.7 | E7: NA | F7: NA | G7: NA | J7: Q1 1987 | K7: NA | M7: 31563 | N7: #N/A N/A
A8: 31578 | B8: -7.4 | C8: NA | D8: 95 | E8: NA | F8: NA | G8: NA | J8: Q2 1987 | K8: NA | M8: 31593 | N8: #N/A N/A
A9: 31608 | B9: -8 | C9: NA | D9: 97.3 | E9: NA | F9: NA | G9: NA | J9: Q3 1987 | K9: NA | M9: 31624 | N9: #N/A N/A
A10: 31639 | B10: -8 | C10: NA | D10: 97.4 | E10: NA | F10: NA | G10: NA | J10: Q4 1987 | K10: NA | M10: 31655 | N10: #N/A N/A
A11: 31670 | B11: -8.2 | C11: NA | D11: 97 | E11: NA | F11: NA | G11: NA | J11: Q1 1988 | K11: NA | M11: 31685 | N11: #N/A N/A
A12: 31700 | B12: -7.7 | C12: NA | D12: 98.2 | E12: NA | F12: NA | G12: NA | J12: Q2 1988 | K12: NA | M12: 31716 | N12: #N/A N/A
A13: 31731 | B13: -8 | C13: NA | D13: 98.2 | E13: NA | F13: NA | G13: NA | J13: Q3 1988 | K13: NA | M13: 31746 | N13: #N/A N/A
A14: 31761 | B14: -8.6 | C14: NA | D14: 98.3 | E14: NA | F14: NA | G14: NA | J14: Q4 1988 | K14: NA | M14: 31777 | N14: #N/A N/A
A15: 31792 | B15: -9.7 | C15: NA | D15: 98.3 | E15: NA | F15: NA | G15: NA | J15: Q1 1989 | K15: NA | M15: 31808 | N15: #N/A N/A
... A38: 32492 | B38: -6.4 | C38: NA | D38: 99.1 | E38: NA | F38: NA | G38: NA | J38: Q4 1994 | K38: NA | M38: 32508 | N38: #N/A N/A
A39: 32523 | B39: -6.1 | C39: NA | D39: 97.7 | E39: NA | F39: NA | G39: NA | J39: Q1 1995 | K39: 1771.43 | M39: 32539 | N39: #N/A N/A
A40: 32554 | B40: -7.6 | C40: NA | D40: 97.8 | E40: NA | F40: NA | G40: NA | J40: Q2 1995 | K40: 1781.72 | M40: 32567 | N40: #N/A N/A
A41: 32582 | B41: -7.2 | C41: NA | D41: 97.4 | E41: NA | F41: NA | G41: NA | J41: Q3 1995 | K41: 1788.04 | M41: 32598 | N41: #N/A N/A
A42: 32613 | B42: -6.6 | C42: NA | D42: 96.8 | E42: NA | F42: NA | G42: NA | J42: Q4 1995 | K42: 1794.11 | M42: 32628 | N42: #N/A N/A
A43: 32643 | B43: -5.8 | C43: NA | D43: 97 | E43: NA | F43: NA | G43: NA | J43: Q1 1996 | K43: 1794.61 | M43: 32659 | N43: #N/A N/A
A44: 32674 | B44: -4.6 | C44: NA | D44: 97.5 | E44: NA | F44: NA | G44: NA | J44: Q2 1996 | K44: 1808.01 | M44: 32689 | N44: #N/A N/A
A45: 32704 | B45: -3.3 | C45: NA | D45: 98.7 | E45: NA | F45: NA | G45: NA | J45: Q3 1996 | K45: 1818.09 | M45: 32720 | N45: #N/A N/A
A46: 32735 | B46: -4.3 | C46: NA | D46: 98.4 | E46: NA | F46: NA | G46: NA | J46: Q4 1996 | K46: 1823.37 | M46: 32751 | N46: #N/A N/A
A47: 32766 | B47: -4.4 | C47: NA | D47: 98.1 | E47: NA | F47: NA | G47: NA | J47: Q1 1997 | K47: 1829.51 | M47: 32781 | N47: #N/A N/A
A48: 32796 | B48: -5.2 | C48: NA | D48: 98.4 | E48: NA | F48: NA | G48: NA | J48: Q2 1997 | K48: 1852.08 | M48: 32812 | N48: #N/A N/A
A49: 32827 | B49: -6 | C49: NA | D49: 99 | E49: NA | F49: NA | G49: NA | J49: Q3 1997 | K49: 1865.06 | M49: 32842 | N49: #N/A N/A
A50: 32857 | B50: -4.6 | C50: NA | D50: 99.1 | E50: NA | F50: NA | G50: NA | J50: Q4 1997 | K50: 1885.13 | M50: 32873 | N50: #N/A N/A
... A62: 33222 | B62: -12.4 | C62: NA | D62: 99.2 | E62: NA | F62: NA | G62: NA | J62: Q4 2000 | K62: 2063 | M62: 33238 | N62: #N/A N/A
A63: 33253 | B63: -15.9 | C63: NA | D63: 100 | E63: NA | F63: 88.14 | G63: NA | J63: Q1 2001 | K63: 2131.28 | M63: 33269 | N63: #N/A N/A
A64: 33284 | B64: -17 | C64: NA | D64: 100.7 | E64: NA | F64: 87.2 | G64: NA | J64: Q2 2001 | K64: 2132.36 | M64: 33297 | N64: #N/A N/A
A65: 33312 | B65: -12.9 | C65: NA | D65: 100.6 | E65: NA | F65: 86.35 | G65: NA | J65: Q3 2001 | K65: 2133.22 | M65: 33328 | N65: #N/A N/A
A66: 33343 | B66: -14.3 | C66: NA | D66: 100 | E66: NA | F66: 85.9 | G66: NA | J66: Q4 2001 | K66: 2135.77 | M66: 33358 | N66: #N/A N/A
A67: 33373 | B67: -13.7 | C67: NA | D67: 100.1 | E67: NA | F67: 85.82 | G67: NA | J67: Q1 2002 | K67: 2140.26 | M67: 33389 | N67: #N/A N/A
A68: 33404 | B68: -14.3 | C68: NA | D68: 99.9 | E68: NA | F68: 87.43 | G68: NA | J68: Q2 2002 | K68: 2151.07 | M68: 33419 | N68: #N/A N/A
A69: 33434 | B69: -17 | C69: NA | D69: 100 | E69: NA | F69: 85.75 | G69: NA | J69: Q3 2002 | K69: 2158.49 | M69: 33450 | N69: #N/A N/A
A70: 33465 | B70: -17.3 | C70: NA | D70: 100.5 | E70: NA | F70: 85.61 | G70: NA | J70: Q4 2002 | K70: 2159.41 | M70: 33481 | N70: #N/A N/A
A71: 33496 | B71: -14.3 | C71: NA | D71: 100.9 | E71: NA | F71: 85.74 | G71: NA | J71: Q1 2003 | K71: 2154.39 | M71: 33511 | N71: #N/A N/A
A72: 33526 | B72: -15.3 | C72: NA | D72: 100.7 | E72: NA | F72: 86.12 | G72: NA | J72: Q2 2003 | K72: 2156.27 | M72: 33542 | N72: #N/A N/A
A73: 33557 | B73: -16.1 | C73: NA | D73: 100.9 | E73: NA | F73: 87.16 | G73: NA | J73: Q3 2003 | K73: 2167.21 | M73: 33572 | N73: #N/A N/A
A74: 33587 | B74: -17 | C74: NA | D74: 102.1 | E74: NA | F74: 86.75 | G74: NA | J74: Q4 2003 | K74: 2183.32 | M74: 33603 | N74: #N/A N/A
A75: 33618 | B75: -16.3 | C75: NA | D75: 102.6 | E75: 38565 | F75: 87.43 | G75: NA | J75: Q1 2004 | K75: 2193.79 | M75: 33634 | N75: #N/A N/A
A76: 33649 | B76: -15.8 | C76: NA | D76: 102.6 | E76: 38524 | F76: 87.72 | G76: NA | J76: Q2 2004 | K76: 2206 | M76: 33663 | N76: #N/A N/A
A77: 33678 | B77: -17.2 | C77: NA | D77: 102.5 | E77: 38478 | F77: 86.82 | G77: NA | J77: Q3 2004 | K77: 2212.97 | M77: 33694 | N77: #N/A N/A
A78: 33709 | B78: -17 | C78: NA | D78: 102.8 | E78: 38451 | F78: 86.71 | G78: NA | J78: Q4 2004 | K78: 2220.41 | M78: 33724 | N78: #N/A N/A
A79: 33739 | B79: -17.3 | C79: NA | D79: 102.9 | E79: 38425 | F79: 86.18 | G79: NA | J79: Q1 2005 | K79: 2223.5 | M79: 33755 | N79: #N/A N/A
A80: 33770 | B80: -18.1 | C80: NA | D80: 103.4 | E80: 38371 | F80: 85.35 | G80: NA | J80: Q2 2005 | K80: 2238.69 | M80: 33785 | N80: #N/A N/A
A81: 33800 | B81: -18.9 | C81: NA | D81: 104.2 | E81: 38303 | F81: 84.09 | G81: NA | J81: Q3 2005 | K81: 2254.07 | M81: 33816 | N81: #N/A N/A
A82: 33831 | B82: -20.2 | C82: NA | D82: 104.9 | E82: 38224 | F82: 84.11 | G82: NA | J82: Q4 2005 | K82: 2267.18 | M82: 33847 | N82: #N/A N/A
A83: 33862 | B83: -21.4 | C83: NA | D83: 105.2 | E83: 38157 | F83: 83.32 | G83: NA | J83: Q1 2006 | K83: 2287.85 | M83: 33877 | N83: #N/A N/A
A84: 33892 | B84: -24.2 | C84: NA | D84: 104.8 | E84: 38099 | F84: 83.53 | G84: NA | J84: Q2 2006 | K84: 2312.99 | M84: 33908 | N84: #N/A N/A
A85: 33923 | B85: -26 | C85: NA | D85: 104.6 | E85: 38050 | F85: 82.68 | G85: NA | J85: Q3 2006 | K85: 2327.01 | M85: 33938 | N85: #N/A N/A
A86: 33953 | B86: -28.1 | C86: NA | D86: 104.7 | E86: 38015 | F86: 81.25 | G86: NA | J86: Q4 2006 | K86: 2351.99 | M86: 33969 | N86: #N/A N/A
... A110: 34683 | B110: -8.5 | C110: NA | D110: 105 | E110: 37873 | F110: 87.3 | G110: NA | J110: Q4 2012 | K110: 2381.16 | M110: 34699 | N110: #N/A N/A
A111: 34714 | B111: -7.6 | C111: 89.38 | D111: 105.1 | E111: 37849 | F111: 86.77 | G111: NA | J111: Q1 2013 | K111: 2372.09 | M111: 34730 | N111: #N/A N/A
A112: 34745 | B112: -8 | C112: 89.77 | D112: 105.3 | E112: 37845 | F112: 86.78 | G112: NA | J112: Q2 2013 | K112: 2380.39 | M112: 34758 | N112: #N/A N/A
A113: 34773 | B113: -8.1 | C113: 89.58 | D113: 106.2 | E113: 37868 | F113: 86.72 | G113: NA | J113: Q3 2013 | K113: 2384.57 | M113: 34789 | N113: #N/A N/A
A114: 34804 | B114: -8.1 | C114: 89.58 | D114: 106.3 | E114: 37912 | F114: 87.04 | G114: NA | J114: Q4 2013 | K114: 2391.08 | M114: 34819 | N114: #N/A N/A
A115: 34834 | B115: -5.5 | C115: 90.07 | D115: 106.6 | E115: 37847 | F115: 87.32 | G115: NA | J115: Q1 2014 | K115: 2403.05 | M115: 34850 | N115: #N/A N/A
A116: 34865 | B116: -5.7 | C116: 90.17 | D116: 107 | E116: 37867 | F116: 86.94 | G116: NA | J116: Q2 2014 | K116: 2404.64 | M116: 34880 | N116: #N/A N/A
A117: 34895 | B117: -6.7 | C117: 90.07 | D117: 107.6 | E117: 37878 | F117: 86.89 | G117: NA | J117: Q3 2014 | K117: 2409 | M117: 34911 | N117: #N/A N/A
A118: 34926 | B118: -7.5 | C118: 90.27 | D118: 107.3 | E118: 37863 | F118: 86.78 | G118: NA | J118: Q4 2014 | K118: 2416.93 | M118: 34942 | N118: #N/A N/A
A119: 34957 | B119: -10.3 | C119: 90.36 | D119: 107 | E119: 37877 | F119: 87.33 | G119: NA | M119: 34972 | N119: #N/A N/A
A120: 34987 | B120: -11.8 | C120: 89.67 | D120: 107.3 | E120: 37912 | F120: 86.19 | G120: NA | M120: 35003 | N120: #N/A N/A
A121: 35018 | B121: -12.5 | C121: 90.46 | D121: 107.2 | E121: 37916 | F121: 86.59 | G121: NA | M121: 35033 | N121: #N/A N/A
A122: 35048 | B122: -14.5 | C122: 90.76 | D122: 106.8 | E122: 37947 | F122: 87.51 | G122: NA | M122: 35064 | N122: #N/A N/A
A123: 35079 | B123: -15.1 | C123: 90.07 | D123: 106.4 | E123: 37925 | F123: 86.41 | G123: NA | M123: 35095 | N123: #N/A N/A
A124: 35110 | B124: -16.3 | C124: 90.17 | D124: 106.6 | E124: 37900 | F124: 86.22 | G124: NA | M124: 35124 | N124: #N/A N/A
A125: 35139 | B125: -16.9 | C125: 90.46 | D125: 106.3 | E125: 37833 | F125: 86.29 | G125: NA | M125: 35155 | N125: #N/A N/A
A126: 35170 | B126: -17.4 | C126: 90.36 | D126: 106 | E126: 37903 | F126: 85.53 | G126: NA | M126: 35185 | N126: #N/A N/A
A127: 35200 | B127: -15.9 | C127: 89.77 | D127: 106.2 | E127: 37976 | F127: 86.52 | G127: NA | M127: 35216 | N127: #N/A N/A
A128: 35231 | B128: -15.6 | C128: 90.36 | D128: 106.7 | E128: 37925 | F128: 86.45 | G128: NA | M128: 35246 | N128: #N/A N/A
A129: 35261 | B129: -17.3 | C129: 89.87 | D129: 106.8 | E129: 37920 | F129: 85.71 | G129: NA | M129: 35277 | N129: #N/A N/A
A130: 35292 | B130: -16.6 | C130: 90.46 | D130: 106.9 | E130: 37894 | F130: 86.75 | G130: NA | M130: 35308 | N130: #N/A N/A
... A194: 37240 | B194: -11.2 | C194: 101.2 | D194: 103.1 | E194: 39660 | F194: 98.24 | G194: NA | M194: 37256 | N194: #N/A N/A
A195: 37271 | B195: -10.1 | C195: 99.92 | D195: 102.8 | E195: 39683 | F195: 98.22 | G195: 67.35 | M195: 37287 | N195: #N/A N/A
A196: 37302 | B196: -9.3 | C196: 101.2 | D196: 102.3 | E196: 39672 | F196: 98.39 | G196: 68.35 | M196: 37315 | N196: #N/A N/A
A197: 37330 | B197: -8.4 | C197: 101.7 | D197: 101.7 | E197: 39640 | F197: 99.02 | G197: 69.81 | M197: 37346 | N197: #N/A N/A
A198: 37361 | B198: -8.8 | C198: 101.01 | D198: 101.6 | E198: 39627 | F198: 99.27 | G198: 69.61 | M198: 37376 | N198: #N/A N/A
A199: 37391 | B199: -7.1 | C199: 101.5 | D199: 102.1 | E199: 39592 | F199: 99.5 | G199: 69.21 | M199: 37407 | N199: #N/A N/A
A200: 37422 | B200: -7.8 | C200: 100.91 | D200: 103.2 | E200: 39498 | F200: 99.8 | G200: 71.66 | M200: 37437 | N200: #N/A N/A
A201: 37452 | B201: -9.5 | C201: 101.89 | D201: 103.8 | E201: 39492 | F201: 99.3 | G201: 69.92 | M201: 37468 | N201: #N/A N/A
A202: 37483 | B202: -10.9 | C202: 101.99 | D202: 103.3 | E202: 39432 | F202: 99.65 | G202: 70.9 | M202: 37499 | N202: #N/A N/A
A203: 37514 | B203: -9.7 | C203: 102.29 | D203: 103 | E203: 39398 | F203: 99.85 | G203: 70.7 | M203: 37529 | N203: #N/A N/A
A204: 37544 | B204: -13 | C204: 102.39 | D204: 102.9 | E204: 39352 | F204: 99.27 | G204: 71.3 | M204: 37560 | N204: #N/A N/A
A205: 37575 | B205: -14.9 | C205: 101.7 | D205: 103.9 | E205: 39301 | F205: 99.73 | G205: 71.52 | M205: 37590 | N205: #N/A N/A
A206: 37605 | B206: -17.4 | C206: 101.5 | D206: 103.2 | E206: 39284 | F206: 98.57 | G206: 69 | M206: 37621 | N206: #N/A N/A
... A318: 41014 | B318: -19.5 | C318: 97.46 | D318: 95.8 | E318: 41905 | F318: 101.14 | G318: 110.63 | M318: 41029 | N318: #N/A N/A
A319: 41044 | B319: -18.8 | C319: 97.72 | D319: 96.2 | E319: 41937 | F319: 101.79 | G319: 111.09 | M319: 41060 | N319: 45.1
A320: 41075 | B320: -19.3 | C320: 98.21 | D320: 97.3 | E320: 41954 | F320: 100.93 | G320: 113.25 | M320: 41090 | N320: 45.1
A321: 41105 | B321: -21 | C321: 98.38 | D321: 97 | E321: 41997 | F321: 101.46 | G321: 111.32 | M321: 41121 | N321: 44
A322: 41136 | B322: -24.2 | C322: 97.93 | D322: 96.3 | E322: 42030 | F322: 102.48 | G322: 113.88 | M322: 41152 | N322: 45.1
A323: 41167 | B323: -25.5 | C323: 97.1 | D323: 97 | E323: 42042 | F323: 100.45 | G323: 112.05 | M323: 41182 | N323: 46.1
A324: 41197 | B324: -25.2 | C324: 96.79 | D324: 97.2 | E324: 42083 | F324: 99.77 | G324: 111.37 | M324: 41213 | N324: 45.4
A325: 41228 | B325: -26.4 | C325: 96.52 | D325: 97.3 | E325: 42107 | F325: 99.06 | G325: 111.79 | M325: 41243 | N325: 46.2
A326: 41258 | B326: -26 | C326: 96.2 | D326: 97.6 | E326: 42104 | F326: 99.62 | G326: 109.9 | M326: 41274 | N326: 46.1
A327: 41289 | B327: -23.7 | C327: 96.6 | D327: 97.7 | E327: 42118 | F327: 99.17 | G327: 113.02 | M327: 41305 | N327: 47.9
A328: 41320 | B328: -23.4 | C328: 96.39 | D328: 97.3 | E328: 42142 | F328: 99.32 | G328: 111.89 | M328: 41333 | N328: 47.9
A329: 41348 | B329: -23.3 | C329: 96.5 | D329: 97.5 | E329: 42136 | F329: 100.33 | G329: 115.87 | M329: 41364 | N329: 46.8
A330: 41379 | B330: -22 | C330: 96.33 | D330: 98.4 | E330: 42148 | F330: 100.54 | G330: 114.22 | M330: 41394 | N330: 46.7
...

Sheet jp_eviews
B1: consconf | C1: retsales | D1: tot | E1: emp | F1: ip | G1: ex | J1: gdp
A2: =jp_thomson!A3 -> 31427 | B2: =jp_thomson!B3 -> NA | C2: =jp_thomson!C3 -> 89.73 | D2: =jp_thomson!D3 -> 126.2 | E2: =jp_thomson!E3 -> 58410 | F2: =jp_thomson!F3 -> 84.8 | G2: =jp_thomson!G3 -> 44.44 | I2: =jp_thomson!J3 -> Q1 1986 | J2: =jp_thomson!K3 -> 341487.3
A3: =jp_thomson!A4 -> 31458 | B3: =jp_thomson!B4 -> NA | C3: =jp_thomson!C4 -> 89.74 | D3: =jp_thomson!D4 -> 130.9 | E3: =jp_thomson!E4 -> 58500 | F3: =jp_thomson!F4 -> 84.8 | G3: =jp_thomson!G4 -> 51 | I3: =jp_thomson!J4 -> Q2 1986 | J3: =jp_thomson!K4 -> 340507.5
A4: =jp_thomson!A5 -> 31486 | B4: =jp_thomson!B5 -> 46.8 | C4: =jp_thomson!C5 -> 89.74 | D4: =jp_thomson!D5 -> 144.5 | E4: =jp_thomson!E5 -> 58410 | F4: =jp_thomson!F5 -> 84.7 | G4: =jp_thomson!G5 -> 57.65 | I4: =jp_thomson!J5 -> Q3 1986 | J4: =jp_thomson!K5 -> 343152.1
A5: =jp_thomson!A6 -> 31517 | B5: =jp_thomson!B6 -> NA | C5: =jp_thomson!C6 -> 90.25 | D5: =jp_thomson!D6 -> 154.9 | E5: =jp_thomson!E6 -> 58420 | F5: =jp_thomson!F6 -> 84.7 | G5: =jp_thomson!G6 -> 57.03 | I5: =jp_thomson!J6 -> Q4 1986 | J5: =jp_thomson!K6 -> 346751.7
A6: =jp_thomson!A7 -> 31547 | B6: =jp_thomson!B7 -> NA | C6: =jp_thomson!C7 -> 88.71 | D6: =jp_thomson!D7 -> 163.9 | E6: =jp_thomson!E7 -> 58320 | F6: =jp_thomson!F7 -> 84.6 | G6: =jp_thomson!G7 -> 55.64 | I6: =jp_thomson!J7 -> Q1 1987 | J6: =jp_thomson!K7 -> 345435
A7: =jp_thomson!A8 -> 31578 | B7: =jp_thomson!B8 -> 45.6 | C7: =jp_thomson!C8 -> 90.1 | D7: =jp_thomson!D8 -> 167.9 | E7: =jp_thomson!E8 -> 58400 | F7: =jp_thomson!F8 -> 85 | G7: =jp_thomson!G8 -> 55.29 | I7: =jp_thomson!J8 -> Q2 1987 | J7: =jp_thomson!K8 -> 352589.7
A8: =jp_thomson!A9 -> 31608 | B8: =jp_thomson!B9 -> NA | C8: =jp_thomson!C9 -> 89.77 | D8: =jp_thomson!D9 -> 176 | E8: =jp_thomson!E9 -> 58630 | F8: =jp_thomson!F9 -> 85.2 | G8: =jp_thomson!G9 -> 58.27 | I8: =jp_thomson!J9 -> Q3 1987 | J8: =jp_thomson!K9 -> 359479
A9: =jp_thomson!A10 -> 31639 | B9: =jp_thomson!B10 -> NA | C9: =jp_thomson!C10 -> 91.12 | D9: =jp_thomson!D10 -> 184.8 | E9: =jp_thomson!E10 -> 58670 | F9: =jp_thomson!F10 -> 83 | G9: =jp_thomson!G10 -> 50.72 | I9: =jp_thomson!J10 -> Q4 1987 | J9: =jp_thomson!K10 -> 368754.3
A10: =jp_thomson!A11 -> 31670 | B10: =jp_thomson!B11 -> 43.7 | C10: =jp_thomson!C11 -> 89.92 | D10: =jp_thomson!D11 -> 183.7 | E10: =jp_thomson!E11 -> 58640 | F10: =jp_thomson!F11 -> 85.8 | G10: =jp_thomson!G11 -> 57.86 | I10: =jp_thomson!J11 -> Q1 1988 | J10: =jp_thomson!K11 -> 377068.6
A11: =jp_thomson!A12 -> 31700 | B11: =jp_thomson!B12 -> NA | C11: =jp_thomson!C12 -> 90.44 | D11: =jp_thomson!D12 -> 178.4 | E11: =jp_thomson!E12 -> 58720 | F11: =jp_thomson!F12 -> 84.6 | G11: =jp_thomson!G12 -> 57.58 | I11: =jp_thomson!J12 -> Q2 1988 | J11: =jp_thomson!K12 -> 377537.7
A12: =jp_thomson!A13 -> 31731 | B12: =jp_thomson!B13 -> NA | C12: =jp_thomson!C13 -> 90.49 | D12: =jp_thomson!D13 -> 177.1 | E12: =jp_thomson!E13 -> 58660 | F12: =jp_thomson!F13 -> 83.5 | G12: =jp_thomson!G13 -> 51.07 | I12: =jp_thomson!J13 -> Q3 1988 | J12: =jp_thomson!K13 -> 385157.6
A13: =jp_thomson!A14 -> 31761 | B13: =jp_thomson!B14 -> 42.3 | C13: =jp_thomson!C14 -> 91.14 | D13: =jp_thomson!D14 -> 175.5 | E13: =jp_thomson!E14 -> 58650 | F13: =jp_thomson!F14 -> 85.6 | G13: =jp_thomson!G14 -> 60.41 | I13: =jp_thomson!J14 -> Q4 1988 | J13: =jp_thomson!K14 -> 389483
... A117: =jp_thomson!A118 -> 34926 | B117: =jp_thomson!B118 -> NA | C117: =jp_thomson!C118 -> 107.13 | D117: =jp_thomson!D118 -> 173.9 | E117: =jp_thomson!E118 -> 64570 | F117: =jp_thomson!F118 -> 100.9 | G117: =jp_thomson!G118 -> 65.53 | I117: =jp_thomson!J118 -> Q4 2014 | J117: =jp_thomson!K118 -> 524603
A118: =jp_thomson!A119 -> 34957 | B118: =jp_thomson!B119 -> 41.6 | C118: =jp_thomson!C119 -> 106.71 | D118: =jp_thomson!D119 -> 174.1 | E118: =jp_thomson!E119 -> 64820 | F118: =jp_thomson!F119 -> 100 | G118: =jp_thomson!G119 -> 73.48
A119: =jp_thomson!A120 -> 34987 | B119: =jp_thomson!B120 -> NA | C119: =jp_thomson!C120 -> 106.28 | D119: =jp_thomson!D120 -> 173.2 | E119: =jp_thomson!E120 -> 64590 | F119: =jp_thomson!F120 -> 101.3 | G119: =jp_thomson!G120 -> 67.95
A120: =jp_thomson!A121 -> 35018 | B120: =jp_thomson!B121 -> NA | C120: =jp_thomson!C121 -> 106.92 | D120: =jp_thomson!D121 -> 172 | E120: =jp_thomson!E121 -> 64430 | F120: =jp_thomson!F121 -> 102 | G120: =jp_thomson!G121 -> 67.74
A121: =jp_thomson!A122 -> 35048 | B121: =jp_thomson!B122 -> 44 | C121: =jp_thomson!C122 -> 107.24 | D121: =jp_thomson!D122 -> 171.4 | E121: =jp_thomson!E122 -> 64460 | F121: =jp_thomson!F122 -> 103.3 | G121: =jp_thomson!G122 -> 76.17
A122: =jp_thomson!A123 -> 35079 | B122: =jp_thomson!B123 -> NA | C122: =jp_thomson!C123 -> 107.45 | D122: =jp_thomson!D123 -> 169.1 | E122: =jp_thomson!E123 -> 64430 | F122: =jp_thomson!F123 -> 101.6 | G122: =jp_thomson!G123 -> 55.98
A123: =jp_thomson!A124 -> 35110 | B123: =jp_thomson!B124 -> NA | C123: =jp_thomson!C124 -> 107.13 | D123: =jp_thomson!D124 -> 168.1 | E123: =jp_thomson!E124 -> 64400 | F123: =jp_thomson!F124 -> 101.7 | G123: =jp_thomson!G124 -> 65.94
A124: =jp_thomson!A125 -> 35139 | B124: =jp_thomson!B125 -> 45.1 | C124: =jp_thomson!C125 -> 107.56 | D124: =jp_thomson!D125 -> 167.8 | E124: =jp_thomson!E125 -> 64710 | F124: =jp_thomson!F125 -> 101.5 | G124: =jp_thomson!G125 -> 75.76
A125: =jp_thomson!A126 -> 35170 | B125: =jp_thomson!B126 -> NA | C125: =jp_thomson!C126 -> 107.14 | D125: =jp_thomson!D126 -> 165.8 | E125: =jp_thomson!E126 -> 64760 | F125: =jp_thomson!F126 -> 101.7 | G125: =jp_thomson!G126 -> 68.84
A126: =jp_thomson!A127 -> 35200 | B126: =jp_thomson!B127 -> NA | C126: =jp_thomson!C127 -> 106.61 | D126: =jp_thomson!D127 -> 163.4 | E126: =jp_thomson!E127 -> 64590 | F126: =jp_thomson!F127 -> 102.6 | G126: =jp_thomson!G127 -> 65.19
A127: =jp_thomson!A128 -> 35231 | B127: =jp_thomson!B128 -> 46.1 | C127: =jp_thomson!C128 -> 107.56 | D127: =jp_thomson!D128 -> 163.1 | E127: =jp_thomson!E128 -> 64910 | F127: =jp_thomson!F128 -> 102.6 | G127: =jp_thomson!G128 -> 68.7
A128: =jp_thomson!A129 -> 35261 | B128: =jp_thomson!B129 -> NA | C128: =jp_thomson!C129 -> 106.92 | D128: =jp_thomson!D129 -> 161.9 | E128: =jp_thomson!E129 -> 65120 | F128: =jp_thomson!F129 -> 103.3 | G128: =jp_thomson!G129 -> 71.81
A129: =jp_thomson!A130 -> 35292 | B129: =jp_thomson!B130 -> NA | C129: =jp_thomson!C130 -> 106.07 | D129: =jp_thomson!D130 -> 161 | E129: =jp_thomson!E130 -> 65050 | F129: =jp_thomson!F130 -> 103.6 | G129: =jp_thomson!G130 -> 65.94
... A352: =jp_thomson!A353 -> 42078 | B352: =jp_thomson!B353 -> 41.7 | C352: =jp_thomson!C353 -> NA | D352: =jp_thomson!D353 -> 96.5 | E352: =jp_thomson!E353 -> NA | F352: =jp_thomson!F353 -> 98.7 | G352: =jp_thomson!G353 -> 98.94

Sheet jp_thomson
A1: =_xll.Thomson.Reuters.AFOSpreadsheetFormulas.DSGRID("JPCNFCONQ,JPOSLI15G,JPTOTPRCF,JPEMPTOTO,JPIPMAN.G,JPEXPVOLH"," ","1/1/1986","TIME","M","RowHeader=true;ColHeader=true;Code=true;SeriesMetaDataLink=true;DispSeriesDescription=false;YearlyTSFormat=false;QuarterlyTSFormat=false","") -> Application offline! Unable to process the request | B1: JP CONSUMER CONFIDENCE INDEX (EXCL. 1 PERSON HH.) SADJ | C1: JP TOTAL RETAIL TRADE (VOLUME) VOLA | D1: JP TERMS OF TRADE INDEX NADJ | E1: JP EMPLOYED PERSONS (METHO BREAK MAR 2011) VOLA | F1: JP INDUSTRIAL PRODUCTION - MANUFACTURING VOLA | G1: JP EXPORTS VOLUME INDEX VOLN | J1: =_xll.Thomson.Reuters.AFOSpreadsheetFormulas.DSGRID("JPGDP...D"," ","1986-01-01","TIME","Q","RowHeader=true;ColHeader=true;Code=true;SeriesMetaDataLink=true;DispSeriesDescription=false;YearlyTSFormat=false;QuarterlyTSFormat=false","") -> Application offline! Unable to process the request | K1: JP GDP (AR) CONA
A2: Code | B2: JPCNFCONQ | C2: JPOSLI15G | D2: JPTOTPRCF | E2: JPEMPTOTO | F2: JPIPMAN.G | G2: JPEXPVOLH | J2: Code | K2: JPGDP...D
A3: 31427 | B3: NA | C3: 89.73 | D3: 126.2 | E3: 58410 | F3: 84.8 | G3: 44.44 | J3: Q1 1986 | K3: 341487.3
A4: 31458 | B4: NA | C4: 89.74 | D4: 130.9 | E4: 58500 | F4: 84.8 | G4: 51 | J4: Q2 1986 | K4: 340507.5
A5: 31486 | B5: 46.8 | C5: 89.74 | D5: 144.5 | E5: 58410 | F5: 84.7 | G5: 57.65 | J5: Q3 1986 | K5: 343152.1
A6: 31517 | B6: NA | C6: 90.25 | D6: 154.9 | E6: 58420 | F6: 84.7 | G6: 57.03 | J6: Q4 1986 | K6: 346751.7
A7: 31547 | B7: NA | C7: 88.71 | D7: 163.9 | E7: 58320 | F7: 84.6 | G7: 55.64 | J7: Q1 1987 | K7: 345435
A8: 31578 | B8: 45.6 | C8: 90.1 | D8: 167.9 | E8: 58400 | F8: 85 | G8: 55.29 | J8: Q2 1987 | K8: 352589.7
A9: 31608 | B9: NA | C9: 89.77 | D9: 176 | E9: 58630 | F9: 85.2 | G9: 58.27 | J9: Q3 1987 | K9: 359479
A10: 31639 | B10: NA | C10: 91.12 | D10: 184.8 | E10: 58670 | F10: 83 | G10: 50.72 | J10: Q4 1987 | K10: 368754.3
A11: 31670 | B11: 43.7 | C11: 89.92 | D11: 183.7 | E11: 58640 | F11: 85.8 | G11: 57.86 | J11: Q1 1988 | K11: 377068.6
A12: 31700 | B12: NA | C12: 90.44 | D12: 178.4 | E12: 58720 | F12: 84.6 | G12: 57.58 | J12: Q2 1988 | K12: 377537.7
A13: 31731 | B13: NA | C13: 90.49 | D13: 177.1 | E13: 58660 | F13: 83.5 | G13: 51.07 | J13: Q3 1988 | K13: 385157.6
A14: 31761 | B14: 42.3 | C14: 91.14 | D14: 175.5 | E14: 58650 | F14: 85.6 | G14: 60.41 | J14: Q4 1988 | K14: 389483
A15: 31792 | B15: NA | C15: 92.96 | D15: 172.6 | E15: 58640 | F15: 85.1 | G15: 45.55 | J15: Q1 1989 | K15: 400212.7
A16: 31823 | B16: NA | C16: 93.05 | D16: 169.2 | E16: 58640 | F16: 84.8 | G16: 51.35 | J16: Q2 1989 | K16: 394994.4
A17: 31851 | B17: 41 | C17: 93 | D17: 168 | E17: 58850 | F17: 86.1 | G17: 57.93 | J17: Q3 1989 | K17: 401727.1
A18: 31882 | B18: NA | C18: 93.23 | D18: 168.8 | E18: 58880 | F18: 85.3 | G18: 56.48 | J18: Q4 1989 | K18: 414055.2
A19: 31912 | B19: NA | C19: 93.9 | D19: 167 | E19: 58850 | F19: 83.8 | G19: 53.7 | J19: Q1 1990 | K19: 411079
A20: 31943 | B20: 44.3 | C20: 94.46 | D20: 166.6 | E20: 59030 | F20: 87 | G20: 54.33 | J20: Q2 1990 | K20: 423493.4
A21: 31973 | B21: NA | C21: 95.06 | D21: 164.7 | E21: 59040 | F21: 87.7 | G21: 57.65 | J21: Q3 1990 | K21: 431371.4
A22: 32004 | B22: NA | C22: 95.4 | D22: 162.7 | E22: 59320 | F22: 87.9 | G22: 51.21 | J22: Q4 1990 | K22: 430372.3
A23: 32035 | B23: 46.9 | C23: 95.51 | D23: 162.7 | E23: 59300 | F23: 89.4 | G23: 57.65 | J23: Q1 1991 | K23: 434156
A24: 32065 | B24: NA | C24: 95.25 | D24: 161.5 | E24: 59370 | F24: 90.9 | G24: 59.16 | J24: Q2 1991 | K24: 439233.8
A25: 32096 | B25: NA | C25: 96.75 | D25: 162.9 | E25: 59590 | F25: 91.3 | G25: 52.39 | J25: Q3 1991 | K25: 439251.9
A26: 32126 | B26: 48.4 | C26: 97.21 | D26: 164.4 | E26: 59770 | F26: 92.3 | G26: 62.97 | J26: Q4 1991 | K26: 441980.9
A27: 32157 | B27: NA | C27: 97.9 | D27: 167.3 | E27: 59780 | F27: 92.9 | G27: 45.62 | J27: Q1 1992 | K27: 442620.8
A28: 32188 | B28: NA | C28: 99.73 | D28: 167.5 | E28: 59640 | F28: 95.6 | G28: 53.77 | J28: Q2 1992 | K28: 442382.2
A29: 32217 | B29: 49.9 | C29: 97.44 | D29: 166.7 | E29: 59720 | F29: 93.7 | G29: 59.99 | J29: Q3 1992 | K29: 444549.6
A30: 32248 | B30: NA | C30: 98.39 | D30: 170.2 | E30: 59980 | F30: 96.1 | G30: 58.41 | J30: Q4 1992 | K30: 441745.3
A31: 32278 | B31: NA | C31: 98.39 | D31: 169.6 | E31: 60120 | F31: 95.2 | G31: 53.7 | J31: Q1 1993 | K31: 446109.7
A32: 32309 | B32: 49.8 | C32: 98.95 | D32: 166.9 | E32: 60090 | F32: 95.4 | G32: 57.24 | J32: Q2 1993 | K32: 443035.3
A33: 32339 | B33: NA | C33: 99.29 | D33: 167.6 | E33: 60180 | F33: 95.7 | G33: 61.17 | J33: Q3 1993 | K33: 441001.8
A34: 32370 | B34: NA | C34: 99.53 | D34: 169.9 | E34: 60240 | F34: 96.4 | G34: 55.08 | J34: Q4 1993 | K34: 443412.1
A35: 32401 | B35: 49.9 | C35: 99.32 | D35: 170.1 | E35: 60200 | F35: 98 | G35: 61.93 | J35: Q1 1994 | K35: 447207.6
A36: 32431 | B36: NA | C36: 98.55 | D36: 171.2 | E36: 60280 | F36: 96.6 | G36: 61.38 | J36: Q2 1994 | K36: 442420.7
A37: 32462 | B37: NA | C37: 100.23 | D37: 176.2 | E37: 60430 | F37: 98.4 | G37: 58.2 | J37: Q3 1994 | K37: 451081.3
A38: 32492 | B38: 50.8 | C38: 100.79 | D38: 176.8 | E38: 60590 | F38: 99.4 | G38: 66.08 | J38: Q4 1994 | K38: 446333.8
A39: 32523 | B39: NA | C39: 100.22 | D39: 173.7 | E39: 60560 | F39: 100.3 | G39: 48.72 | J39: Q1 1995 | K39: 448985.6
A40: 32554 | B40: NA | C40: 100.9 | D40: 169.8 | E40: 60750 | F40: 99.9 | G40: 56.96 | J40: Q2 1995 | K40: 455337.5
A41: 32582 | B41: 48.7 | C41: 107.27 | D41: 168.3 | E41: 60800 | F41: 103.4 | G41: 67.67 | J41: Q3 1995 | K41: 458551.1
A42: 32613 | B42: NA | C42: 98.92 | D42: 164.8 | E42: 60980 | F42: 101.6 | G42: 59.71 | J42: Q4 1995 | K42: 458600
A43: 32643 | B43: NA | C43: 100.83 | D43: 161.8 | E43: 61130 | F43: 101.5 | G43: 56.2 | J43: Q1 1996 | K43: 462156.3
A44: 32674 | B44: 47.6 | C44: 100.38 | D44: 162.3 | E44: 61390 | F44: 102.9 | G44: 61.03 | J44: Q2 1996 | K44: 466828.2
A45: 32704 | B45: NA | C45: 102.5 | D45: 162.8 | E45: 61560 | F45: 100.7 | G45: 62.21 | J45: Q3 1996 | K45: 467031.2
A46: 32735 | B46: NA | C46: 103.28 | D46: 162.7 | E46: 61490 | F46: 102.7 | G46: 58.68 | J46: Q4 1996 | K46: 473993.9
A47: 32766 | B47: 49.2 | C47: 103.49 | D47: 163.1 | E47: 61460 | F47: 102 | G47: 66.5 | J47: Q1 1997 | K47: 477564
A48: 32796 | B48: NA | C48: 103.92 | D48: 163.8 | E48: 61600 | F48: 101.4 | G48: 61.65 | J48: Q2 1997 | K48: 472967.1
A49: 32827 | B49: NA | C49: 105.38 | D49: 164.3 | E49: 61720 | F49: 102.4 | G49: 58.34 | J49: Q3 1997 | K49: 474949.3
A50: 32857 | B50: 50.7 | C50: 106.92 | D50: 164.3 | E50: 61900 | F50: 102.8 | G50: 65.46 | J50: Q4 1997 | K50: 474522.5
A51: 32888 | B51: NA | C51: 106.35 | D51: 163.5 | E51: 61880 | F51: 101.8 | G51: 49.83 | J51: Q1 1998 | K51: 465555.1
A52: 32919 | B52: NA | C52: 107.34 | D52: 161.7 | E52: 62050 | F52: 102.8 | G52: 58.68 | J52: Q2 1998 | K52: 463063.7
A53: 32947 | B53: 50 | C53: 107.76 | D53: 160.2 | E53: 62310 | F53: 104.6 | G53: 70.5 | J53: Q3 1998 | K53: 464426.1
A54: 32978 | B54: NA | C54: 107.28 | D54: 159.8 | E54: 62240 | F54: 104.7 | G54: 61.1 | J54: Q4 1998 | K54: 466958.4
A55: 33008 | B55: NA | C55: 106.82 | D55: 159.7 | E55: 62450 | F55: 105.5 | G55: 60.26 | J55: Q1 1999 | K55: 462977.1
A56: 33039 | B56: 49.9 | C56: 107.93 | D56: 161.1 | E56: 62360 | F56: 105.7 | G56: 65.94 | J56: Q2 1999 | K56: 464831.2
A57: 33069 | B57: NA | C57: 108.48 | D57: 162 | E57: 62550 | F57: 106.7 | G57: 65.6 | J57: Q3 1999 | K57: 464033.7
A58: 33100 | B58: NA | C58: 108.89 | D58: 159.4 | E58: 62470 | F58: 107.4 | G58: 61.31 | J58: Q4 1999 | K58: 466515.8
A59: 33131 | B59: 48.6 | C59: 108.95 | D59: 150.4 | E59: 62860 | F59: 106.7 | G59: 67.74 | J59: Q1 2000 | K59: 474198.7
A60: 33161 | B60: NA | C60: 108.88 | D60: 142.3 | E60: 62920 | F60: 108.8 | G60: 67.81 | J60: Q2 2000 | K60: 475075.2
A61: 33192 | B61: NA | C61: 109.32 | D61: 140.7 | E61: 62880 | F61: 108.1 | G61: 64.28 | J61: Q3 2000 | K61: 473690.1
A62: 33222 | B62: 49 | C62: 110.5 | D62: 142.2 | E62: 62930 | F62: 108.2 | G62: 71.12 | J62: Q4 2000 | K62: 477094.4
A63: 33253 | B63: NA | C63: 109.59 | D63: 147.4 | E63: 63270 | F63: 109 | G63: 54.67 | J63: Q1 2001 | K63: 480183.4
A64: 33284 | B64: NA | C64: 109.72 | D64: 152.5 | E64: 63210 | F64: 109.2 | G64: 60.76 | J64: Q2 2001 | K64: 479275.1
A65: 33312 | B65: 49.9 | C65: 110.85 | D65: 159.2 | E65: 63420 | F65: 108.1 | G65: 72.64 | J65: Q3 2001 | K65: 473973.8
A66: 33343 | B66: NA | C66: 109.74 | D66: 160.2 | E66: 63460 | F66: 108.6 | G66: 60.19 | J66: Q4 2001 | K66: 473367.2
A67: 33373 | B67: NA | C67: 110.66 | D67: 161.7 | E67: 63530 | F67: 109.6 | G67: 62.48 | J67: Q1 2002 | K67: 472362.1
A68: 33404 | B68: 48.7 | C68: 111.31 | D68: 161.3 | E68: 63780 | F68: 106.3 | G68: 64.62 | J68: Q2 2002 | K68: 477313.8
A69: 33434 | B69: NA | C69: 111.74 | D69: 162.5 | E69: 63700 | F69: 108.8 | G69: 68.15 | J69: Q3 2002 | K69: 480359.8
A70: 33465 | B70: NA | C70: 111.72 | D70: 163.5 | E70: 63870 | F70: 107.3 | G70: 62.9 | J70: Q4 2002 | K70: 482165.6
A71: 33496 | B71: 48.1 | C71: 110.87 | D71: 163.5 | E71: 63970 | F71: 107.2 | G71: 68.56 | J71: Q1 2003 | K71: 479468.8
A72: 33526 | B72: NA | C72: 110.47 | D72: 163 | E72: 63860 | F72: 106.5 | G72: 70.02 | J72: Q2 2003 | K72: 485540.4
A73: 33557 | B73: NA | C73: 111.28 | D73: 162 | E73: 63990 | F73: 107.1 | G73: 66.43 | J73: Q3 2003 | K73: 487539.2
A74: 33587 | B74: 46.1 | C74: 110.81 | D74: 162.8 | E74: 64170 | F74: 105.7 | G74: 71.26 | J74: Q4 2003 | K74: 492594.3
A75: 33618 | B75: NA | C75: 110.52 | D75: 164.9 | E75: 64130 | F75: 104.8 | G75: 56.48 | J75: Q1 2004 | K75: 497224.1
A76: 33649 | B76: NA | C76: 108.65 | D76: 165 | E76: 64600 | F76: 104.4 | G76: 65.94 | J76: Q2 2004 | K76: 497606
A77: 33678 | B77: 45.2 | C77: 109.85 | D77: 166.1 | E77: 64300 | F77: 102.9 | G77: 72.57 | J77: Q3 2004 | K77: 498287.6
A78: 33709 | B78: NA | C78: 110.58 | D78: 166.2 | E78: 64140 | F78: 102.4 | G78: 65.88 | J78: Q4 2004 | K78: 496978.2
A79: 33739 | B79: NA | C79: 109.83 | D79: 164.6 | E79: 64210 | F79: 100 | G79: 61.03 | J79: Q1 2005 | K79: 498019.5
A80: 33770 | B80: 43.8 | C80: 109.5 | D80: 163.8 | E80: 64210 | F80: 102.3 | G80: 66.29 | J80: Q2 2005 | K80: 504571.8
A81: 33800 | B81: NA | C81: 110.5 | D81: 161.9 | E81: 64110 | F81: 101.8 | G81: 69.19 | J81: Q3 2005 | K81: 506344.2
A82: 33831 | B82: NA | C82: 108.86 | D82: 161.5 | E82: 64370 | F82: 98.5 | G82: 61.17 | J82: Q4 2005 | K82: 507232.7
A83: 33862 | B83: 41.4 | C83: 107.99 | D83: 162.8 | E83: 64360 | F83: 102.8 | G83: 72.09 | J83: Q1 2006 | K83: 509451.8
A84: 33892 | B84: NA | C84: 107.67 | D84: 164 | E84: 64590 | F84: 99.4 | G84: 70.85 | J84: Q2 2006 | K84: 511637.3
A85: 33923 | B85: NA | C85: 107.99 | D85: 163.9 | E85: 64730 | F85: 98 | G85: 63.24 | J85: Q3 2006 | K85: 511208.6
A86: 33953 | B86: 40.1 | C86: 109.94 | D86: 163.9 | E86: 64600 | F86: 97.2 | G86: 71.12 | J86: Q4 2006 | K86: 517721.9
A87: 33984 | B87: NA | C87: 106.47 | D87: 164.7 | E87: 64400 | F87: 99.1 | G87: 54.88 | J87: Q1 2007 | K87: 522919.4
A88: 34015 | B88: NA | C88: 107.88 | D88: 163.8 | E88: 64330 | F88: 100.2 | G88: 63.86 | J88: Q2 2007 | K88: 523763
A89: 34043 | B89: 39 | C89: 107.23 | D89: 163.4 | E89: 64350 | F89: 96.2 | G89: 76.73 | J89: Q3 2007 | K89: 521684.8
A90: 34074 | B90: NA | C90: 107.24 | D90: 163.2 | E90: 64460 | F90: 97.9 | G90: 68.5 | J90: Q4 2007 | K90: 526088.3
A91: 34104 | B91: NA | C91: 106.17 | D91: 162.6 | E91: 64420 | F91: 99.3 | G91: 58.81 | J91: Q1 2008 | K91: 529665.8
A92: 34135 | B92: 42.3 | C92: 106.38 | D92: 163.9 | E92: 64390 | F92: 97.6 | G92: 65.39 | J92: Q2 2008 | K92: 523612.9
A93: 34165 | B93: NA | C93: 105.32 | D93: 166.2 | E93: 64520 | F93: 98.1 | G93: 69.81 | J93: Q3 2008 | K93: 517969.4
A94: 34196 | B94: NA | C94: 104.9 | D94: 170.2 | E94: 64560 | F94: 97.1 | G94: 59.3 | J94: Q4 2008 | K94: 500807.8
A95: 34227 | B95: 39.5 | C95: 105.64 | D95: 174.6 | E95: 64490 | F95: 97.1 | G95: 70.64 | J95: Q1 2009 | K95: 480827.1
A96: 34257 | B96: NA | C96: 105.96 | D96: 177.4 | E96: 64640 | F96: 95.7 | G96: 66.15 | J96: Q2 2009 | K96: 489398.8
A97: 34288 | B97: NA | C97: 105.74 | D97: 176.4 | E97: 64720 | F97: 95.7 | G97: 60.62 | J97: Q3 2009 | K97: 489592.3
A98: 34318 | B98: 36.4 | C98: 105.74 | D98: 177.3 | E98: 64720 | F98: 94.9 | G98: 69.19 | J98: Q4 2009 | K98: 497824.9
A99: 34349 | B99: NA | C99: 105.85 | D99: 179.2 | E99: 64650 | F99: 93.8 | G99: 54.95 | J99: Q1 2010 | K99: 505043.9
A100: 34380 | B100: NA | C100: 105.64 | D100: 177.4 | E100: 64490 | F100: 95.4 | G100: 61.24 | J100: Q2 2010 | K100: 510901.2
...

Sheet uk_eviews
B1: consconf | C1: retsales | D1: tot | E1: emp | F1: ip | G1: ex | J1: gdp
A2: =uk_thomson!A3 -> 31427 | B2: =uk_thomson!B3 -> -11 | C2: =uk_thomson!C3 -> 51.6 | D2: =uk_thomson!D3 -> 97.3 | E2: =uk_thomson!E3 -> 24257 | F2: =uk_thomson!F3 -> 87.6 | G2: =uk_thomson!G3 -> NA | I2: =uk_thomson!J3 -> Q1 1986 | J2: =uk_thomson!K3 -> 225834
A3: =uk_thomson!A4 -> 31458 | B3: =uk_thomson!B4 -> -14 | C3: =uk_thomson!C4 -> 51.4 | D3: =uk_thomson!D4 -> 94.7 | E3: =uk_thomson!E4 -> 24262 | F3: =uk_thomson!F4 -> 88.3 | G3: =uk_thomson!G4 -> NA | I3: =uk_thomson!J4 -> Q2 1986 | J3: =uk_thomson!K4 -> 228391
A4: =uk_thomson!A5 -> 31486 | B4: =uk_thomson!B5 -> -11 | C4: =uk_thomson!C5 -> 52.1 | D4: =uk_thomson!D5 -> 93.4 | E4: =uk_thomson!E5 -> 24272 | F4: =uk_thomson!F5 -> 89.1 | G4: =uk_thomson!G5 -> NA | I4: =uk_thomson!J5 -> Q3 1986 | J4: =uk_thomson!K5 -> 229928
A5: =uk_thomson!A6 -> 31517 | B5: =uk_thomson!B6 -> -8 | C5: =uk_thomson!C6 -> 52.2 | D5: =uk_thomson!D6 -> 93.5 | E5: =uk_thomson!E6 -> 24280 | F5: =uk_thomson!F6 -> 90.2 | G5: =uk_thomson!G6 -> NA | I5: =uk_thomson!J6 -> Q4 1986 | J5: =uk_thomson!K6 -> 234262
A6: =uk_thomson!A7 -> 31547 | B6: =uk_thomson!B7 -> -8 | C6: =uk_thomson!C7 -> 52.4 | D6: =uk_thomson!D7 -> 94.9 | E6: =uk_thomson!E7 -> 24291 | F6: =uk_thomson!F7 -> 88.8 | G6: =uk_thomson!G7 -> NA | I6: =uk_thomson!J7 -> Q1 1987 | J6: =uk_thomson!K7 -> 236229
A7: =uk_thomson!A8 -> 31578 | B7: =uk_thomson!B8 -> -6 | C7: =uk_thomson!C8 -> 53.2 | D7: =uk_thomson!D8 -> 95.7 | E7: =uk_thomson!E8 -> 24310 | F7: =uk_thomson!F8 -> 90 | G7: =uk_thomson!G8 -> NA | I7: =uk_thomson!J8 -> Q2 1987 | J7: =uk_thomson!K8 -> 239505
A8: =uk_thomson!A9 -> 31608 | B8: =uk_thomson!B9 -> -3 | C8: =uk_thomson!C9 -> 52.7 | D8: =uk_thomson!D9 -> 94.9 | E8: =uk_thomson!E9 -> 24340 | F8: =uk_thomson!F9 -> 89.2 | G8: =uk_thomson!G9 -> NA | I8: =uk_thomson!J9 -> Q3 1987 | J8: =uk_thomson!K9 -> 245364
A9: =uk_thomson!A10 -> 31639 | B9: =uk_thomson!B10 -> -5 | C9: =uk_thomson!C10 -> 52.9 | D9: =uk_thomson!D10 -> 94.6 | E9: =uk_thomson!E10 -> 24369 | F9: =uk_thomson!F10 -> 89.2 | G9: =uk_thomson!G10 -> NA | I9: =uk_thomson!J10 -> Q4 1987 | J9: =uk_thomson!K10 -> 248254
A10: =uk_thomson!A11 -> 31670 | B10: =uk_thomson!B11 -> -6 | C10: =uk_thomson!C11 -> 53.8 | D10: =uk_thomson!D11 -> 93.3 | E10: =uk_thomson!E11 -> 24388 | F10: =uk_thomson!F11 -> 91.5 | G10: =uk_thomson!G11 -> NA | I10: =uk_thomson!J11 -> Q1 1988 | J10: =uk_thomson!K11 -> 252941
A11: =uk_thomson!A12 -> 31700 | B11: =uk_thomson!B12 -> -3 | C11: =uk_thomson!C12 -> 53.6 | D11: =uk_thomson!D12 -> 93.1 | E11: =uk_thomson!E12 -> 24423 | F11: =uk_thomson!F12 -> 91.7 | G11: =uk_thomson!G12 -> NA | I11: =uk_thomson!J12 -> Q2 1988 | J11: =uk_thomson!K12 -> 254603
A12: =uk_thomson!A13 -> 31731 | B12: =uk_thomson!B13 -> -3 | C12: =uk_thomson!C13 -> 54 | D12: =uk_thomson!D13 -> 92.8 | E12: =uk_thomson!E13 -> 24447 | F12: =uk_thomson!F13 -> 91.4 | G12: =uk_thomson!G13 -> NA | I12: =uk_thomson!J13 -> Q3 1988 | J12: =uk_thomson!K13 -> 258558
A13: =uk_thomson!A14 -> 31761 | B13: =uk_thomson!B14 -> -6 | C13: =uk_thomson!C14 -> 53.9 | D13: =uk_thomson!D14 -> 92 | E13: =uk_thomson!E14 -> 24472 | F13: =uk_thomson!F14 -> 91.7 | G13: =uk_thomson!G14 -> NA | I13: =uk_thomson!J14 -> Q4 1988 | J13: =uk_thomson!K14 -> 260772
... A118: =uk_thomson!A119 -> 34957 | B118: =uk_thomson!B119 -> -8 | C118: =uk_thomson!C119 -> 63.7 | D118: =uk_thomson!D119 -> 95.6 | E118: =uk_thomson!E119 -> 25432 | F118: =uk_thomson!F119 -> 106.6 | G118: =uk_thomson!G119 -> NA | I118: =uk_thomson!J119 -> Q1 2015 | J118: =uk_thomson!K119 -> 430962
A119: =uk_thomson!A120 -> 34987 | B119: =uk_thomson!B120 -> -8 | C119: =uk_thomson!C120 -> 64 | D119: =uk_thomson!D120 -> 96.5 | E119: =uk_thomson!E120 -> 25454 | F119: =uk_thomson!F120 -> 106.2 | G119: =uk_thomson!G120 -> NA
A120: =uk_thomson!A121 -> 35018 | B120: =uk_thomson!B121 -> -10 | C120: =uk_thomson!C121 -> 64.3 | D120: =uk_thomson!D121 -> 97.1 | E120: =uk_thomson!E121 -> 25549 | F120: =uk_thomson!F121 -> 106.8 | G120: =uk_thomson!G121 -> NA
A121: =uk_thomson!A122 -> 35048 | B121: =uk_thomson!B122 -> -11 | C121: =uk_thomson!C122 -> 64.5 | D121: =uk_thomson!D122 -> 97.3 | E121: =uk_thomson!E122 -> 25562 | F121: =uk_thomson!F122 -> 107.4 | G121: =uk_thomson!G122 -> NA
A122: =uk_thomson!A123 -> 35079 | B122: =uk_thomson!B123 -> -5 | C122: =uk_thomson!C123 -> 65.8 | D122: =uk_thomson!D123 -> 97.6 | E122: =uk_thomson!E123 -> 25558 | F122: =uk_thomson!F123 -> 106.9 | G122: =uk_thomson!G123 -> NA
A123: =uk_thomson!A124 -> 35110 | B123: =uk_thomson!B124 -> -9 | C123: =uk_thomson!C124 -> 67.5 | D123: =uk_thomson!D124 -> 97.6 | E123: =uk_thomson!E124 -> 25555 | F123: =uk_thomson!F124 -> 107.7 | G123: =uk_thomson!G124 -> NA
A124: =uk_thomson!A125 -> 35139 | B124: =uk_thomson!B125 -> -8 | C124: =uk_thomson!C125 -> 67.7 | D124: =uk_thomson!D125 -> 97.7 | E124: =uk_thomson!E125 -> 25558 | F124: =uk_thomson!F125 -> 107.8 | G124: =uk_thomson!G125 -> NA
A125: =uk_thomson!A126 -> 35170 | B125: =uk_thomson!B126 -> -8 | C125: =uk_thomson!C126 -> 68.4 | D125: =uk_thomson!D126 -> 96.6 | E125: =uk_thomson!E126 -> 25582 | F125: =uk_thomson!F126 -> 106.6 | G125: =uk_thomson!G126 -> NA
A126: =uk_thomson!A127 -> 35200 | B126: =uk_thomson!B127 -> -6 | C126: =uk_thomson!C127 -> 67.9 | D126: =uk_thomson!D127 -> 97.2 | E126: =uk_thomson!E127 -> 25589 | F126: =uk_thomson!F127 -> 107.3 | G126: =uk_thomson!G127 -> NA
A127: =uk_thomson!A128 -> 35231 | B127: =uk_thomson!B128 -> -7 | C127: =uk_thomson!C128 -> 68.7 | D127: =uk_thomson!D128 -> 97.1 | E127: =uk_thomson!E128 -> 25584 | F127: =uk_thomson!F128 -> 106.7 | G127: =uk_thomson!G128 -> NA
A128: =uk_thomson!A129 -> 35261 | B128: =uk_thomson!B129 -> -4 | C128: =uk_thomson!C129 -> 68.3 | D128: =uk_thomson!D129 -> 98.5 | E128: =uk_thomson!E129 -> 25634 | F128: =uk_thomson!F129 -> 106.6 | G128: =uk_thomson!G129 -> NA
A129: =uk_thomson!A130 -> 35292 | B129: =uk_thomson!B130 -> -3 | C129: =uk_thomson!C130 -> 68.3 | D129: =uk_thomson!D130 -> 98.5 | E129: =uk_thomson!E130 -> 25640 | F129: =uk_thomson!F130 -> 107.3 | G129: =uk_thomson!G130 -> NA
A130: =uk_thomson!A131 -> 35323 | B130: =uk_thomson!B131 -> -1 | C130: =uk_thomson!C131 -> 69.4 | D130: =uk_thomson!D131 -> 99.3 | E130: =uk_thomson!E131 -> 25693 | F130: =uk_thomson!F131 -> 107.9 | G130: =uk_thomson!G131 -> NA
... A358: =uk_thomson!A359 -> 0 | B358: =uk_thomson!B359 -> 0 | C358: =uk_thomson!C359 -> 0 | D358: =uk_thomson!D359 -> 0 | E358: =uk_thomson!E359 -> 0 | F358: =uk_thomson!F359 -> 0 | G358: =uk_thomson!G359 -> 0

Sheet uk_thomson
A1: =_xll.Thomson.Reuters.AFOSpreadsheetFormulas.DSGRID("UKGFKCCNR,UKRETTOTG,UKTOTPRCF,UKLF2G..O,UKIPTOT.G,UKBQKU.."," ","1/1/1986","TIME","M","RowHeader=true;ColHeader=true;Code=true;SeriesMetaDataLink=true;DispSeriesDescription=false;YearlyTSFormat=false;QuarterlyTSFormat=false","") -> Application offline! Unable to process the request | B1: UK GFK CONSUMER CONFIDENCE INDEX NADJ | C1: UK RETAIL SALES INCL. AUTOMOTIVE FUEL (METHOD BREAK JAN 96) VOLA | D1: UK TERMS OF TRADE - EXPORT/IMPORT PRICES (BOP BASIS) NADJ | E1: UK LFS: IN EMPLOYMENT, ALL, AGED 16-64 VOLA | F1: UK INDEX OF PRODUCTION - ALL PRODUCTION INDUSTRIES VOLA | G1: UK BOP: EXPORTS - TRADE IN GOODS VOLA | J1: =_xll.Thomson.Reuters.AFOSpreadsheetFormulas.DSGRID("UKGDP...D"," ","1986-01-01","TIME","Q","RowHeader=true;ColHeader=true;Code=true;SeriesMetaDataLink=true;DispSeriesDescription=false;YearlyTSFormat=false;QuarterlyTSFormat=false","") -> Application offline! Unable to process the request | K1: UK GDP AT MARKET PRICES (CVM) CONA
A2: Code | B2: UKGFKCCNR | C2: UKRETTOTG | D2: UKTOTPRCF | E2: UKLF2G..O | F2: UKIPTOT.G | G2: UKBQKU.. | J2: Code | K2: UKGDP...D
A3: 31427 | B3: -11 | C3: 51.6 | D3: 97.3 | E3: 24257 | F3: 87.6 | G3: NA | J3: Q1 1986 | K3: 225834
A4: 31458 | B4: -14 | C4: 51.4 | D4: 94.7 | E4: 24262 | F4: 88.3 | G4: NA | J4: Q2 1986 | K4: 228391
A5: 31486 | B5: -11 | C5: 52.1 | D5: 93.4 | E5: 24272 | F5: 89.1 | G5: NA | J5: Q3 1986 | K5: 229928
A6: 31517 | B6: -8 | C6: 52.2 | D6: 93.5 | E6: 24280 | F6: 90.2 | G6: NA | J6: Q4 1986 | K6: 234262
A7: 31547 | B7: -8 | C7: 52.4 | D7: 94.9 | E7: 24291 | F7: 88.8 | G7: NA | J7: Q1 1987 | K7: 236229
A8: 31578 | B8: -6 | C8: 53.2 | D8: 95.7 | E8: 24310 | F8: 90 | G8: NA | J8: Q2 1987 | K8: 239505
A9: 31608 | B9: -3 | C9: 52.7 | D9: 94.9 | E9: 24340 | F9: 89.2 | G9: NA | J9: Q3 1987 | K9: 245364
A10: 31639 | B10: -5 | C10: 52.9 | D10: 94.6 | E10: 24369 | F10: 89.2 | G10: NA | J10: Q4 1987 | K10: 248254
A11: 31670 | B11: -6 | C11: 53.8 | D11: 93.3 | E11: 24388 | F11: 91.5 | G11: NA | J11: Q1 1988 | K11: 252941
A12: 31700 | B12: -3 | C12: 53.6 | D12: 93.1 | E12: 24423 | F12: 91.7 | G12: NA | J12: Q2 1988 | K12: 254603
A13: 31731 | B13: -3 | C13: 54 | D13: 92.8 | E13: 24447 | F13: 91.4 | G13: NA | J13: Q3 1988 | K13: 258558
A14: 31761 | B14: -6 | C14: 53.9 | D14: 92 | E14: 24472 | F14: 91.7 | G14: NA | J14: Q4 1988 | K14: 260772
... A119: 34957 | B119: -8 | C119: 63.7 | D119: 95.6 | E119: 25432 | F119: 106.6 | G119: NA | J119: Q1 2015 | K119: 430962
A120: 34987 | B120: -8 | C120: 64 | D120: 96.5 | E120: 25454 | F120: 106.2 | G120: NA
A121: 35018 | B121: -10 | C121: 64.3 | D121: 97.1 | E121: 25549 | F121: 106.8 | G121: NA
A122: 35048 | B122: -11 | C122: 64.5 | D122: 97.3 | E122: 25562 | F122: 107.4 | G122: NA
A123: 35079 | B123: -5 | C123: 65.8 | D123: 97.6 | E123: 25558 | F123: 106.9 | G123: NA
A124: 35110 | B124: -9 | C124: 67.5 | D124: 97.6 | E124: 25555 | F124: 107.7 | G124: NA
A125: 35139 | B125: -8 | C125: 67.7 | D125: 97.7 | E125: 25558 | F125: 107.8 | G125: NA
A126: 35170 | B126: -8 | C126: 68.4 | D126: 96.6 | E126: 25582 | F126: 106.6 | G126: NA
A127: 35200 | B127: -6 | C127: 67.9 | D127: 97.2 | E127: 25589 | F127: 107.3 | G127: NA
A128: 35231 | B128: -7 | C128: 68.7 | D128: 97.1 | E128: 25584 | F128: 106.7 | G128: NA
A129: 35261 | B129: -4 | C129: 68.3 | D129: 98.5 | E129: 25634 | F129: 106.6 | G129: NA
A130: 35292 | B130: -3 | C130: 68.3 | D130: 98.5 | E130: 25640 | F130: 107.3 | G130: NA
A131: 35323 | B131: -1 | C131: 69.4 | D131: 99.3 | E131: 25693 | F131: 107.9 | G131: NA
... A146: 35779 | B146: 0 | C146: 72.1 | D146: 99 | E146: 26192 | F146: 109.4 | G146: NA
A147: 35810 | B147: 4 | C147: 72.2 | D147: 98.7 | E147: 26226 | F147: 109.8 | G147: 70.1
A148: 35841 | B148: 4 | C148: 72.2 | D148: 97.3 | E148: 26245 | F148: 110.7 | G148: 70.5
A149: 35869 | B149: 2 | C149: 72 | D149: 97.9 | E149: 26265 | F149: 111.1 | G149: 72.3
A150: 35900 | B150: 4 | C150: 71.9 | D150: 97.7 | E150: 26266 | F150: 111.1 | G150: 71.1
A151: 35930 | B151: 7 | C151: 72.3 | D151: 98.6 | E151: 26270 | F151: 110.1 | G151: 70.3
A152: 35961 | B152: 2 | C152: 71.8 | D152: 99.4 | E152: 26330 | F152: 110.4 | G152: 70.7
A153: 35991 | B153: -1 | C153: 72.3 | D153: 100.1 | E153: 26392 | F153: 110.6 | G153: 69.5
A154: 36022 | B154: -5 | C154: 72.8 | D154: 99 | E154: 26407 | F154: 109.6 | G154: 69.3
A155: 36053 | B155: -3 | C155: 72.5 | D155: 98.6 | E155: 26450 | F155: 109.7 | G155: 68.3
A156: 36083 | B156: -9 | C156: 72.1 | D156: 98.7 | E156: 26510 | F156: 109.8 | G156: 68.7
A157: 36114 | B157: -7 | C157: 72.4 | D157: 99.4 | E157: 26524 | F157: 109.5 | G157: 69.2
A158: 36144 | B158: -8 | C158: 71.9 | D158: 99 | E158: 26565 | F158: 109.8 | G158: 71.2
... A351: 42019 | B351: 1 | C351: 109.3 | D351: 98.6 | E351: 29872 | F351: 98.4 | G351: 101.9
A352: 42050 | B352: 1 | C352: 109.9 | D352: 99.3 | E352: NA | F352: 98.5 | G352: 99.5
A353: 42078 | B353: 4 | C353: 109.3 | D353: NA | E353: NA | F353: NA | G353: NA

Sheet can_eviews
B1: consconf | C1: retsales | D1: tot | E1: emp | F1: ip | G1: ex | J1: gdp
A2: =can_thomson!A3 -> 31427 | B2: =can_thomson!B3 -> 101.644 | C2: =can_thomson!C3 -> 50.87 | D2: =can_thomson!D3 -> 85.2 | E2: =can_thomson!E3 -> 11903.5 | F2: =can_thomson!F3 -> NA | G2: =can_thomson!G3 -> 40.2 | I2: =can_thomson!J3 -> Q1 1986 | J2: =can_thomson!K3 -> 887933
A3: =hun_thomson!A4 -> 31458 | B3: =can_thomson!B4 -> 101.427 | C3: =can_thomson!C4 -> 50.9 | D3: =can_thomson!D4 -> 84 | E3: =can_thomson!E4 -> 11917.9 | F3: =can_thomson!F4 -> NA | G3: =can_thomson!G4 -> 39.2 | I3: =can_thomson!J4 -> Q2 1986 | J3: =can_thomson!K4 -> 893151
A4: =hun_thomson!A5 -> 31486 | B4: =can_thomson!B5 -> 101.497 | C4: =can_thomson!C5 -> 51.35 | D4: =can_thomson!D5 -> 83.6 | E4: =can_thomson!E5 -> 11926.3 | F4: =can_thomson!F5 -> NA | G4: =can_thomson!G5 -> 38.9 | I4: =can_thomson!J5 -> Q3 1986 | J4: =can_thomson!K5 -> 893985
A5: =hun_thomson!A6 -> 31517 | B5: =can_thomson!B6 -> 101.771 | C5: =can_thomson!C6 -> 51.08 | D5: =can_thomson!D6 -> 83.7 | E5: =can_thomson!E6 -> 12008.1 | F5: =can_thomson!F6 -> NA | G5: =can_thomson!G6 -> 39 | I5: =can_thomson!J6 -> Q4 1986 | J5: =can_thomson!K6 -> 888863
A6: =hun_thomson!A7 -> 31547 | B6: =can_thomson!B7 -> 101.951 | C6: =can_thomson!C7 -> 51.5 | D6: =can_thomson!D7 -> 84.1 | E6: =can_thomson!E7 -> 11977.2 | F6: =can_thomson!F7 -> NA | G6: =can_thomson!G7 -> 39 | I6: =can_thomson!J7 -> Q1 1987 | J6: =can_thomson!K7 -> 907839
A7: =hun_thomson!A8 -> 31578 | B7: =can_thomson!B8 -> 102.006 | C7: =can_thomson!C8 -> 51.31 | D7: =can_thomson!D8 -> 84.3 | E7: =can_thomson!E8 -> 12016.9 | F7: =can_thomson!F8 -> NA | G7: =can_thomson!G8 -> 39.1 | I7: =can_thomson!J8 -> Q2 1987 | J7: =can_thomson!K8 -> 919383
A8: =hun_thomson!A9 -> 31608 | B8: =can_thomson!B9 -> 101.989 | C8: =can_thomson!C9 -> 51.93 | D8: =can_thomson!D9 -> 84.2 | E8: =can_thomson!E9 -> 12017.1 | F8: =can_thomson!F9 -> NA | G8: =can_thomson!G9 -> 40.3 | I8: =can_thomson!J9 -> Q3 1987 | J8: =can_thomson!K9 -> 933736
A9: =hun_thomson!A10 -> 31639 | B9: =can_thomson!B10 -> 101.983 | C9: =can_thomson!C10 -> 52.47 | D9: =can_thomson!D10 -> 84 | E9: =can_thomson!E10 -> 12024.7 | F9: =can_thomson!F10 -> NA | G9: =can_thomson!G10 -> 38 | I9: =can_thomson!J10 -> Q4 1987 | J9: =can_thomson!K10 -> 947038
A10: =hun_thomson!A11 -> 31670 | B10: =can_thomson!B11 -> 102.034 | C10: =can_thomson!C11 -> 52.78 | D10: =can_thomson!D11 -> 84.1 | E10: =can_thomson!E11 -> 12035.2 | F10: =can_thomson!F11 -> NA | G10: =can_thomson!G11 -> 40.4 | I10: =can_thomson!J11 -> Q1 1988 | J10: =can_thomson!K11 -> 962006
A11: =hun_thomson!A12 -> 31700 | B11: =can_thomson!B12 -> 102.16 | C11: =can_thomson!C12 -> 52.15 | D11: =can_thomson!D12 -> 84.7 | E11: =can_thomson!E12 -> 12059.6 | F11: =can_thomson!F12 -> NA | G11: =can_thomson!G12 -> 39.1 | I11: =can_thomson!J12 -> Q2 1988 | J11: =can_thomson!K12 -> 971091
A12: =hun_thomson!A13 -> 31731 | B12: =can_thomson!B13 -> 102.293 | C12: =can_thomson!C13 -> 52.1 | D12: =can_thomson!D13 -> 84.6 | E12: =can_thomson!E13 -> 12082 | F12: =can_thomson!F13 -> NA | G12: =can_thomson!G13 -> 40 | I12: =can_thomson!J13 -> Q3 1988 | J12: =can_thomson!K13 -> 971627
A13: =hun_thomson!A14 -> 31761 | B13: =can_thomson!B14 -> 102.481 | C13: =can_thomson!C14 -> 52.3 | D13: =can_thomson!D14 -> 84.7 | E13: =can_thomson!E14 -> 12079.7 | F13: =can_thomson!F14 -> NA | G13: =can_thomson!G14 -> 39.2 | I13: =can_thomson!J14 -> Q4 1988 | J13: =can_thomson!K14 -> 978943
A14: =hun_thomson!A15 -> 31792 | B14: =can_thomson!B15 -> 102.746 | C14: =can_thomson!C15 -> 51.77 | D14: =can_thomson!D15 -> 85.2 | E14: =can_thomson!E15 -> 12102 | F14: =can_thomson!F15 -> NA | G14: =can_thomson!G15 -> 39.9 | I14: =can_thomson!J15 -> Q1 1989 | J14: =can_thomson!K15 -> 989288
... A117: =hun_thomson!A118 -> 34926 | B117: =can_thomson!B118 -> 98.565 | C117: =can_thomson!C118 -> 61.14 | D117: =can_thomson!D118 -> 88.2 | E117: =can_thomson!E118 -> 13297.8 | F117: =can_thomson!F118 -> NA | G117: =can_thomson!G118 -> 72.2 | I117: =can_thomson!J118 -> Q4 2014 | J117: =can_thomson!K118 -> 1767784
A118: =hun_thomson!A119 -> 34957 | B118: =can_thomson!B119 -> 98.215 | C118: =can_thomson!C119 -> 60.54 | D118: =can_thomson!D119 -> 89.6 | E118: =can_thomson!E119 -> 13331.2 | F118: =can_thomson!F119 -> NA | G118: =can_thomson!G119 -> 73.2
A119: =hun_thomson!A120 -> 34987 | B119: =can_thomson!B120 -> 97.547 | C119: =can_thomson!C120 -> 59.99 | D119: =can_thomson!D120 -> 89.1 | E119: =can_thomson!E120 -> 13347 | F119: =can_thomson!F120 -> NA | G119: =can_thomson!G120 -> 73.8
A120: =hun_thomson!A121 -> 35018 | B120: =can_thomson!B121 -> 97.251 | C120: =can_thomson!C121 -> 60.31 | D120: =can_thomson!D121 -> 88.4 | E120: =can_thomson!E121 -> 13315 | F120: =can_thomson!F121 -> NA | G120: =can_thomson!G121 -> 74.8
A121: =hun_thomson!A122 -> 35048 | B121: =can_thomson!B122 -> 97.463 | C121: =can_thomson!C122 -> 60.62 | D121: =can_thomson!D122 -> 88.3 | E121: =can_thomson!E122 -> 13356.8 | F121: =can_thomson!F122 -> NA | G121: =can_thomson!G122 -> 74.3
A122: =hun_thomson!A123 -> 35079 | B122: =can_thomson!B123 -> 98.057 | C122: =can_thomson!C123 -> 60.51 | D122: =can_thomson!D123 -> 88.4 | E122: =can_thomson!E123 -> 13374.5 | F122: =can_thomson!F123 -> NA | G122: =can_thomson!G123 -> 74.8
A123: =hun_thomson!A124 -> 35110 | B123: =can_thomson!B124 -> 98.435 | C123: =can_thomson!C124 -> 60.89 | D123: =can_thomson!D124 -> 88.3 | E123: =can_thomson!E124 -> 13399.4 | F123: =can_thomson!F124 -> NA | G123: =can_thomson!G124 -> 72.9
A124: =hun_thomson!A125 -> 35139 | B124: =can_thomson!B125 -> 98.547 | C124: =can_thomson!C125 -> 60.84 | D124: =can_thomson!D125 -> 88.3 | E124: =can_thomson!E125 -> 13377.2 | F124: =can_thomson!F125 -> NA | G124: =can_thomson!G125 -> 75.5
A125: =hun_thomson!A126 -> 35170 | B125: =can_thomson!B126 -> 98.513 | C125: =can_thomson!C126 -> 60.31 | D125: =can_thomson!D126 -> 88.9 | E125: =can_thomson!E126 -> 13404.1 | F125: =can_thomson!F126 -> NA | G125: =can_thomson!G126 -> 76.6
A126: =hun_thomson!A127 -> 35200 | B126: =can_thomson!B127 -> 98.512 | C126: =can_thomson!C127 -> 60.09 | D126: =can_thomson!D127 -> 88.8 | E126: =can_thomson!E127 -> 13425.6 | F126: =can_thomson!F127 -> NA | G126: =can_thomson!G127 -> 76.3
A127: =hun_thomson!A128 -> 35231 | B127: =can_thomson!B128 -> 98.628 | C127: =can_thomson!C128 -> 60.88 | D127: =can_thomson!D128 -> 88.9 | E127: =can_thomson!E128 -> 13412.9 | F127: =can_thomson!F128 -> NA | G127: =can_thomson!G128 -> 76.7
A128: =hun_thomson!A129 -> 35261 | B128: =can_thomson!B129 -> 98.85 | C128: =can_thomson!C129 -> 60.74 | D128: =can_thomson!D129 -> 89.4 | E128: =can_thomson!E129 -> 13440.4 | F128: =can_thomson!F129 -> NA | G128: =can_thomson!G129 -> 77.4
A129: =hun_thomson!A130 -> 35292 | B129: =can_thomson!B130 -> 98.958 | C129: =can_thomson!C130 -> 61.07 | D129: =can_thomson!D130 -> 89.4 | E129: =can_thomson!E130 -> 13456.6 | F129: =can_thomson!F130 -> NA | G129: =can_thomson!G130 -> 79.1
... A348: =hun_thomson!A349 -> 41958 | B348: =can_thomson!B349 -> 99.751 | C348: =can_thomson!C349 -> 113.74 | D348: =can_thomson!D349 -> 95.7 | E348: =can_thomson!E349 -> 17862.8 | F348: =can_thomson!F349 -> 359984 | G348: =can_thomson!G349 -> 115.6
A349: =can_thomson!A350 -> 41988 | B349: =can_thomson!B350 -> 99.976 | C349: =can_thomson!C350 -> 112.14 | D349: =can_thomson!D350 -> 94.9 | E349: =can_thomson!E350 -> 17851.5 | F349: =can_thomson!F350 -> 361468 | G349: =can_thomson!G350 -> 124.7
A350: =can_thomson!A351 -> 42019 | B350: =can_thomson!B351 -> 100.251 | C350: =can_thomson!C351 -> 111.45 | D350: =can_thomson!D351 -> 93.8 | E350: =can_thomson!E351 -> 17886.9 | F350: =can_thomson!F351 -> 362739 | G350: =can_thomson!G351 -> 114.5
A351: =can_thomson!A352 -> 42050 | B351: =can_thomson!B352 -> 99.962 | C351: =can_thomson!C352 -> 112.86 | D351: =can_thomson!D352 -> 96.1 | E351: =can_thomson!E352 -> 17885.9 | F351: =can_thomson!F352 -> NA | G351: =can_thomson!G352 -> 109.7
A352: =can_thomson!A353 -> 42078 | B352: =can_thomson!B353 -> 100.186 | C352: =can_thomson!C353 -> NA | D352: =can_thomson!D353 -> NA | E352: =can_thomson!E353 -> 17914.6 | F352: =can_thomson!F353 -> NA | G352: =can_thomson!G353 -> NA
A353: =can_thomson!A354 -> 0 | B353: =can_thomson!B354 -> 0 | C353: =can_thomson!C354 -> 0 | D353: =can_thomson!D354 -> 0 | E353: =can_thomson!E354 -> 0 | F353: =can_thomson!F354 -> 0 | G353: =can_thomson!G354 -> 0
A354: =can_thomson!A355 -> 0 | B354: =can_thomson!B355 -> 0 | C354: =can_thomson!C355 -> 0 | D354: =can_thomson!D355 -> 0 | E354: =can_thomson!E355 -> 0 | F354: =can_thomson!F355 -> 0 | G354: =can_thomson!G355 -> 0
A355: =can_thomson!A356 -> 0 | B355: =can_thomson!B356 -> 0 | C355: =can_thomson!C356 -> 0 | D355: =can_thomson!D356 -> 0 | E355: =can_thomson!E356 -> 0 | F355: =can_thomson!F356 -> 0 | G355: =can_thomson!G356 -> 0
A356: =can_thomson!A357 -> 0 | B356: =can_thomson!B357 -> 0 | C356: =can_thomson!C357 -> 0 | D356: =can_thomson!D357 -> 0 | E356: =can_thomson!E357 -> 0 | F356: =can_thomson!F357 -> 0 | G356: =can_thomson!G357 -> 0
A357: =can_thomson!A358 -> 0 | B357: =can_thomson!B358 -> 0 | C357: =can_thomson!C358 -> 0 | D357: =can_thomson!D358 -> 0 | E357: =can_thomson!E358 -> 0 | F357: =can_thomson!F358 -> 0 | G357: =can_thomson!G358 -> 0
A358: =can_thomson!A359 -> 0 | B358: =can_thomson!B359 -> 0 | C358: =can_thomson!C359 -> 0 | D358: =can_thomson!D359 -> 0 | E358: =can_thomson!E359 -> 0 | F358: =can_thomson!F359 -> 0 | G358: =can_thomson!G359 -> 0
A359: =can_thomson!A360 -> 0 | B359: =can_thomson!B360 -> 0 | C359: =can_thomson!C360 -> 0 | D359: =can_thomson!D360 -> 0 | E359: =can_thomson!E360 -> 0 | F359: =can_thomson!F360 -> 0 | G359: =can_thomson!G360 -> 0

Sheet can_thomson
A1: =_xll.Thomson.Reuters.AFOSpreadsheetFormulas.DSGRID("CNOCS005Q,CNOSLI15G,CNTOTPRCE,CNEMPTOTO,CNIPTOT.D,CNI72...H"," ","1986-01-01","TIME","M","RowHeader=true;ColHeader=true;Code=true;SeriesMetaDataLink=true;DispSeriesDescription=false;YearlyTSFormat=false;QuarterlyTSFormat=false","") -> Application offline! Unable to process the request | B1: CN CONSUMER CONFIDENCE INDICATOR SADJ | C1: CN TOTAL RETAIL TRADE (VOLUME) VOLA | D1: CN TERMS OF TRADE (EXPORT PRICES/IMPORT PRICES) SADJ | E1: CN EMPLOYMENT - CANADA (15 YRS & OVER, SA) VOLA | F1: CN GDP - INDUSTRIAL PRODUCTION (CHAINED, AR) CONA | G1: CN EXTERNAL TRADE: GOODS, VOLUME OF EXPORTS VOLN | J1: =_xll.Thomson.Reuters.AFOSpreadsheetFormulas.DSGRID("CNGDP...D"," ","1/1/1986","TIME","Q","RowHeader=true;ColHeader=true;Code=true;SeriesMetaDataLink=true;DispSeriesDescription=false;YearlyTSFormat=false;QuarterlyTSFormat=false","") -> Application offline! Unable to process the request | K1: CN GDP (AR) CONA
A2: Code | B2: CNOCS005Q | C2: CNOSLI15G | D2: CNTOTPRCE | E2: CNEMPTOTO | F2: CNIPTOT.D | G2: CNI72...H | J2: Code | K2: CNGDP...D
A3: 31427 | B3: 101.644 | C3: 50.87 | D3: 85.2 | E3: 11903.5 | F3: NA | G3: 40.2 | J3: Q1 1986 | K3: 887933
A4: 31458 | B4: 101.427 | C4: 50.9 | D4: 84 | E4: 11917.9 | F4: NA | G4: 39.2 | J4: Q2 1986 | K4: 893151
A5: 31486 | B5: 101.497 | C5: 51.35 | D5: 83.6 | E5: 11926.3 | F5: NA | G5: 38.9 | J5: Q3 1986 | K5: 893985
A6: 31517 | B6: 101.771 | C6: 51.08 | D6: 83.7 | E6: 12008.1 | F6: NA | G6: 39 | J6: Q4 1986 | K6: 888863
A7: 31547 | B7: 101.951 | C7: 51.5 | D7: 84.1 | E7: 11977.2 | F7: NA | G7: 39 | J7: Q1 1987 | K7: 907839
A8: 31578 | B8: 102.006 | C8: 51.31 | D8: 84.3 | E8: 12016.9 | F8: NA | G8: 39.1 | J8: Q2 1987 | K8: 919383
A9: 31608 | B9: 101.989 | C9: 51.93 | D9: 84.2 | E9: 12017.1 | F9: NA | G9: 40.3 | J9: Q3 1987 | K9: 933736
A10: 31639 | B10: 101.983 | C10: 52.47 | D10: 84 | E10: 12024.7 | F10: NA | G10: 38 | J10: Q4 1987 | K10: 947038
A11: 31670 | B11: 102.034 | C11: 52.78 | D11: 84.1 | E11: 12035.2 | F11: NA | G11: 40.4 | J11: Q1 1988 | K11: 962006
A12: 31700 | B12: 102.16 | C12: 52.15 | D12: 84.7 | E12: 12059.6 | F12: NA | G12: 39.1 | J12: Q2 1988 | K12: 971091
A13: 31731 | B13: 102.293 | C13: 52.1 | D13: 84.6 | E13: 12082 | F13: NA | G13: 40 | J13: Q3 1988 | K13: 971627
A14: 31761 | B14: 102.481 | C14: 52.3 | D14: 84.7 | E14: 12079.7 | F14: NA | G14: 39.2 | J14: Q4 1988 | K14: 978943
... A118: 34926 | B118: 98.565 | C118: 61.14 | D118: 88.2 | E118: 13297.8 | F118: NA | G118: 72.2 | J118: Q4 2014 | K118: 1767784
A119: 34957 | B119: 98.215 | C119: 60.54 | D119: 89.6 | E119: 13331.2 | F119: NA | G119: 73.2
A120: 34987 | B120: 97.547 | C120: 59.99 | D120: 89.1 | E120: 13347 | F120: NA | G120: 73.8
A121: 35018 | B121: 97.251 | C121: 60.31 | D121: 88.4 | E121: 13315 | F121: NA | G121: 74.8
A122: 35048 | B122: 97.463 | C122: 60.62 | D122: 88.3 | E122: 13356.8 | F122: NA | G122: 74.3
A123: 35079 | B123: 98.057 | C123: 60.51 | D123: 88.4 | E123: 13374.5 | F123: NA | G123: 74.8
A124: 35110 | B124: 98.435 | C124: 60.89 | D124: 88.3 | E124: 13399.4 | F124: NA | G124: 72.9
A125: 35139 | B125: 98.547 | C125: 60.84 | D125: 88.3 | E125: 13377.2 | F125: NA | G125: 75.5
A126: 35170 | B126: 98.513 | C126: 60.31 | D126: 88.9 | E126: 13404.1 | F126: NA | G126: 76.6
A127: 35200 | B127: 98.512 | C127: 60.09 | D127: 88.8 | E127: 13425.6 | F127: NA | G127: 76.3
A128: 35231 | B128: 98.628 | C128: 60.88 | D128: 88.9 | E128: 13412.9 | F128: NA | G128: 76.7
A129: 35261 | B129: 98.85 | C129: 60.74 | D129: 89.4 | E129: 13440.4 | F129: NA | G129: 77.4
A130: 35292 | B130: 98.958 | C130: 61.07 | D130: 89.4 | E130: 13456.6 | F130: NA | G130: 79.1
... A134: 35414 | B134: 98.907 | C134: 62.35 | D134: 89.4 | E134: 13465.7 | F134: NA | G134: 81.2
A135: 35445 | B135: 99.192 | C135: 62.77 | D135: 89.2 | E135: 13535.9 | F135: 283382 | G135: 80.4
A136: 35476 | B136: 99.431 | C136: 63.67 | D136: 87.4 | E136: 13538.1 | F136: 286522 | G136: 80.6
A137: 35504 | B137: 99.681 | C137: 63.33 | D137: 86 | E137: 13569.8 | F137: 284833 | G137: 80.9
A138: 35535 | B138: 100.026 | C138: 63.55 | D138: 85 | E138: 13571.2 | F138: 288808 | G138: 81.5
A139: 35565 | B139: 100.324 | C139: 64.05 | D139: 85.6 | E139: 13637.2 | F139: 289337 | G139: 81.6
A140: 35596 | B140: 100.671 | C140: 64.3 | D140: 85.8 | E140: 13690 | F140: 286967 | G140: 80.5
A141: 35626 | B141: 101.104 | C141: 64.88 | D141: 85.5 | E141: 13731.5 | F141: 294171 | G141: 84.2
A142: 35657 | B142: 101.25 | C142: 64.2 | D142: 86 | E142: 13798.9 | F142: 293625 | G142: 82.6
A143: 35688 | B143: 101.047 | C143: 64.78 | D143: 85.6 | E143: 13815.9 | F143: 293262 | G143: 83.9
A144: 35718 | B144: 100.598 | C144: 65.28 | D144: 86.2 | E144: 13833.1 | F144: 296831 | G144: 82.9
A145: 35749 | B145: 100.373 | C145: 65.46 | D145: 85.8 | E145: 13859.5 | F145: 297330 | G145: 84.8
A146: 35779 | B146: 100.448 | C146: 67.92 | D146: 84.9 | E146: 13874.9 | F146: 298456 | G146: 88.2
... A351: 42019 | B351: 100.251 | C351: 111.45 | D351: 93.8 | E351: 17886.9 | F351: 362739 | G351: 114.5
A352: 42050 | B352: 99.962 | C352: 112.86 | D352: 96.1 | E352: 17885.9 | F352: NA | G352: 109.7
A353: 42078 | B353: 100.186 | C353: NA | D353: NA | E353: 17914.6 | F353: NA | G353: NA

Sheet swe_eviews
B1: consconf | C1: retsales | D1: tot | E1: emp | F1: ip | G1: ex | J1: gdp
A2: =swe_thomson!A3 -> 31427 | B2: =swe_thomson!B3 -> NA | C2: =swe_thomson!C3 -> NA | D2: =swe_thomson!D3 -> NA | E2: =swe_thomson!E3 -> NA | F2: =swe_thomson!F3 -> NA | G2: =swe_thomson!G3 -> NA | I2: =swe_thomson!J3 -> Q1 1986 | J2: =swe_thomson!K3 -> NA
A3: =swe_thomson!A4 -> 31458 | B3: =swe_thomson!B4 -> NA | C3: =swe_thomson!C4 -> NA | D3: =swe_thomson!D4 -> NA | E3: =swe_thomson!E4 -> NA | F3: =swe_thomson!F4 -> NA | G3: =swe_thomson!G4 -> NA | I3: =swe_thomson!J4 -> Q2 1986 | J3: =swe_thomson!K4 -> NA
A4: =swe_thomson!A5 -> 31486 | B4: =swe_thomson!B5 -> NA | C4: =swe_thomson!C5 -> NA | D4: =swe_thomson!D5 -> NA | E4: =swe_thomson!E5 -> NA | F4: =swe_thomson!F5 -> NA | G4: =swe_thomson!G5 -> NA | I4: =swe_thomson!J5 -> Q3 1986 | J4: =swe_thomson!K5 -> NA
A5: =swe_thomson!A6 -> 31517 | B5: =swe_thomson!B6 -> NA | C5: =swe_thomson!C6 -> NA | D5: =swe_thomson!D6 -> NA | E5: =swe_thomson!E6 -> NA | F5: =swe_thomson!F6 -> NA | G5: =swe_thomson!G6 -> NA | I5: =swe_thomson!J6 -> Q4 1986 | J5: =swe_thomson!K6 -> NA
A6: =swe_thomson!A7 -> 31547 | B6: =swe_thomson!B7 -> NA | C6: =swe_thomson!C7 -> NA | D6: =swe_thomson!D7 -> NA | E6: =swe_thomson!E7 -> NA | F6: =swe_thomson!F7 -> NA | G6: =swe_thomson!G7 -> NA | I6: =swe_thomson!J7 -> Q1 1987 | J6: =swe_thomson!K7 -> NA
A7: =swe_thomson!A8 -> 31578 | B7: =swe_thomson!B8 -> NA | C7: =swe_thomson!C8 -> NA | D7: =swe_thomson!D8 -> NA | E7: =swe_thomson!E8 -> NA | F7: =swe_thomson!F8 -> NA | G7: =swe_thomson!G8 -> NA | I7: =swe_thomson!J8 -> Q2 1987 | J7: =swe_thomson!K8 -> NA
A8: =swe_thomson!A9 -> 31608 | B8: =swe_thomson!B9 -> NA | C8: =swe_thomson!C9 -> NA | D8: =swe_thomson!D9 -> NA | E8: =swe_thomson!E9 -> NA | F8: =swe_thomson!F9 -> NA | G8: =swe_thomson!G9 -> NA | I8: =swe_thomson!J9 -> Q3 1987 | J8: =swe_thomson!K9 -> NA
A9: =swe_thomson!A10 -> 31639 | B9: =swe_thomson!B10 -> NA | C9: =swe_thomson!C10 -> NA | D9: =swe_thomson!D10 -> NA | E9: =swe_thomson!E10 -> NA | F9: =swe_thomson!F10 -> NA | G9: =swe_thomson!G10 -> NA | I9: =swe_thomson!J10 -> Q4 1987 | J9: =swe_thomson!K10 -> NA
A10: =swe_thomson!A11 -> 31670 | B10: =swe_thomson!B11 -> NA | C10: =swe_thomson!C11 -> NA | D10: =swe_thomson!D11 -> NA | E10: =swe_thomson!E11 -> NA | F10: =swe_thomson!F11 -> NA | G10: =swe_thomson!G11 -> NA | I10: =swe_thomson!J11 -> Q1 1988 | J10: =swe_thomson!K11 -> NA
A11: =swe_thomson!A12 -> 31700 | B11: =swe_thomson!B12 -> NA | C11: =swe_thomson!C12 -> NA | D11: =swe_thomson!D12 -> NA | E11: =swe_thomson!E12 -> NA | F11: =swe_thomson!F12 -> NA | G11: =swe_thomson!G12 -> NA | I11: =swe_thomson!J12 -> Q2 1988 | J11: =swe_thomson!K12 -> NA
A12: =swe_thomson!A13 -> 31731 | B12: =swe_thomson!B13 -> NA | C12: =swe_thomson!C13 -> NA | D12: =swe_thomson!D13 -> NA | E12: =swe_thomson!E13 -> NA | F12: =swe_thomson!F13 -> NA | G12: =swe_thomson!G13 -> NA | I12: =swe_thomson!J13 -> Q3 1988 | J12: =swe_thomson!K13 -> NA
A13: =swe_thomson!A14 -> 31761 | B13: =swe_thomson!B14 -> NA | C13: =swe_thomson!C14 -> NA | D13: =swe_thomson!D14 -> NA | E13: =swe_thomson!E14 -> NA | F13: =swe_thomson!F14 -> NA | G13: =swe_thomson!G14 -> NA | I13: =swe_thomson!J14 -> Q4 1988 | J13: =swe_thomson!K14 -> NA
... A117: =swe_thomson!A118 -> 34926 | B117: =swe_thomson!B118 -> 76 | C117: =swe_thomson!C118 -> 54.6 | D117: =swe_thomson!D118 -> 124.67 | E117: =swe_thomson!E118 -> NA | F117: =swe_thomson!F118 -> NA | G117: =swe_thomson!G118 -> NA | I117: =swe_thomson!J118 -> Q4 2014 | J117: =swe_thomson!K118 -> 978759
A118: =swe_thomson!A119 -> 34957 | B118: =swe_thomson!B119 -> 79.1 | C118: =swe_thomson!C119 -> 56.1 | D118: =swe_thomson!D119 -> 124.97 | E118: =swe_thomson!E119 -> NA | F118: =swe_thomson!F119 -> NA | G118: =swe_thomson!G119 -> NA
A119: =swe_thomson!A120 -> 34987 | B119: =swe_thomson!B120 -> 78 | C119: =swe_thomson!C120 -> 53.8 | D119: =swe_thomson!D120 -> 125.65 | E119: =swe_thomson!E120 -> NA | F119: =swe_thomson!F120 -> NA | G119: =swe_thomson!G120 -> NA
A120: =swe_thomson!A121 -> 35018 | B120: =swe_thomson!B121 -> 73.4 | C120: =swe_thomson!C121 -> 54.6 | D120: =swe_thomson!D121 -> 124.19 | E120: =swe_thomson!E121 -> NA | F120: =swe_thomson!F121 -> NA | G120: =swe_thomson!G121 -> NA
A121: =swe_thomson!A122 -> 35048 | B121: =swe_thomson!B122 -> 81.4 | C121: =swe_thomson!C122 -> 54.1 | D121: =swe_thomson!D122 -> 123.52 | E121: =swe_thomson!E122 -> NA | F121: =swe_thomson!F122 -> NA | G121: =swe_thomson!G122 -> NA
A122: =swe_thomson!A123 -> 35079 | B122: =swe_thomson!B123 -> 79.1 | C122: =swe_thomson!C123 -> 54.2 | D122: =swe_thomson!D123 -> 123.58 | E122: =swe_thomson!E123 -> NA | F122: =swe_thomson!F123 -> NA | G122: =swe_thomson!G123 -> NA
A123: =swe_thomson!A124 -> 35110 | B123: =swe_thomson!B124 -> 77.9 | C123: =swe_thomson!C124 -> 54.4 | D123: =swe_thomson!D124 -> 123.21 | E123: =swe_thomson!E124 -> NA | F123: =swe_thomson!F124 -> NA | G123: =swe_thomson!G124 -> NA
A124: =swe_thomson!A125 -> 35139 | B124: =swe_thomson!B125 -> 77.4 | C124: =swe_thomson!C125 -> 54.5 | D124: =swe_thomson!D125 -> 121.05 | E124: =swe_thomson!E125 -> NA | F124: =swe_thomson!F125 -> NA | G124: =swe_thomson!G125 -> NA
A125: =swe_thomson!A126 -> 35170 | B125: =swe_thomson!B126 -> 78.6 | C125: =swe_thomson!C126 -> 54.6 | D125: =swe_thomson!D126 -> 121.23 | E125: =swe_thomson!E126 -> NA | F125: =swe_thomson!F126 -> NA | G125: =swe_thomson!G126 -> NA
A126: =swe_thomson!A127 -> 35200 | B126: =swe_thomson!B127 -> 79.1 | C126: =swe_thomson!C127 -> 54.8 | D126: =swe_thomson!D127 -> 121.42 | E126: =swe_thomson!E127 -> NA | F126: =swe_thomson!F127 -> NA | G126: =swe_thomson!G127 -> NA
A127: =swe_thomson!A128 -> 35231 | B127: =swe_thomson!B128 -> 80.9 | C127: =swe_thomson!C128 -> 55 | D127: =swe_thomson!D128 -> 121.77 | E127: =swe_thomson!E128 -> NA | F127: =swe_thomson!F128 -> NA | G127: =swe_thomson!G128 -> NA
A128: =swe_thomson!A129 -> 35261 | B128: =swe_thomson!B129 -> 78.9 | C128: =swe_thomson!C129 -> 55.2 | D128: =swe_thomson!D129 -> 121.91 | E128: =swe_thomson!E129 -> NA | F128: =swe_thomson!F129 -> NA | G128: =swe_thomson!G129 -> NA
A129: =swe_thomson!A130 -> 35292 | B129: =swe_thomson!B130 -> 84.2 | C129: =swe_thomson!C130 -> 54.8 | D129: =swe_thomson!D130 -> 121.52 | E129: =swe_thomson!E130 -> NA | F129: =swe_thomson!F130 -> NA | G129: =swe_thomson!G130 -> NA
... A363: =swe_thomson!A364 -> 0 | B363: =swe_thomson!B364 -> 0 | C363: =swe_thomson!C364 -> 0 | D363: =swe_thomson!D364 -> 0 | E363: =swe_thomson!E364 -> 0 | F363: =swe_thomson!F364 -> 0 | G363: =swe_thomson!G364 -> 0

Sheet swe_thomson
A1: =_xll.Thomson.Reuters.AFOSpreadsheetFormulas.DSGRID("SDCNFCONQ,SDRETTOTG,SDTOTPRCF,SDEMPTOTO,SDIPTOT.G,SDESGEEUG"," ","1986-01-01","TIME","M","RowHeader=true;ColHeader=true;Code=true;SeriesMetaDataLink=true;DispSeriesDescription=false;YearlyTSFormat=false;QuarterlyTSFormat=false","") -> Application offline! Unable to process the request | B1: SD CONSUMER SURVEY: CONSUMER CONFIDENCE INDICATOR SADJ | C1: SD RETAIL SALES EXCL.MOTOR VEHICLES & REPAIR SHOPS(CAL ADJ) VOLA | D1: SD TERMS OF TRADE NADJ | E1: SD EMPLOYMENT (15-74 YRS) VOLA | F1: SD INDUSTRIAL PRODUCTION - MINING & MANUFACTURING (CAL ADJ) VOLA | G1: SD FOREIGN TRADE: EXPORTS - ALL PRODUCTS, WORLD (WDA) VOLA | J1: =_xll.Thomson.Reuters.AFOSpreadsheetFormulas.DSGRID("SDGDP...D"," ","1986-01-01","TIME","Q","RowHeader=true;ColHeader=true;Code=true;SeriesMetaDataLink=true;DispSeriesDescription=false;YearlyTSFormat=false;QuarterlyTSFormat=false","") -> Application offline! Unable to process the request | K1: SD GDP (CAL ADJ) CONA
A2: Code | B2: SDCNFCONQ | C2: SDRETTOTG | D2: SDTOTPRCF | E2: SDEMPTOTO | F2: SDIPTOT.G | G2: SDESGEEUG | J2: Code | K2: SDGDP...D
A3: 31427 | B3: NA | C3: NA | D3: NA | E3: NA | F3: NA | G3: NA | J3: Q1 1986 | K3: NA
A4: 31458 | B4: NA | C4: NA | D4: NA | E4: NA | F4: NA | G4: NA | J4: Q2 1986 | K4: NA
A5: 31486 | B5: NA | C5: NA | D5: NA | E5: NA | F5: NA | G5: NA | J5: Q3 1986 | K5: NA
A6: 31517 | B6: NA | C6: NA | D6: NA | E6: NA | F6: NA | G6: NA | J6: Q4 1986 | K6: NA
A7: 31547 | B7: NA | C7: NA | D7: NA | E7: NA | F7: NA | G7: NA | J7: Q1 1987 | K7: NA
A8: 31578 | B8: NA | C8: NA | D8: NA | E8: NA | F8: NA | G8: NA | J8: Q2 1987 | K8: NA
A9: 31608 | B9: NA | C9: NA | D9: NA | E9: NA | F9: NA | G9: NA | J9: Q3 1987 | K9: NA
A10: 31639 | B10: NA | C10: NA | D10: NA | E10: NA | F10: NA | G10: NA | J10: Q4 1987 | K10: NA
A11: 31670 | B11: NA | C11: NA | D11: NA | E11: NA | F11: NA | G11: NA | J11: Q1 1988 | K11: NA
A12: 31700 | B12: NA | C12: NA | D12: NA | E12: NA | F12: NA | G12: NA | J12: Q2 1988 | K12: NA
A13: 31731 | B13: NA | C13: NA | D13: NA | E13: NA | F13: NA | G13: NA | J13: Q3 1988 | K13: NA
A14: 31761 | B14: NA | C14: NA | D14: NA | E14: NA | F14: NA | G14: NA | J14: Q4 1988 | K14: NA
... A30: 32248 | B30: NA | C30: NA | D30: NA | E30: NA | F30: NA | G30: NA | J30: Q4 1992 | K30: NA
A31: 32278 | B31: NA | C31: NA | D31: NA | E31: NA | F31: NA | G31: NA | J31: Q1 1993 | K31: 566792
A32: 32309 | B32: NA | C32: NA | D32: NA | E32: NA | F32: NA | G32: NA | J32: Q2 1993 | K32: 570166
A33: 32339 | B33: NA | C33: NA | D33: NA | E33: NA | F33: NA | G33: NA | J33: Q3 1993 | K33: 577508
A34: 32370 | B34: NA | C34: NA | D34: NA | E34: NA | F34: NA | G34: NA | J34: Q4 1993 | K34: 573517
A35: 32401 | B35: NA | C35: NA | D35: NA | E35: NA | F35: NA | G35: NA | J35: Q1 1994 | K35: 584481
A36: 32431 | B36: NA | C36: NA | D36: NA | E36: NA | F36: NA | G36: NA | J36: Q2 1994 | K36: 591070
A37: 32462 | B37: NA | C37: NA | D37: NA | E37: NA | F37: NA | G37: NA | J37: Q3 1994 | K37: 596794
A38: 32492 | B38: NA | C38: NA | D38: NA | E38: NA | F38: NA | G38: NA | J38: Q4 1994 | K38: 605366
A39: 32523 | B39: NA | C39: NA | D39: NA | E39: NA | F39: NA | G39: NA | J39: Q1 1995 | K39: 614192
A40: 32554 | B40: NA | C40: NA | D40: NA | E40: NA | F40: NA | G40: NA | J40: Q2 1995 | K40: 617223
A41: 32582 | B41: NA | C41: NA | D41: NA | E41: NA | F41: NA | G41: NA | J41: Q3 1995 | K41: 619378
A42: 32613 | B42: NA | C42: NA | D42: NA | E42: NA | F42: NA | G42: NA | J42: Q4 1995 | K42: 627777
... A50: 32857 | B50: NA | C50: NA | D50: NA | E50: NA | F50: NA | G50: NA | J50: Q4 1997 | K50: 662352
A51: 32888 | B51: NA | C51: 60.8 | D51: 121.32 | E51: NA | F51: NA | G51: NA | J51: Q1 1998 | K51: 663830
A52: 32919 | B52: NA | C52: 60.6 | D52: 121.85 | E52: NA | F52: NA | G52: NA | J52: Q2 1998 | K52: 674616
A53: 32947 | B53: NA | C53: 60.9 | D53: 123.05 | E53: NA | F53: NA | G53: NA | J53: Q3 1998 | K53: 678045
A54: 32978 | B54: NA | C54: 63.8 | D54: 123.13 | E54: NA | F54: NA | G54: NA | J54: Q4 1998 | K54: 685834
A55: 33008 | B55: NA | C55: 62.3 | D55: 124.14 | E55: NA | F55: NA | G55: NA | J55: Q1 1999 | K55: 695948
A56: 33039 | B56: NA | C56: 62.3 | D56: 124.18 | E56: NA | F56: NA | G56: NA | J56: Q2 1999 | K56: 698329
A57: 33069 | B57: NA | C57: 60.7 | D57: 123.98 | E57: NA | F57: NA | G57: NA | J57: Q3 1999 | K57: 705247
A58: 33100 | B58: NA | C58: 59.8 | D58: 121.28 | E58: NA | F58: NA | G58: NA | J58: Q4 1999 | K58: 718318
A59: 33131 | B59: NA | C59: 60.9 | D59: 117.91 | E59: NA | F59: NA | G59: NA | J59: Q1 2000 | K59: 723308
A60: 33161 | B60: NA | C60: 60.9 | D60: 115.66 | E60: NA | F60: NA | G60: NA | J60: Q2 2000 | K60: 739187
A61: 33192 | B61: NA | C61: 59.3 | D61: 117.2 | E61: NA | F61: NA | G61: NA | J61: Q3 2000 | K61: 745478
A62: 33222 | B62: NA | C62: 62.8 | D62: 118.49 | E62: NA | F62: NA | G62: NA | J62: Q4 2000 | K62: 747511
... A86: 33953 | B86: NA | C86: 55.1 | D86: 118.73 | E86: NA | F86: NA | G86: NA | J86: Q4 2006 | K86: 892133
A87: 33984 | B87: 47.6 | C87: 55 | D87: 118.23 | E87: NA | F87: NA | G87: NA | J87: Q1 2007 | K87: 901693
A88: 34015 | B88: 55.6 | C88: 55.2 | D88: 117.65 | E88: NA | F88: NA | G88: NA | J88: Q2 2007 | K88: 907500
A89: 34043 | B89: 54.8 | C89: 54.5 | D89: 117.12 | E89: NA | F89: NA | G89: NA | J89: Q3 2007 | K89: 913595
A90: 34074 | B90: 58.3 | C90: 54.7 | D90: 117.46 | E90: NA | F90: NA | G90: NA | J90: Q4 2007 | K90: 924541
A91: 34104 | B91: 63 | C91: 54.3 | D91: 118.18 | E91: NA | F91: NA | G91: NA | J91: Q1 2008 | K91: 915491
A92: 34135 | B92: 63.9 | C92: 54.1 | D92: 118.31 | E92: NA | F92: NA | G92: NA | J92: Q2 2008 | K92: 915984
A93: 34165 | B93: 70.5 | C93: 56.5 | D93: 116.78 | E93: NA | F93: NA | G93: NA | J93: Q3 2008 | K93: 912428
A94: 34196 | B94: 71.8 | C94: 54.9 | D94: 116.19 | E94: NA | F94: NA | G94: NA | J94: Q4 2008 | K94: 877154
A95: 34227 | B95: 68.9 | C95: 55.1 | D95: 115.24 | E95: NA | F95: NA | G95: NA | J95: Q1 2009 | K95: 859410
A96: 34257 | B96: 66.4 | C96: 54.6 | D96: 114.72 | E96: NA | F96: NA | G96: NA | J96: Q2 2009 | K96: 858625
A97: 34288 | B97: 74.6 | C97: 54 | D97: 115.73 | E97: NA | F97: NA | G97: NA | J97: Q3 2009 | K97: 857684
A98: 34318 | B98: 78.2 | C98: 54.1 | D98: 115.52 | E98: NA | F98: NA | G98: NA | J98: Q4 2009 | K98: 861237
... A118: 34926 | B118: 76 | C118: 54.6 | D118: 124.67 | E118: NA | F118: NA | G118: NA | J118: Q4 2014 | K118: 978759
A119: 34957 | B119: 79.1 | C119: 56.1 | D119: 124.97 | E119: NA | F119: NA | G119: NA
A120: 34987 | B120: 78 | C120: 53.8 | D120: 125.65 | E120: NA | F120: NA | G120: NA
A121: 35018 | B121: 73.4 | C121: 54.6 | D121: 124.19 | E121: NA | F121: NA | G121: NA
A122: 35048 | B122: 81.4 | C122: 54.1 | D122: 123.52 | E122: NA | F122: NA | G122: NA
A123: 35079 | B123: 79.1 | C123: 54.2 | D123: 123.58 | E123: NA | F123: NA | G123: NA
A124: 35110 | B124: 77.9 | C124: 54.4 | D124: 123.21 | E124: NA | F124: NA | G124: NA
A125: 35139 | B125: 77.4 | C125: 54.5 | D125: 121.05 | E125: NA | F125: NA | G125: NA
A126: 35170 | B126: 78.6 | C126: 54.6 | D126: 121.23 | E126: NA | F126: NA | G126: NA
A127: 35200 | B127: 79.1 | C127: 54.8 | D127: 121.42 | E127: NA | F127: NA | G127: NA
A128: 35231 | B128: 80.9 | C128: 55 | D128: 121.77 | E128: NA | F128: NA | G128: NA
A129: 35261 | B129: 78.9 | C129: 55.2 | D129: 121.91 | E129: NA | F129: NA | G129: NA
A130: 35292 | B130: 84.2 | C130: 54.8 | D130: 121.52 | E130: NA | F130: NA | G130: NA
... A170: 36509 | B170: 114.2 | C170: 64.8 | D170: 113.72 | E170: NA | F170: NA | G170: NA
A171: 36540 | B171: 119.3 | C171: 64.5 | D171: 113.12 | E171: NA | F171: 90.2 | G171: 84.9
A172: 36571 | B172: 119.4 | C172: 65 | D172: 112.59 | E172: NA | F172: 94.2 | G172: 84.8
A173: 36600 | B173: 120.6 | C173: 65.8 | D173: 112.37 | E173: NA | F173: 95.1 | G173: 86.3
A174: 36631 | B174: 119 | C174: 65.9 | D174: 113.83 | E174: NA | F174: 97.2 | G174: 89.7
A175: 36661 | B175: 118.1 | C175: 67.7 | D175: 112.57 | E175: NA | F175: 98.3 | G175: 91.9
A176: 36692 | B176: 116.3 | C176: 65.6 | D176: 111.35 | E176: NA | F176: 100.5 | G176: 82.5
A177: 36722 | B177: 115.7 | C177: 66.1 | D177: 112.9 | E177: NA | F177: 96.7 | G177: 89.4
A178: 36753 | B178: 118.5 | C178: 66.1 | D178: 111.54 | E178: NA | F178: 98.9 | G178: 87.8
A179: 36784 | B179: 114.4 | C179: 66.4 | D179: 109.7 | E179: NA | F179: 99.5 | G179: 91.2
A180: 36814 | B180: 116.2 | C180: 65.8 | D180: 109.49 | E180: NA | F180: 100.5 | G180: 91.7
A181: 36845 | B181: 115.1 | C181: 66.8 | D181: 109.41 | E181: NA | F181: 103.9 | G181: 89.6
A182: 36875 | B182: 111.5 | C182: 67.6 | D182: 110.66 | E182: NA | F182: 98 | G182: 90.2
A183: 36906 | B183: 107 | C183: 67.6 | D183: 110.8 | E183: 4334.2 | F183: 99.8 | G183: 85.5
A184: 36937 | B184: 103.4 | C184: 67.9 | D184: 110.12 | E184: 4355.4 | F184: 98 | G184: 83.6
A185: 36965 | B185: 101.9 | C185: 68 | D185: 109.19 | E185: 4326.9 | F185: 98.5 | G185: 84
A186: 36996 | B186: 99.6 | C186: 67.4 | D186: 109.11 | E186: 4354.1 | F186: 94.1 | G186: 79.6
A187: 37026 | B187: 99.7 | C187: 68 | D187: 107.66 | E187: 4346.4 | F187: 97.5 | G187: 80.6
A188: 37057 | B188: 99.1 | C188: 68 | D188: 107.4 | E188: 4333.1 | F188: 96.6 | G188: 81.5
A189: 37087 | B189: 98.1 | C189: 68 | D189: 107.51 | E189: 4349.9 | F189: 96.1 | G189: 77.2
A190: 37118 | B190: 96.8 | C190: 68.4 | D190: 107.4 | E190: 4356.6 | F190: 98.3 | G190: 81.1
A191: 37149 | B191: 92.9 | C191: 68 | D191: 107.01 | E191: 4343.8 | F191: 96.4 | G191: 80.6
A192: 37179 | B192: 94.2 | C192: 67.2 | D192: 108.57 | E192: 4343.7 | F192: 97.4 | G192: 81
A193: 37210 | B193: 97.1 | C193: 68.8 | D193: 108.33 | E193: 4356.4 | F193: 98.5 | G193: 80.9
A194: 37240 | B194: 100.7 | C194: 68.7 | D194: 108.03 | E194: 4361.3 | F194: 98.2 | G194: 77.7
... A351: 42019 | B351: 98.4 | C351: 113.1 | D351: 101.76 | E351: 4815.2 | F351: 91.9 | G351: 97.6
A352: 42050 | B352: 97.6 | C352: 113.2 | D352: 100.63 | E352: 4815 | F352: 91.8 | G352: NA
A353: 42078 | B353: 100.4 | C353: 114 | D353: 100.36 | E353: 4815.9 | F353: NA | G353: NA
A354: 42109 | B354: 97.1 | C354: NA | D354: NA | E354: NA | F354: NA | G354: NA

Sheet nor_eviews
B1: consconf | C1: retsales | D1: tot | E1: emp | F1: ip | G1: ex | J1: gdp
A2: =nor_thomson!A3 -> 31427 | B2: =nor_thomson!B3 -> NA | C2: =nor_thomson!C3 -> 67.7 | D2: =nor_thomson!D3 -> 99.24879 | E2: =nor_thomson!E3 -> NA | F2: =nor_thomson!F3 -> NA | G2: =nor_thomson!G3 -> NA | I2: =nor_thomson!J3 -> Q1 1986 | J2: =nor_thomson!K3 -> 1125313.5
A3: =nor_thomson!A4 -> 31458 | B3: =nor_thomson!B4 -> NA | C3: =nor_thomson!C4 -> 66.8 | D3: =nor_thomson!D4 -> 99.91187 | E3: =nor_thomson!E4 -> NA | F3: =nor_thomson!F4 -> NA | G3: =nor_thomson!G4 -> NA | I3: =nor_thomson!J4 -> Q2 1986 | J3: =nor_thomson!K4 -> 1162947
A4: =nor_thomson!A5 -> 31486 | B4: =nor_thomson!B5 -> NA | C4: =nor_thomson!C5 -> 67.8 | D4: =nor_thomson!D5 -> 99.06816 | E4: =nor_thomson!E5 -> NA | F4: =nor_thomson!F5 -> NA | G4: =nor_thomson!G5 -> NA | I4: =nor_thomson!J5 -> Q3 1986 | J4: =nor_thomson!K5 -> 1151736.2
A5: =nor_thomson!A6 -> 31517 | B5: =nor_thomson!B6 -> NA | C5: =nor_thomson!C6 -> 68.7 | D5: =nor_thomson!D6 -> 99.5518 | E5: =nor_thomson!E6 -> NA | F5: =nor_thomson!F6 -> NA | G5: =nor_thomson!G6 -> NA | I5: =nor_thomson!J6 -> Q4 1986 | J5: =nor_thomson!K6 -> 1149895.3
A6: =nor_thomson!A7 -> 31547 | B6: =nor_thomson!B7 -> NA | C6: =nor_thomson!C7 -> 68.3 | D6: =nor_thomson!D7 -> 94.49452 | E6: =nor_thomson!E7 -> NA | F6: =nor_thomson!F7 -> NA | G6: =nor_thomson!G7 -> NA | I6: =nor_thomson!J7 -> Q1 1987 | J6: =nor_thomson!K7 -> 1148898.5
A7: =nor_thomson!A8 -> 31578 | B7: =nor_thomson!B8 -> NA | C7: =nor_thomson!C8 -> 67.9 | D7: =nor_thomson!D8 -> 94.66463 | E7: =nor_thomson!E8 -> NA | F7: =nor_thomson!F8 -> NA | G7: =nor_thomson!G8 -> NA | I7: =nor_thomson!J8 -> Q2 1987 | J7: =nor_thomson!K8 -> 1176897.9
A8: =nor_thomson!A9 -> 31608 | B8: =nor_thomson!B9 -> NA | C8: =nor_thomson!C9 -> 65.3 | D8: =nor_thomson!D9 -> 95.57381 | E8: =nor_thomson!E9 -> NA | F8: =nor_thomson!F9 -> NA | G8: =nor_thomson!G9 -> NA | I8: =nor_thomson!J9 -> Q3 1987 | J8: =nor_thomson!K9 -> 1155024.3
A9: =nor_thomson!A10 -> 31639 | B9: =nor_thomson!B10 -> NA | C9: =nor_thomson!C10 -> 67.6 | D9: =nor_thomson!D10 -> 94.7368 | E9: =nor_thomson!E10 -> NA | F9: =nor_thomson!F10 -> NA | G9: =nor_thomson!G10 -> NA | I9: =nor_thomson!J10 -> Q4 1987 | J9: =nor_thomson!K10 -> 1172899.3
A10: =nor_thomson!A11 -> 31670 | B10: =nor_thomson!B11 -> NA | C10: =nor_thomson!C11 -> 68.6 | D10: =nor_thomson!D11 -> 96.43067 | E10: =nor_thomson!E11 -> NA | F10: =nor_thomson!F11 -> NA | G10: =nor_thomson!G11 -> NA | I10: =nor_thomson!J11 -> Q1 1988 | J10: =nor_thomson!K11 -> 1159612
A11: =nor_thomson!A12 -> 31700 | B11: =nor_thomson!B12 -> NA | C11: =nor_thomson!C12 -> 69.5 | D11: =nor_thomson!D12 -> 96.22337 | E11: =nor_thomson!E12 -> NA | F11: =nor_thomson!F12 -> NA | G11: =nor_thomson!G12 -> NA | I11: =nor_thomson!J12 -> Q2 1988 | J11: =nor_thomson!K12 -> 1151312.9
A12: =nor_thomson!A13 -> 31731 | B12: =nor_thomson!B13 -> NA | C12: =nor_thomson!C13 -> 69.9 | D12: =nor_thomson!D13 -> 95.0514 | E12: =nor_thomson!E13 -> NA | F12: =nor_thomson!F13 -> NA | G12: =nor_thomson!G13 -> NA | I12: =nor_thomson!J13 -> Q3 1988 | J12: =nor_thomson!K13 -> 1149333.2
A13: =nor_thomson!A14 -> 31761 | B13: =nor_thomson!B14 -> NA | C13: =nor_thomson!C14 -> 69.7 | D13: =nor_thomson!D14 -> 94.58274 | E13: =nor_thomson!E14 -> NA | F13: =nor_thomson!F14 -> NA | G13: =nor_thomson!G14 -> NA | I13: =nor_thomson!J14 -> Q4 1988 | J13: =nor_thomson!K14 -> 1144585.9
... A119: =nor_thomson!A120 -> 34987 | B119: =nor_thomson!B120 -> 99.643 | C119: =nor_thomson!C120 -> 70.9 | D119: =nor_thomson!D120 -> 102.84132 | E119: =nor_thomson!E120 -> NA | F119: =nor_thomson!F120 -> 99.5 | G119: =nor_thomson!G120 -> NA | I119: =nor_thomson!J120 -> Q2 2015 | J119: =nor_thomson!K120 -> 2285715.3
A120: =nor_thomson!A121 -> 35018 | B120: =nor_thomson!B121 -> 99.23 | C120: =nor_thomson!C121 -> 72.9 | D120: =nor_thomson!D121 -> 102.22366 | E120: =nor_thomson!E121 -> NA | F120: =nor_thomson!F121 -> 99.9 | G120: =nor_thomson!G121 -> NA
A121: =nor_thomson!A122 -> 35048 | B121: =nor_thomson!B122 -> 98.959 | C121: =nor_thomson!C122 -> 72.8 | D121: =nor_thomson!D122 -> 100.66649 | E121: =nor_thomson!E122 -> NA | F121: =nor_thomson!F122 -> 100.6 | G121: =nor_thomson!G122 -> NA
A122: =nor_thomson!A123 -> 35079 | B122: =nor_thomson!B123 -> 99.062 | C122: =nor_thomson!C123 -> 71.8 | D122: =nor_thomson!D123 -> 101.1022 | E122: =nor_thomson!E123 -> NA | F122: =nor_thomson!F123 -> 103.4 | G122: =nor_thomson!G123 -> NA
A123: =nor_thomson!A124 -> 35110 | B123: =nor_thomson!B124 -> 99.406 | C123: =nor_thomson!C124 -> 72.9 | D123: =nor_thomson!D124 -> 101.32812 | E123: =nor_thomson!E124 -> NA | F123: =nor_thomson!F124 -> 102.7 | G123: =nor_thomson!G124 -> NA
A124: =nor_thomson!A125 -> 35139 | B124: =nor_thomson!B125 -> 99.825 | C124: =nor_thomson!C125 -> 72.8 | D124: =nor_thomson!D125 -> 100.6631 | E124: =nor_thomson!E125 -> NA | F124: =nor_thomson!F125 -> 102.4 | G124: =nor_thomson!G125 -> NA
A125: =nor_thomson!A126 -> 35170 | B125: =nor_thomson!B126 -> 100.21 | C125: =nor_thomson!C126 -> 72.9 | D125: =nor_thomson!D126 -> 99.90228 | E125: =nor_thomson!E126 -> NA | F125: =nor_thomson!F126 -> 102.6 | G125: =nor_thomson!G126 -> NA
A126: =nor_thomson!A127 -> 35200 | B126: =nor_thomson!B127 -> 100.518 | C126: =nor_thomson!C127 -> 72.2 | D126: =nor_thomson!D127 -> 98.9529 | E126: =nor_thomson!E127 -> NA | F126: =nor_thomson!F127 -> 97.2 | G126: =nor_thomson!G127 -> NA
A127: =nor_thomson!A128 -> 35231 | B127: =nor_thomson!B128 -> 100.707 | C127: =nor_thomson!C128 -> 73.2 | D127: =nor_thomson!D128 -> 99.36871 | E127: =nor_thomson!E128 -> NA | F127: =nor_thomson!F128 -> 104.4 | G127: =nor_thomson!G128 -> NA
A128: =nor_thomson!A129 -> 35261 | B128: =nor_thomson!B129 -> 100.74 | C128: =nor_thomson!C129 -> 73.7 | D128: =nor_thomson!D129 -> 99.51447 | E128: =nor_thomson!E129 -> NA | F128: =nor_thomson!F129 -> 105.3 | G128: =nor_thomson!G129 -> NA
A129: =nor_thomson!A130 -> 35292 | B129: =nor_thomson!B130 -> 100.714 | C129: =nor_thomson!C130 -> 73.1 | D129: =nor_thomson!D130 -> 98.82085 | E129: =nor_thomson!E130 -> NA | F129: =nor_thomson!F130 -> 103.9 | G129: =nor_thomson!G130 -> NA
A130: =nor_thomson!A131 -> 35323 | B130: =nor_thomson!B131 -> 100.742 | C130: =nor_thomson!C131 -> 73.6 | D130: =nor_thomson!D131 -> 98.60503 | E130: =nor_thomson!E131 -> NA | F130: =nor_thomson!F131 -> 104.1 | G130: =nor_thomson!G131 -> NA
A131: =nor_thomson!A132 -> 35353 | B131: =nor_thomson!B132 -> 100.897 | C131: =nor_thomson!C132 -> 74.2 | D131: =nor_thomson!D132 -> 98.2041 | E131: =nor_thomson!E132 -> NA | F131: =nor_thomson!F132 -> 103.5 | G131: =nor_thomson!G132 -> NA
... A362: =nor_thomson!A363 -> 0 | B362: =nor_thomson!B363 -> 0 | C362: =nor_thomson!C363 -> 0 | D362: =nor_thomson!D363 -> 0 | E362: =nor_thomson!E363 -> 0 | F362: =nor_thomson!F363 -> 0 | G362: =nor_thomson!G363 -> 0

Sheet nor_thomson
A1: =_xll.Thomson.Reuters.AFOSpreadsheetFormulas.DSGRID("NWOBS085Q,NWRETTOTG,NWXTW..RF,NWEMPTOTO,NWIPMAN.G,SDESGEEUG"," ","1986-01-01","TIME","M","RowHeader=true;ColHeader=true;Code=true;SeriesMetaDataLink=true;DispSeriesDescription=false;YearlyTSFormat=false;QuarterlyTSFormat=false","") -> Application offline! Unable to process the request | B1: NW MFG - INDUSTRIAL CONFIDENCE INDICATOR SADJ | C1: NW RETAIL SALES VOLA | D1: NW JP MORGAN TRADE WEIGHTED INDEX NORWAY, REAL,BROAD BASIS NADJ | E1: NW EMPLOYMENT (15-74 YEARS) VOLA | F1: NW PRODUCTION INDEX: MANUFACTURING VOLA | G1: SD FOREIGN TRADE: EXPORTS - ALL PRODUCTS, WORLD (WDA) VOLA | J1: =_xll.Thomson.Reuters.AFOSpreadsheetFormulas.DSGRID("NWOCFMLVD"," ","1986-01-01","TIME","Q","RowHeader=true;ColHeader=true;Code=true;SeriesMetaDataLink=true;DispSeriesDescription=false;YearlyTSFormat=false;QuarterlyTSFormat=false","") -> Application offline! Unable to process the request | K1: NW GROSS DOMESTIC PRODUCT, MAINLAND (REAL) (AR) CONA
A2: Code | B2: NWOBS085Q | C2: NWRETTOTG | D2: NWXTW..RF | E2: NWEMPTOTO | F2: NWIPMAN.G | G2: SDESGEEUG | J2: Code | K2: NWOCFMLVD
A3: 31427 | B3: NA | C3: 67.7 | D3: 99.24879 | E3: NA | F3: NA | G3: NA | J3: Q1 1986 | K3: 1125313.5
A4: 31458 | B4: NA | C4: 66.8 | D4: 99.91187 | E4: NA | F4: NA | G4: NA | J4: Q2 1986 | K4: 1162947
A5: 31486 | B5: NA | C5: 67.8 | D5: 99.06816 | E5: NA | F5: NA | G5: NA | J5: Q3 1986 | K5: 1151736.2
A6: 31517 | B6: NA | C6: 68.7 | D6: 99.5518 | E6: NA | F6: NA | G6: NA | J6: Q4 1986 | K6: 1149895.3
A7: 31547 | B7: NA | C7: 68.3 | D7: 94.49452 | E7: NA | F7: NA | G7: NA | J7: Q1 1987 | K7: 1148898.5
A8: 31578 | B8: NA | C8: 67.9 | D8: 94.66463 | E8: NA | F8: NA | G8: NA | J8: Q2 1987 | K8: 1176897.9
A9: 31608 | B9: NA | C9: 65.3 | D9: 95.57381 | E9: NA | F9: NA | G9: NA | J9: Q3 1987 | K9: 1155024.3
A10: 31639 | B10: NA | C10: 67.6 | D10: 94.7368 | E10: NA | F10: NA | G10: NA | J10: Q4 1987 | K10: 1172899.3
A11: 31670 | B11: NA | C11: 68.6 | D11: 96.43067 | E11: NA | F11: NA | G11: NA | J11: Q1 1988 | K11: 1159612
A12: 31700 | B12: NA | C12: 69.5 | D12: 96.22337 | E12: NA | F12: NA | G12: NA | J12: Q2 1988 | K12: 1151312.9
A13: 31731 | B13: NA | C13: 69.9 | D13: 95.0514 | E13: NA | F13: NA | G13: NA | J13: Q3 1988 | K13: 1149333.2
A14: 31761 | B14: NA | C14: 69.7 | D14: 94.58274 | E14: NA | F14: NA | G14: NA | J14: Q4 1988 | K14: 1144585.9
... A16: 31823 | B16: NA | C16: 63.9 | D16: 98.34331 | E16: NA | F16: NA | G16: NA | J16: Q2 1989 | K16: 1128699.7
A17: 31851 | B17: 100.215 | C17: 64.4 | D17: 99.06212 | E17: NA | F17: NA | G17: NA | J17: Q3 1989 | K17: 1126864.1
A18: 31882 | B18: 100.165 | C18: 66.6 | D18: 100.44948 | E18: NA | F18: NA | G18: NA | J18: Q4 1989 | K18: 1148960.5
A19: 31912 | B19: 100.123 | C19: 65 | D19: 101.45219 | E19: NA | F19: NA | G19: NA | J19: Q1 1990 | K19: 1142228.1
A20: 31943 | B20: 100.103 | C20: 64.4 | D20: 101.53127 | E20: NA | F20: NA | G20: NA | J20: Q2 1990 | K20: 1140850.2
A21: 31973 | B21: 100.115 | C21: 65.6 | D21: 101.99246 | E21: NA | F21: NA | G21: NA | J21: Q3 1990 | K21: 1145547.5
A22: 32004 | B22: 100.14 | C22: 64.8 | D22: 101.36127 | E22: NA | F22: NA | G22: NA | J22: Q4 1990 | K22: 1149650.1
A23: 32035 | B23: 100.148 | C23: 63.8 | D23: 103.77039 | E23: NA | F23: NA | G23: NA | J23: Q1 1991 | K23: 1158283.5
A24: 32065 | B24: 100.116 | C24: 64.7 | D24: 103.3616 | E24: NA | F24: NA | G24: NA | J24: Q2 1991 | K24: 1159895.9
A25: 32096 | B25: 100.056 | C25: 64.4 | D25: 101.59979 | E25: NA | F25: NA | G25: NA | J25: Q3 1991 | K25: 1167466.2
A26: 32126 | B26: 99.973 | C26: 64.7 | D26: 99.90305 | E26: NA | F26: NA | G26: NA | J26: Q4 1991 | K26: 1159670.4
A27: 32157 | B27: 99.858 | C27: 63.2 | D27: 101.89776 | E27: NA | F27: NA | G27: NA | J27: Q1 1992 | K27: 1187419.3
A28: 32188 | B28: 99.7 | C28: 64 | D28: 103.25058 | E28: NA | F28: NA | G28: NA | J28: Q2 1992 | K28: 1188964.5
... A50: 32857 | B50: 99.607 | C50: 59.7 | D50: 100.32464 | E50: NA | F50: NA | G50: NA | J50: Q4 1997 | K50: 1472529.1
A51: 32888 | B51: 99.675 | C51: 62.4 | D51: 101.44266 | E51: NA | F51: 90.6 | G51: NA | J51: Q1 1998 | K51: 1474967.9
A52: 32919 | B52: 99.799 | C52: 63.6 | D52: 101.93449 | E52: NA | F52: 90.5 | G52: NA | J52: Q2 1998 | K52: 1492231.4
A53: 32947 | B53: 99.945 | C53: 64.1 | D53: 101.61242 | E53: NA | F53: 88.7 | G53: NA | J53: Q3 1998 | K53: 1502207.4
A54: 32978 | B54: 100.077 | C54: 63.9 | D54: 100.96423 | E54: NA | F54: 91.7 | G54: NA | J54: Q4 1998 | K54: 1511513.3
A55: 33008 | B55: 100.141 | C55: 65 | D55: 101.5533 | E55: NA | F55: 88.9 | G55: NA | J55: Q1 1999 | K55: 1512105.7
A56: 33039 | B56: 100.05 | C56: 64 | D56: 101.25708 | E56: NA | F56: 90.3 | G56: NA | J56: Q2 1999 | K56: 1521194.3
A57: 33069 | B57: 99.737 | C57: 63.2 | D57: 101.08469 | E57: NA | F57: 89.5 | G57: NA | J57: Q3 1999 | K57: 1544478.4
A58: 33100 | B58: 99.363 | C58: 65.3 | D58: 101.1411 | E58: NA | F58: 90.3 | G58: NA | J58: Q4 1999 | K58: 1557249.6
A59: 33131 | B59: 99.143 | C59: 65.2 | D59: 102.50716 | E59: NA | F59: 91.3 | G59: NA | J59: Q1 2000 | K59: 1579625.4
A60: 33161 | B60: 99.234 | C60: 64 | D60: 104.13271 | E60: NA | F60: 90.7 | G60: NA | J60: Q2 2000 | K60: 1567598
A61: 33192 | B61: 99.468 | C61: 64 | D61: 104.71171 | E61: NA | F61: 90.4 | G61: NA | J61: Q3 2000 | K61: 1581425
A62: 33222 | B62: 99.614 | C62: 60.9 | D62: 103.62015 | E62: NA | F62: 91.5 | G62: NA | J62: Q4 2000 | K62: 1585379.6
... A120: 34987 | B120: 99.643 | C120: 70.9 | D120: 102.84132 | E120: NA | F120: 99.5 | G120: NA | J120: Q2 2015 | K120: 2285715.3
A121: 35018 | B121: 99.23 | C121: 72.9 | D121: 102.22366 | E121: NA | F121: 99.9 | G121: NA
A122: 35048 | B122: 98.959 | C122: 72.8 | D122: 100.66649 | E122: NA | F122: 100.6 | G122: NA
A123: 35079 | B123: 99.062 | C123: 71.8 | D123: 101.1022 | E123: NA | F123: 103.4 | G123: NA
A124: 35110 | B124: 99.406 | C124: 72.9 | D124: 101.32812 | E124: NA | F124: 102.7 | G124: NA
A125: 35139 | B125: 99.825 | C125: 72.8 | D125: 100.6631 | E125: NA | F125: 102.4 | G125: NA
A126: 35170 | B126: 100.21 | C126: 72.9 | D126: 99.90228 | E126: NA | F126: 102.6 | G126: NA
A127: 35200 | B127: 100.518 | C127: 72.2 | D127: 98.9529 | E127: NA | F127: 97.2 | G127: NA
A128: 35231 | B128: 100.707 | C128: 73.2 | D128: 99.36871 | E128: NA | F128: 104.4 | G128: NA
A129: 35261 | B129: 100.74 | C129: 73.7 | D129: 99.51447 | E129: NA | F129: 105.3 | G129: NA
A130: 35292 | B130: 100.714 | C130: 73.1 | D130: 98.82085 | E130: NA | F130: 103.9 | G130: NA
A131: 35323 | B131: 100.742 | C131: 73.6 | D131: 98.60503 | E131: NA | F131: 104.1 | G131: NA
A132: 35353 | B132: 100.897 | C132: 74.2 | D132: 98.2041 | E132: NA | F132: 103.5 | G132: NA
... A170: 36509 | B170: 99.569 | C170: 83.6 | D170: 101.33749 | E170: NA | F170: 106.1 | G170: NA
A171: 36540 | B171: 99.711 | C171: 85.4 | D171: 101.09743 | E171: NA | F171: 105.9 | G171: 84.9
A172: 36571 | B172: 99.882 | C172: 85.8 | D172: 101.37509 | E172: NA | F172: 105.6 | G172: 84.8
A173: 36600 | B173: 100.059 | C173: 85.6 | D173: 100.21838 | E173: NA | F173: 105.9 | G173: 86.3
A174: 36631 | B174: 100.226 | C174: 85.3 | D174: 99.32379 | E174: NA | F174: 105.7 | G174: 89.7
A175: 36661 | B175: 100.38 | C175: 87.8 | D175: 98.62843 | E175: NA | F175: 103.6 | G175: 91.9
A176: 36692 | B176: 100.518 | C176: 84.1 | D176: 99.69849 | E176: NA | F176: 101.6 | G176: 82.5
A177: 36722 | B177: 100.64 | C177: 86.3 | D177: 99.87756 | E177: NA | F177: 102.5 | G177: 89.4
A178: 36753 | B178: 100.756 | C178: 86.8 | D178: 100.30822 | E178: NA | F178: 103.1 | G178: 87.8
A179: 36784 | B179: 100.875 | C179: 86.3 | D179: 99.46655 | E179: NA | F179: 104.1 | G179: 91.2
A180: 36814 | B180: 100.992 | C180: 86.1 | D180: 99.43162 | E180: NA | F180: 104 | G180: 91.7
A181: 36845 | B181: 101.072 | C181: 85.5 | D181: 99.86494 | E181: NA | F181: 102.8 | G181: 89.6
A182: 36875 | B182: 101.046 | C182: 88.3 | D182: 100.7095 | E182: NA | F182: 102.2 | G182: 90.2
... A243: 38732 | B243: 101.559 | C243: 102.3 | D243: 118.15932 | E243: NA | F243: 103.9 | G243: 103.3
A244: 38763 | B244: 101.484 | C244: 103.4 | D244: 118.95393 | E244: 2341 | F244: 104.2 | G244: 100.1
A245: 38791 | B245: 101.451 | C245: 104.4 | D245: 120.37438 | E245: 2342 | F245: 104.1 | G245: 107.9
A246: 38822 | B246: 101.527 | C246: 103.2 | D246: 125.2184 | E246: 2342 | F246: 104.1 | G246: 101.6
A247: 38852 | B247: 101.669 | C247: 105.4 | D247: 128.04944 | E247: 2348 | F247: 106.4 | G247: 104
A248: 38883 | B248: 101.816 | C248: 105.9 | D248: 125.04787 | E248: 2357 | F248: 106.4 | G248: 102.2
A249: 38913 | B249: 101.93 | C249: 106.2 | D249: 126.5079 | E249: 2365 | F249: 108.2 | G249: 103.4
A250: 38944 | B250: 102.026 | C250: 106.6 | D250: 125.93819 | E250: 2374 | F250: 104.8 | G250: 102.9
A251: 38975 | B251: 102.124 | C251: 107 | D251: 121.1506 | E251: 2377 | F251: 105.9 | G251: 104.6
A252: 39005 | B252: 102.235 | C252: 108.3 | D252: 120.2334 | E252: 2382 | F252: 108.3 | G252: 106.3
A253: 39036 | B253: 102.334 | C253: 108.6 | D253: 122.7673 | E253: 2388 | F253: 108.2 | G253: 108.3
A254: 39066 | B254: 102.366 | C254: 109 | D254: 124.56936 | E254: 2393 | F254: 111.7 | G254: 116
A255: 39097 | B255: 102.282 | C255: 110 | D255: 123.46803 | E255: 2402 | F255: 111.1 | G255: 108.5
... A350: 41988 | B350: 99.235 | C350: 129.6 | D350: 128.68265 | E350: 2661 | F350: 126.1 | G350: 98.7
A351: 42019 | B351: NA | C351: 128.8 | D351: 126.65514 | E351: 2659 | F351: 121.7 | G351: 97.6
A352: 42050 | B352: NA | C352: 129.8 | D352: 129.90623 | E352: NA | F352: 123.1 | G352: NA
A353: 42078 | B353: NA | C353: 130.2 | D353: 126.46069 | E353: NA | F353: NA | G353: NA

Sheet brz_eviews
B1: consconf | C1: retsales | D1: tot | E1: emp | F1: ip | G1: ex | J1: gdp
A2: =brz_thomson!A3 -> 31427 | B2: =brz_thomson!B3 -> NA | C2: =brz_thomson!C3 -> NA | D2: =brz_thomson!D3 -> 81.83 | E2: =brz_thomson!E3 -> NA | F2: =brz_thomson!F3 -> 66.36 | G2: =brz_thomson!G3 -> 24.29 | I2: =brz_thomson!J3 -> Q1 1986 | J2: =brz_thomson!K3 -> NA
A3: =brz_thomson!A4 -> 31458 | B3: =brz_thomson!B4 -> NA | C3: =brz_thomson!C4 -> NA | D3: =brz_thomson!D4 -> 88.77 | E3: =brz_thomson!E4 -> NA | F3: =brz_thomson!F4 -> 66.43 | G3: =brz_thomson!G4 -> 20.53 | I3: =brz_thomson!J4 -> Q2 1986 | J3: =brz_thomson!K4 -> NA
A4: =brz_thomson!A5 -> 31486 | B4: =brz_thomson!B5 -> NA | C4: =brz_thomson!C5 -> NA | D4: =brz_thomson!D5 -> 93.05 | E4: =brz_thomson!E5 -> NA | F4: =brz_thomson!F5 -> 62.75 | G4: =brz_thomson!G5 -> 24.96 | I4: =brz_thomson!J5 -> Q3 1986 | J4: =brz_thomson!K5 -> NA
A5: =brz_thomson!A6 -> 31517 | B5: =brz_thomson!B6 -> NA | C5: =brz_thomson!C6 -> NA | D5: =brz_thomson!D6 -> 92.47 | E5: =brz_thomson!E6 -> NA | F5: =brz_thomson!F6 -> 66.41 | G5: =brz_thomson!G6 -> 26.26 | I5: =brz_thomson!J6 -> Q4 1986 | J5: =brz_thomson!K6 -> NA
A6: =brz_thomson!A7 -> 31547 | B6: =brz_thomson!B7 -> NA | C6: =brz_thomson!C7 -> NA | D6: =brz_thomson!D7 -> 98.98 | E6: =brz_thomson!E7 -> NA | F6: =brz_thomson!F7 -> 66.39 | G6: =brz_thomson!G7 -> 27.69 | I6: =brz_thomson!J7 -> Q1 1987 | J6: =brz_thomson!K7 -> NA
A7: =brz_thomson!A8 -> 31578 | B7: =brz_thomson!B8 -> NA | C7: =brz_thomson!C8 -> NA | D7: =brz_thomson!D8 -> 98.5 | E7: =brz_thomson!E8 -> NA | F7: =brz_thomson!F8 -> 67.34 | G7: =brz_thomson!G8 -> 25 | I7: =brz_thomson!J8 -> Q2 1987 | J7: =brz_thomson!K8 -> NA
A8: =brz_thomson!A9 -> 31608 | B8: =brz_thomson!B9 -> NA | C8: =brz_thomson!C9 -> NA | D8: =brz_thomson!D9 -> 71.28 | E8: =brz_thomson!E9 -> NA | F8: =brz_thomson!F9 -> 68.03 | G8: =brz_thomson!G9 -> 28.04 | I8: =brz_thomson!J9 -> Q3 1987 | J8: =brz_thomson!K9 -> NA
A9: =brz_thomson!A10 -> 31639 | B9: =brz_thomson!B10 -> NA | C9: =brz_thomson!C10 -> NA | D9: =brz_thomson!D10 -> 72.48 | E9: =brz_thomson!E10 -> NA | F9: =brz_thomson!F10 -> 68.28 | G9: =brz_thomson!G10 -> 26.42 | I9: =brz_thomson!J10 -> Q4 1987 | J9: =brz_thomson!K10 -> NA
A10: =brz_thomson!A11 -> 31670 | B10: =brz_thomson!B11 -> NA | C10: =brz_thomson!C11 -> NA | D10: =brz_thomson!D11 -> 98.35 | E10: =brz_thomson!E11 -> NA | F10: =brz_thomson!F11 -> 70.9 | G10: =brz_thomson!G11 -> 23.26 | I10: =brz_thomson!J11 -> Q1 1988 | J10: =brz_thomson!K11 -> NA
A11: =brz_thomson!A12 -> 31700 | B11: =brz_thomson!B12 -> NA | C11: =brz_thomson!C12 -> NA | D11: =brz_thomson!D12 -> 98.15 | E11: =brz_thomson!E12 -> NA | F11: =brz_thomson!F12 -> 71.17 | G11: =brz_thomson!G12 -> 16.26 | I11: =brz_thomson!J12 -> Q2 1988 | J11: =brz_thomson!K12 -> NA
A12: =brz_thomson!A13 -> 31731 | B12: =brz_thomson!B13 -> NA | C12: =brz_thomson!C13 -> NA | D12: =brz_thomson!D13 -> 99.83 | E12: =brz_thomson!E13 -> NA | F12: =brz_thomson!F13 -> 70.55 | G12: =brz_thomson!G13 -> 15.23 | I12: =brz_thomson!J13 -> Q3 1988 | J12: =brz_thomson!K13 -> NA
A13: =brz_thomson!A14 -> 31761 | B13: =brz_thomson!B14 -> NA | C13: =brz_thomson!C14 -> NA | D13: =brz_thomson!D14 -> 96.06 | E13: =brz_thomson!E14 -> NA | F13: =brz_thomson!F14 -> 69.58 | G13: =brz_thomson!G14 -> 16.02 | I13: =brz_thomson!J14 -> Q4 1988 | J13: =brz_thomson!K14 -> NA
... A117: =brz_thomson!A118 -> 34926 | B117: =brz_thomson!B118 -> NA | C117: =brz_thomson!C118 -> NA | D117: =brz_thomson!D118 -> 104.8 | E117: =brz_thomson!E118 -> NA | F117: =brz_thomson!F118 -> 65.94 | G117: =brz_thomson!G118 -> 44.55 | I117: =brz_thomson!J118 -> Q4 2014 | J117: =brz_thomson!K118 -> 173.145
A118: =brz_thomson!A119 -> 34957 | B118: =brz_thomson!B119 -> NA | C118: =brz_thomson!C119 -> NA | D118: =brz_thomson!D119 -> 104.62 | E118: =brz_thomson!E119 -> NA | F118: =brz_thomson!F119 -> 66.54 | G118: =brz_thomson!G119 -> 41.26
A119: =brz_thomson!A120 -> 34987 | B119: =brz_thomson!B120 -> NA | C119: =brz_thomson!C120 -> NA | D119: =brz_thomson!D120 -> 103.97 | E119: =brz_thomson!E120 -> NA | F119: =brz_thomson!F120 -> 67.39 | G119: =brz_thomson!G120 -> 43.2
A120: =brz_thomson!A121 -> 35018 | B120: =brz_thomson!B121 -> NA | C120: =brz_thomson!C121 -> NA | D120: =brz_thomson!D121 -> 104.69 | E120: =brz_thomson!E121 -> NA | F120: =brz_thomson!F121 -> 67.82 | G120: =brz_thomson!G121 -> 39.4
A121: =brz_thomson!A122 -> 35048 | B121: =brz_thomson!B122 -> NA | C121: =brz_thomson!C122 -> NA | D121: =brz_thomson!D122 -> 102.34 | E121: =brz_thomson!E122 -> NA | F121: =brz_thomson!F122 -> 68.58 | G121: =brz_thomson!G122 -> 38.06
A122: =brz_thomson!A123 -> 35079 | B122: =brz_thomson!B123 -> NA | C122: =brz_thomson!C123 -> NA | D122: =brz_thomson!D123 -> 101.59 | E122: =brz_thomson!E123 -> NA | F122: =brz_thomson!F123 -> 67.78 | G122: =brz_thomson!G123 -> 34.46
A123: =brz_thomson!A124 -> 35110 | B123: =brz_thomson!B124 -> NA | C123: =brz_thomson!C124 -> NA | D123: =brz_thomson!D124 -> 99.71 | E123: =brz_thomson!E124 -> NA | F123: =brz_thomson!F124 -> 67.43 | G123: =brz_thomson!G124 -> 33.81
A124: =brz_thomson!A125 -> 35139 | B124: =brz_thomson!B125 -> NA | C124: =brz_thomson!C125 -> NA | D124: =brz_thomson!D125 -> 101.48 | E124: =brz_thomson!E125 -> NA | F124: =brz_thomson!F125 -> 67.31 | G124: =brz_thomson!G125 -> 34.02
A125: =brz_thomson!A126 -> 35170 | B125: =brz_thomson!B126 -> NA | C125: =brz_thomson!C126 -> NA | D125: =brz_thomson!D126 -> 102.4 | E125: =brz_thomson!E126 -> NA | F125: =brz_thomson!F126 -> 69.07 | G125: =brz_thomson!G126 -> 42.08
A126: =brz_thomson!A127 -> 35200 | B126: =brz_thomson!B127 -> NA | C126: =brz_thomson!C127 -> NA | D126: =brz_thomson!D127 -> 102.4 | E126: =brz_thomson!E127 -> NA | F126: =brz_thomson!F127 -> 69.08 | G126: =brz_thomson!G127 -> 44.35
A127: =brz_thomson!A128 -> 35231 | B127: =brz_thomson!B128 -> NA | C127: =brz_thomson!C128 -> NA | D127: =brz_thomson!D128 -> 102.41 | E127: =brz_thomson!E128 -> NA | F127: =brz_thomson!F128 -> 68.89 | G127: =brz_thomson!G128 -> 37.87
A128: =brz_thomson!A129 -> 35261 | B128: =brz_thomson!B129 -> NA | C128: =brz_thomson!C129 -> NA | D128: =brz_thomson!D129 -> 106.07 | E128: =brz_thomson!E129 -> NA | F128: =brz_thomson!F129 -> 72.74 | G128: =brz_thomson!G129 -> 44.06
A129: =brz_thomson!A130 -> 35292 | B129: =brz_thomson!B130 -> NA | C129: =brz_thomson!C130 -> NA | D129: =brz_thomson!D130 -> 104.06 | E129: =brz_thomson!E130 -> NA | F129: =brz_thomson!F130 -> 71.22 | G129: =brz_thomson!G130 -> 43.55
... A364: =brz_thomson!A365 -> 0 | B364: =brz_thomson!B365 -> 0 | C364: =brz_thomson!C365 -> 0 | D364: =brz_thomson!D365 -> 0 | E364: =brz_thomson!E365 -> 0 | F364: =brz_thomson!F365 -> 0 | G364: =brz_thomson!G365 -> 0

Sheet brz_thomson
A1: =_xll.Thomson.Reuters.AFOSpreadsheetFormulas.DSGRID("BRCNSAOPR,BRRETTOTG,BRTOTPRCF,BREMPTOTP,BRIPTOT.G,BREXPPR.H"," ","1/1/1986","TIME","M","RowHeader=true;ColHeader=true;Code=true;SeriesMetaDataLink=true;DispSeriesDescription=false;YearlyTSFormat=false;QuarterlyTSFormat=false","") -> Application offline! Unable to process the request | B1: BR CONSUMER CONFIDENCE INDEX - SAO PAULO NADJ | C1: BR RETAIL SALES VOLA | D1: BR TERMS OF TRADE NADJ | E1: BR EMPLOYMENT - 6 METROPOLITAN AREAS VOLN | F1: BR INDUSTRIAL PRODUCTION VOLA | G1: BR EXPORTS QUANTUM INDEX VOLN | J1: =_xll.Thomson.Reuters.AFOSpreadsheetFormulas.DSGRID("BRGDP...G"," ","1/1/1986","TIME","Q","RowHeader=true;ColHeader=true;Code=true;SeriesMetaDataLink=true;DispSeriesDescription=false;YearlyTSFormat=false;QuarterlyTSFormat=false","") -> Application offline! Unable to process the request | K1: BR GDP AT MARKET PRICES (CHAIN-WGTD IDX) (WDA) VOLA
A2: Code | B2: BRCNSAOPR | C2: BRRETTOTG | D2: BRTOTPRCF | E2: BREMPTOTP | F2: BRIPTOT.G | G2: BREXPPR.H | J2: Code | K2: BRGDP...G
A3: 31427 | B3: NA | C3: NA | D3: 81.83 | E3: NA | F3: 66.36 | G3: 24.29 | J3: Q1 1986 | K3: NA
A4: 31458 | B4: NA | C4: NA | D4: 88.77 | E4: NA | F4: 66.43 | G4: 20.53 | J4: Q2 1986 | K4: NA
A5: 31486 | B5: NA | C5: NA | D5: 93.05 | E5: NA | F5: 62.75 | G5: 24.96 | J5: Q3 1986 | K5: NA
A6: 31517 | B6: NA | C6: NA | D6: 92.47 | E6: NA | F6: 66.41 | G6: 26.26 | J6: Q4 1986 | K6: NA
A7: 31547 | B7: NA | C7: NA | D7: 98.98 | E7: NA | F7: 66.39 | G7: 27.69 | J7: Q1 1987 | K7: NA
A8: 31578 | B8: NA | C8: NA | D8: 98.5 | E8: NA | F8: 67.34 | G8: 25 | J8: Q2 1987 | K8: NA
A9: 31608 | B9: NA | C9: NA | D9: 71.28 | E9: NA | F9: 68.03 | G9: 28.04 | J9: Q3 1987 | K9: NA
A10: 31639 | B10: NA | C10: NA | D10: 72.48 | E10: NA | F10: 68.28 | G10: 26.42 | J10: Q4 1987 | K10: NA
A11: 31670 | B11: NA | C11: NA | D11: 98.35 | E11: NA | F11: 70.9 | G11: 23.26 | J11: Q1 1988 | K11: NA
A12: 31700 | B12: NA | C12: NA | D12: 98.15 | E12: NA | F12: 71.17 | G12: 16.26 | J12: Q2 1988 | K12: NA
A13: 31731 | B13: NA | C13: NA | D13: 99.83 | E13: NA | F13: 70.55 | G13: 15.23 | J13: Q3 1988 | K13: NA
A14: 31761 | B14: NA | C14: NA | D14: 96.06 | E14: NA | F14: 69.58 | G14: 16.02 | J14: Q4 1988 | K14: NA
... A42: 32613 | B42: NA | C42: NA | D42: 83.16 | E42: NA | F42: 67.13 | G42: 24.96 | J42: Q4 1995 | K42: NA
A43: 32643 | B43: NA | C43: NA | D43: 79.87 | E43: NA | F43: 68.61 | G43: 30.1 | J43: Q1 1996 | K43: 100.024
A44: 32674 | B44: NA | C44: NA | D44: 82.4 | E44: NA | F44: 70.86 | G44: 39 | J44: Q2 1996 | K44: 100.399
A45: 32704 | B45: NA | C45: NA | D45: 81.96 | E45: NA | F45: 70.37 | G45: 34.34 | J45: Q3 1996 | K45: 104.783
A46: 32735 | B46: NA | C46: NA | D46: 83.11 | E46: NA | F46: 70.06 | G46: 36.12 | J46: Q4 1996 | K46: 103.399
A47: 32766 | B47: NA | C47: NA | D47: 81.12 | E47: NA | F47: 69.21 | G47: 32.32 | J47: Q1 1997 | K47: 103.827
A48: 32796 | B48: NA | C48: NA | D48: 80.09 | E48: NA | F48: 69.46 | G48: 30.38 | J48: Q2 1997 | K48: 104.861
A49: 32827 | B49: NA | C49: NA | D49: 78.48 | E49: NA | F49: 68.75 | G49: 28.8 | J49: Q3 1997 | K49: 106.65
A50: 32857 | B50: NA | C50: NA | D50: 81.23 | E50: NA | F50: 71.04 | G50: 30.18 | J50: Q4 1997 | K50: 107.2
A51: 32888 | B51: NA | C51: NA | D51: 74.27 | E51: NA | F51: 68.87 | G51: 26.18 | J51: Q1 1998 | K51: 104.366
A52: 32919 | B52: NA | C52: NA | D52: 73.65 | E52: NA | F52: 68.17 | G52: 22.54 | J52: Q2 1998 | K52: 106.839
A53: 32947 | B53: NA | C53: NA | D53: 75.9 | E53: NA | F53: 63.55 | G53: 25.07 | J53: Q3 1998 | K53: 107.176
A54: 32978 | B54: NA | C54: NA | D54: 77.1 | E54: NA | F54: 48.05 | G54: 28.48 | J54: Q4 1998 | K54: 105.729
... A118: 34926 | B118: NA | C118: NA | D118: 104.8 | E118: NA | F118: 65.94 | G118: 44.55 | J118: Q4 2014 | K118: 173.145
A119: 34957 | B119: NA | C119: NA | D119: 104.62 | E119: NA | F119: 66.54 | G119: 41.26
A120: 34987 | B120: NA | C120: NA | D120: 103.97 | E120: NA | F120: 67.39 | G120: 43.2
A121: 35018 | B121: NA | C121: NA | D121: 104.69 | E121: NA | F121: 67.82 | G121: 39.4
A122: 35048 | B122: NA | C122: NA | D122: 102.34 | E122: NA | F122: 68.58 | G122: 38.06
A123: 35079 | B123: NA | C123: NA | D123: 101.59 | E123: NA | F123: 67.78 | G123: 34.46
A124: 35110 | B124: NA | C124: NA | D124: 99.71 | E124: NA | F124: 67.43 | G124: 33.81
A125: 35139 | B125: NA | C125: NA | D125: 101.48 | E125: NA | F125: 67.31 | G125: 34.02
A126: 35170 | B126: NA | C126: NA | D126: 102.4 | E126: NA | F126: 69.07 | G126: 42.08
A127: 35200 | B127: NA | C127: NA | D127: 102.4 | E127: NA | F127: 69.08 | G127: 44.35
A128: 35231 | B128: NA | C128: NA | D128: 102.41 | E128: NA | F128: 68.89 | G128: 37.87
A129: 35261 | B129: NA | C129: NA | D129: 106.07 | E129: NA | F129: 72.74 | G129: 44.06
A130: 35292 | B130: NA | C130: NA | D130: 104.06 | E130: NA | F130: 71.22 | G130: 43.55
... A160: 36206 | B160: NA | C160: NA | D160: 95.09 | E160: NA | F160: 69.15 | G160: 37.77
A161: 36234 | B161: 75.72 | C161: NA | D161: 95.48 | E161: NA | F161: 69.24 | G161: 45.54
A162: 36265 | B162: 75.86 | C162: NA | D162: 92.58 | E162: NA | F162: 70.44 | G162: 45.22
A163: 36295 | B163: 77.29 | C163: NA | D163: 91.27 | E163: NA | F163: 71.72 | G163: 53.97
A164: 36326 | B164: 91.51 | C164: NA | D164: 92.75 | E164: NA | F164: 71.21 | G164: 53.15
A165: 36356 | B165: 99.11 | C165: NA | D165: 92.84 | E165: NA | F165: 70.32 | G165: 50.85
A166: 36387 | B166: 98.17 | C166: NA | D166: 90.67 | E166: NA | F166: 71.5 | G166: 52.98
A167: 36418 | B167: 99.03 | C167: NA | D167: 91.48 | E167: NA | F167: 72.43 | G167: 52.13
A168: 36448 | B168: 95.52 | C168: NA | D168: 91.5 | E168: NA | F168: 73.6 | G168: 52.65
A169: 36479 | B169: 93.87 | C169: NA | D169: 92.71 | E169: NA | F169: 73.04 | G169: 48.72
A170: 36509 | B170: 94.62 | C170: NA | D170: 91.97 | E170: NA | F170: 73.68 | G170: 56.61
A171: 36540 | B171: 100.91 | C171: 57.2 | D171: 91.08 | E171: NA | F171: 72.98 | G171: 41.19
A172: 36571 | B172: 107.34 | C172: 57.9 | D172: 97.08 | E172: NA | F172: 73.08 | G172: 49.26
A173: 36600 | B173: 100.09 | C173: 58.5 | D173: 96.52 | E173: NA | F173: 74.28 | G173: 52.97
A174: 36631 | B174: 93.93 | C174: 58.3 | D174: 95.32 | E174: NA | F174: 74.97 | G174: 49.91
A175: 36661 | B175: 89.44 | C175: 58.8 | D175: 98.31 | E175: NA | F175: 74.75 | G175: 59.42
A176: 36692 | B176: 94.54 | C176: 58.5 | D176: 95.89 | E176: NA | F176: 76.58 | G176: 57.43
A177: 36722 | B177: 98.31 | C177: 58.6 | D177: 97.26 | E177: NA | F177: 77.12 | G177: 58.14
A178: 36753 | B178: 91.2 | C178: 58 | D178: 100.87 | E178: NA | F178: 77.1 | G178: 63.22
A179: 36784 | B179: 92.02 | C179: 58.1 | D179: 98.01 | E179: NA | F179: 76.18 | G179: 54.7
A180: 36814 | B180: 98.51 | C180: 57.2 | D180: 93.24 | E180: NA | F180: 77.83 | G180: 54.91
A181: 36845 | B181: 99.37 | C181: 58.2 | D181: 95.25 | E181: NA | F181: 77.18 | G181: 52.1
A182: 36875 | B182: 100.82 | C182: 58.5 | D182: 96.04 | E182: NA | F182: 80.65 | G182: 54.29
... A191: 37149 | B191: 90.74 | C191: 57 | D191: 94.11 | E191: NA | F191: 76.09 | G191: 58.54
A192: 37179 | B192: 80.65 | C192: 57.3 | D192: 92.55 | E192: 16.084 | F192: 74.34 | G192: 62.9
A193: 37210 | B193: 78.31 | C193: 56.8 | D193: 96.44 | E193: 16.082 | F193: 75.2 | G193: 57.11
A194: 37240 | B194: 86.28 | C194: 57.3 | D194: 94.39 | E194: 14.435 | F194: 75.43 | G194: 55.72
A195: 37271 | B195: 87.04 | C195: 57.5 | D195: 94.87 | E195: 14.422 | F195: 77.3 | G195: 51.41
A196: 37302 | B196: 90.66 | C196: 57.5 | D196: 96.99 | E196: 14.361 | F196: 79.8 | G196: 47.22
A197: 37330 | B197: 91.3 | C197: 57.5 | D197: 97.19 | E197: 17.275 | F197: 79.7 | G197: 55.68
A198: 37361 | B198: 96 | C198: 57.7 | D198: 97.24 | E198: 17.39 | F198: 79.4 | G198: 59.56
A199: 37391 | B199: 96.15 | C199: 57.7 | D199: 96.57 | E199: 17.446 | F199: 78.6 | G199: 56.76
A200: 37422 | B200: 84.4 | C200: 56.6 | D200: 98.69 | E200: 17.548 | F200: 79.9 | G200: 50.6
A201: 37452 | B201: 93.81 | C201: 57.3 | D201: 95.7 | E201: 17.65 | F201: 79.9 | G201: 78.54
A202: 37483 | B202: 89.8 | C202: 57.7 | D202: 92.71 | E202: 17.924 | F202: 78.9 | G202: 73.57
A203: 37514 | B203: 99.22 | C203: 57 | D203: 92.84 | E203: 18.002 | F203: 79.9 | G203: 82.2
... A352: 42050 | B352: 112.89 | C352: 115.8 | D352: 105.67 | E352: 22.775 | F352: 95.1 | G352: 80.26
A353: 42078 | B353: 106.86 | C353: NA | D353: NA | E353: 22.727 | F353: NA | G353: NA
A354: 42109 | B354: 101.56 | C354: NA | D354: NA | E354: NA | F354: NA | G354: NA

Sheet kor_eviews
B1: consconf | C1: retsales | D1: tot | E1: emp | F1: ip | G1: ex | J1: gdp
A2: =kor_thomson!A3 -> 31427 | B2: =kor_thomson!B3 -> NA | C2: =kor_thomson!C3 -> NA | D2: =kor_thomson!D3 -> NA | E2: =kor_thomson!E3 -> NA | F2: =kor_thomson!F3 -> 13.8 | G2: =kor_thomson!G3 -> NA | I2: =kor_thomson!J3 -> Q1 1986 | J2: =kor_thomson!K3 -> 66997.8
A3: =kor_thomson!A4 -> 31458 | B3: =kor_thomson!B4 -> NA | C3: =kor_thomson!C4 -> NA | D3: =kor_thomson!D4 -> NA | E3: =kor_thomson!E4 -> NA | F3: =kor_thomson!F4 -> 13.8 | G3: =kor_thomson!G4 -> NA | I3: =kor_thomson!J4 -> Q2 1986 | J3: =kor_thomson!K4 -> 69699.9
A4: =kor_thomson!A5 -> 31486 | B4: =kor_thomson!B5 -> NA | C4: =kor_thomson!C5 -> NA | D4: =kor_thomson!D5 -> NA | E4: =kor_thomson!E5 -> NA | F4: =kor_thomson!F5 -> 14.2 | G4: =kor_thomson!G5 -> NA | I4: =kor_thomson!J5 -> Q3 1986 | J4: =kor_thomson!K5 -> 72954.8
A5: =kor_thomson!A6 -> 31517 | B5: =kor_thomson!B6 -> NA | C5: =kor_thomson!C6 -> NA | D5: =kor_thomson!D6 -> NA | E5: =kor_thomson!E6 -> NA | F5: =kor_thomson!F6 -> 14.7 | G5: =kor_thomson!G6 -> NA | I5: =kor_thomson!J6 -> Q4 1986 | J5: =kor_thomson!K6 -> 73959.9
A6: =kor_thomson!A7 -> 31547 | B6: =kor_thomson!B7 -> NA | C6: =kor_thomson!C7 -> NA | D6: =kor_thomson!D7 -> NA | E6: =kor_thomson!E7 -> NA | F6: =kor_thomson!F7 -> 14.9 | G6: =kor_thomson!G7 -> NA | I6: =kor_thomson!J7 -> Q1 1987 | J6: =kor_thomson!K7 -> 75884.5
A7: =kor_thomson!A8 -> 31578 | B7: =kor_thomson!B8 -> NA | C7: =kor_thomson!C8 -> NA | D7: =kor_thomson!D8 -> NA | E7: =kor_thomson!E8 -> NA | F7: =kor_thomson!F8 -> 15.2 | G7: =kor_thomson!G8 -> NA | I7: =kor_thomson!J8 -> Q2 1987 | J7: =kor_thomson!K8 -> 79789.3
A8: =kor_thomson!A9 -> 31608 | B8: =kor_thomson!B9 -> NA | C8: =kor_thomson!C9 -> NA | D8: =kor_thomson!D9 -> NA | E8: =kor_thomson!E9 -> NA | F8: =kor_thomson!F9 -> 15.3 | G8: =kor_thomson!G9 -> NA | I8: =kor_thomson!J9 -> Q3 1987 | J8: =kor_thomson!K9 -> 80898.7
A9: =kor_thomson!A10 -> 31639 | B9: =kor_thomson!B10 -> NA | C9: =kor_thomson!C10 -> NA | D9: =kor_thomson!D10 -> NA | E9: =kor_thomson!E10 -> NA | F9: =kor_thomson!F10 -> 15.6 | G9: =kor_thomson!G10 -> NA | I9: =kor_thomson!J10 -> Q4 1987 | J9: =kor_thomson!K10 -> 82398.6
A10: =kor_thomson!A11 -> 31670 | B10: =kor_thomson!B11 -> NA | C10: =kor_thomson!C11 -> NA | D10: =kor_thomson!D11 -> NA | E10: =kor_thomson!E11 -> NA | F10: =kor_thomson!F11 -> 15.8 | G10: =kor_thomson!G11 -> NA | I10: =kor_thomson!J11 -> Q1 1988 | J10: =kor_thomson!K11 -> 88299
A11: =kor_thomson!A12 -> 31700 | B11: =kor_thomson!B12 -> NA | C11: =kor_thomson!C12 -> NA | D11: =kor_thomson!D12 -> NA | E11: =kor_thomson!E12 -> NA | F11: =kor_thomson!F12 -> 15.8 | G11: =kor_thomson!G12 -> NA | I11: =kor_thomson!J12 -> Q2 1988 | J11: =kor_thomson!K12 -> 86495.4
A12: =kor_thomson!A13 -> 31731 | B12: =kor_thomson!B13 -> NA | C12: =kor_thomson!C13 -> NA | D12: =kor_thomson!D13 -> NA | E12: =kor_thomson!E13 -> NA | F12: =kor_thomson!F13 -> 15.9 | G12: =kor_thomson!G13 -> NA | I12: =kor_thomson!J13 -> Q3 1988 | J12: =kor_thomson!K13 -> 89926.3
A13: =kor_thomson!A14 -> 31761 | B13: =kor_thomson!B14 -> NA | C13: =kor_thomson!C14 -> NA | D13: =kor_thomson!D14 -> NA | E13: =kor_thomson!E14 -> NA | F13: =kor_thomson!F14 -> 16.4 | G13: =kor_thomson!G14 -> NA | I13: =kor_thomson!J14 -> Q4 1988 | J13: =kor_thomson!K14 -> 92222.9
... A118: =kor_thomson!A119 -> 34957 | B118: =kor_thomson!B119 -> NA | C118: =kor_thomson!C119 -> 54.7 | D118: =kor_thomson!D119 -> 222.4 | E118: =kor_thomson!E119 -> NA | F118: =kor_thomson!F119 -> 34.8 | G118: =kor_thomson!G119 -> 18.6 | I118: =kor_thomson!J119 -> Q1 2015 | J118: =kor_thomson!K119 -> 361971
A119: =kor_thomson!A120 -> 34987 | B119: =kor_thomson!B120 -> NA | C119: =kor_thomson!C120 -> 55.1 | D119: =kor_thomson!D120 -> 221.8 | E119: =kor_thomson!E120 -> NA | F119: =kor_thomson!F120 -> 34.9 | G119: =kor_thomson!G120 -> 20.17
A120: =kor_thomson!A121 -> 35018 | B120: =kor_thomson!B121 -> NA | C120: =kor_thomson!C121 -> 55.8 | D120: =kor_thomson!D121 -> 220.1 | E120: =kor_thomson!E121 -> NA | F120: =kor_thomson!F121 -> 35.1 | G120: =kor_thomson!G121 -> 19.96
A121: =kor_thomson!A122 -> 35048 | B121: =kor_thomson!B122 -> NA | C121: =kor_thomson!C122 -> 59.1 | D121: =kor_thomson!D122 -> 219.8 | E121: =kor_thomson!E122 -> NA | F121: =kor_thomson!F122 -> 36 | G121: =kor_thomson!G122 -> 20.57
A122: =kor_thomson!A123 -> 35079 | B122: =kor_thomson!B123 -> NA | C122: =kor_thomson!C123 -> 59.2 | D122: =kor_thomson!D123 -> 222.3 | E122: =kor_thomson!E123 -> NA | F122: =kor_thomson!F123 -> 35.7 | G122: =kor_thomson!G123 -> 18.12
A123: =kor_thomson!A124 -> 35110 | B123: =kor_thomson!B124 -> NA | C123: =kor_thomson!C124 -> 59.5 | D123: =kor_thomson!D124 -> 221.6 | E123: =kor_thomson!E124 -> NA | F123: =kor_thomson!F124 -> 37 | G123: =kor_thomson!G124 -> 17.68
A124: =kor_thomson!A125 -> 35139 | B124: =kor_thomson!B125 -> NA | C124: =kor_thomson!C125 -> 59.3 | D124: =kor_thomson!D125 -> 218.7 | E124: =kor_thomson!E125 -> NA | F124: =kor_thomson!F125 -> 36.6 | G124: =kor_thomson!G125 -> 20.27
A125: =kor_thomson!A126 -> 35170 | B125: =kor_thomson!B126 -> NA | C125: =kor_thomson!C126 -> 60.7 | D125: =kor_thomson!D126 -> 216.7 | E125: =kor_thomson!E126 -> NA | F125: =kor_thomson!F126 -> 37.8 | G125: =kor_thomson!G126 -> 19.55
A126: =kor_thomson!A127 -> 35200 | B126: =kor_thomson!B127 -> NA | C126: =kor_thomson!C127 -> 59.2 | D126: =kor_thomson!D127 -> 214.6 | E126: =kor_thomson!E127 -> NA | F126: =kor_thomson!F127 -> 37.9 | G126: =kor_thomson!G127 -> 19.82
A127: =kor_thomson!A128 -> 35231 | B127: =kor_thomson!B128 -> NA | C127: =kor_thomson!C128 -> 59.8 | D127: =kor_thomson!D128 -> 210.4 | E127: =kor_thomson!E128 -> NA | F127: =kor_thomson!F128 -> 36.7 | G127: =kor_thomson!G128 -> 20.05
A128: =kor_thomson!A129 -> 35261 | B128: =kor_thomson!B129 -> NA | C128: =kor_thomson!C129 -> 60.3 | D128: =kor_thomson!D129 -> 206.5 | E128: =kor_thomson!E129 -> NA | F128: =kor_thomson!F129 -> 37.5 | G128: =kor_thomson!G129 -> 19.26
A129: =kor_thomson!A130 -> 35292 | B129: =kor_thomson!B130 -> NA | C129: =kor_thomson!C130 -> 58.5 | D129: =kor_thomson!D130 -> 202.6 | E129: =kor_thomson!E130 -> NA | F129: =kor_thomson!F130 -> 37.3 | G129: =kor_thomson!G130 -> 18.88
A130: =kor_thomson!A131 -> 35323 | B130: =kor_thomson!B131 -> NA | C130: =kor_thomson!C131 -> 60.4 | D130: =kor_thomson!D131 -> 200.5 | E130: =kor_thomson!E131 -> NA | F130: =kor_thomson!F131 -> 37.7 | G130: =kor_thomson!G131 -> 19.8
... A365: =kor_thomson!A366 -> 0 | B365: =kor_thomson!B366 -> 0 | C365: =kor_thomson!C366 -> 0 | D365: =kor_thomson!D366 -> 0 | E365: =kor_thomson!E366 -> 0 | F365: =kor_thomson!F366 -> 0 | G365: =kor_thomson!G366 -> 0

Sheet kor_thomson
A1: =_xll.Thomson.Reuters.AFOSpreadsheetFormulas.DSGRID("KOCNFCONR,KOOSLI15G,KONETTRDF,KOEMPTOTO,KOIPTOT.G,KOEXPALVH"," ","1/1/1986","TIME","M","RowHeader=true;ColHeader=true;Code=true;SeriesMetaDataLink=true;DispSeriesDescription=false;YearlyTSFormat=false;QuarterlyTSFormat=false","") -> Application offline! Unable to process the request | B1: KO COMPOSITE CONSUMER SENTIMENT INDEX NADJ | C1: KO TOTAL RETAIL TRADE (VOLUME) VOLA | D1: KO NET BARTER TERMS OF TRADE INDEX NADJ | E1: KO EMPLOYMENT VOLA | F1: KO INDUSTRIAL PRODUCTION VOLA | G1: KO EXPORT VOLUME INDEX - TOTAL VOLN | J1: =_xll.Thomson.Reuters.AFOSpreadsheetFormulas.DSGRID("KOGDP...D"," ","1/1/1986","TIME","Q","RowHeader=true;ColHeader=true;Code=true;SeriesMetaDataLink=true;DispSeriesDescription=false;YearlyTSFormat=false;QuarterlyTSFormat=false","") -> Application offline! Unable to process the request | K1: KO GROSS DOMESTIC PRODUCT AT MARKET PRICE CONA
A2: Code | B2: KOCNFCONR | C2: KOOSLI15G | D2: KONETTRDF | E2: KOEMPTOTO | F2: KOIPTOT.G | G2: KOEXPALVH | J2: Code | K2: KOGDP...D
A3: 31427 | B3: NA | C3: NA | D3: NA | E3: NA | F3: 13.8 | G3: NA | J3: Q1 1986 | K3: 66997.8
A4: 31458 | B4: NA | C4: NA | D4: NA | E4: NA | F4: 13.8 | G4: NA | J4: Q2 1986 | K4: 69699.9
A5: 31486 | B5: NA | C5: NA | D5: NA | E5: NA | F5: 14.2 | G5: NA | J5: Q3 1986 | K5: 72954.8
A6: 31517 | B6: NA | C6: NA | D6: NA | E6: NA | F6: 14.7 | G6: NA | J6: Q4 1986 | K6: 73959.9
A7: 31547 | B7: NA | C7: NA | D7: NA | E7: NA | F7: 14.9 | G7: NA | J7: Q1 1987 | K7: 75884.5
A8: 31578 | B8: NA | C8: NA | D8: NA | E8: NA | F8: 15.2 | G8: NA | J8: Q2 1987 | K8: 79789.3
A9: 31608 | B9: NA | C9: NA | D9: NA | E9: NA | F9: 15.3 | G9: NA | J9: Q3 1987 | K9: 80898.7
A10: 31639 | B10: NA | C10: NA | D10: NA | E10: NA | F10: 15.6 | G10: NA | J10: Q4 1987 | K10: 82398.6
A11: 31670 | B11: NA | C11: NA | D11: NA | E11: NA | F11: 15.8 | G11: NA | J11: Q1 1988 | K11: 88299
A12: 31700 | B12: NA | C12: NA | D12: NA | E12: NA | F12: 15.8 | G12: NA | J12: Q2 1988 | K12: 86495.4
A13: 31731 | B13: NA | C13: NA | D13: NA | E13: NA | F13: 15.9 | G13: NA | J13: Q3 1988 | K13: 89926.3
A14: 31761 | B14: NA | C14: NA | D14: NA | E14: NA | F14: 16.4 | G14: NA | J14: Q4 1988 | K14: 92222.9
... A26: 32126 | B26: NA | C26: NA | D26: NA | E26: NA | F26: 20.1 | G26: NA | J26: Q4 1991 | K26: 119494.1
A27: 32157 | B27: NA | C27: NA | D27: 199.9 | E27: NA | F27: 20.2 | G27: 9.24 | J27: Q1 1992 | K27: 121803.5
A28: 32188 | B28: NA | C28: NA | D28: 200.5 | E28: NA | F28: 20.4 | G28: 9.47 | J28: Q2 1992 | K28: 122606.4
A29: 32217 | B29: NA | C29: NA | D29: 199.6 | E29: NA | F29: 20 | G29: 10.96 | J29: Q3 1992 | K29: 122603.6
A30: 32248 | B30: NA | C30: NA | D30: 199.7 | E30: NA | F30: 19.3 | G30: 10.32 | J30: Q4 1992 | K30: 124531
A31: 32278 | B31: NA | C31: NA | D31: 195 | E31: NA | F31: 19.6 | G31: 10.32 | J31: Q1 1993 | K31: 127003.6
A32: 32309 | B32: NA | C32: NA | D32: 193.8 | E32: NA | F32: 19.7 | G32: 10.82 | J32: Q2 1993 | K32: 130403.2
A33: 32339 | B33: NA | C33: NA | D33: 197.2 | E33: NA | F33: 20.5 | G33: 11.23 | J33: Q3 1993 | K33: 132537.7
A34: 32370 | B34: NA | C34: NA | D34: 200.7 | E34: NA | F34: 21.1 | G34: 10.74 | J34: Q4 1993 | K34: 135255
A35: 32401 | B35: NA | C35: NA | D35: 203.1 | E35: NA | F35: 20.7 | G35: 10.99 | J35: Q1 1994 | K35: 139114.1
A36: 32431 | B36: NA | C36: NA | D36: 205.1 | E36: NA | F36: 21.1 | G36: 10.68 | J36: Q2 1994 | K36: 141581.9
A37: 32462 | B37: NA | C37: NA | D37: 203 | E37: NA | F37: 21 | G37: 11.34 | J37: Q3 1994 | K37: 143502.1
A38: 32492 | B38: NA | C38: NA | D38: 203 | E38: NA | F38: 20.7 | G38: 12.85 | J38: Q4 1994 | K38: 149351.9
... A98: 34318 | B98: NA | C98: NA | D98: 235.2 | E98: NA | F98: 29.5 | G98: 15.15 | J98: Q4 2009 | K98: 303120
A99: 34349 | B99: NA | C99: 49.42 | D99: 232.2 | E99: NA | F99: 29.2 | G99: 11.87 | J99: Q1 2010 | K99: 309909.1
A100: 34380 | B100: NA | C100: 49.56 | D100: 228.9 | E100: NA | F100: 29.2 | G100: 11.65 | J100: Q2 2010 | K100: 315309.4
A101: 34408 | B101: NA | C101: 49.77 | D101: 229 | E101: NA | F101: 29.8 | G101: 14.77 | J101: Q3 2010 | K101: 318468.6
A102: 34439 | B102: NA | C102: 50.4 | D102: 227.5 | E102: NA | F102: 29.6 | G102: 14.5 | J102: Q4 2010 | K102: 321620.8
A103: 34469 | B103: NA | C103: 50.05 | D103: 226.6 | E103: NA | F103: 30.5 | G103: 14.72 | J103: Q1 2011 | K103: 324776.1
A104: 34500 | B104: NA | C104: 50.33 | D104: 224.2 | E104: NA | F104: 31 | G104: 15.63 | J104: Q2 2011 | K104: 326810.5
A105: 34530 | B105: NA | C105: 51.31 | D105: 221.6 | E105: NA | F105: 29.8 | G105: 14.92 | J105: Q3 2011 | K105: 329205.9
A106: 34561 | B106: NA | C106: 51.24 | D106: 221.6 | E106: NA | F106: 30.6 | G106: 14.5 | J106: Q4 2011 | K106: 331100.1
A107: 34592 | B107: NA | C107: 51.86 | D107: 221.6 | E107: NA | F107: 31.6 | G107: 15.28 | J107: Q1 2012 | K107: 333084
A108: 34622 | B108: NA | C108: 52.84 | D108: 220.3 | E108: NA | F108: 32.1 | G108: 16.31 | J108: Q2 2012 | K108: 334704.9
A109: 34653 | B109: NA | C109: 53.47 | D109: 219.1 | E109: NA | F109: 32.7 | G109: 16.81 | J109: Q3 2012 | K109: 336006
A110: 34683 | B110: NA | C110: 53.33 | D110: 217.5 | E110: NA | F110: 32.5 | G110: 18.91 | J110: Q4 2012 | K110: 338171.6
... A119: 34957 | B119: NA | C119: 54.7 | D119: 222.4 | E119: NA | F119: 34.8 | G119: 18.6 | J119: Q1 2015 | K119: 361971
A120: 34987 | B120: NA | C120: 55.1 | D120: 221.8 | E120: NA | F120: 34.9 | G120: 20.17
A121: 35018 | B121: NA | C121: 55.8 | D121: 220.1 | E121: NA | F121: 35.1 | G121: 19.96
A122: 35048 | B122: NA | C122: 59.1 | D122: 219.8 | E122: NA | F122: 36 | G122: 20.57
A123: 35079 | B123: NA | C123: 59.2 | D123: 222.3 | E123: NA | F123: 35.7 | G123: 18.12
A124: 35110 | B124: NA | C124: 59.5 | D124: 221.6 | E124: NA | F124: 37 | G124: 17.68
A125: 35139 | B125: NA | C125: 59.3 | D125: 218.7 | E125: NA | F125: 36.6 | G125: 20.27
A126: 35170 | B126: NA | C126: 60.7 | D126: 216.7 | E126: NA | F126: 37.8 | G126: 19.55
A127: 35200 | B127: NA | C127: 59.2 | D127: 214.6 | E127: NA | F127: 37.9 | G127: 19.82
A128: 35231 | B128: NA | C128: 59.8 | D128: 210.4 | E128: NA | F128: 36.7 | G128: 20.05
A129: 35261 | B129: NA | C129: 60.3 | D129: 206.5 | E129: NA | F129: 37.5 | G129: 19.26
A130: 35292 | B130: NA | C130: 58.5 | D130: 202.6 | E130: NA | F130: 37.3 | G130: 18.88
A131: 35323 | B131: NA | C131: 60.4 | D131: 200.5 | E131: NA | F131: 37.7 | G131: 19.8
... A163: 36295 | B163: NA | C163: 58.4 | D163: 191.9 | E163: NA | F163: 44.5 | G163: 29.27
A164: 36326 | B164: NA | C164: 59.8 | D164: 189.2 | E164: 20267 | F164: 44.7 | G164: 31.61
A165: 36356 | B165: NA | C165: 62.2 | D165: 183 | E165: 20291 | F165: 46.1 | G165: 30.95
A166: 36387 | B166: NA | C166: 62.1 | D166: 178.7 | E166: 20432 | F166: 46.1 | G166: 29.05
A167: 36418 | B167: NA | C167: 62.9 | D167: 177 | E167: 20767 | F167: 48.5 | G167: 30.6
A168: 36448 | B168: NA | C168: 63.6 | D168: 178 | E168: 20855 | F168: 48.6 | G168: 34.1
A169: 36479 | B169: NA | C169: 64.6 | D169: 178.8 | E169: 20948 | F169: 50.7 | G169: 33.91
A170: 36509 | B170: NA | C170: 64.8 | D170: 176.3 | E170: 20962 | F170: 50.7 | G170: 34.64
A171: 36540 | B171: NA | C171: 64.9 | D171: 175.6 | E171: 20854 | F171: 51.9 | G171: 30.48
A172: 36571 | B172: NA | C172: 66.8 | D172: 179 | E172: 20935 | F172: 52.7 | G172: 29.6
A173: 36600 | B173: NA | C173: 66.3 | D173: 178.2 | E173: 20982 | F173: 52.3 | G173: 34.66
A174: 36631 | B174: NA | C174: 67.7 | D174: 175.5 | E174: 20977 | F174: 51.6 | G174: 32.79
A175: 36661 | B175: NA | C175: 69.3 | D175: 171.9 | E175: 21098 | F175: 53.6 | G175: 35.88
... A272: 39614 | B272: NA | C272: 89.8 | D272: 94.2 | E272: 23563 | F272: 88.9 | G272: 84.4
A273: 39644 | B273: 79 | C273: 92.3 | D273: 101.4 | E273: 23575 | F273: 88.4 | G273: 90.41
A274: 39675 | B274: 94 | C274: 92.3 | D274: 108.1 | E274: 23558 | F274: 88.5 | G274: 79.23
A275: 39706 | B275: 93 | C275: 90.6 | D275: 116.6 | E275: 23533 | F275: 87.7 | G275: 84.33
A276: 39736 | B276: 82 | C276: 89.2 | D276: 125.4 | E276: 23568 | F276: 86.8 | G276: 85.82
A277: 39767 | B277: 78 | C277: 88.7 | D277: 121.7 | E277: 23607 | F277: 77.5 | G277: 70.75
A278: 39797 | B278: 74 | C278: 88 | D278: 113.4 | E278: 23570 | F278: 69.4 | G278: 67.48
A279: 39828 | B279: 80 | C279: 88.3 | D279: 112.1 | E279: 23531 | F279: 71 | G279: 58.7
A280: 39859 | B280: 81 | C280: 92.4 | D280: 111.7 | E280: 23467 | F280: 75.5 | G280: 67.67
A281: 39887 | B281: 78 | C281: 90.7 | D281: 110.1 | E281: 23386 | F281: 79.3 | G281: 77.25
A282: 39918 | B282: 95 | C282: 91.8 | D282: 106.6 | E282: 23392 | F282: 82.2 | G282: 82.5
A283: 39948 | B283: 105 | C283: 95.2 | D283: 104.1 | E283: 23338 | F283: 83.3 | G283: 76.76
A284: 39979 | B284: 107 | C284: 95.4 | D284: 105.6 | E284: 23566 | F284: 86.9 | G284: 83.12
... A352: 42050 | B352: 103 | C352: 112.5 | D352: 100.4 | E352: 25986 | F352: 108.4 | G352: 116.16
A353: 42078 | B353: 101 | C353: NA | D353: 98.9 | E353: 25862 | F353: 108 | G353: 140.72
A354: 42109 | B354: 104 | C354: NA | D354: NA | E354: NA | F354: NA | G354: NA

Sheet sgp_eviews
B1: consconf | C1: retsales | D1: tot | E1: emp | F1: ip | G1: ex | J1: gdp
A2: =sgp_thomson!A3 -> 31427 | B2: =sgp_thomson!N3 -> #N/A N/A | C2: =sgp_thomson!B3 -> 26.469 | D2: =sgp_thomson!C3 -> 166.82 | E2: =sgp_thomson!D3 -> NA | F2: =sgp_thomson!E3 -> 13.4 | G2: =sgp_thomson!F3 -> 6.1 | I2: =sgp_thomson!J3 -> Q1 1986 | J2: =sgp_thomson!K3 -> 14989.8
A3: =sgp_thomson!A4 -> 31458 | B3: =sgp_thomson!N4 -> #N/A N/A | C3: =sgp_thomson!B4 -> 27.061 | D3: =sgp_thomson!C4 -> 171.27 | E3: =sgp_thomson!D4 -> NA | F3: =sgp_thomson!E4 -> 13.8 | G3: =sgp_thomson!F4 -> 6.7 | I3: =sgp_thomson!J4 -> Q2 1986 | J3: =sgp_thomson!K4 -> 15237
A4: =sgp_thomson!A5 -> 31486 | B4: =sgp_thomson!N5 -> #N/A N/A | C4: =sgp_thomson!B5 -> 24.366 | D4: =sgp_thomson!C5 -> 170.4 | E4: =sgp_thomson!D5 -> NA | F4: =sgp_thomson!E5 -> 14.3 | G4: =sgp_thomson!F5 -> 6.4 | I4: =sgp_thomson!J5 -> Q3 1986 | J4: =sgp_thomson!K5 -> 15483.6
A5: =sgp_thomson!A6 -> 31517 | B5: =sgp_thomson!N6 -> #N/A N/A | C5: =sgp_thomson!B6 -> 23.761 | D5: =sgp_thomson!C6 -> 165.66 | E5: =sgp_thomson!D6 -> NA | F5: =sgp_thomson!E6 -> 15.1 | G5: =sgp_thomson!F6 -> 8 | I5: =sgp_thomson!J6 -> Q4 1986 | J5: =sgp_thomson!K6 -> 15913.8
A6: =sgp_thomson!A7 -> 31547 | B6: =sgp_thomson!N7 -> #N/A N/A | C6: =sgp_thomson!B7 -> 23.926 | D6: =sgp_thomson!C7 -> 163.21 | E6: =sgp_thomson!D7 -> NA | F6: =sgp_thomson!E7 -> 15 | G6: =sgp_thomson!F7 -> 7 | I6: =sgp_thomson!J7 -> Q1 1987 | J6: =sgp_thomson!K7 -> 16221.3
A7: =sgp_thomson!A8 -> 31578 | B7: =sgp_thomson!N8 -> #N/A N/A | C7: =sgp_thomson!B8 -> 24.189 | D7: =sgp_thomson!C8 -> 164.37 | E7: =sgp_thomson!D8 -> NA | F7: =sgp_thomson!E8 -> 14.7 | G7: =sgp_thomson!F8 -> 7.7 | I7: =sgp_thomson!J8 -> Q2 1987 | J7: =sgp_thomson!K8 -> 16783.8
A8: =sgp_thomson!A9 -> 31608 | B8: =sgp_thomson!N9 -> #N/A N/A | C8: =sgp_thomson!B9 -> 24.884 | D8: =sgp_thomson!C9 -> 163.07 | E8: =sgp_thomson!D9 -> NA | F8: =sgp_thomson!E9 -> 15.3 | G8: =sgp_thomson!F9 -> 7.6 | I8: =sgp_thomson!J9 -> Q3 1987 | J8: =sgp_thomson!K9 -> 17373.8
A9: =sgp_thomson!A10 -> 31639 | B9: =sgp_thomson!N10 -> #N/A N/A | C9: =sgp_thomson!B10 -> 24.373 | D9: =sgp_thomson!C10 -> 156.76 | E9: =sgp_thomson!D10 -> NA | F9: =sgp_thomson!E10 -> 14.9 | G9: =sgp_thomson!F10 -> 8.1 | I9: =sgp_thomson!J10 -> Q4 1987 | J9: =sgp_thomson!K10 -> 17881.9
A10: =sgp_thomson!A11 -> 31670 | B10: =sgp_thomson!N11 -> #N/A N/A | C10: =sgp_thomson!B11 -> 24.339 | D10: =sgp_thomson!C11 -> 157.41 | E10: =sgp_thomson!D11 -> NA | F10: =sgp_thomson!E11 -> 16.4 | G10: =sgp_thomson!F11 -> 7.7 | I10: =sgp_thomson!J11 -> Q1 1988 | J10: =sgp_thomson!K11 -> 18019.4
A11: =sgp_thomson!A12 -> 31700 | B11: =sgp_thomson!N12 -> #N/A N/A | C11: =sgp_thomson!B12 -> 24.2 | D11: =sgp_thomson!C12 -> 159.12 | E11: =sgp_thomson!D12 -> NA | F11: =sgp_thomson!E12 -> 15.9 | G11: =sgp_thomson!F12 -> 7.7 | I11: =sgp_thomson!J12 -> Q2 1988 | J11: =sgp_thomson!K12 -> 18780.5
A12: =sgp_thomson!A13 -> 31731 | B12: =sgp_thomson!N13 -> #N/A N/A | C12: =sgp_thomson!B13 -> 24.572 | D12: =sgp_thomson!C13 -> 161.06 | E12: =sgp_thomson!D13 -> NA | F12: =sgp_thomson!E13 -> 15.7 | G12: =sgp_thomson!F13 -> 7.8 | I12: =sgp_thomson!J13 -> Q3 1988 | J12: =sgp_thomson!K13 -> 19274.8
A13: =sgp_thomson!A14 -> 31761 | B13: =sgp_thomson!N14 -> #N/A N/A | C13: =sgp_thomson!B14 -> 25.122 | D13: =sgp_thomson!C14 -> 160.64 | E13: =sgp_thomson!D14 -> NA | F13: =sgp_thomson!E14 -> 16.7 | G13: =sgp_thomson!F14 -> 8.3 | I13: =sgp_thomson!J14 -> Q4 1988 | J13: =sgp_thomson!K14 -> 19786.6
... A117: =sgp_thomson!A118 -> 34926 | B117: =sgp_thomson!N118 -> #N/A N/A | C117: =sgp_thomson!B118 -> 52.452 | D117: =sgp_thomson!C118 -> 138.73 | E117: =sgp_thomson!D118 -> NA | F117: =sgp_thomson!E118 -> 40.8 | G117: =sgp_thomson!F118 -> 32.9 | I117: =sgp_thomson!J118 -> Q4 2014 | J117: =sgp_thomson!K118 -> 96289
A118: =sgp_thomson!A119 -> 34957 | B118: =sgp_thomson!N119 -> #N/A N/A | C118: =sgp_thomson!B119 -> 54.257 | D118: =sgp_thomson!C119 -> 138.97 | E118: =sgp_thomson!D119 -> NA | F118: =sgp_thomson!E119 -> 40 | G118: =sgp_thomson!F119 -> 32.7
A119: =sgp_thomson!A120 -> 34987 | B119: =sgp_thomson!N120 -> #N/A N/A | C119: =sgp_thomson!B120 -> 52.397 | D119: =sgp_thomson!C120 -> 140.18 | E119: =sgp_thomson!D120 -> NA | F119: =sgp_thomson!E120 -> 38.2 | G119: =sgp_thomson!F120 -> 33
A120: =sgp_thomson!A121 -> 35018 | B120: =sgp_thomson!N121 -> #N/A N/A | C120: =sgp_thomson!B121 -> 53.146 | D120: =sgp_thomson!C121 -> 140.15 | E120: =sgp_thomson!D121 -> NA | F120: =sgp_thomson!E121 -> 40.4 | G120: =sgp_thomson!F121 -> 33.9
A121: =sgp_thomson!A122 -> 35048 | B121: =sgp_thomson!N122 -> #N/A N/A | C121: =sgp_thomson!B122 -> 50.796 | D121: =sgp_thomson!C122 -> 140.28 | E121: =sgp_thomson!D122 -> NA | F121: =sgp_thomson!E122 -> 38.2 | G121: =sgp_thomson!F122 -> 31.2
A122: =sgp_thomson!A123 -> 35079 | B122: =sgp_thomson!N123 -> #N/A N/A | C122: =sgp_thomson!B123 -> 51.595 | D122: =sgp_thomson!C123 -> 139.3 | E122: =sgp_thomson!D123 -> NA | F122: =sgp_thomson!E123 -> 41.3 | G122: =sgp_thomson!F123 -> 33
A123: =sgp_thomson!A124 -> 35110 | B123: =sgp_thomson!N124 -> #N/A N/A | C123: =sgp_thomson!B124 -> 52.003 | D123: =sgp_thomson!C124 -> 139.27 | E123: =sgp_thomson!D124 -> NA | F123: =sgp_thomson!E124 -> 39.9 | G123: =sgp_thomson!F124 -> 26.9
A124: =sgp_thomson!A125 -> 35139 | B124: =sgp_thomson!N125 -> #N/A N/A | C124: =sgp_thomson!B125 -> 52.381 | D124: =sgp_thomson!C125 -> 139.43 | E124: =sgp_thomson!D125 -> NA | F124: =sgp_thomson!E125 -> 40.5 | G124: =sgp_thomson!F125 -> 34.2
A125: =sgp_thomson!A126 -> 35170 | B125: =sgp_thomson!N126 -> #N/A N/A | C125: =sgp_thomson!B126 -> 52.5 | D125: =sgp_thomson!C126 -> 139.81 | E125: =sgp_thomson!D126 -> NA | F125: =sgp_thomson!E126 -> 39.6 | G125: =sgp_thomson!F126 -> 32.1
A126: =sgp_thomson!A127 -> 35200 | B126: =sgp_thomson!N127 -> #N/A N/A | C126: =sgp_thomson!B127 -> 52.413 | D126: =sgp_thomson!C127 -> 139.22 | E126: =sgp_thomson!D127 -> NA | F126: =sgp_thomson!E127 -> 39.6 | G126: =sgp_thomson!F127 -> 32.6
A127: =sgp_thomson!A128 -> 35231 | B127: =sgp_thomson!N128 -> #N/A N/A | C127: =sgp_thomson!B128 -> 53.083 | D127: =sgp_thomson!C128 -> 139.45 | E127: =sgp_thomson!D128 -> NA | F127: =sgp_thomson!E128 -> 36.9 | G127: =sgp_thomson!F128 -> 31
A128: =sgp_thomson!A129 -> 35261 | B128: =sgp_thomson!N129 -> #N/A N/A | C128: =sgp_thomson!B129 -> 53.678 | D128: =sgp_thomson!C129 -> 139.77 | E128: =sgp_thomson!D129 -> NA | F128: =sgp_thomson!E129 -> 38.9 | G128: =sgp_thomson!F129 -> 33.5
A129: =sgp_thomson!A130 -> 35292 | B129: =sgp_thomson!N130 -> #N/A N/A | C129: =sgp_thomson!B130 -> 51.655 | D129: =sgp_thomson!C130 -> 138.23 | E129: =sgp_thomson!D130 -> NA | F129: =sgp_thomson!E130 -> 38.2 | G129: =sgp_thomson!F130 -> 31.7
... A366: =sgp_thomson!A367 -> 0 | B366: =sgp_thomson!N367 -> 0 | C366: =sgp_thomson!B367 -> 0 | D366: =sgp_thomson!C367 -> 0 | E366: =sgp_thomson!D367 -> 0 | F366: =sgp_thomson!E367 -> 0 | G366: =sgp_thomson!F367 -> 0

Sheet sgp_thomson
A1: =_xll.Thomson.Reuters.AFOSpreadsheetFormulas.DSGRID("SPRETTOTG,SPTOTPRCF,SPPMIMEMQ,SPIPMAN.G,SPI72...H"," ","1986-01-01","TIME","M","RowHeader=true;ColHeader=true;Code=true;SeriesMetaDataLink=true;DispSeriesDescription=false;YearlyTSFormat=false;QuarterlyTSFormat=false","") -> Application offline! Unable to process the request | B1: SP RETAIL SALES INDEX (CONSTANT) VOLA | C1: SP TERMS OF TRADE NADJ | D1: SP SIPMM/MARKIT PMI: MANUFACTURING - EMPLOYMENT NADJ | E1: SP INDUSTRIAL PRODUCTION: MANUFACTURING VOLA | F1: SP EXTERNAL TRADE: GOODS, VOLUME OF EXPORTS VOLN | J1: =_xll.Thomson.Reuters.AFOSpreadsheetFormulas.DSGRID("SPGDP...D"," ","1986-01-01","TIME","Q","RowHeader=true;ColHeader=true;Code=true;SeriesMetaDataLink=true;DispSeriesDescription=false;YearlyTSFormat=false;QuarterlyTSFormat=false","") -> Application offline! Unable to process the request | K1: SP GDP AT MARKET PRICES CONA | N1: SGP Cons. Conf.
A2: Code | B2: SPRETTOTG | C2: SPTOTPRCF | D2: SPPMIMEMQ | E2: SPIPMAN.G | F2: SPI72...H | J2: Code | K2: SPGDP...D | M2: PX_LAST | N2: SIANCCT Index
A3: 31427 | B3: 26.469 | C3: 166.82 | D3: NA | E3: 13.4 | F3: 6.1 | J3: Q1 1986 | K3: 14989.8 | M3: =_xll.BDH(N2,M2:M2,"1/1/1986","","Dir=V","Dts=S","Sort=a","Quote=g","QtTyp=Y","Days=w","Per=cm","DtFmt=D","Fill=P","UseDPDF=Y","cols=2;rows=352") -> #N/A | N3: #N/A N/A
A4: 31458 | B4: 27.061 | C4: 171.27 | D4: NA | E4: 13.8 | F4: 6.7 | J4: Q2 1986 | K4: 15237 | M4: 31471 | N4: #N/A N/A
A5: 31486 | B5: 24.366 | C5: 170.4 | D5: NA | E5: 14.3 | F5: 6.4 | J5: Q3 1986 | K5: 15483.6 | M5: 31502 | N5: #N/A N/A
A6: 31517 | B6: 23.761 | C6: 165.66 | D6: NA | E6: 15.1 | F6: 8 | J6: Q4 1986 | K6: 15913.8 | M6: 31532 | N6: #N/A N/A
A7: 31547 | B7: 23.926 | C7: 163.21 | D7: NA | E7: 15 | F7: 7 | J7: Q1 1987 | K7: 16221.3 | M7: 31563 | N7: #N/A N/A
A8: 31578 | B8: 24.189 | C8: 164.37 | D8: NA | E8: 14.7 | F8: 7.7 | J8: Q2 1987 | K8: 16783.8 | M8: 31593 | N8: #N/A N/A
A9: 31608 | B9: 24.884 | C9: 163.07 | D9: NA | E9: 15.3 | F9: 7.6 | J9: Q3 1987 | K9: 17373.8 | M9: 31624 | N9: #N/A N/A
A10: 31639 | B10: 24.373 | C10: 156.76 | D10: NA | E10: 14.9 | F10: 8.1 | J10: Q4 1987 | K10: 17881.9 | M10: 31655 | N10: #N/A N/A
A11: 31670 | B11: 24.339 | C11: 157.41 | D11: NA | E11: 16.4 | F11: 7.7 | J11: Q1 1988 | K11: 18019.4 | M11: 31685 | N11: #N/A N/A
A12: 31700 | B12: 24.2 | C12: 159.12 | D12: NA | E12: 15.9 | F12: 7.7 | J12: Q2 1988 | K12: 18780.5 | M12: 31716 | N12: #N/A N/A
A13: 31731 | B13: 24.572 | C13: 161.06 | D13: NA | E13: 15.7 | F13: 7.8 | J13: Q3 1988 | K13: 19274.8 | M13: 31746 | N13: #N/A N/A
A14: 31761 | B14: 25.122 | C14: 160.64 | D14: NA | E14: 16.7 | F14: 8.3 | J14: Q4 1988 | K14: 19786.6 | M14: 31777 | N14: #N/A N/A
A15: 31792 | B15: 25.901 | C15: 155.75 | D15: NA | E15: 15.6 | F15: 7.4 | J15: Q1 1989 | K15: 19801.7 | M15: 31808 | N15: #N/A N/A
... A118: 34926 | B118: 52.452 | C118: 138.73 | D118: NA | E118: 40.8 | F118: 32.9 | J118: Q4 2014 | K118: 96289 | M118: 34942 | N118: #N/A N/A
A119: 34957 | B119: 54.257 | C119: 138.97 | D119: NA | E119: 40 | F119: 32.7 | M119: 34972 | N119: #N/A N/A
A120: 34987 | B120: 52.397 | C120: 140.18 | D120: NA | E120: 38.2 | F120: 33 | M120: 35003 | N120: #N/A N/A
A121: 35018 | B121: 53.146 | C121: 140.15 | D121: NA | E121: 40.4 | F121: 33.9 | M121: 35033 | N121: #N/A N/A
A122: 35048 | B122: 50.796 | C122: 140.28 | D122: NA | E122: 38.2 | F122: 31.2 | M122: 35064 | N122: #N/A N/A
A123: 35079 | B123: 51.595 | C123: 139.3 | D123: NA | E123: 41.3 | F123: 33 | M123: 35095 | N123: #N/A N/A
A124: 35110 | B124: 52.003 | C124: 139.27 | D124: NA | E124: 39.9 | F124: 26.9 | M124: 35124 | N124: #N/A N/A
A125: 35139 | B125: 52.381 | C125: 139.43 | D125: NA | E125: 40.5 | F125: 34.2 | M125: 35155 | N125: #N/A N/A
A126: 35170 | B126: 52.5 | C126: 139.81 | D126: NA | E126: 39.6 | F126: 32.1 | M126: 35185 | N126: #N/A N/A
A127: 35200 | B127: 52.413 | C127: 139.22 | D127: NA | E127: 39.6 | F127: 32.6 | M127: 35216 | N127: #N/A N/A
A128: 35231 | B128: 53.083 | C128: 139.45 | D128: NA | E128: 36.9 | F128: 31 | M128: 35246 | N128: #N/A N/A
A129: 35261 | B129: 53.678 | C129: 139.77 | D129: NA | E129: 38.9 | F129: 33.5 | M129: 35277 | N129: #N/A N/A
A130: 35292 | B130: 51.655 | C130: 138.23 | D130: NA | E130: 38.2 | F130: 31.7 | M130: 35308 | N130: #N/A N/A
... A158: 36144 | B158: 53.895 | C158: 134 | D158: NA | E158: 42.9 | F158: 35.5 | M158: 36160 | N158: #N/A N/A
A159: 36175 | B159: 50.014 | C159: 134.6 | D159: 43.5 | E159: 41.6 | F159: 31.1 | M159: 36191 | N159: #N/A N/A
A160: 36206 | B160: 51.657 | C160: 135.19 | D160: 45.1 | E160: 45.3 | F160: 29 | M160: 36219 | N160: #N/A N/A
A161: 36234 | B161: 52.595 | C161: 134.48 | D161: 45.8 | E161: 45.4 | F161: 37.6 | M161: 36250 | N161: #N/A N/A
A162: 36265 | B162: 54.366 | C162: 133.77 | D162: 48.7 | E162: 44.1 | F162: 36.4 | M162: 36280 | N162: #N/A N/A
A163: 36295 | B163: 55.785 | C163: 132.72 | D163: 50.2 | E163: 44.9 | F163: 35.5 | M163: 36311 | N163: #N/A N/A
A164: 36326 | B164: 59.253 | C164: 133.39 | D164: 53.7 | E164: 48.6 | F164: 37.6 | M164: 36341 | N164: #N/A N/A
A165: 36356 | B165: 58.15 | C165: 134.1 | D165: 52.6 | E165: 47.1 | F165: 36.8 | M165: 36372 | N165: #N/A N/A
A166: 36387 | B166: 62.061 | C166: 134.67 | D166: 53.6 | E166: 46.4 | F166: 36 | M166: 36403 | N166: #N/A N/A
A167: 36418 | B167: 64.257 | C167: 134.67 | D167: 54.2 | E167: 49 | F167: 39 | M167: 36433 | N167: #N/A N/A
A168: 36448 | B168: 64.375 | C168: 132.8 | D168: 54.2 | E168: 47.8 | F168: 39.4 | M168: 36464 | N168: #N/A N/A
A169: 36479 | B169: 62.776 | C169: 132.48 | D169: 53.1 | E169: 48.4 | F169: 39.7 | M169: 36494 | N169: #N/A N/A
A170: 36509 | B170: 62.041 | C170: 131.85 | D170: 52 | E170: 45.9 | F170: 42 | M170: 36525 | N170: #N/A N/A
... A338: 41623 | B338: 97.45 | C338: 99.2 | D338: 49.7 | E338: 107.5 | F338: 106.9 | M338: 41639 | N338: #N/A N/A
A339: 41654 | B339: 98.55 | C339: 99.35 | D339: 48.9 | E339: 99.5 | F339: 109.7 | M339: 41670 | N339: 125.2
A340: 41685 | B340: 100.414 | C340: 99.17 | D340: 50.1 | E340: 106 | F340: 102.8 | M340: 41698 | N340: 121
A341: 41713 | B341: 99.161 | C341: 99.47 | D341: 50.7 | E341: 112.6 | F341: 113.8 | M341: 41729 | N341: 114.8
A342: 41744 | B342: 97.514 | C342: 99.55 | D342: 49.7 | E342: 108.9 | F342: 118.8 | M342: 41759 | N342: 118.8
A343: 41774 | B343: 98.809 | C343: 99.19 | D343: 49.3 | E343: 103.1 | F343: 112.7 | M343: 41790 | N343: 116.9
A344: 41805 | B344: 98.453 | C344: 99.3 | D344: 50.6 | E344: 103.7 | F344: 112.2 | M344: 41820 | N344: 118
A345: 41835 | B345: 97.577 | C345: 99.13 | D345: 50.1 | E345: 105.6 | F345: 113.6 | M345: 41851 | N345: 135.9
A346: 41866 | B346: 101.674 | C346: 99.88 | D346: 48.6 | E346: 104.2 | F346: 111.7 | M346: 41882 | N346: 119
A347: 41897 | B347: 101.267 | C347: 100.74 | D347: 48.8 | E347: 100.7 | F347: 115.5 | M347: 41912 | N347: 120.7
A348: 41927 | B348: 102.864 | C348: 102.18 | D348: 50.3 | E348: 104.1 | F348: 117.3 | M348: 41943 | N348: 120.2
A349: 41958 | B349: 101.804 | C349: 104.35 | D349: 52 | E349: 102.1 | F349: 108.4 | M349: 41973 | N349: 120.9
A350: 41988 | B350: 101.071 | C350: 105.88 | D350: 49.7 | E350: 104.7 | F350: 114.3 | M350: 42004 | N350: 121.8
... A352: 42050 | B352: 102.548 | C352: 106.39 | D352: 49.9 | E352: 104.3 | F352: 93.3 | M352: 42063 | N352: 120.7
A353: 42078 | B353: NA | C353: 106.75 | D353: 49.7 | E353: 105.6 | F353: NA | M353: 42094 | N353: 124.5
M354: 42124 | N354: 124.5

Sheet tur_eviews
B1: consconf | C1: retsales | D1: tot | E1: emp | F1: ip | G1: ex | J1: gdp
A2: =tur_thomson!A3 -> 31427 | B2: =tur_thomson!B3 -> NA | C2: =tur_thomson!C3 -> NA | D2: =tur_thomson!D3 -> 109.63 | E2: =tur_thomson!E3 -> NA | F2: =tur_thomson!F3 -> NA | G2: =tur_thomson!G3 -> NA | I2: =tur_thomson!J3 -> Q1 1986 | J2: =tur_thomson!K3 -> NA
A3: =tur_thomson!A4 -> 31458 | B3: =tur_thomson!B4 -> NA | C3: =tur_thomson!C4 -> NA | D3: =tur_thomson!D4 -> 116.4 | E3: =tur_thomson!E4 -> NA | F3: =tur_thomson!F4 -> NA | G3: =tur_thomson!G4 -> NA | I3: =tur_thomson!J4 -> Q2 1986 | J3: =tur_thomson!K4 -> NA
A4: =tur_thomson!A5 -> 31486 | B4: =tur_thomson!B5 -> NA | C4: =tur_thomson!C5 -> NA | D4: =tur_thomson!D5 -> 124.88 | E4: =tur_thomson!E5 -> NA | F4: =tur_thomson!F5 -> NA | G4: =tur_thomson!G5 -> NA | I4: =tur_thomson!J5 -> Q3 1986 | J4: =tur_thomson!K5 -> NA
A5: =tur_thomson!A6 -> 31517 | B5: =tur_thomson!B6 -> NA | C5: =tur_thomson!C6 -> NA | D5: =tur_thomson!D6 -> 133.45 | E5: =tur_thomson!E6 -> NA | F5: =tur_thomson!F6 -> NA | G5: =tur_thomson!G6 -> NA | I5: =tur_thomson!J6 -> Q4 1986 | J5: =tur_thomson!K6 -> NA
A6: =tur_thomson!A7 -> 31547 | B6: =tur_thomson!B7 -> NA | C6: =tur_thomson!C7 -> NA | D6: =tur_thomson!D7 -> 132.15 | E6: =tur_thomson!E7 -> NA | F6: =tur_thomson!F7 -> NA | G6: =tur_thomson!G7 -> NA | I6: =tur_thomson!J7 -> Q1 1987 | J6: =tur_thomson!K7 -> NA
A7: =tur_thomson!A8 -> 31578 | B7: =tur_thomson!B8 -> NA | C7: =tur_thomson!C8 -> NA | D7: =tur_thomson!D8 -> 139.43 | E7: =tur_thomson!E8 -> NA | F7: =tur_thomson!F8 -> NA | G7: =tur_thomson!G8 -> NA | I7: =tur_thomson!J8 -> Q2 1987 | J7: =tur_thomson!K8 -> NA
A8: =tur_thomson!A9 -> 31608 | B8: =tur_thomson!B9 -> NA | C8: =tur_thomson!C9 -> NA | D8: =tur_thomson!D9 -> 141.89 | E8: =tur_thomson!E9 -> NA | F8: =tur_thomson!F9 -> NA | G8: =tur_thomson!G9 -> NA | I8: =tur_thomson!J9 -> Q3 1987 | J8: =tur_thomson!K9 -> NA
A9: =tur_thomson!A10 -> 31639 | B9: =tur_thomson!B10 -> NA | C9: =tur_thomson!C10 -> NA | D9: =tur_thomson!D10 -> 125.45 | E9: =tur_thomson!E10 -> NA | F9: =tur_thomson!F10 -> NA | G9: =tur_thomson!G10 -> NA | I9: =tur_thomson!J10 -> Q4 1987 | J9: =tur_thomson!K10 -> NA
A10: =tur_thomson!A11 -> 31670 | B10: =tur_thomson!B11 -> NA | C10: =tur_thomson!C11 -> NA | D10: =tur_thomson!D11 -> 119.73 | E10: =tur_thomson!E11 -> NA | F10: =tur_thomson!F11 -> NA | G10: =tur_thomson!G11 -> NA | I10: =tur_thomson!J11 -> Q1 1988 | J10: =tur_thomson!K11 -> NA
A11: =tur_thomson!A12 -> 31700 | B11: =tur_thomson!B12 -> NA | C11: =tur_thomson!C12 -> NA | D11: =tur_thomson!D12 -> 127.52 | E11: =tur_thomson!E12 -> NA | F11: =tur_thomson!F12 -> NA | G11: =tur_thomson!G12 -> NA | I11: =tur_thomson!J12 -> Q2 1988 | J11: =tur_thomson!K12 -> NA
A12: =tur_thomson!A13 -> 31731 | B12: =tur_thomson!B13 -> NA | C12: =tur_thomson!C13 -> NA | D12: =tur_thomson!D13 -> 128.46 | E12: =tur_thomson!E13 -> NA | F12: =tur_thomson!F13 -> NA | G12: =tur_thomson!G13 -> NA | I12: =tur_thomson!J13 -> Q3 1988 | J12: =tur_thomson!K13 -> NA
A13: =tur_thomson!A14 -> 31761 | B13: =tur_thomson!B14 -> NA | C13: =tur_thomson!C14 -> NA | D13: =tur_thomson!D14 -> 120.83 | E13: =tur_thomson!E14 -> NA | F13: =tur_thomson!F14 -> NA | G13: =tur_thomson!G14 -> NA | I13: =tur_thomson!J14 -> Q4 1988 | J13: =tur_thomson!K14 -> NA
... A119: =tur_thomson!A120 -> 34987 | B119: =tur_thomson!B120 -> NA | C119: =tur_thomson!C120 -> NA | D119: =tur_thomson!D120 -> 129.95 | E119: =tur_thomson!E120 -> NA | F119: =tur_thomson!F120 -> NA | G119: =tur_thomson!G120 -> NA | I119: =tur_thomson!J120 -> Q2 2015 | J119: =tur_thomson!K120 -> NA
A120: =tur_thomson!A121 -> 35018 | B120: =tur_thomson!B121 -> NA | C120: =tur_thomson!C121 -> NA | D120: =tur_thomson!D121 -> 137.14 | E120: =tur_thomson!E121 -> NA | F120: =tur_thomson!F121 -> NA | G120: =tur_thomson!G121 -> NA
A121: =tur_thomson!A122 -> 35048 | B121: =tur_thomson!B122 -> NA | C121: =tur_thomson!C122 -> NA | D121: =tur_thomson!D122 -> 123.5 | E121: =tur_thomson!E122 -> NA | F121: =tur_thomson!F122 -> NA | G121: =tur_thomson!G122 -> NA
A122: =tur_thomson!A123 -> 35079 | B122: =tur_thomson!B123 -> NA | C122: =tur_thomson!C123 -> NA | D122: =tur_thomson!D123 -> 123.52 | E122: =tur_thomson!E123 -> NA | F122: =tur_thomson!F123 -> NA | G122: =tur_thomson!G123 -> NA
A123: =tur_thomson!A124 -> 35110 | B123: =tur_thomson!B124 -> NA | C123: =tur_thomson!C124 -> NA | D123: =tur_thomson!D124 -> 118.49 | E123: =tur_thomson!E124 -> NA | F123: =tur_thomson!F124 -> NA | G123: =tur_thomson!G124 -> NA
A124: =tur_thomson!A125 -> 35139 | B124: =tur_thomson!B125 -> NA | C124: =tur_thomson!C125 -> NA | D124: =tur_thomson!D125 -> 121.69 | E124: =tur_thomson!E125 -> NA | F124: =tur_thomson!F125 -> NA | G124: =tur_thomson!G125 -> NA
A125: =tur_thomson!A126 -> 35170 | B125: =tur_thomson!B126 -> NA | C125: =tur_thomson!C126 -> NA | D125: =tur_thomson!D126 -> 110.56 | E125: =tur_thomson!E126 -> NA | F125: =tur_thomson!F126 -> NA | G125: =tur_thomson!G126 -> NA
A126: =tur_thomson!A127 -> 35200 | B126: =tur_thomson!B127 -> NA | C126: =tur_thomson!C127 -> NA | D126: =tur_thomson!D127 -> 118.81 | E126: =tur_thomson!E127 -> NA | F126: =tur_thomson!F127 -> NA | G126: =tur_thomson!G127 -> NA
A127: =tur_thomson!A128 -> 35231 | B127: =tur_thomson!B128 -> NA | C127: =tur_thomson!C128 -> NA | D127: =tur_thomson!D128 -> 123.01 | E127: =tur_thomson!E128 -> NA | F127: =tur_thomson!F128 -> NA | G127: =tur_thomson!G128 -> NA
A128: =tur_thomson!A129 -> 35261 | B128: =tur_thomson!B129 -> NA | C128: =tur_thomson!C129 -> NA | D128: =tur_thomson!D129 -> 119.68 | E128: =tur_thomson!E129 -> NA | F128: =tur_thomson!F129 -> NA | G128: =tur_thomson!G129 -> NA
A129: =tur_thomson!A130 -> 35292 | B129: =tur_thomson!B130 -> NA | C129: =tur_thomson!C130 -> NA | D129: =tur_thomson!D130 -> 120.3 | E129: =tur_thomson!E130 -> NA | F129: =tur_thomson!F130 -> NA | G129: =tur_thomson!G130 -> NA
A130: =tur_thomson!A131 -> 35323 | B130: =tur_thomson!B131 -> NA | C130: =tur_thomson!C131 -> NA | D130: =tur_thomson!D131 -> 115.51 | E130: =tur_thomson!E131 -> NA | F130: =tur_thomson!F131 -> NA | G130: =tur_thomson!G131 -> NA
A131: =tur_thomson!A132 -> 35353 | B131: =tur_thomson!B132 -> NA | C131: =tur_thomson!C132 -> NA | D131: =tur_thomson!D132 -> 117.85 | E131: =tur_thomson!E132 -> NA | F131: =tur_thomson!F132 -> NA | G131: =tur_thomson!G132 -> NA
... A365: =tur_thomson!A366 -> 0 | B365: =tur_thomson!B366 -> 0 | C365: =tur_thomson!C366 -> 0 | D365: =tur_thomson!D366 -> 0 | E365: =tur_thomson!E366 -> 0 | F365: =tur_thomson!F366 -> 0 | G365: =tur_thomson!G366 -> 0

Sheet tur_thomson
A1: =_xll.Thomson.Reuters.AFOSpreadsheetFormulas.DSGRID("TKCNFCNSH,TKRETTOTG,TKTOTPRCF,TKEMPTOTO,TKIPTOT.H,TKEXVICAG"," ","1986-01-01","TIME","M","RowHeader=true;ColHeader=true;Code=true;SeriesMetaDataLink=true;DispSeriesDescription=false;YearlyTSFormat=false;QuarterlyTSFormat=false","") -> Application offline! Unable to process the request | B1: TK CONSUMER CONFIDENCE INDICATOR VOLN | C1: TK RETAIL SALES (CAL ADJ) VOLA | D1: TK TERMS OF TRADE NADJ | E1: TK LABOR FORCE - EMPLOYED (SA) VOLA | F1: TK INDUSTRIAL PRODUCTION VOLN | G1: TK EXPORT VOLUME INDEX (CAL ADJ) VOLA | J1: =_xll.Thomson.Reuters.AFOSpreadsheetFormulas.DSGRID("TKGDPCALD"," ","1986-01-01","-0D","Q","RowHeader=true;ColHeader=true;Code=true;SeriesMetaDataLink=true;DispSeriesDescription=false;YearlyTSFormat=false;QuarterlyTSFormat=false","") -> Application offline! Unable to process the request | K1: TK GDP (CAL ADJ) CONA
A2: Code | B2: TKCNFCNSH | C2: TKRETTOTG | D2: TKTOTPRCF | E2: TKEMPTOTO | F2: TKIPTOT.H | G2: TKEXVICAG | J2: Code | K2: TKGDPCALD
A3: 31427 | B3: NA | C3: NA | D3: 109.63 | E3: NA | F3: NA | G3: NA | J3: Q1 1986 | K3: NA
A4: 31458 | B4: NA | C4: NA | D4: 116.4 | E4: NA | F4: NA | G4: NA | J4: Q2 1986 | K4: NA
A5: 31486 | B5: NA | C5: NA | D5: 124.88 | E5: NA | F5: NA | G5: NA | J5: Q3 1986 | K5: NA
A6: 31517 | B6: NA | C6: NA | D6: 133.45 | E6: NA | F6: NA | G6: NA | J6: Q4 1986 | K6: NA
A7: 31547 | B7: NA | C7: NA | D7: 132.15 | E7: NA | F7: NA | G7: NA | J7: Q1 1987 | K7: NA
A8: 31578 | B8: NA | C8: NA | D8: 139.43 | E8: NA | F8: NA | G8: NA | J8: Q2 1987 | K8: NA
A9: 31608 | B9: NA | C9: NA | D9: 141.89 | E9: NA | F9: NA | G9: NA | J9: Q3 1987 | K9: NA
A10: 31639 | B10: NA | C10: NA | D10: 125.45 | E10: NA | F10: NA | G10: NA | J10: Q4 1987 | K10: NA
A11: 31670 | B11: NA | C11: NA | D11: 119.73 | E11: NA | F11: NA | G11: NA | J11: Q1 1988 | K11: NA
A12: 31700 | B12: NA | C12: NA | D12: 127.52 | E12: NA | F12: NA | G12: NA | J12: Q2 1988 | K12: NA
A13: 31731 | B13: NA | C13: NA | D13: 128.46 | E13: NA | F13: NA | G13: NA | J13: Q3 1988 | K13: NA
A14: 31761 | B14: NA | C14: NA | D14: 120.83 | E14: NA | F14: NA | G14: NA | J14: Q4 1988 | K14: NA
... A50: 32857 | B50: NA | C50: NA | D50: 118.73 | E50: NA | F50: NA | G50: NA | J50: Q4 1997 | K50: NA
A51: 32888 | B51: NA | C51: NA | D51: 123.47 | E51: NA | F51: NA | G51: NA | J51: Q1 1998 | K51: 17.46
A52: 32919 | B52: NA | C52: NA | D52: 126.43 | E52: NA | F52: NA | G52: NA | J52: Q2 1998 | K52: 17.664
A53: 32947 | B53: NA | C53: NA | D53: 123.2 | E53: NA | F53: NA | G53: NA | J53: Q3 1998 | K53: 17.635
A54: 32978 | B54: NA | C54: NA | D54: 124.82 | E54: NA | F54: NA | G54: NA | J54: Q4 1998 | K54: 17.444
A55: 33008 | B55: NA | C55: NA | D55: 129.42 | E55: NA | F55: NA | G55: NA | J55: Q1 1999 | K55: 16.956
A56: 33039 | B56: NA | C56: NA | D56: 132.45 | E56: NA | F56: NA | G56: NA | J56: Q2 1999 | K56: 16.94
A57: 33069 | B57: NA | C57: NA | D57: 134.82 | E57: NA | F57: NA | G57: NA | J57: Q3 1999 | K57: 16.832
A58: 33100 | B58: NA | C58: NA | D58: 126.46 | E58: NA | F58: NA | G58: NA | J58: Q4 1999 | K58: 17.113
A59: 33131 | B59: NA | C59: NA | D59: 118.39 | E59: NA | F59: NA | G59: NA | J59: Q1 2000 | K59: 17.62
A60: 33161 | B60: NA | C60: NA | D60: 113.25 | E60: NA | F60: NA | G60: NA | J60: Q2 2000 | K60: 18.009
A61: 33192 | B61: NA | C61: NA | D61: 115.67 | E61: NA | F61: NA | G61: NA | J61: Q3 2000 | K61: 18.301
A62: 33222 | B62: NA | C62: NA | D62: 117.57 | E62: NA | F62: NA | G62: NA | J62: Q4 2000 | K62: 18.507
... A118: 34926 | B118: NA | C118: NA | D118: 124.77 | E118: NA | F118: NA | G118: NA | J118: Q4 2014 | K118: 31.73
A119: 34957 | B119: NA | C119: NA | D119: 122.77 | E119: NA | F119: NA | G119: NA | J119: Q1 2015 | K119: NA
A120: 34987 | B120: NA | C120: NA | D120: 129.95 | E120: NA | F120: NA | G120: NA | J120: Q2 2015 | K120: NA
A121: 35018 | B121: NA | C121: NA | D121: 137.14 | E121: NA | F121: NA | G121: NA
A122: 35048 | B122: NA | C122: NA | D122: 123.5 | E122: NA | F122: NA | G122: NA
A123: 35079 | B123: NA | C123: NA | D123: 123.52 | E123: NA | F123: NA | G123: NA
A124: 35110 | B124: NA | C124: NA | D124: 118.49 | E124: NA | F124: NA | G124: NA
A125: 35139 | B125: NA | C125: NA | D125: 121.69 | E125: NA | F125: NA | G125: NA
A126: 35170 | B126: NA | C126: NA | D126: 110.56 | E126: NA | F126: NA | G126: NA
A127: 35200 | B127: NA | C127: NA | D127: 118.81 | E127: NA | F127: NA | G127: NA
A128: 35231 | B128: NA | C128: NA | D128: 123.01 | E128: NA | F128: NA | G128: NA
A129: 35261 | B129: NA | C129: NA | D129: 119.68 | E129: NA | F129: NA | G129: NA
A130: 35292 | B130: NA | C130: NA | D130: 120.3 | E130: NA | F130: NA | G130: NA
A131: 35323 | B131: NA | C131: NA | D131: 115.51 | E131: NA | F131: NA | G131: NA
A132: 35353 | B132: NA | C132: NA | D132: 117.85 | E132: NA | F132: NA | G132: NA
... A134: 35414 | B134: NA | C134: NA | D134: 114.59 | E134: NA | F134: NA | G134: NA
A135: 35445 | B135: NA | C135: NA | D135: 114.88 | E135: NA | F135: NA | G135: 25.7
A136: 35476 | B136: NA | C136: NA | D136: 124.31 | E136: NA | F136: NA | G136: 26.34
A137: 35504 | B137: NA | C137: NA | D137: 124.04 | E137: NA | F137: NA | G137: 25.83
A138: 35535 | B138: NA | C138: NA | D138: 114.99 | E138: NA | F138: NA | G138: 29.13
A139: 35565 | B139: NA | C139: NA | D139: 126.69 | E139: NA | F139: NA | G139: 25.87
A140: 35596 | B140: NA | C140: NA | D140: 123.11 | E140: NA | F140: NA | G140: 28.45
A141: 35626 | B141: NA | C141: NA | D141: 121.88 | E141: NA | F141: NA | G141: 30.79
A142: 35657 | B142: NA | C142: NA | D142: 126.45 | E142: NA | F142: NA | G142: 31.78
A143: 35688 | B143: NA | C143: NA | D143: 117.77 | E143: NA | F143: NA | G143: 29.28
A144: 35718 | B144: NA | C144: NA | D144: 115.74 | E144: NA | F144: NA | G144: 29.5
A145: 35749 | B145: NA | C145: NA | D145: 117.73 | E145: NA | F145: NA | G145: 32.1
A146: 35779 | B146: NA | C146: NA | D146: 121.02 | E146: NA | F146: NA | G146: 30.82
... A218: 37970 | B218: NA | C218: NA | D218: 109.49 | E218: NA | F218: NA | G218: 58.05
A219: 38001 | B219: 98.18 | C219: NA | D219: 110.64 | E219: NA | F219: NA | G219: 61.54
A220: 38032 | B220: 98.68 | C220: NA | D220: 111.16 | E220: NA | F220: NA | G220: 56.52
A221: 38061 | B221: 97.78 | C221: NA | D221: 108.06 | E221: NA | F221: NA | G221: 62.84
A222: 38092 | B222: 97.78 | C222: NA | D222: 103.37 | E222: NA | F222: NA | G222: 65.32
A223: 38122 | B223: 94.03 | C223: NA | D223: 111.24 | E223: NA | F223: NA | G223: 67.22
A224: 38153 | B224: 93.4 | C224: NA | D224: 111.62 | E224: NA | F224: NA | G224: 65.48
A225: 38183 | B225: 92.17 | C225: NA | D225: 108.53 | E225: NA | F225: NA | G225: 69.21
A226: 38214 | B226: 88.02 | C226: NA | D226: 106.29 | E226: NA | F226: NA | G226: 66.31
A227: 38245 | B227: 89.63 | C227: NA | D227: 105.6 | E227: NA | F227: NA | G227: 67.98
A228: 38275 | B228: 90.48 | C228: NA | D228: 104.16 | E228: NA | F228: NA | G228: 66.35
A229: 38306 | B229: 89.48 | C229: NA | D229: 105.99 | E229: NA | F229: NA | G229: 66.88
A230: 38336 | B230: 91.94 | C230: NA | D230: 106.88 | E230: NA | F230: NA | G230: 68.23
A231: 38367 | B231: 92.2 | C231: NA | D231: 107.56 | E231: 19349 | F231: 72.11 | G231: 70.51
A232: 38398 | B232: 91.99 | C232: NA | D232: 108.14 | E232: 19432 | F232: 74.05 | G232: 70.92
A233: 38426 | B233: 88.83 | C233: NA | D233: 108.36 | E233: 19437 | F233: 84.83 | G233: 71.08
A234: 38457 | B234: 87.13 | C234: NA | D234: 101.51 | E234: 19557 | F234: 81.82 | G234: 72.04
A235: 38487 | B235: 87.12 | C235: NA | D235: 107.91 | E235: 19656 | F235: 85.36 | G235: 72.21
A236: 38518 | B236: 85.83 | C236: NA | D236: 109.11 | E236: 19728 | F236: 88.12 | G236: 70.73
A237: 38548 | B237: 86 | C237: NA | D237: 108.52 | E237: 19867 | F237: 86.08 | G237: 70.05
A238: 38579 | B238: 84.24 | C238: NA | D238: 107.65 | E238: 19624 | F238: 86.01 | G238: 71.19
A239: 38610 | B239: 82.28 | C239: NA | D239: 106.96 | E239: 19604 | F239: 93.87 | G239: 76.42
A240: 38640 | B240: 84.83 | C240: NA | D240: 104.95 | E240: 19641 | F240: 95.98 | G240: 74.44
A241: 38671 | B241: 86.31 | C241: NA | D241: 105.73 | E241: 19743 | F241: 87.9 | G241: 72.74
A242: 38701 | B242: 86.23 | C242: NA | D242: 104.67 | E242: 19660 | F242: 97.35 | G242: 79.08
... A290: 40162 | B290: 65.57 | C290: NA | D290: 104.93 | E290: 21413 | F290: 100.52 | G290: 90.95
A291: 40193 | B291: 66.01 | C291: 94.1756 | D291: 103.16 | E291: 21489 | F291: 85.56 | G291: 92.47
A292: 40224 | B292: 68.63 | C292: 95.607 | D292: 100.8 | E292: 21469 | F292: 85.44 | G292: 93.82
A293: 40252 | B293: 71.52 | C293: 98.449 | D293: 100.16 | E293: 21533 | F293: 99.99 | G293: 97.49
A294: 40283 | B294: 72.57 | C294: 99.2752 | D294: 99.02 | E294: 21683 | F294: 97.73 | G294: 95.14
A295: 40313 | B295: 73.36 | C295: 98.9749 | D295: 98.92 | E295: 21733 | F295: 101.72 | G295: 103.09
A296: 40344 | B296: 74.82 | C296: 98.3881 | D296: 99.46 | E296: 21892 | F296: 103.86 | G296: 100.62
A297: 40374 | B297: 74.25 | C297: 100.8769 | D297: 101.82 | E297: 21960 | F297: 105.03 | G297: 96.77
A298: 40405 | B298: 74.13 | C298: 100.5431 | D298: 99.74 | E298: 21871 | F298: 100.46 | G298: 92.43
A299: 40436 | B299: 77.18 | C299: 100.0165 | D299: 99.93 | E299: 21875 | F299: 97.15 | G299: 104.93
A300: 40466 | B300: 75.79 | C300: 101.7544 | D300: 99.26 | E300: 22079 | F300: 108.62 | G300: 105.85
A301: 40497 | B301: 78.12 | C301: 104.8966 | D301: 98.97 | E301: 22383 | F301: 98.56 | G301: 103.68
A302: 40527 | B302: 77.77 | C302: 106.0378 | D302: 99 | E302: 22631 | F302: 115.87 | G302: 113.97
... A351: 42019 | B351: 67.71 | C351: 125.9179 | D351: 105.58 | E351: 26379 | F351: 112.45 | G351: 138.06
A352: 42050 | B352: 68.06 | C352: 124.9861 | D352: 105.24 | E352: NA | F352: 110.76 | G352: 135.74
A353: 42078 | B353: 64.39 | C353: NA | D353: NA | E353: NA | F353: NA | G353: NA
A354: 42109 | B354: 65.35 | C354: NA | D354: NA | E354: NA | F354: NA | G354: NA

Sheet idn_eviews
B1: consconf | C1: retsales | D1: tot | E1: emp | F1: ip | G1: ex | J1: gdp
A2: =idn_thomson!A3 -> 31427 | B2: =idn_thomson!B3 -> NA | C2: =idn_thomson!C3 -> NA | D2: =idn_thomson!D3 -> NA | E2: =idn_thomson!E3 -> NA | F2: =idn_thomson!F3 -> NA | G2: =idn_thomson!G3 -> 1749 | I2: =idn_thomson!J3 -> Q1 1986 | J2: =idn_thomson!K3 -> NA
A3: =idn_thomson!A4 -> 31458 | B3: =idn_thomson!B4 -> NA | C3: =idn_thomson!C4 -> NA | D3: =idn_thomson!D4 -> NA | E3: =idn_thomson!E4 -> NA | F3: =idn_thomson!F4 -> NA | G3: =idn_thomson!G4 -> 1400 | I3: =idn_thomson!J4 -> Q2 1986 | J3: =idn_thomson!K4 -> NA
A4: =idn_thomson!A5 -> 31486 | B4: =idn_thomson!B5 -> NA | C4: =idn_thomson!C5 -> NA | D4: =idn_thomson!D5 -> NA | E4: =idn_thomson!E5 -> NA | F4: =idn_thomson!F5 -> NA | G4: =idn_thomson!G5 -> 1232 | I4: =idn_thomson!J5 -> Q3 1986 | J4: =idn_thomson!K5 -> NA
A5: =idn_thomson!A6 -> 31517 | B5: =idn_thomson!B6 -> NA | C5: =idn_thomson!C6 -> NA | D5: =idn_thomson!D6 -> NA | E5: =idn_thomson!E6 -> NA | F5: =idn_thomson!F6 -> NA | G5: =idn_thomson!G6 -> 1152 | I5: =idn_thomson!J6 -> Q4 1986 | J5: =idn_thomson!K6 -> NA
A6: =idn_thomson!A7 -> 31547 | B6: =idn_thomson!B7 -> NA | C6: =idn_thomson!C7 -> NA | D6: =idn_thomson!D7 -> NA | E6: =idn_thomson!E7 -> NA | F6: =idn_thomson!F7 -> NA | G6: =idn_thomson!G7 -> 1021 | I6: =idn_thomson!J7 -> Q1 1987 | J6: =idn_thomson!K7 -> NA
A7: =idn_thomson!A8 -> 31578 | B7: =idn_thomson!B8 -> NA | C7: =idn_thomson!C8 -> NA | D7: =idn_thomson!D8 -> NA | E7: =idn_thomson!E8 -> NA | F7: =idn_thomson!F8 -> NA | G7: =idn_thomson!G8 -> 1183 | I7: =idn_thomson!J8 -> Q2 1987 | J7: =idn_thomson!K8 -> NA
A8: =idn_thomson!A9 -> 31608 | B8: =idn_thomson!B9 -> NA | C8: =idn_thomson!C9 -> NA | D8: =idn_thomson!D9 -> NA | E8: =idn_thomson!E9 -> NA | F8: =idn_thomson!F9 -> NA | G8: =idn_thomson!G9 -> 1202 | I8: =idn_thomson!J9 -> Q3 1987 | J8: =idn_thomson!K9 -> NA
A9: =idn_thomson!A10 -> 31639 | B9: =idn_thomson!B10 -> NA | C9: =idn_thomson!C10 -> NA | D9: =idn_thomson!D10 -> NA | E9: =idn_thomson!E10 -> NA | F9: =idn_thomson!F10 -> NA | G9: =idn_thomson!G10 -> 1021 | I9: =idn_thomson!J10 -> Q4 1987 | J9: =idn_thomson!K10 -> NA
A10: =idn_thomson!A11 -> 31670 | B10: =idn_thomson!B11 -> NA | C10: =idn_thomson!C11 -> NA | D10: =idn_thomson!D11 -> NA | E10: =idn_thomson!E11 -> NA | F10: =idn_thomson!F11 -> NA | G10: =idn_thomson!G11 -> 1133 | I10: =idn_thomson!J11 -> Q1 1988 | J10: =idn_thomson!K11 -> NA
A11: =idn_thomson!A12 -> 31700 | B11: =idn_thomson!B12 -> NA | C11: =idn_thomson!C12 -> NA | D11: =idn_thomson!D12 -> NA | E11: =idn_thomson!E12 -> NA | F11: =idn_thomson!F12 -> NA | G11: =idn_thomson!G12 -> 1264 | I11: =idn_thomson!J12 -> Q2 1988 | J11: =idn_thomson!K12 -> NA
A12: =idn_thomson!A13 -> 31731 | B12: =idn_thomson!B13 -> NA | C12: =idn_thomson!C13 -> NA | D12: =idn_thomson!D13 -> NA | E12: =idn_thomson!E13 -> NA | F12: =idn_thomson!F13 -> NA | G12: =idn_thomson!G13 -> 1083 | I12: =idn_thomson!J13 -> Q3 1988 | J12: =idn_thomson!K13 -> NA
A13: =idn_thomson!A14 -> 31761 | B13: =idn_thomson!B14 -> NA | C13: =idn_thomson!C14 -> NA | D13: =idn_thomson!D14 -> NA | E13: =idn_thomson!E14 -> NA | F13: =idn_thomson!F14 -> NA | G13: =idn_thomson!G14 -> 1365 | I13: =idn_thomson!J14 -> Q4 1988 | J13: =idn_thomson!K14 -> NA
... A117: =idn_thomson!A118 -> 34926 | B117: =idn_thomson!B118 -> NA | C117: =idn_thomson!C118 -> NA | D117: =idn_thomson!D118 -> NA | E117: =idn_thomson!E118 -> NA | F117: =idn_thomson!F118 -> NA | G117: =idn_thomson!G118 -> 3940 | I117: =idn_thomson!J118 -> Q4 2014 | J117: =idn_thomson!K118 -> 2181408359
A118: =idn_thomson!A119 -> 34957 | B118: =idn_thomson!B119 -> NA | C118: =idn_thomson!C119 -> NA | D118: =idn_thomson!D119 -> NA | E118: =idn_thomson!E119 -> NA | F118: =idn_thomson!F119 -> NA | G118: =idn_thomson!G119 -> 3940
A119: =idn_thomson!A120 -> 34987 | B119: =idn_thomson!B120 -> NA | C119: =idn_thomson!C120 -> NA | D119: =idn_thomson!D120 -> NA | E119: =idn_thomson!E120 -> NA | F119: =idn_thomson!F120 -> NA | G119: =idn_thomson!G120 -> 3900
A120: =idn_thomson!A121 -> 35018 | B120: =idn_thomson!B121 -> NA | C120: =idn_thomson!C121 -> NA | D120: =idn_thomson!D121 -> NA | E120: =idn_thomson!E121 -> NA | F120: =idn_thomson!F121 -> NA | G120: =idn_thomson!G121 -> 3988
A121: =idn_thomson!A122 -> 35048 | B121: =idn_thomson!B122 -> NA | C121: =idn_thomson!C122 -> NA | D121: =idn_thomson!D122 -> NA | E121: =idn_thomson!E122 -> NA | F121: =idn_thomson!F122 -> NA | G121: =idn_thomson!G122 -> 4524
A122: =idn_thomson!A123 -> 35079 | B122: =idn_thomson!B123 -> NA | C122: =idn_thomson!C123 -> NA | D122: =idn_thomson!D123 -> NA | E122: =idn_thomson!E123 -> NA | F122: =idn_thomson!F123 -> NA | G122: =idn_thomson!G123 -> 3601
A123: =idn_thomson!A124 -> 35110 | B123: =idn_thomson!B124 -> NA | C123: =idn_thomson!C124 -> NA | D123: =idn_thomson!D124 -> NA | E123: =idn_thomson!E124 -> NA | F123: =idn_thomson!F124 -> NA | G123: =idn_thomson!G124 -> 3685
A124: =idn_thomson!A125 -> 35139 | B124: =idn_thomson!B125 -> NA | C124: =idn_thomson!C125 -> NA | D124: =idn_thomson!D125 -> NA | E124: =idn_thomson!E125 -> NA | F124: =idn_thomson!F125 -> NA | G124: =idn_thomson!G125 -> 3951
A125: =idn_thomson!A126 -> 35170 | B125: =idn_thomson!B126 -> NA | C125: =idn_thomson!C126 -> NA | D125: =idn_thomson!D126 -> NA | E125: =idn_thomson!E126 -> NA | F125: =idn_thomson!F126 -> NA | G125: =idn_thomson!G126 -> 4030
A126: =idn_thomson!A127 -> 35200 | B126: =idn_thomson!B127 -> NA | C126: =idn_thomson!C127 -> NA | D126: =idn_thomson!D127 -> NA | E126: =idn_thomson!E127 -> NA | F126: =idn_thomson!F127 -> NA | G126: =idn_thomson!G127 -> 4075
A127: =idn_thomson!A128 -> 35231 | B127: =idn_thomson!B128 -> NA | C127: =idn_thomson!C128 -> NA | D127: =idn_thomson!D128 -> NA | E127: =idn_thomson!E128 -> NA | F127: =idn_thomson!F128 -> NA | G127: =idn_thomson!G128 -> 4136
A128: =idn_thomson!A129 -> 35261 | B128: =idn_thomson!B129 -> NA | C128: =idn_thomson!C129 -> NA | D128: =idn_thomson!D129 -> NA | E128: =idn_thomson!E129 -> NA | F128: =idn_thomson!F129 -> NA | G128: =idn_thomson!G129 -> 4069
A129: =idn_thomson!A130 -> 35292 | B129: =idn_thomson!B130 -> NA | C129: =idn_thomson!C130 -> NA | D129: =idn_thomson!D130 -> NA | E129: =idn_thomson!E130 -> NA | F129: =idn_thomson!F130 -> NA | G129: =idn_thomson!G130 -> 4321.4
... A370: =idn_thomson!A371 -> 0 | B370: =idn_thomson!B371 -> 0 | C370: =idn_thomson!C371 -> 0 | D370: =idn_thomson!D371 -> 0 | E370: =idn_thomson!E371 -> 0 | F370: =idn_thomson!F371 -> 0 | G370: =idn_thomson!G371 -> 0

Sheet idn_thomson
A1: =_xll.Thomson.Reuters.AFOSpreadsheetFormulas.DSGRID("IDCNECONR,idrettoth,idtotprcf,IDAPSEMCR,IDIPTOT.H,IDEXPGDSA,IDEXPPRCF"," ","1986-01-01","TIME","M","RowHeader=true;ColHeader=true;Code=true;SeriesMetaDataLink=true;DispSeriesDescription=false;YearlyTSFormat=false;QuarterlyTSFormat=false","") -> Application offline! Unable to process the request | B1: ID CONSUMER EXPECTATION INDEX (CEI) NADJ | C1: ID RETAIL SALES (REBASED) VOLN | D1: ID TERMS OF TRADE NADJ | E1: ID APPRAISAL OF PRESENT SITUATION - EMPLOYMENT CONDITIONS NADJ | F1: ID INDUSTRIAL PRODUCTION VOLN | G1: ID EXPORTS FOB CURN | H1: ID WPI - EXPORT NADJ | J1: =_xll.Thomson.Reuters.AFOSpreadsheetFormulas.DSGRID("IDOEXP03D"," ","1986-01-01","TIME","Q","RowHeader=true;ColHeader=true;Code=true;SeriesMetaDataLink=true;DispSeriesDescription=false;YearlyTSFormat=false;QuarterlyTSFormat=false","") -> Application offline! Unable to process the request | K1: ID GROSS DOMESTIC PRODUCT CONA
A2: Code | B2: IDCNECONR | C2: idrettoth | D2: idtotprcf | E2: IDAPSEMCR | F2: IDIPTOT.H | G2: IDEXPGDSA | H2: IDEXPPRCF | J2: Code | K2: IDOEXP03D
A3: 31427 | B3: NA | C3: NA | D3: NA | E3: NA | F3: NA | G3: 1749 | H3: NA | J3: Q1 1986 | K3: NA
A4: 31458 | B4: NA | C4: NA | D4: NA | E4: NA | F4: NA | G4: 1400 | H4: NA | J4: Q2 1986 | K4: NA
A5: 31486 | B5: NA | C5: NA | D5: NA | E5: NA | F5: NA | G5: 1232 | H5: NA | J5: Q3 1986 | K5: NA
A6: 31517 | B6: NA | C6: NA | D6: NA | E6: NA | F6: NA | G6: 1152 | H6: NA | J6: Q4 1986 | K6: NA
A7: 31547 | B7: NA | C7: NA | D7: NA | E7: NA | F7: NA | G7: 1021 | H7: NA | J7: Q1 1987 | K7: NA
A8: 31578 | B8: NA | C8: NA | D8: NA | E8: NA | F8: NA | G8: 1183 | H8: NA | J8: Q2 1987 | K8: NA
A9: 31608 | B9: NA | C9: NA | D9: NA | E9: NA | F9: NA | G9: 1202 | H9: NA | J9: Q3 1987 | K9: NA
A10: 31639 | B10: NA | C10: NA | D10: NA | E10: NA | F10: NA | G10: 1021 | H10: NA | J10: Q4 1987 | K10: NA
A11: 31670 | B11: NA | C11: NA | D11: NA | E11: NA | F11: NA | G11: 1133 | H11: NA | J11: Q1 1988 | K11: NA
A12: 31700 | B12: NA | C12: NA | D12: NA | E12: NA | F12: NA | G12: 1264 | H12: NA | J12: Q2 1988 | K12: NA
A13: 31731 | B13: NA | C13: NA | D13: NA | E13: NA | F13: NA | G13: 1083 | H13: NA | J13: Q3 1988 | K13: NA
A14: 31761 | B14: NA | C14: NA | D14: NA | E14: NA | F14: NA | G14: 1365 | H14: NA | J14: Q4 1988 | K14: NA
... A58: 33100 | B58: NA | C58: NA | D58: NA | E58: NA | F58: NA | G58: 2124 | H58: NA | J58: Q4 1999 | K58: NA
A59: 33131 | B59: NA | C59: NA | D59: NA | E59: NA | F59: NA | G59: 2603 | H59: NA | J59: Q1 2000 | K59: 1.0129085e+09
A60: 33161 | B60: NA | C60: NA | D60: NA | E60: NA | F60: NA | G60: 2639 | H60: NA | J60: Q2 2000 | K60: 1.0070851e+09
A61: 33192 | B61: NA | C61: NA | D61: NA | E61: NA | F61: NA | G61: 2681.2 | H61: NA | J61: Q3 2000 | K61: 1.0316218e+09
A62: 33222 | B62: NA | C62: NA | D62: NA | E62: NA | F62: NA | G62: 2650.5 | H62: NA | J62: Q4 2000 | K62: 1.0612872e+09
A63: 33253 | B63: NA | C63: NA | D63: NA | E63: NA | F63: NA | G63: 2554 | H63: NA | J63: Q1 2001 | K63: 1.0537245e+09
A64: 33284 | B64: NA | C64: NA | D64: NA | E64: NA | F64: NA | G64: 2361 | H64: NA | J64: Q2 2001 | K64: 1.064503e+09
A65: 33312 | B65: NA | C65: NA | D65: NA | E65: NA | F65: NA | G65: 2115 | H65: NA | J65: Q3 2001 | K65: 1.0647238e+09
A66: 33343 | B66: NA | C66: NA | D66: NA | E66: NA | F66: NA | G66: 2667 | H66: NA | J66: Q4 2001 | K66: 1.0798035e+09
A67: 33373 | B67: NA | C67: NA | D67: NA | E67: NA | F67: NA | G67: 2378 | H67: NA | J67: Q1 2002 | K67: 1.0929674e+09
A68: 33404 | B68: NA | C68: NA | D68: NA | E68: NA | F68: NA | G68: 2433 | H68: NA | J68: Q2 2002 | K68: 1.1070167e+09
A69: 33434 | B69: NA | C69: NA | D69: NA | E69: NA | F69: NA | G69: 2538 | H69: NA | J69: Q3 2002 | K69: 1.1212256e+09
A70: 33465 | B70: NA | C70: NA | D70: NA | E70: NA | F70: NA | G70: 2414 | H70: NA | J70: Q4 2002 | K70: 1.1333469e+09
... A118: 34926 | B118: NA | C118: NA | D118: NA | E118: NA | F118: NA | G118: 3940 | H118: NA | J118: Q4 2014 | K118: 2181408359
A119: 34957 | B119: NA | C119: NA | D119: NA | E119: NA | F119: NA | G119: 3940 | H119: NA
A120: 34987 | B120: NA | C120: NA | D120: NA | E120: NA | F120: NA | G120: 3900 | H120: NA
A121: 35018 | B121: NA | C121: NA | D121: NA | E121: NA | F121: NA | G121: 3988 | H121: NA
A122: 35048 | B122: NA | C122: NA | D122: NA | E122: NA | F122: NA | G122: 4524 | H122: NA
A123: 35079 | B123: NA | C123: NA | D123: NA | E123: NA | F123: NA | G123: 3601 | H123: NA
A124: 35110 | B124: NA | C124: NA | D124: NA | E124: NA | F124: NA | G124: 3685 | H124: NA
A125: 35139 | B125: NA | C125: NA | D125: NA | E125: NA | F125: NA | G125: 3951 | H125: NA
A126: 35170 | B126: NA | C126: NA | D126: NA | E126: NA | F126: NA | G126: 4030 | H126: NA
A127: 35200 | B127: NA | C127: NA | D127: NA | E127: NA | F127: NA | G127: 4075 | H127: NA
A128: 35231 | B128: NA | C128: NA | D128: NA | E128: NA | F128: NA | G128: 4136 | H128: NA
A129: 35261 | B129: NA | C129: NA | D129: NA | E129: NA | F129: NA | G129: 4069 | H129: NA
A130: 35292 | B130: NA | C130: NA | D130: NA | E130: NA | F130: NA | G130: 4321.4 | H130: NA
... A146: 35779 | B146: NA | C146: NA | D146: NA | E146: NA | F146: NA | G146: 4704.4 | H146: NA
A147: 35810 | B147: NA | C147: NA | D147: 117.03 | E147: NA | F147: NA | G147: 4149 | H147: 39.9
A148: 35841 | B148: NA | C148: NA | D148: 114.44 | E148: NA | F148: NA | G148: 3812.2 | H148: 42.1
A149: 35869 | B149: NA | C149: NA | D149: 107.6 | E149: NA | F149: NA | G149: 4554.7 | H149: 42.7
A150: 35900 | B150: NA | C150: NA | D150: 104.05 | E150: NA | F150: NA | G150: 3652.1 | H150: 38.1
A151: 35930 | B151: NA | C151: NA | D151: 114.41 | E151: NA | F151: NA | G151: 3919.7 | H151: 47.1
A152: 35961 | B152: NA | C152: NA | D152: 126.22 | E152: NA | F152: NA | G152: 4466.5 | H152: 59.9
A153: 35991 | B153: NA | C153: NA | D153: 120.46 | E153: NA | F153: NA | G153: 4578.9 | H153: 62.8
A154: 36022 | B154: NA | C154: NA | D154: 111.62 | E154: NA | F154: NA | G154: 4091.8 | H154: 54.8
A155: 36053 | B155: NA | C155: NA | D155: 102.71 | E155: NA | F155: NA | G155: 4009.4 | H155: 50.3
A156: 36083 | B156: NA | C156: NA | D156: 92.98 | E156: NA | F156: NA | G156: 3826.5 | H156: 41.3
A157: 36114 | B157: NA | C157: NA | D157: 90.23 | E157: NA | F157: NA | G157: 3900.9 | H157: 38.3
A158: 36144 | B158: NA | C158: NA | D158: 86.08 | E158: NA | F158: NA | G158: 3937.2 | H158: 35.8
... A170: 36509 | B170: NA | C170: NA | D170: 95.23 | E170: NA | F170: NA | G170: 4487.1705 | H170: 41.3
A171: 36540 | B171: NA | C171: NA | D171: 96.95 | E171: NA | F171: 52.66 | G171: 4394.0071 | H171: 42.7
A172: 36571 | B172: NA | C172: NA | D172: 100.03 | E172: NA | F172: 68.02 | G172: 4793.8208 | H172: 44.3
A173: 36600 | B173: NA | C173: NA | D173: 101.65 | E173: NA | F173: 73.05 | G173: 4951.4535 | H173: 45.6
A174: 36631 | B174: NA | C174: NA | D174: 100.97 | E174: NA | F174: 68.85 | G174: 5011.9849 | H174: 45.6
A175: 36661 | B175: NA | C175: NA | D175: 106.35 | E175: NA | F175: 76.15 | G175: 4857.9444 | H175: 49.5
A176: 36692 | B176: NA | C176: NA | D176: 109.46 | E176: NA | F176: 75.82 | G176: 5346.1965 | H176: 52.3
A177: 36722 | B177: NA | C177: NA | D177: 113.2 | E177: NA | F177: 79.5 | G177: 5390.9872 | H177: 55.6
A178: 36753 | B178: NA | C178: NA | D178: 108.1 | E178: NA | F178: 81.8 | G178: 5576.016 | H178: 52.3
A179: 36784 | B179: NA | C179: NA | D179: 111.74 | E179: NA | F179: 81.06 | G179: 5772.9179 | H179: 54.7
A180: 36814 | B180: NA | C180: NA | D180: 112.05 | E180: NA | F180: 82.33 | G180: 5563.3381 | H180: 55.7
A181: 36845 | B181: NA | C181: NA | D181: 114.98 | E181: NA | F181: 80.79 | G181: 5239.3263 | H181: 58
A182: 36875 | B182: NA | C182: NA | D182: 109.51 | E182: NA | F182: 69.08 | G182: 5226.0234 | H182: 55.6
... A185: 36965 | B185: NA | C185: NA | D185: 112.08 | E185: NA | F185: 75.92 | G185: 5238.0458 | H185: 58.6
A186: 36996 | B186: 73.5 | C186: NA | D186: 112.95 | E186: 22.4 | F186: 75.29 | G186: 4785.7043 | H186: 60.9
A187: 37026 | B187: 79.2 | C187: NA | D187: 114.61 | E187: 32.3 | F187: 80.26 | G187: 4850.6106 | H187: 63
A188: 37057 | B188: 76.2 | C188: NA | D188: 113.17 | E188: 21.3 | F188: 80.86 | G188: 4846.6588 | H188: 62.9
A189: 37087 | B189: 81.1 | C189: NA | D189: 107.99 | E189: 16.2 | F189: 81.89 | G189: 4865.7408 | H189: 59.7
A190: 37118 | B190: 133.6 | C190: NA | D190: 101.72 | E190: 34.4 | F190: 83.09 | G190: 5123.7974 | H190: 53.2
A191: 37149 | B191: 127.7 | C191: NA | D191: 103.61 | E191: 46.6 | F191: 81.19 | G191: 4350.1044 | H191: 54.9
A192: 37179 | B192: 103.8 | C192: NA | D192: 102.99 | E192: 31.2 | F192: 83.63 | G192: 4519.4555 | H192: 55.4
A193: 37210 | B193: 90.9 | C193: NA | D193: 103.8 | E193: 21.1 | F193: 80.89 | G193: 3894.7021 | H193: 56.6
A194: 37240 | B194: 94.9 | C194: NA | D194: 102.2 | E194: 19.1 | F194: 60.95 | G194: 4217.2256 | H194: 54.5
A195: 37271 | B195: 81.6 | C195: NA | D195: 102.24 | E195: 22.6 | F195: 73.84 | G195: 4087.6035 | H195: 54.8
A196: 37302 | B196: 75.5 | C196: NA | D196: 102.36 | E196: 17.7 | F196: 67.85 | G196: 4197.0381 | H196: 54.3
A197: 37330 | B197: 84.8 | C197: NA | D197: 103.63 | E197: 21.6 | F197: 75.39 | G197: 4554.9473 | H197: 53.4
... A206: 37605 | B206: 83.7 | C206: NA | D206: 109.92 | E206: 13.1 | F206: 64.77 | G206: 4860.5984 | H206: 57.1
A207: 37636 | B207: 64.3 | C207: 50.26 | D207: 111.9 | E207: 13.6 | F207: 79.48 | G207: 4997.434 | H207: 58.6
A208: 37667 | B208: 73.6 | C208: 49.21 | D208: 111.63 | E208: 27.3 | F208: 78.4 | G208: 4980.8683 | H208: 59.2
A209: 37695 | B209: 75.2 | C209: 49.78 | D209: 110.66 | E209: 12.8 | F209: 84.85 | G209: 5161.8754 | H209: 58.8
A210: 37726 | B210: 79.8 | C210: 51.62 | D210: 108.77 | E210: 18.2 | F210: 79.87 | G210: 5057.0766 | H210: 56.2
A211: 37756 | B211: 87.9 | C211: 52.85 | D211: 104.12 | E211: 23.2 | F211: 81.99 | G211: 4960.5621 | H211: 53
A212: 37787 | B212: 88.4 | C212: 54.21 | D212: 103.66 | E212: 17.7 | F212: 86.23 | G212: 5295.2975 | H212: 52.6
A213: 37817 | B213: 92.2 | C213: 56.31 | D213: 104.55 | E213: 19.4 | F213: 89.25 | G213: 5271.0354 | H213: 54.3
A214: 37848 | B214: 85.2 | C214: 57.62 | D214: 105.03 | E214: 19.7 | F214: 88.61 | G214: 5023.687 | H214: 54.4
A215: 37879 | B215: 88.4 | C215: 57.93 | D215: 105.51 | E215: 17.8 | F215: 90.06 | G215: 5056.8441 | H215: 54.5
A216: 37909 | B216: 90 | C216: 58.94 | D216: 107.1 | E216: 16.6 | F216: 89.9 | G216: 5056.9774 | H216: 55.8
A217: 37940 | B217: 92.1 | C217: 63.45 | D217: 107.41 | E217: 24.1 | F217: 74.39 | G217: 4961.1201 | H217: 56
A218: 37970 | B218: 92.2 | C218: 68.36 | D218: 108.04 | E218: 20.5 | F218: 86.63 | G218: 5235.4689 | H218: 56.8
... A352: 42050 | B352: 130.2 | C352: 172.5 | D352: 97.27 | E352: 95.6 | F352: 119.24 | G352: 12172.8 | H352: 128.5
A353: 42078 | B353: 126.2 | C353: 176.5 | D353: NA | E353: 93.5 | F353: NA | G353: 13710.8 | H353: NA

Sheet mys_eviews
B1: tot | C1: emp | D1: ip | E1: ex | J1: gdp
A2: =mys_thomson!A3 -> 31427 | B2: =mys_thomson!B3 -> NA | C2: =mys_thomson!C3 -> NA | D2: =mys_thomson!D3 -> NA | E2: =mys_thomson!E3 -> NA | I2: =mys_thomson!J3 -> Q1 1986 | J2: =mys_thomson!K3 -> NA
A3: =mys_thomson!A4 -> 31458 | B3: =mys_thomson!B4 -> NA | C3: =mys_thomson!C4 -> NA | D3: =mys_thomson!D4 -> NA | E3: =mys_thomson!E4 -> NA | I3: =mys_thomson!J4 -> Q2 1986 | J3: =mys_thomson!K4 -> NA
A4: =mys_thomson!A5 -> 31486 | B4: =mys_thomson!B5 -> NA | C4: =mys_thomson!C5 -> NA | D4: =mys_thomson!D5 -> NA | E4: =mys_thomson!E5 -> NA | I4: =mys_thomson!J5 -> Q3 1986 | J4: =mys_thomson!K5 -> NA
A5: =mys_thomson!A6 -> 31517 | B5: =mys_thomson!B6 -> NA | C5: =mys_thomson!C6 -> NA | D5: =mys_thomson!D6 -> NA | E5: =mys_thomson!E6 -> NA | I5: =mys_thomson!J6 -> Q4 1986 | J5: =mys_thomson!K6 -> NA
A6: =mys_thomson!A7 -> 31547 | B6: =mys_thomson!B7 -> NA | C6: =mys_thomson!C7 -> NA | D6: =mys_thomson!D7 -> NA | E6: =mys_thomson!E7 -> NA | I6: =mys_thomson!J7 -> Q1 1987 | J6: =mys_thomson!K7 -> NA
A7: =mys_thomson!A8 -> 31578 | B7: =mys_thomson!B8 -> NA | C7: =mys_thomson!C8 -> NA | D7: =mys_thomson!D8 -> NA | E7: =mys_thomson!E8 -> NA | I7: =mys_thomson!J8 -> Q2 1987 | J7: =mys_thomson!K8 -> NA
A8: =mys_thomson!A9 -> 31608 | B8: =mys_thomson!B9 -> NA | C8: =mys_thomson!C9 -> NA | D8: =mys_thomson!D9 -> NA | E8: =mys_thomson!E9 -> NA | I8: =mys_thomson!J9 -> Q3 1987 | J8: =mys_thomson!K9 -> NA
A9: =mys_thomson!A10 -> 31639 | B9: =mys_thomson!B10 -> NA | C9: =mys_thomson!C10 -> NA | D9: =mys_thomson!D10 -> NA | E9: =mys_thomson!E10 -> NA | I9: =mys_thomson!J10 -> Q4 1987 | J9: =mys_thomson!K10 -> NA
A10: =mys_thomson!A11 -> 31670 | B10: =mys_thomson!B11 -> NA | C10: =mys_thomson!C11 -> NA | D10: =mys_thomson!D11 -> NA | E10: =mys_thomson!E11 -> NA | I10: =mys_thomson!J11 -> Q1 1988 | J10: =mys_thomson!K11 -> NA
A11: =mys_thomson!A12 -> 31700 | B11: =mys_thomson!B12 -> NA | C11: =mys_thomson!C12 -> NA | D11: =mys_thomson!D12 -> NA | E11: =mys_thomson!E12 -> NA | I11: =mys_thomson!J12 -> Q2 1988 | J11: =mys_thomson!K12 -> NA
A12: =mys_thomson!A13 -> 31731 | B12: =mys_thomson!B13 -> NA | C12: =mys_thomson!C13 -> NA | D12: =mys_thomson!D13 -> NA | E12: =mys_thomson!E13 -> NA | I12: =mys_thomson!J13 -> Q3 1988 | J12: =mys_thomson!K13 -> NA
A13: =mys_thomson!A14 -> 31761 | B13: =mys_thomson!B14 -> NA | C13: =mys_thomson!C14 -> NA | D13: =mys_thomson!D14 -> NA | E13: =mys_thomson!E14 -> NA | I13: =mys_thomson!J14 -> Q4 1988 | J13: =mys_thomson!K14 -> NA
... A117: =mys_thomson!A118 -> 34926 | B117: =mys_thomson!B118 -> NA | C117: =mys_thomson!C118 -> NA | D117: =mys_thomson!D118 -> NA | E117: =mys_thomson!E118 -> NA | I117: =mys_thomson!J118 -> Q4 2014 | J117: =mys_thomson!K118 -> 78.134
A118: =mys_thomson!A119 -> 34957 | B118: =mys_thomson!B119 -> NA | C118: =mys_thomson!C119 -> NA | D118: =mys_thomson!D119 -> NA | E118: =mys_thomson!E119 -> NA
A119: =mys_thomson!A120 -> 34987 | B119: =mys_thomson!B120 -> NA | C119: =mys_thomson!C120 -> NA | D119: =mys_thomson!D120 -> NA | E119: =mys_thomson!E120 -> NA
A120: =mys_thomson!A121 -> 35018 | B120: =mys_thomson!B121 -> NA | C120: =mys_thomson!C121 -> NA | D120: =mys_thomson!D121 -> NA | E120: =mys_thomson!E121 -> NA
A121: =mys_thomson!A122 -> 35048 | B121: =mys_thomson!B122 -> NA | C121: =mys_thomson!C122 -> NA | D121: =mys_thomson!D122 -> NA | E121: =mys_thomson!E122 -> NA
A122: =mys_thomson!A123 -> 35079 | B122: =mys_thomson!B123 -> NA | C122: =mys_thomson!C123 -> NA | D122: =mys_thomson!D123 -> NA | E122: =mys_thomson!E123 -> NA
A123: =mys_thomson!A124 -> 35110 | B123: =mys_thomson!B124 -> NA | C123: =mys_thomson!C124 -> NA | D123: =mys_thomson!D124 -> NA | E123: =mys_thomson!E124 -> NA
A124: =mys_thomson!A125 -> 35139 | B124: =mys_thomson!B125 -> NA | C124: =mys_thomson!C125 -> NA | D124: =mys_thomson!D125 -> NA | E124: =mys_thomson!E125 -> NA
A125: =mys_thomson!A126 -> 35170 | B125: =mys_thomson!B126 -> NA | C125: =mys_thomson!C126 -> NA | D125: =mys_thomson!D126 -> NA | E125: =mys_thomson!E126 -> NA
A126: =mys_thomson!A127 -> 35200 | B126: =mys_thomson!B127 -> NA | C126: =mys_thomson!C127 -> NA | D126: =mys_thomson!D127 -> NA | E126: =mys_thomson!E127 -> NA
A127: =mys_thomson!A128 -> 35231 | B127: =mys_thomson!B128 -> NA | C127: =mys_thomson!C128 -> NA | D127: =mys_thomson!D128 -> NA | E127: =mys_thomson!E128 -> NA
A128: =mys_thomson!A129 -> 35261 | B128: =mys_thomson!B129 -> NA | C128: =mys_thomson!C129 -> NA | D128: =mys_thomson!D129 -> NA | E128: =mys_thomson!E129 -> NA
A129: =mys_thomson!A130 -> 35292 | B129: =mys_thomson!B130 -> NA | C129: =mys_thomson!C130 -> NA | D129: =mys_thomson!D130 -> NA | E129: =mys_thomson!E130 -> NA
... A351: =mys_thomson!A352 -> 42050 | B351: =mys_thomson!B352 -> 105.3 | C351: =mys_thomson!C352 -> 13664 | D351: =mys_thomson!D352 -> 119.6 | E351: =mys_thomson!E352 -> 88.1

Sheet mys_thomson
