Workbook

Sheet us_eviews
B1: consconf | C1: retsales | D1: tot | E1: emp | F1: ip | G1: ex | H1: pmi | J1: gdp
A2: =us_thomson!A3 -> 31427 | B2: =us_thomson!B3 -> 96.9 | C2: =us_thomson!C3 -> 68.38 | D2: =us_thomson!D3 -> 93.5 | E2: =us_thomson!E3 -> 108887 | F2: =us_thomson!F3 -> 55.6062 | G2: =us_thomson!G3 -> 116.9 | H2: =us_thomson!N3 -> #N/A N/A | I2: =us_thomson!J3 -> Q1 1986 | J2: =us_thomson!K3 -> 7784.1
A3: =us_thomson!A4 -> 31458 | B3: =us_thomson!B4 -> 96 | C3: =us_thomson!C4 -> 67.87 | D3: =us_thomson!D4 -> 94.3 | E3: =us_thomson!E4 -> 108480 | F3: =us_thomson!F4 -> 55.2091 | G3: =us_thomson!G4 -> 120.5 | H3: =us_thomson!N4 -> #N/A N/A | I3: =us_thomson!J4 -> Q2 1986 | J3: =us_thomson!K4 -> 7819.8
A4: =us_thomson!A5 -> 31486 | B4: =us_thomson!B5 -> 95.1 | C4: =us_thomson!C5 -> 67.77 | D4: =us_thomson!D5 -> 97 | E4: =us_thomson!E5 -> 108837 | F4: =us_thomson!F5 -> 54.8519 | G4: =us_thomson!G5 -> 129.6 | H4: =us_thomson!N5 -> #N/A N/A | I4: =us_thomson!J5 -> Q3 1986 | J4: =us_thomson!K5 -> 7898.6
A5: =us_thomson!A6 -> 31517 | B5: =us_thomson!B6 -> 100 | C5: =us_thomson!C6 -> 68.45 | D5: =us_thomson!D6 -> 97.6 | E5: =us_thomson!E6 -> 108952 | F5: =us_thomson!F6 -> 54.8839 | G5: =us_thomson!G6 -> 127.3 | H5: =us_thomson!N6 -> #N/A N/A | I5: =us_thomson!J6 -> Q4 1986 | J5: =us_thomson!K6 -> 7939.5
A6: =us_thomson!A7 -> 31547 | B6: =us_thomson!B7 -> 100.2 | C6: =us_thomson!C7 -> 69.25 | D6: =us_thomson!D7 -> 98.3 | E6: =us_thomson!E7 -> 109089 | F6: =us_thomson!F7 -> 54.9927 | G6: =us_thomson!G7 -> 129.3 | H6: =us_thomson!N7 -> #N/A N/A | I6: =us_thomson!J7 -> Q1 1987 | J6: =us_thomson!K7 -> 7995
A7: =us_thomson!A8 -> 31578 | B7: =us_thomson!B8 -> 100 | C7: =us_thomson!C8 -> 69.07 | D7: =us_thomson!D8 -> 98.9 | E7: =us_thomson!E8 -> 109576 | F7: =us_thomson!F8 -> 54.8165 | G7: =us_thomson!G8 -> 135.3 | H7: =us_thomson!N8 -> #N/A N/A | I7: =us_thomson!J8 -> Q2 1987 | J7: =us_thomson!K8 -> 8084.7
A8: =us_thomson!A9 -> 31608 | B8: =us_thomson!B9 -> 97.5 | C8: =us_thomson!C9 -> 69.25 | D8: =us_thomson!D9 -> 98.9 | E8: =us_thomson!E9 -> 109810 | F8: =us_thomson!F9 -> 55.1675 | G8: =us_thomson!G9 -> 123.7 | H8: =us_thomson!N9 -> #N/A N/A | I8: =us_thomson!J9 -> Q3 1987 | J8: =us_thomson!K9 -> 8158
A9: =us_thomson!A10 -> 31639 | B9: =us_thomson!B10 -> 91.7 | C9: =us_thomson!C10 -> 69.89 | D9: =us_thomson!D10 -> 98.6 | E9: =us_thomson!E10 -> 110015 | F9: =us_thomson!F10 -> 55.0457 | G9: =us_thomson!G10 -> 115 | H9: =us_thomson!N10 -> #N/A N/A | I9: =us_thomson!J10 -> Q4 1987 | J9: =us_thomson!K10 -> 8292.7
A10: =us_thomson!A11 -> 31670 | B10: =us_thomson!B11 -> 89.7 | C10: =us_thomson!C11 -> 73.73 | D10: =us_thomson!D11 -> 99.5 | E10: =us_thomson!E11 -> 110085 | F10: =us_thomson!F11 -> 55.1503 | G10: =us_thomson!G11 -> 117.3 | H10: =us_thomson!N11 -> #N/A N/A | I10: =us_thomson!J11 -> Q1 1988 | J10: =us_thomson!K11 -> 8339.3
A11: =us_thomson!A12 -> 31700 | B11: =us_thomson!B12 -> 85.8 | C11: =us_thomson!C12 -> 70.52 | D11: =us_thomson!D12 -> 96.4 | E11: =us_thomson!E12 -> 110273 | F11: =us_thomson!F12 -> 55.3968 | G11: =us_thomson!G12 -> 134.5 | H11: =us_thomson!N12 -> #N/A N/A | I11: =us_thomson!J12 -> Q2 1988 | J11: =us_thomson!K12 -> 8449.5
A12: =us_thomson!A13 -> 31731 | B12: =us_thomson!B13 -> 89.7 | C12: =us_thomson!C13 -> 70.06 | D12: =us_thomson!D13 -> 96.1 | E12: =us_thomson!E13 -> 110475 | F12: =us_thomson!F13 -> 55.6593 | G12: =us_thomson!G13 -> 128.1 | H12: =us_thomson!N13 -> #N/A N/A | I12: =us_thomson!J13 -> Q3 1988 | J12: =us_thomson!K13 -> 8498.3
A13: =us_thomson!A14 -> 31761 | B13: =us_thomson!B14 -> 93.2 | C13: =us_thomson!C14 -> 72.96 | D13: =us_thomson!D14 -> 97.1 | E13: =us_thomson!E14 -> 110728 | F13: =us_thomson!F14 -> 56.1333 | G13: =us_thomson!G14 -> 127.9 | H13: =us_thomson!N14 -> #N/A N/A | I13: =us_thomson!J14 -> Q4 1988 | J13: =us_thomson!K14 -> 8610.9
... A118: =us_thomson!A119 -> 34957 | B118: =us_thomson!B119 -> 97.3 | C118: =us_thomson!C119 -> 83.35 | D118: =us_thomson!D119 -> 94.9 | E118: =us_thomson!E119 -> 125133 | F118: =us_thomson!F119 -> 72.5149 | G118: =us_thomson!G119 -> 262.7 | H118: =us_thomson!N119 -> #N/A N/A | I118: =us_thomson!J119 -> Q1 2015 | J118: =us_thomson!K119 -> 16304.8
A119: =us_thomson!A120 -> 34987 | B119: =us_thomson!B120 -> 96.3 | C119: =us_thomson!C120 -> 82.78 | D119: =us_thomson!D120 -> 95.4 | E119: =us_thomson!E120 -> 125388 | F119: =us_thomson!F120 -> 72.4092 | G119: =us_thomson!G120 -> 273.6 | H119: =us_thomson!N120 -> #N/A N/A
A120: =us_thomson!A121 -> 35018 | B120: =us_thomson!B121 -> 101.6 | C120: =us_thomson!C121 -> 83.78 | D120: =us_thomson!D121 -> 95.2 | E120: =us_thomson!E121 -> 125188 | F120: =us_thomson!F121 -> 72.5899 | G120: =us_thomson!G121 -> 267.7 | H120: =us_thomson!N121 -> #N/A N/A
A121: =us_thomson!A122 -> 35048 | B121: =us_thomson!B122 -> 99.2 | C121: =us_thomson!C122 -> 84.45 | D121: =us_thomson!D122 -> 94.7 | E121: =us_thomson!E122 -> 125088 | F121: =us_thomson!F122 -> 72.8672 | G121: =us_thomson!G122 -> 268.7 | H121: =us_thomson!N122 -> #N/A N/A
A122: =us_thomson!A123 -> 35079 | B122: =us_thomson!B123 -> 88.4 | C122: =us_thomson!C123 -> 83.29 | D122: =us_thomson!D123 -> 95 | E122: =us_thomson!E123 -> 125125 | F122: =us_thomson!F123 -> 72.3857 | G122: =us_thomson!G123 -> 251.2 | H122: =us_thomson!N123 -> #N/A N/A
A123: =us_thomson!A124 -> 35110 | B123: =us_thomson!B124 -> 98 | C123: =us_thomson!C124 -> 84.49 | D123: =us_thomson!D124 -> 95 | E123: =us_thomson!E124 -> 125639 | F123: =us_thomson!F124 -> 73.5162 | G123: =us_thomson!G124 -> 269.3 | H123: =us_thomson!N124 -> #N/A N/A
A124: =us_thomson!A125 -> 35139 | B124: =us_thomson!B125 -> 98.4 | C124: =us_thomson!C125 -> 84.98 | D124: =us_thomson!D125 -> 94.3 | E124: =us_thomson!E125 -> 125862 | F124: =us_thomson!F125 -> 73.4143 | G124: =us_thomson!G125 -> 289.8 | H124: =us_thomson!N125 -> #N/A N/A
A125: =us_thomson!A126 -> 35170 | B125: =us_thomson!B126 -> 104.8 | C125: =us_thomson!C126 -> 84.97 | D125: =us_thomson!D126 -> 94.1 | E125: =us_thomson!E126 -> 125994 | F125: =us_thomson!F126 -> 74.0513 | G125: =us_thomson!G126 -> 272 | H125: =us_thomson!N126 -> #N/A N/A
A126: =us_thomson!A127 -> 35200 | B126: =us_thomson!B127 -> 103.5 | C126: =us_thomson!C127 -> 85.45 | D126: =us_thomson!D127 -> 95.1 | E126: =us_thomson!E127 -> 126244 | F126: =us_thomson!F127 -> 74.5812 | G126: =us_thomson!G127 -> 278.7 | H126: =us_thomson!N127 -> #N/A N/A
A127: =us_thomson!A128 -> 35231 | B127: =us_thomson!B128 -> 100.1 | C127: =us_thomson!C128 -> 85.26 | D127: =us_thomson!D128 -> 95.9 | E127: =us_thomson!E128 -> 126602 | F127: =us_thomson!F128 -> 75.2056 | G127: =us_thomson!G128 -> 271.2 | H127: =us_thomson!N128 -> #N/A N/A
A128: =us_thomson!A129 -> 35261 | B128: =us_thomson!B129 -> 107 | C128: =us_thomson!C129 -> 85.14 | D128: =us_thomson!D129 -> 95.6 | E128: =us_thomson!E129 -> 126947 | F128: =us_thomson!F129 -> 75.0578 | G128: =us_thomson!G129 -> 250.3 | H128: =us_thomson!N129 -> #N/A N/A
A129: =us_thomson!A130 -> 35292 | B129: =us_thomson!B130 -> 112 | C129: =us_thomson!C130 -> 85.02 | D129: =us_thomson!D130 -> 95.3 | E129: =us_thomson!E130 -> 127172 | F129: =us_thomson!F130 -> 75.5237 | G129: =us_thomson!G130 -> 271.7 | H129: =us_thomson!N130 -> #N/A N/A
A130: =us_thomson!A131 -> 35323 | B130: =us_thomson!B131 -> 111.8 | C130: =us_thomson!C131 -> 85.89 | D130: =us_thomson!D131 -> 93.5 | E130: =us_thomson!E131 -> 127536 | F130: =us_thomson!F131 -> 76.0082 | G130: =us_thomson!G131 -> 268.6 | H130: =us_thomson!N131 -> #N/A N/A
... A353: =us_thomson!A354 -> 42109 | B353: =us_thomson!B354 -> 95.2 | C353: =us_thomson!C354 -> NA | D353: =us_thomson!D354 -> NA | E353: =us_thomson!E354 -> NA | F353: =us_thomson!F354 -> NA | G353: =us_thomson!G354 -> NA | H353: =us_thomson!N354 -> 54.1

Sheet us_thomson
A1: =_xll.Thomson.Reuters.AFOSpreadsheetFormulas.DSGRID("USCNFCONQ,USOSLI15G,USTOTPRCF,USEMPTOTO,USIPTOT.G,USEV1975H"," ","1/1/1986","TIME","M","RowHeader=true;ColHeader=true;Code=true;SeriesMetaDataLink=true;DispSeriesDescription=false;YearlyTSFormat=false;QuarterlyTSFormat=false","") -> Application offline! Unable to process the request | B1: US CONSUMER CONFIDENCE INDEX SADJ | C1: US TOTAL RETAIL TRADE (VOLUME) VOLA | D1: US TERMS OF TRADE REBASED TO 1975=100 NADJ | E1: US TOTAL CIVILIAN EMPLOYMENT VOLA | F1: US INDUSTRIAL PRODUCTION - TOTAL INDEX VOLA | G1: US EXPORT VOLUME REBASED TO 1975=100(CONTINUOUS SERIES) VOLN | J1: =_xll.Thomson.Reuters.AFOSpreadsheetFormulas.DSGRID("USGDP...D"," ","1986-01-01","TIME","Q","RowHeader=true;ColHeader=true;Code=true;SeriesMetaDataLink=true;DispSeriesDescription=false;YearlyTSFormat=false;QuarterlyTSFormat=false","") -> Application offline! Unable to process the request | K1: US GDP (AR) CONA
A2: Code | B2: USCNFCONQ | C2: USOSLI15G | D2: USTOTPRCF | E2: USEMPTOTO | F2: USIPTOT.G | G2: USEV1975H | J2: Code | K2: USGDP...D | M2: PX_LAST | N2: MPMIUSMA Index
A3: 31427 | B3: 96.9 | C3: 68.38 | D3: 93.5 | E3: 108887 | F3: 55.6062 | G3: 116.9 | J3: Q1 1986 | K3: 7784.1 | M3: =_xll.BDH(N2,M2:M2,"1/1/1986","","Dir=V","Dts=S","Sort=a","Quote=g","QtTyp=Y","Days=w","Per=cm","DtFmt=D","Fill=P","UseDPDF=Y","cols=2;rows=353") -> 31443 | N3: #N/A N/A
A4: 31458 | B4: 96 | C4: 67.87 | D4: 94.3 | E4: 108480 | F4: 55.2091 | G4: 120.5 | J4: Q2 1986 | K4: 7819.8 | M4: 31471 | N4: #N/A N/A
A5: 31486 | B5: 95.1 | C5: 67.77 | D5: 97 | E5: 108837 | F5: 54.8519 | G5: 129.6 | J5: Q3 1986 | K5: 7898.6 | M5: 31502 | N5: #N/A N/A
A6: 31517 | B6: 100 | C6: 68.45 | D6: 97.6 | E6: 108952 | F6: 54.8839 | G6: 127.3 | J6: Q4 1986 | K6: 7939.5 | M6: 31532 | N6: #N/A N/A
A7: 31547 | B7: 100.2 | C7: 69.25 | D7: 98.3 | E7: 109089 | F7: 54.9927 | G7: 129.3 | J7: Q1 1987 | K7: 7995 | M7: 31563 | N7: #N/A N/A
A8: 31578 | B8: 100 | C8: 69.07 | D8: 98.9 | E8: 109576 | F8: 54.8165 | G8: 135.3 | J8: Q2 1987 | K8: 8084.7 | M8: 31593 | N8: #N/A N/A
A9: 31608 | B9: 97.5 | C9: 69.25 | D9: 98.9 | E9: 109810 | F9: 55.1675 | G9: 123.7 | J9: Q3 1987 | K9: 8158 | M9: 31624 | N9: #N/A N/A
A10: 31639 | B10: 91.7 | C10: 69.89 | D10: 98.6 | E10: 110015 | F10: 55.0457 | G10: 115 | J10: Q4 1987 | K10: 8292.7 | M10: 31655 | N10: #N/A N/A
A11: 31670 | B11: 89.7 | C11: 73.73 | D11: 99.5 | E11: 110085 | F11: 55.1503 | G11: 117.3 | J11: Q1 1988 | K11: 8339.3 | M11: 31685 | N11: #N/A N/A
A12: 31700 | B12: 85.8 | C12: 70.52 | D12: 96.4 | E12: 110273 | F12: 55.3968 | G12: 134.5 | J12: Q2 1988 | K12: 8449.5 | M12: 31716 | N12: #N/A N/A
A13: 31731 | B13: 89.7 | C13: 70.06 | D13: 96.1 | E13: 110475 | F13: 55.6593 | G13: 128.1 | J13: Q3 1988 | K13: 8498.3 | M13: 31746 | N13: #N/A N/A
A14: 31761 | B14: 93.2 | C14: 72.96 | D14: 97.1 | E14: 110728 | F14: 56.1333 | G14: 127.9 | J14: Q4 1988 | K14: 8610.9 | M14: 31777 | N14: #N/A N/A
A15: 31792 | B15: 85.4 | C15: 67.88 | D15: 96 | E15: 110953 | F15: 55.9679 | G15: 114.4 | J15: Q1 1989 | K15: 8697.7 | M15: 31808 | N15: #N/A N/A
... A119: 34957 | B119: 97.3 | C119: 83.35 | D119: 94.9 | E119: 125133 | F119: 72.5149 | G119: 262.7 | J119: Q1 2015 | K119: 16304.8 | M119: 34972 | N119: #N/A N/A
A120: 34987 | B120: 96.3 | C120: 82.78 | D120: 95.4 | E120: 125388 | F120: 72.4092 | G120: 273.6 | M120: 35003 | N120: #N/A N/A
A121: 35018 | B121: 101.6 | C121: 83.78 | D121: 95.2 | E121: 125188 | F121: 72.5899 | G121: 267.7 | M121: 35033 | N121: #N/A N/A
A122: 35048 | B122: 99.2 | C122: 84.45 | D122: 94.7 | E122: 125088 | F122: 72.8672 | G122: 268.7 | M122: 35064 | N122: #N/A N/A
A123: 35079 | B123: 88.4 | C123: 83.29 | D123: 95 | E123: 125125 | F123: 72.3857 | G123: 251.2 | M123: 35095 | N123: #N/A N/A
A124: 35110 | B124: 98 | C124: 84.49 | D124: 95 | E124: 125639 | F124: 73.5162 | G124: 269.3 | M124: 35124 | N124: #N/A N/A
A125: 35139 | B125: 98.4 | C125: 84.98 | D125: 94.3 | E125: 125862 | F125: 73.4143 | G125: 289.8 | M125: 35155 | N125: #N/A N/A
A126: 35170 | B126: 104.8 | C126: 84.97 | D126: 94.1 | E126: 125994 | F126: 74.0513 | G126: 272 | M126: 35185 | N126: #N/A N/A
A127: 35200 | B127: 103.5 | C127: 85.45 | D127: 95.1 | E127: 126244 | F127: 74.5812 | G127: 278.7 | M127: 35216 | N127: #N/A N/A
A128: 35231 | B128: 100.1 | C128: 85.26 | D128: 95.9 | E128: 126602 | F128: 75.2056 | G128: 271.2 | M128: 35246 | N128: #N/A N/A
A129: 35261 | B129: 107 | C129: 85.14 | D129: 95.6 | E129: 126947 | F129: 75.0578 | G129: 250.3 | M129: 35277 | N129: #N/A N/A
A130: 35292 | B130: 112 | C130: 85.02 | D130: 95.3 | E130: 127172 | F130: 75.5237 | G130: 271.7 | M130: 35308 | N130: #N/A N/A
A131: 35323 | B131: 111.8 | C131: 85.89 | D131: 93.5 | E131: 127536 | F131: 76.0082 | G131: 268.6 | M131: 35338 | N131: #N/A N/A
... A318: 41014 | B318: 68.7 | C318: 106.85 | D318: 85.7 | E318: 141953 | F318: 96.7966 | G318: 521.8 | M318: 41029 | N318: #N/A N/A
A319: 41044 | B319: 64.4 | C319: 106.96 | D319: 86.5 | E319: 142231 | F319: 97.1123 | G319: 540.2 | M319: 41060 | N319: 54
A320: 41075 | B320: 62.7 | C320: 105.84 | D320: 87 | E320: 142400 | F320: 97.1618 | G320: 555.3 | M320: 41090 | N320: 52.5
A321: 41105 | B321: 65.4 | C321: 106.51 | D321: 88 | E321: 142270 | F321: 97.7061 | G321: 506.6 | M321: 41121 | N321: 51.4
A322: 41136 | B322: 61.3 | C322: 107.37 | D322: 87.7 | E322: 142277 | F322: 97.1146 | G322: 531.7 | M322: 41152 | N322: 51.5
A323: 41167 | B323: 68.4 | C323: 108.07 | D323: 87.5 | E323: 142953 | F323: 97.3865 | G323: 526 | M323: 41182 | N323: 51.1
A324: 41197 | B324: 73.1 | C324: 107.73 | D324: 87.4 | E324: 143350 | F324: 97.3111 | G324: 547.6 | M324: 41213 | N324: 51
A325: 41228 | B325: 71.5 | C325: 108.37 | D325: 87.5 | E325: 143279 | F325: 98.2597 | G325: 536.7 | M325: 41243 | N325: 52.8
A326: 41258 | B326: 66.7 | C326: 108.68 | D326: 87.8 | E326: 143280 | F326: 98.3571 | G326: 539.8 | M326: 41274 | N326: 54
A327: 41289 | B327: 58.4 | C327: 109.38 | D327: 87.7 | E327: 143328 | F327: 98.4084 | G327: 506.5 | M327: 41305 | N327: 55.8
A328: 41320 | B328: 68 | C328: 110.04 | D328: 87.6 | E328: 143429 | F328: 99.0438 | G328: 504.4 | M328: 41333 | N328: 54.3
A329: 41348 | B329: 61.9 | C329: 109.2 | D329: 87.2 | E329: 143374 | F329: 99.488 | G329: 561.3 | M329: 41364 | N329: 54.6
...

Sheet ez_eviews
B1: consconf | C1: retsales | D1: tot | E1: emp | F1: ip | G1: ex | H1: pmi | J1: gdp
A2: =ez_thomson!A3 -> 31427 | B2: =ez_thomson!B3 -> -9.8 | C2: =ez_thomson!C3 -> NA | D2: =ez_thomson!D3 -> 86.4 | E2: =ez_thomson!E3 -> NA | F2: =ez_thomson!F3 -> NA | G2: =ez_thomson!G3 -> NA | H2: =ez_thomson!N3 -> #N/A N/A | I2: =ez_thomson!J3 -> Q1 1986 | J2: =ez_thomson!K3 -> NA
A3: =ez_thomson!A4 -> 31458 | B3: =ez_thomson!B4 -> -9.3 | C3: =ez_thomson!C4 -> NA | D3: =ez_thomson!D4 -> 88.6 | E3: =ez_thomson!E4 -> NA | F3: =ez_thomson!F4 -> NA | G3: =ez_thomson!G4 -> NA | H3: =ez_thomson!N4 -> #N/A N/A | I3: =ez_thomson!J4 -> Q2 1986 | J3: =ez_thomson!K4 -> NA
A4: =ez_thomson!A5 -> 31486 | B4: =ez_thomson!B5 -> -7.3 | C4: =ez_thomson!C5 -> NA | D4: =ez_thomson!D5 -> 90.5 | E4: =ez_thomson!E5 -> NA | F4: =ez_thomson!F5 -> NA | G4: =ez_thomson!G5 -> NA | H4: =ez_thomson!N5 -> #N/A N/A | I4: =ez_thomson!J5 -> Q3 1986 | J4: =ez_thomson!K5 -> NA
A5: =ez_thomson!A6 -> 31517 | B5: =ez_thomson!B6 -> -6.5 | C5: =ez_thomson!C6 -> NA | D5: =ez_thomson!D6 -> 92.4 | E5: =ez_thomson!E6 -> NA | F5: =ez_thomson!F6 -> NA | G5: =ez_thomson!G6 -> NA | H5: =ez_thomson!N6 -> #N/A N/A | I5: =ez_thomson!J6 -> Q4 1986 | J5: =ez_thomson!K6 -> NA
A6: =ez_thomson!A7 -> 31547 | B6: =ez_thomson!B7 -> -5.6 | C6: =ez_thomson!C7 -> NA | D6: =ez_thomson!D7 -> 93.7 | E6: =ez_thomson!E7 -> NA | F6: =ez_thomson!F7 -> NA | G6: =ez_thomson!G7 -> NA | H6: =ez_thomson!N7 -> #N/A N/A | I6: =ez_thomson!J7 -> Q1 1987 | J6: =ez_thomson!K7 -> NA
A7: =ez_thomson!A8 -> 31578 | B7: =ez_thomson!B8 -> -7.4 | C7: =ez_thomson!C8 -> NA | D7: =ez_thomson!D8 -> 95 | E7: =ez_thomson!E8 -> NA | F7: =ez_thomson!F8 -> NA | G7: =ez_thomson!G8 -> NA | H7: =ez_thomson!N8 -> #N/A N/A | I7: =ez_thomson!J8 -> Q2 1987 | J7: =ez_thomson!K8 -> NA
A8: =ez_thomson!A9 -> 31608 | B8: =ez_thomson!B9 -> -8 | C8: =ez_thomson!C9 -> NA | D8: =ez_thomson!D9 -> 97.3 | E8: =ez_thomson!E9 -> NA | F8: =ez_thomson!F9 -> NA | G8: =ez_thomson!G9 -> NA | H8: =ez_thomson!N9 -> #N/A N/A | I8: =ez_thomson!J9 -> Q3 1987 | J8: =ez_thomson!K9 -> NA
A9: =ez_thomson!A10 -> 31639 | B9: =ez_thomson!B10 -> -8 | C9: =ez_thomson!C10 -> NA | D9: =ez_thomson!D10 -> 97.4 | E9: =ez_thomson!E10 -> NA | F9: =ez_thomson!F10 -> NA | G9: =ez_thomson!G10 -> NA | H9: =ez_thomson!N10 -> #N/A N/A | I9: =ez_thomson!J10 -> Q4 1987 | J9: =ez_thomson!K10 -> NA
A10: =ez_thomson!A11 -> 31670 | B10: =ez_thomson!B11 -> -8.2 | C10: =ez_thomson!C11 -> NA | D10: =ez_thomson!D11 -> 97 | E10: =ez_thomson!E11 -> NA | F10: =ez_thomson!F11 -> NA | G10: =ez_thomson!G11 -> NA | H10: =ez_thomson!N11 -> #N/A N/A | I10: =ez_thomson!J11 -> Q1 1988 | J10: =ez_thomson!K11 -> NA
A11: =ez_thomson!A12 -> 31700 | B11: =ez_thomson!B12 -> -7.7 | C11: =ez_thomson!C12 -> NA | D11: =ez_thomson!D12 -> 98.2 | E11: =ez_thomson!E12 -> NA | F11: =ez_thomson!F12 -> NA | G11: =ez_thomson!G12 -> NA | H11: =ez_thomson!N12 -> #N/A N/A | I11: =ez_thomson!J12 -> Q2 1988 | J11: =ez_thomson!K12 -> NA
A12: =ez_thomson!A13 -> 31731 | B12: =ez_thomson!B13 -> -8 | C12: =ez_thomson!C13 -> NA | D12: =ez_thomson!D13 -> 98.2 | E12: =ez_thomson!E13 -> NA | F12: =ez_thomson!F13 -> NA | G12: =ez_thomson!G13 -> NA | H12: =ez_thomson!N13 -> #N/A N/A | I12: =ez_thomson!J13 -> Q3 1988 | J12: =ez_thomson!K13 -> NA
A13: =ez_thomson!A14 -> 31761 | B13: =ez_thomson!B14 -> -8.6 | C13: =ez_thomson!C14 -> NA | D13: =ez_thomson!D14 -> 98.3 | E13: =ez_thomson!E14 -> NA | F13: =ez_thomson!F14 -> NA | G13: =ez_thomson!G14 -> NA | H13: =ez_thomson!N14 -> #N/A N/A | I13: =ez_thomson!J14 -> Q4 1988 | J13: =ez_thomson!K14 -> NA
... A117: =ez_thomson!A118 -> 34926 | B117: =ez_thomson!B118 -> -7.5 | C117: =ez_thomson!C118 -> 90.27 | D117: =ez_thomson!D118 -> 107.3 | E117: =ez_thomson!E118 -> 37863 | F117: =ez_thomson!F118 -> 86.78 | G117: =ez_thomson!G118 -> NA | H117: =ez_thomson!N118 -> #N/A N/A | I117: =ez_thomson!J118 -> Q4 2014 | J117: =ez_thomson!K118 -> 2416.93
A118: =ez_thomson!A119 -> 34957 | B118: =ez_thomson!B119 -> -10.3 | C118: =ez_thomson!C119 -> 90.36 | D118: =ez_thomson!D119 -> 107 | E118: =ez_thomson!E119 -> 37877 | F118: =ez_thomson!F119 -> 87.33 | G118: =ez_thomson!G119 -> NA | H118: =ez_thomson!N119 -> #N/A N/A
A119: =ez_thomson!A120 -> 34987 | B119: =ez_thomson!B120 -> -11.8 | C119: =ez_thomson!C120 -> 89.67 | D119: =ez_thomson!D120 -> 107.3 | E119: =ez_thomson!E120 -> 37912 | F119: =ez_thomson!F120 -> 86.19 | G119: =ez_thomson!G120 -> NA | H119: =ez_thomson!N120 -> #N/A N/A
A120: =ez_thomson!A121 -> 35018 | B120: =ez_thomson!B121 -> -12.5 | C120: =ez_thomson!C121 -> 90.46 | D120: =ez_thomson!D121 -> 107.2 | E120: =ez_thomson!E121 -> 37916 | F120: =ez_thomson!F121 -> 86.59 | G120: =ez_thomson!G121 -> NA | H120: =ez_thomson!N121 -> #N/A N/A
A121: =ez_thomson!A122 -> 35048 | B121: =ez_thomson!B122 -> -14.5 | C121: =ez_thomson!C122 -> 90.76 | D121: =ez_thomson!D122 -> 106.8 | E121: =ez_thomson!E122 -> 37947 | F121: =ez_thomson!F122 -> 87.51 | G121: =ez_thomson!G122 -> NA | H121: =ez_thomson!N122 -> #N/A N/A
A122: =ez_thomson!A123 -> 35079 | B122: =ez_thomson!B123 -> -15.1 | C122: =ez_thomson!C123 -> 90.07 | D122: =ez_thomson!D123 -> 106.4 | E122: =ez_thomson!E123 -> 37925 | F122: =ez_thomson!F123 -> 86.41 | G122: =ez_thomson!G123 -> NA | H122: =ez_thomson!N123 -> #N/A N/A
A123: =ez_thomson!A124 -> 35110 | B123: =ez_thomson!B124 -> -16.3 | C123: =ez_thomson!C124 -> 90.17 | D123: =ez_thomson!D124 -> 106.6 | E123: =ez_thomson!E124 -> 37900 | F123: =ez_thomson!F124 -> 86.22 | G123: =ez_thomson!G124 -> NA | H123: =ez_thomson!N124 -> #N/A N/A
A124: =ez_thomson!A125 -> 35139 | B124: =ez_thomson!B125 -> -16.9 | C124: =ez_thomson!C125 -> 90.46 | D124: =ez_thomson!D125 -> 106.3 | E124: =ez_thomson!E125 -> 37833 | F124: =ez_thomson!F125 -> 86.29 | G124: =ez_thomson!G125 -> NA | H124: =ez_thomson!N125 -> #N/A N/A
A125: =ez_thomson!A126 -> 35170 | B125: =ez_thomson!B126 -> -17.4 | C125: =ez_thomson!C126 -> 90.36 | D125: =ez_thomson!D126 -> 106 | E125: =ez_thomson!E126 -> 37903 | F125: =ez_thomson!F126 -> 85.53 | G125: =ez_thomson!G126 -> NA | H125: =ez_thomson!N126 -> #N/A N/A
A126: =ez_thomson!A127 -> 35200 | B126: =ez_thomson!B127 -> -15.9 | C126: =ez_thomson!C127 -> 89.77 | D126: =ez_thomson!D127 -> 106.2 | E126: =ez_thomson!E127 -> 37976 | F126: =ez_thomson!F127 -> 86.52 | G126: =ez_thomson!G127 -> NA | H126: =ez_thomson!N127 -> #N/A N/A
A127: =ez_thomson!A128 -> 35231 | B127: =ez_thomson!B128 -> -15.6 | C127: =ez_thomson!C128 -> 90.36 | D127: =ez_thomson!D128 -> 106.7 | E127: =ez_thomson!E128 -> 37925 | F127: =ez_thomson!F128 -> 86.45 | G127: =ez_thomson!G128 -> NA | H127: =ez_thomson!N128 -> #N/A N/A
A128: =ez_thomson!A129 -> 35261 | B128: =ez_thomson!B129 -> -17.3 | C128: =ez_thomson!C129 -> 89.87 | D128: =ez_thomson!D129 -> 106.8 | E128: =ez_thomson!E129 -> 37920 | F128: =ez_thomson!F129 -> 85.71 | G128: =ez_thomson!G129 -> NA | H128: =ez_thomson!N129 -> #N/A N/A
A129: =ez_thomson!A130 -> 35292 | B129: =ez_thomson!B130 -> -16.6 | C129: =ez_thomson!C130 -> 90.46 | D129: =ez_thomson!D130 -> 106.9 | E129: =ez_thomson!E130 -> 37894 | F129: =ez_thomson!F130 -> 86.75 | G129: =ez_thomson!G130 -> NA | H129: =ez_thomson!N130 -> #N/A N/A
... A353: =ez_thomson!A354 -> 42109 | B353: =ez_thomson!B354 -> -4.6 | C353: =ez_thomson!C354 -> NA | D353: =ez_thomson!D354 -> NA | E353: =ez_thomson!E354 -> NA | F353: =ez_thomson!F354 -> NA | G353: =ez_thomson!G354 -> NA | H353: =ez_thomson!N354 -> 52

Sheet ez_thomson
A1: =_xll.Thomson.Reuters.AFOSpreadsheetFormulas.DSGRID("EKCNFCONQ,EMRETTOTG,BDTOTPRCF,BDEMPTOTO,EKIPTOT.G,EKEBEXGTG"," ","1/1/1986","TIME","M","RowHeader=true;ColHeader=true;Code=true;SeriesMetaDataLink=true;DispSeriesDescription=false;YearlyTSFormat=false;QuarterlyTSFormat=false","") -> Application offline! Unable to process the request | B1: EK CONSUMER CONFIDENCE INDICATOR (EA) SADJ | C1: EM RETAIL SALES VOLUME INDEX VOLA | D1: BD TERMS OF TRADE (PAN BD FROM 1991) NADJ | E1: BD EMPLOYED PERSONS (RESIDENCE CONCEPT, ILO) VOLA | F1: EK INDUSTRIAL PRODUCTION EXCLUDING CONSTRUCTION (EA19) VOLA | G1: EK EXTERNAL TRADE: TOTAL EXPORTS VOLUME (EA19)(WDA) VOLA | J1: =_xll.Thomson.Reuters.AFOSpreadsheetFormulas.DSGRID("EMGDP...D"," ","1/1/1986","TIME","Q","RowHeader=true;ColHeader=true;Code=true;SeriesMetaDataLink=true;DispSeriesDescription=false;YearlyTSFormat=false;QuarterlyTSFormat=false","") -> Application offline! Unable to process the request | K1: EM GDP AT MARKET PRICES (ESA2010) CONA
A2: Code | B2: EKCNFCONQ | C2: EMRETTOTG | D2: BDTOTPRCF | E2: BDEMPTOTO | F2: EKIPTOT.G | G2: EKEBEXGTG | J2: Code | K2: EMGDP...D | M2: PX_LAST | N2: MPMIEZMA Index
A3: 31427 | B3: -9.8 | C3: NA | D3: 86.4 | E3: NA | F3: NA | G3: NA | J3: Q1 1986 | K3: NA | M3: =_xll.BDH(N2,M2:M2,"1/1/1986","","Dir=V","Dts=S","Sort=a","Quote=g","QtTyp=Y","Days=w","Per=cm","DtFmt=D","Fill=P","UseDPDF=Y","cols=2;rows=353") -> 31443 | N3: #N/A N/A
A4: 31458 | B4: -9.3 | C4: NA | D4: 88.6 | E4: NA | F4: NA | G4: NA | J4: Q2 1986 | K4: NA | M4: 31471 | N4: #N/A N/A
A5: 31486 | B5: -7.3 | C5: NA | D5: 90.5 | E5: NA | F5: NA | G5: NA | J5: Q3 1986 | K5: NA | M5: 31502 | N5: #N/A N/A
A6: 31517 | B6: -6.5 | C6: NA | D6: 92.4 | E6: NA | F6: NA | G6: NA | J6: Q4 1986 | K6: NA | M6: 31532 | N6: #N/A N/A
A7: 31547 | B7: -5.6 | C7: NA | D7: 93.7 | E7: NA | F7: NA | G7: NA | J7: Q1 1987 | K7: NA | M7: 31563 | N7: #N/A N/A
A8: 31578 | B8: -7.4 | C8: NA | D8: 95 | E8: NA | F8: NA | G8: NA | J8: Q2 1987 | K8: NA | M8: 31593 | N8: #N/A N/A
A9: 31608 | B9: -8 | C9: NA | D9: 97.3 | E9: NA | F9: NA | G9: NA | J9: Q3 1987 | K9: NA | M9: 31624 | N9: #N/A N/A
A10: 31639 | B10: -8 | C10: NA | D10: 97.4 | E10: NA | F10: NA | G10: NA | J10: Q4 1987 | K10: NA | M10: 31655 | N10: #N/A N/A
A11: 31670 | B11: -8.2 | C11: NA | D11: 97 | E11: NA | F11: NA | G11: NA | J11: Q1 1988 | K11: NA | M11: 31685 | N11: #N/A N/A
A12: 31700 | B12: -7.7 | C12: NA | D12: 98.2 | E12: NA | F12: NA | G12: NA | J12: Q2 1988 | K12: NA | M12: 31716 | N12: #N/A N/A
A13: 31731 | B13: -8 | C13: NA | D13: 98.2 | E13: NA | F13: NA | G13: NA | J13: Q3 1988 | K13: NA | M13: 31746 | N13: #N/A N/A
A14: 31761 | B14: -8.6 | C14: NA | D14: 98.3 | E14: NA | F14: NA | G14: NA | J14: Q4 1988 | K14: NA | M14: 31777 | N14: #N/A N/A
A15: 31792 | B15: -9.7 | C15: NA | D15: 98.3 | E15: NA | F15: NA | G15: NA | J15: Q1 1989 | K15: NA | M15: 31808 | N15: #N/A N/A
... A38: 32492 | B38: -6.4 | C38: NA | D38: 99.1 | E38: NA | F38: NA | G38: NA | J38: Q4 1994 | K38: NA | M38: 32508 | N38: #N/A N/A
A39: 32523 | B39: -6.1 | C39: NA | D39: 97.7 | E39: NA | F39: NA | G39: NA | J39: Q1 1995 | K39: 1771.43 | M39: 32539 | N39: #N/A N/A
A40: 32554 | B40: -7.6 | C40: NA | D40: 97.8 | E40: NA | F40: NA | G40: NA | J40: Q2 1995 | K40: 1781.72 | M40: 32567 | N40: #N/A N/A
A41: 32582 | B41: -7.2 | C41: NA | D41: 97.4 | E41: NA | F41: NA | G41: NA | J41: Q3 1995 | K41: 1788.04 | M41: 32598 | N41: #N/A N/A
A42: 32613 | B42: -6.6 | C42: NA | D42: 96.8 | E42: NA | F42: NA | G42: NA | J42: Q4 1995 | K42: 1794.11 | M42: 32628 | N42: #N/A N/A
A43: 32643 | B43: -5.8 | C43: NA | D43: 97 | E43: NA | F43: NA | G43: NA | J43: Q1 1996 | K43: 1794.61 | M43: 32659 | N43: #N/A N/A
A44: 32674 | B44: -4.6 | C44: NA | D44: 97.5 | E44: NA | F44: NA | G44: NA | J44: Q2 1996 | K44: 1808.01 | M44: 32689 | N44: #N/A N/A
A45: 32704 | B45: -3.3 | C45: NA | D45: 98.7 | E45: NA | F45: NA | G45: NA | J45: Q3 1996 | K45: 1818.09 | M45: 32720 | N45: #N/A N/A
A46: 32735 | B46: -4.3 | C46: NA | D46: 98.4 | E46: NA | F46: NA | G46: NA | J46: Q4 1996 | K46: 1823.37 | M46: 32751 | N46: #N/A N/A
A47: 32766 | B47: -4.4 | C47: NA | D47: 98.1 | E47: NA | F47: NA | G47: NA | J47: Q1 1997 | K47: 1829.51 | M47: 32781 | N47: #N/A N/A
A48: 32796 | B48: -5.2 | C48: NA | D48: 98.4 | E48: NA | F48: NA | G48: NA | J48: Q2 1997 | K48: 1852.08 | M48: 32812 | N48: #N/A N/A
A49: 32827 | B49: -6 | C49: NA | D49: 99 | E49: NA | F49: NA | G49: NA | J49: Q3 1997 | K49: 1865.06 | M49: 32842 | N49: #N/A N/A
A50: 32857 | B50: -4.6 | C50: NA | D50: 99.1 | E50: NA | F50: NA | G50: NA | J50: Q4 1997 | K50: 1885.13 | M50: 32873 | N50: #N/A N/A
... A62: 33222 | B62: -12.4 | C62: NA | D62: 99.2 | E62: NA | F62: NA | G62: NA | J62: Q4 2000 | K62: 2063 | M62: 33238 | N62: #N/A N/A
A63: 33253 | B63: -15.9 | C63: NA | D63: 100 | E63: NA | F63: 88.14 | G63: NA | J63: Q1 2001 | K63: 2131.28 | M63: 33269 | N63: #N/A N/A
A64: 33284 | B64: -17 | C64: NA | D64: 100.7 | E64: NA | F64: 87.2 | G64: NA | J64: Q2 2001 | K64: 2132.36 | M64: 33297 | N64: #N/A N/A
A65: 33312 | B65: -12.9 | C65: NA | D65: 100.6 | E65: NA | F65: 86.35 | G65: NA | J65: Q3 2001 | K65: 2133.22 | M65: 33328 | N65: #N/A N/A
A66: 33343 | B66: -14.3 | C66: NA | D66: 100 | E66: NA | F66: 85.9 | G66: NA | J66: Q4 2001 | K66: 2135.77 | M66: 33358 | N66: #N/A N/A
A67: 33373 | B67: -13.7 | C67: NA | D67: 100.1 | E67: NA | F67: 85.82 | G67: NA | J67: Q1 2002 | K67: 2140.26 | M67: 33389 | N67: #N/A N/A
A68: 33404 | B68: -14.3 | C68: NA | D68: 99.9 | E68: NA | F68: 87.43 | G68: NA | J68: Q2 2002 | K68: 2151.07 | M68: 33419 | N68: #N/A N/A
A69: 33434 | B69: -17 | C69: NA | D69: 100 | E69: NA | F69: 85.75 | G69: NA | J69: Q3 2002 | K69: 2158.49 | M69: 33450 | N69: #N/A N/A
A70: 33465 | B70: -17.3 | C70: NA | D70: 100.5 | E70: NA | F70: 85.61 | G70: NA | J70: Q4 2002 | K70: 2159.41 | M70: 33481 | N70: #N/A N/A
A71: 33496 | B71: -14.3 | C71: NA | D71: 100.9 | E71: NA | F71: 85.74 | G71: NA | J71: Q1 2003 | K71: 2154.39 | M71: 33511 | N71: #N/A N/A
A72: 33526 | B72: -15.3 | C72: NA | D72: 100.7 | E72: NA | F72: 86.12 | G72: NA | J72: Q2 2003 | K72: 2156.27 | M72: 33542 | N72: #N/A N/A
A73: 33557 | B73: -16.1 | C73: NA | D73: 100.9 | E73: NA | F73: 87.16 | G73: NA | J73: Q3 2003 | K73: 2167.21 | M73: 33572 | N73: #N/A N/A
...

Sheet jp_eviews
B1: consconf | C1: retsales | D1: tot | E1: emp | F1: ip | G1: ex | J1: gdp
A2: =jp_thomson!A3 -> 31427 | B2: =jp_thomson!B3 -> NA | C2: =jp_thomson!C3 -> 89.73 | D2: =jp_thomson!D3 -> 126.2 | E2: =jp_thomson!E3 -> 58410 | F2: =jp_thomson!F3 -> 84.8 | G2: =jp_thomson!G3 -> 44.44 | I2: =jp_thomson!J3 -> Q1 1986 | J2: =jp_thomson!K3 -> 341487.3
A3: =jp_thomson!A4 -> 31458 | B3: =jp_thomson!B4 -> NA | C3: =jp_thomson!C4 -> 89.74 | D3: =jp_thomson!D4 -> 130.9 | E3: =jp_thomson!E4 -> 58500 | F3: =jp_thomson!F4 -> 84.8 | G3: =jp_thomson!G4 -> 51 | I3: =jp_thomson!J4 -> Q2 1986 | J3: =jp_thomson!K4 -> 340507.5
A4: =jp_thomson!A5 -> 31486 | B4: =jp_thomson!B5 -> 46.8 | C4: =jp_thomson!C5 -> 89.74 | D4: =jp_thomson!D5 -> 144.5 | E4: =jp_thomson!E5 -> 58410 | F4: =jp_thomson!F5 -> 84.7 | G4: =jp_thomson!G5 -> 57.65 | I4: =jp_thomson!J5 -> Q3 1986 | J4: =jp_thomson!K5 -> 343152.1
A5: =jp_thomson!A6 -> 31517 | B5: =jp_thomson!B6 -> NA | C5: =jp_thomson!C6 -> 90.25 | D5: =jp_thomson!D6 -> 154.9 | E5: =jp_thomson!E6 -> 58420 | F5: =jp_thomson!F6 -> 84.7 | G5: =jp_thomson!G6 -> 57.03 | I5: =jp_thomson!J6 -> Q4 1986 | J5: =jp_thomson!K6 -> 346751.7
A6: =jp_thomson!A7 -> 31547 | B6: =jp_thomson!B7 -> NA | C6: =jp_thomson!C7 -> 88.71 | D6: =jp_thomson!D7 -> 163.9 | E6: =jp_thomson!E7 -> 58320 | F6: =jp_thomson!F7 -> 84.6 | G6: =jp_thomson!G7 -> 55.64 | I6: =jp_thomson!J7 -> Q1 1987 | J6: =jp_thomson!K7 -> 345435
A7: =jp_thomson!A8 -> 31578 | B7: =jp_thomson!B8 -> 45.6 | C7: =jp_thomson!C8 -> 90.1 | D7: =jp_thomson!D8 -> 167.9 | E7: =jp_thomson!E8 -> 58400 | F7: =jp_thomson!F8 -> 85 | G7: =jp_thomson!G8 -> 55.29 | I7: =jp_thomson!J8 -> Q2 1987 | J7: =jp_thomson!K8 -> 352589.7
A8: =jp_thomson!A9 -> 31608 | B8: =jp_thomson!B9 -> NA | C8: =jp_thomson!C9 -> 89.77 | D8: =jp_thomson!D9 -> 176 | E8: =jp_thomson!E9 -> 58630 | F8: =jp_thomson!F9 -> 85.2 | G8: =jp_thomson!G9 -> 58.27 | I8: =jp_thomson!J9 -> Q3 1987 | J8: =jp_thomson!K9 -> 359479
A9: =jp_thomson!A10 -> 31639 | B9: =jp_thomson!B10 -> NA | C9: =jp_thomson!C10 -> 91.12 | D9: =jp_thomson!D10 -> 184.8 | E9: =jp_thomson!E10 -> 58670 | F9: =jp_thomson!F10 -> 83 | G9: =jp_thomson!G10 -> 50.72 | I9: =jp_thomson!J10 -> Q4 1987 | J9: =jp_thomson!K10 -> 368754.3
A10: =jp_thomson!A11 -> 31670 | B10: =jp_thomson!B11 -> 43.7 | C10: =jp_thomson!C11 -> 89.92 | D10: =jp_thomson!D11 -> 183.7 | E10: =jp_thomson!E11 -> 58640 | F10: =jp_thomson!F11 -> 85.8 | G10: =jp_thomson!G11 -> 57.86 | I10: =jp_thomson!J11 -> Q1 1988 | J10: =jp_thomson!K11 -> 377068.6
A11: =jp_thomson!A12 -> 31700 | B11: =jp_thomson!B12 -> NA | C11: =jp_thomson!C12 -> 90.44 | D11: =jp_thomson!D12 -> 178.4 | E11: =jp_thomson!E12 -> 58720 | F11: =jp_thomson!F12 -> 84.6 | G11: =jp_thomson!G12 -> 57.58 | I11: =jp_thomson!J12 -> Q2 1988 | J11: =jp_thomson!K12 -> 377537.7
A12: =jp_thomson!A13 -> 31731 | B12: =jp_thomson!B13 -> NA | C12: =jp_thomson!C13 -> 90.49 | D12: =jp_thomson!D13 -> 177.1 | E12: =jp_thomson!E13 -> 58660 | F12: =jp_thomson!F13 -> 83.5 | G12: =jp_thomson!G13 -> 51.07 | I12: =jp_thomson!J13 -> Q3 1988 | J12: =jp_thomson!K13 -> 385157.6
A13: =jp_thomson!A14 -> 31761 | B13: =jp_thomson!B14 -> 42.3 | C13: =jp_thomson!C14 -> 91.14 | D13: =jp_thomson!D14 -> 175.5 | E13: =jp_thomson!E14 -> 58650 | F13: =jp_thomson!F14 -> 85.6 | G13: =jp_thomson!G14 -> 60.41 | I13: =jp_thomson!J14 -> Q4 1988 | J13: =jp_thomson!K14 -> 389483
... A117: =jp_thomson!A118 -> 34926 | B117: =jp_thomson!B118 -> NA | C117: =jp_thomson!C118 -> 107.13 | D117: =jp_thomson!D118 -> 173.9 | E117: =jp_thomson!E118 -> 64570 | F117: =jp_thomson!F118 -> 100.9 | G117: =jp_thomson!G118 -> 65.53 | I117: =jp_thomson!J118 -> Q4 2014 | J117: =jp_thomson!K118 -> 524603
A118: =jp_thomson!A119 -> 34957 | B118: =jp_thomson!B119 -> 41.6 | C118: =jp_thomson!C119 -> 106.71 | D118: =jp_thomson!D119 -> 174.1 | E118: =jp_thomson!E119 -> 64820 | F118: =jp_thomson!F119 -> 100 | G118: =jp_thomson!G119 -> 73.48
A119: =jp_thomson!A120 -> 34987 | B119: =jp_thomson!B120 -> NA | C119: =jp_thomson!C120 -> 106.28 | D119: =jp_thomson!D120 -> 173.2 | E119: =jp_thomson!E120 -> 64590 | F119: =jp_thomson!F120 -> 101.3 | G119: =jp_thomson!G120 -> 67.95
A120: =jp_thomson!A121 -> 35018 | B120: =jp_thomson!B121 -> NA | C120: =jp_thomson!C121 -> 106.92 | D120: =jp_thomson!D121 -> 172 | E120: =jp_thomson!E121 -> 64430 | F120: =jp_thomson!F121 -> 102 | G120: =jp_thomson!G121 -> 67.74
A121: =jp_thomson!A122 -> 35048 | B121: =jp_thomson!B122 -> 44 | C121: =jp_thomson!C122 -> 107.24 | D121: =jp_thomson!D122 -> 171.4 | E121: =jp_thomson!E122 -> 64460 | F121: =jp_thomson!F122 -> 103.3 | G121: =jp_thomson!G122 -> 76.17
A122: =jp_thomson!A123 -> 35079 | B122: =jp_thomson!B123 -> NA | C122: =jp_thomson!C123 -> 107.45 | D122: =jp_thomson!D123 -> 169.1 | E122: =jp_thomson!E123 -> 64430 | F122: =jp_thomson!F123 -> 101.6 | G122: =jp_thomson!G123 -> 55.98
A123: =jp_thomson!A124 -> 35110 | B123: =jp_thomson!B124 -> NA | C123: =jp_thomson!C124 -> 107.13 | D123: =jp_thomson!D124 -> 168.1 | E123: =jp_thomson!E124 -> 64400 | F123: =jp_thomson!F124 -> 101.7 | G123: =jp_thomson!G124 -> 65.94
A124: =jp_thomson!A125 -> 35139 | B124: =jp_thomson!B125 -> 45.1 | C124: =jp_thomson!C125 -> 107.56 | D124: =jp_thomson!D125 -> 167.8 | E124: =jp_thomson!E125 -> 64710 | F124: =jp_thomson!F125 -> 101.5 | G124: =jp_thomson!G125 -> 75.76
A125: =jp_thomson!A126 -> 35170 | B125: =jp_thomson!B126 -> NA | C125: =jp_thomson!C126 -> 107.14 | D125: =jp_thomson!D126 -> 165.8 | E125: =jp_thomson!E126 -> 64760 | F125: =jp_thomson!F126 -> 101.7 | G125: =jp_thomson!G126 -> 68.84
A126: =jp_thomson!A127 -> 35200 | B126: =jp_thomson!B127 -> NA | C126: =jp_thomson!C127 -> 106.61 | D126: =jp_thomson!D127 -> 163.4 | E126: =jp_thomson!E127 -> 64590 | F126: =jp_thomson!F127 -> 102.6 | G126: =jp_thomson!G127 -> 65.19
A127: =jp_thomson!A128 -> 35231 | B127: =jp_thomson!B128 -> 46.1 | C127: =jp_thomson!C128 -> 107.56 | D127: =jp_thomson!D128 -> 163.1 | E127: =jp_thomson!E128 -> 64910 | F127: =jp_thomson!F128 -> 102.6 | G127: =jp_thomson!G128 -> 68.7
A128: =jp_thomson!A129 -> 35261 | B128: =jp_thomson!B129 -> NA | C128: =jp_thomson!C129 -> 106.92 | D128: =jp_thomson!D129 -> 161.9 | E128: =jp_thomson!E129 -> 65120 | F128: =jp_thomson!F129 -> 103.3 | G128: =jp_thomson!G129 -> 71.81
A129: =jp_thomson!A130 -> 35292 | B129: =jp_thomson!B130 -> NA | C129: =jp_thomson!C130 -> 106.07 | D129: =jp_thomson!D130 -> 161 | E129: =jp_thomson!E130 -> 65050 | F129: =jp_thomson!F130 -> 103.6 | G129: =jp_thomson!G130 -> 65.94
... A352: =jp_thomson!A353 -> 42078 | B352: =jp_thomson!B353 -> 41.7 | C352: =jp_thomson!C353 -> NA | D352: =jp_thomson!D353 -> 96.5 | E352: =jp_thomson!E353 -> NA | F352: =jp_thomson!F353 -> 98.7 | G352: =jp_thomson!G353 -> 98.94

Sheet jp_thomson
A1: =_xll.Thomson.Reuters.AFOSpreadsheetFormulas.DSGRID("JPCNFCONQ,JPOSLI15G,JPTOTPRCF,JPEMPTOTO,JPIPMAN.G,JPEXPVOLH"," ","1/1/1986","TIME","M","RowHeader=true;ColHeader=true;Code=true;SeriesMetaDataLink=true;DispSeriesDescription=false;YearlyTSFormat=false;QuarterlyTSFormat=false","") -> Application offline! Unable to process the request | B1: JP CONSUMER CONFIDENCE INDEX (EXCL. 1 PERSON HH.) SADJ | C1: JP TOTAL RETAIL TRADE (VOLUME) VOLA | D1: JP TERMS OF TRADE INDEX NADJ | E1: JP EMPLOYED PERSONS (METHO BREAK MAR 2011) VOLA | F1: JP INDUSTRIAL PRODUCTION - MANUFACTURING VOLA | G1: JP EXPORTS VOLUME INDEX VOLN | J1: =_xll.Thomson.Reuters.AFOSpreadsheetFormulas.DSGRID("JPGDP...D"," ","1986-01-01","TIME","Q","RowHeader=true;ColHeader=true;Code=true;SeriesMetaDataLink=true;DispSeriesDescription=false;YearlyTSFormat=false;QuarterlyTSFormat=false","") -> Application offline! Unable to process the request | K1: JP GDP (AR) CONA
A2: Code | B2: JPCNFCONQ | C2: JPOSLI15G | D2: JPTOTPRCF | E2: JPEMPTOTO | F2: JPIPMAN.G | G2: JPEXPVOLH | J2: Code | K2: JPGDP...D
A3: 31427 | B3: NA | C3: 89.73 | D3: 126.2 | E3: 58410 | F3: 84.8 | G3: 44.44 | J3: Q1 1986 | K3: 341487.3
A4: 31458 | B4: NA | C4: 89.74 | D4: 130.9 | E4: 58500 | F4: 84.8 | G4: 51 | J4: Q2 1986 | K4: 340507.5
A5: 31486 | B5: 46.8 | C5: 89.74 | D5: 144.5 | E5: 58410 | F5: 84.7 | G5: 57.65 | J5: Q3 1986 | K5: 343152.1
A6: 31517 | B6: NA | C6: 90.25 | D6: 154.9 | E6: 58420 | F6: 84.7 | G6: 57.03 | J6: Q4 1986 | K6: 346751.7
A7: 31547 | B7: NA | C7: 88.71 | D7: 163.9 | E7: 58320 | F7: 84.6 | G7: 55.64 | J7: Q1 1987 | K7: 345435
A8: 31578 | B8: 45.6 | C8: 90.1 | D8: 167.9 | E8: 58400 | F8: 85 | G8: 55.29 | J8: Q2 1987 | K8: 352589.7
A9: 31608 | B9: NA | C9: 89.77 | D9: 176 | E9: 58630 | F9: 85.2 | G9: 58.27 | J9: Q3 1987 | K9: 359479
A10: 31639 | B10: NA | C10: 91.12 | D10: 184.8 | E10: 58670 | F10: 83 | G10: 50.72 | J10: Q4 1987 | K10: 368754.3
A11: 31670 | B11: 43.7 | C11: 89.92 | D11: 183.7 | E11: 58640 | F11: 85.8 | G11: 57.86 | J11: Q1 1988 | K11: 377068.6
A12: 31700 | B12: NA | C12: 90.44 | D12: 178.4 | E12: 58720 | F12: 84.6 | G12: 57.58 | J12: Q2 1988 | K12: 377537.7
A13: 31731 | B13: NA | C13: 90.49 | D13: 177.1 | E13: 58660 | F13: 83.5 | G13: 51.07 | J13: Q3 1988 | K13: 385157.6
A14: 31761 | B14: 42.3 | C14: 91.14 | D14: 175.5 | E14: 58650 | F14: 85.6 | G14: 60.41 | J14: Q4 1988 | K14: 389483
A15: 31792 | B15: NA | C15: 92.96 | D15: 172.6 | E15: 58640 | F15: 85.1 | G15: 45.55 | J15: Q1 1989 | K15: 400212.7
A16: 31823 | B16: NA | C16: 93.05 | D16: 169.2 | E16: 58640 | F16: 84.8 | G16: 51.35 | J16: Q2 1989 | K16: 394994.4
A17: 31851 | B17: 41 | C17: 93 | D17: 168 | E17: 58850 | F17: 86.1 | G17: 57.93 | J17: Q3 1989 | K17: 401727.1
A18: 31882 | B18: NA | C18: 93.23 | D18: 168.8 | E18: 58880 | F18: 85.3 | G18: 56.48 | J18: Q4 1989 | K18: 414055.2
A19: 31912 | B19: NA | C19: 93.9 | D19: 167 | E19: 58850 | F19: 83.8 | G19: 53.7 | J19: Q1 1990 | K19: 411079
A20: 31943 | B20: 44.3 | C20: 94.46 | D20: 166.6 | E20: 59030 | F20: 87 | G20: 54.33 | J20: Q2 1990 | K20: 423493.4
A21: 31973 | B21: NA | C21: 95.06 | D21: 164.7 | E21: 59040 | F21: 87.7 | G21: 57.65 | J21: Q3 1990 | K21: 431371.4
A22: 32004 | B22: NA | C22: 95.4 | D22: 162.7 | E22: 59320 | F22: 87.9 | G22: 51.21 | J22: Q4 1990 | K22: 430372.3
A23: 32035 | B23: 46.9 | C23: 95.51 | D23: 162.7 | E23: 59300 | F23: 89.4 | G23: 57.65 | J23: Q1 1991 | K23: 434156
A24: 32065 | B24: NA | C24: 95.25 | D24: 161.5 | E24: 59370 | F24: 90.9 | G24: 59.16 | J24: Q2 1991 | K24: 439233.8
A25: 32096 | B25: NA | C25: 96.75 | D25: 162.9 | E25: 59590 | F25: 91.3 | G25: 52.39 | J25: Q3 1991 | K25: 439251.9
A26: 32126 | B26: 48.4 | C26: 97.21 | D26: 164.4 | E26: 59770 | F26: 92.3 | G26: 62.97 | J26: Q4 1991 | K26: 441980.9
A27: 32157 | B27: NA | C27: 97.9 | D27: 167.3 | E27: 59780 | F27: 92.9 | G27: 45.62 | J27: Q1 1992 | K27: 442620.8
A28: 32188 | B28: NA | C28: 99.73 | D28: 167.5 | E28: 59640 | F28: 95.6 | G28: 53.77 | J28: Q2 1992 | K28: 442382.2
A29: 32217 | B29: 49.9 | C29: 97.44 | D29: 166.7 | E29: 59720 | F29: 93.7 | G29: 59.99 | J29: Q3 1992 | K29: 444549.6
A30: 32248 | B30: NA | C30: 98.39 | D30: 170.2 | E30: 59980 | F30: 96.1 | G30: 58.41 | J30: Q4 1992 | K30: 441745.3
A31: 32278 | B31: NA | C31: 98.39 | D31: 169.6 | E31: 60120 | F31: 95.2 | G31: 53.7 | J31: Q1 1993 | K31: 446109.7
A32: 32309 | B32: 49.8 | C32: 98.95 | D32: 166.9 | E32: 60090 | F32: 95.4 | G32: 57.24 | J32: Q2 1993 | K32: 443035.3
A33: 32339 | B33: NA | C33: 99.29 | D33: 167.6 | E33: 60180 | F33: 95.7 | G33: 61.17 | J33: Q3 1993 | K33: 441001.8
A34: 32370 | B34: NA | C34: 99.53 | D34: 169.9 | E34: 60240 | F34: 96.4 | G34: 55.08 | J34: Q4 1993 | K34: 443412.1
A35: 32401 | B35: 49.9 | C35: 99.32 | D35: 170.1 | E35: 60200 | F35: 98 | G35: 61.93 | J35: Q1 1994 | K35: 447207.6
A36: 32431 | B36: NA | C36: 98.55 | D36: 171.2 | E36: 60280 | F36: 96.6 | G36: 61.38 | J36: Q2 1994 | K36: 442420.7
A37: 32462 | B37: NA | C37: 100.23 | D37: 176.2 | E37: 60430 | F37: 98.4 | G37: 58.2 | J37: Q3 1994 | K37: 451081.3
A38: 32492 | B38: 50.8 | C38: 100.79 | D38: 176.8 | E38: 60590 | F38: 99.4 | G38: 66.08 | J38: Q4 1994 | K38: 446333.8
A39: 32523 | B39: NA | C39: 100.22 | D39: 173.7 | E39: 60560 | F39: 100.3 | G39: 48.72 | J39: Q1 1995 | K39: 448985.6
A40: 32554 | B40: NA | C40: 100.9 | D40: 169.8 | E40: 60750 | F40: 99.9 | G40: 56.96 | J40: Q2 1995 | K40: 455337.5
...

Sheet uk_eviews
B1: consconf | C1: retsales | D1: tot | E1: emp | F1: ip | G1: ex | J1: gdp
A2: =uk_thomson!A3 -> 31427 | B2: =uk_thomson!B3 -> -11 | C2: =uk_thomson!C3 -> 51.6 | D2: =uk_thomson!D3 -> 97.3 | E2: =uk_thomson!E3 -> 24257 | F2: =uk_thomson!F3 -> 87.6 | G2: =uk_thomson!G3 -> NA | I2: =uk_thomson!J3 -> Q1 1986 | J2: =uk_thomson!K3 -> 225834
A3: =uk_thomson!A4 -> 31458 | B3: =uk_thomson!B4 -> -14 | C3: =uk_thomson!C4 -> 51.4 | D3: =uk_thomson!D4 -> 94.7 | E3: =uk_thomson!E4 -> 24262 | F3: =uk_thomson!F4 -> 88.3 | G3: =uk_thomson!G4 -> NA | I3: =uk_thomson!J4 -> Q2 1986 | J3: =uk_thomson!K4 -> 228391
A4: =uk_thomson!A5 -> 31486 | B4: =uk_thomson!B5 -> -11 | C4: =uk_thomson!C5 -> 52.1 | D4: =uk_thomson!D5 -> 93.4 | E4: =uk_thomson!E5 -> 24272 | F4: =uk_thomson!F5 -> 89.1 | G4: =uk_thomson!G5 -> NA | I4: =uk_thomson!J5 -> Q3 1986 | J4: =uk_thomson!K5 -> 229928
A5: =uk_thomson!A6 -> 31517 | B5: =uk_thomson!B6 -> -8 | C5: =uk_thomson!C6 -> 52.2 | D5: =uk_thomson!D6 -> 93.5 | E5: =uk_thomson!E6 -> 24280 | F5: =uk_thomson!F6 -> 90.2 | G5: =uk_thomson!G6 -> NA | I5: =uk_thomson!J6 -> Q4 1986 | J5: =uk_thomson!K6 -> 234262
A6: =uk_thomson!A7 -> 31547 | B6: =uk_thomson!B7 -> -8 | C6: =uk_thomson!C7 -> 52.4 | D6: =uk_thomson!D7 -> 94.9 | E6: =uk_thomson!E7 -> 24291 | F6: =uk_thomson!F7 -> 88.8 | G6: =uk_thomson!G7 -> NA | I6: =uk_thomson!J7 -> Q1 1987 | J6: =uk_thomson!K7 -> 236229
A7: =uk_thomson!A8 -> 31578 | B7: =uk_thomson!B8 -> -6 | C7: =uk_thomson!C8 -> 53.2 | D7: =uk_thomson!D8 -> 95.7 | E7: =uk_thomson!E8 -> 24310 | F7: =uk_thomson!F8 -> 90 | G7: =uk_thomson!G8 -> NA | I7: =uk_thomson!J8 -> Q2 1987 | J7: =uk_thomson!K8 -> 239505
A8: =uk_thomson!A9 -> 31608 | B8: =uk_thomson!B9 -> -3 | C8: =uk_thomson!C9 -> 52.7 | D8: =uk_thomson!D9 -> 94.9 | E8: =uk_thomson!E9 -> 24340 | F8: =uk_thomson!F9 -> 89.2 | G8: =uk_thomson!G9 -> NA | I8: =uk_thomson!J9 -> Q3 1987 | J8: =uk_thomson!K9 -> 245364
A9: =uk_thomson!A10 -> 31639 | B9: =uk_thomson!B10 -> -5 | C9: =uk_thomson!C10 -> 52.9 | D9: =uk_thomson!D10 -> 94.6 | E9: =uk_thomson!E10 -> 24369 | F9: =uk_thomson!F10 -> 89.2 | G9: =uk_thomson!G10 -> NA | I9: =uk_thomson!J10 -> Q4 1987 | J9: =uk_thomson!K10 -> 248254
A10: =uk_thomson!A11 -> 31670 | B10: =uk_thomson!B11 -> -6 | C10: =uk_thomson!C11 -> 53.8 | D10: =uk_thomson!D11 -> 93.3 | E10: =uk_thomson!E11 -> 24388 | F10: =uk_thomson!F11 -> 91.5 | G10: =uk_thomson!G11 -> NA | I10: =uk_thomson!J11 -> Q1 1988 | J10: =uk_thomson!K11 -> 252941
A11: =uk_thomson!A12 -> 31700 | B11: =uk_thomson!B12 -> -3 | C11: =uk_thomson!C12 -> 53.6 | D11: =uk_thomson!D12 -> 93.1 | E11: =uk_thomson!E12 -> 24423 | F11: =uk_thomson!F12 -> 91.7 | G11: =uk_thomson!G12 -> NA | I11: =uk_thomson!J12 -> Q2 1988 | J11: =uk_thomson!K12 -> 254603
A12: =uk_thomson!A13 -> 31731 | B12: =uk_thomson!B13 -> -3 | C12: =uk_thomson!C13 -> 54 | D12: =uk_thomson!D13 -> 92.8 | E12: =uk_thomson!E13 -> 24447 | F12: =uk_thomson!F13 -> 91.4 | G12: =uk_thomson!G13 -> NA | I12: =uk_thomson!J13 -> Q3 1988 | J12: =uk_thomson!K13 -> 258558
A13: =uk_thomson!A14 -> 31761 | B13: =uk_thomson!B14 -> -6 | C13: =uk_thomson!C14 -> 53.9 | D13: =uk_thomson!D14 -> 92 | E13: =uk_thomson!E14 -> 24472 | F13: =uk_thomson!F14 -> 91.7 | G13: =uk_thomson!G14 -> NA | I13: =uk_thomson!J14 -> Q4 1988 | J13: =uk_thomson!K14 -> 260772
... A118: =uk_thomson!A119 -> 34957 | B118: =uk_thomson!B119 -> -8 | C118: =uk_thomson!C119 -> 63.7 | D118: =uk_thomson!D119 -> 95.6 | E118: =uk_thomson!E119 -> 25432 | F118: =uk_thomson!F119 -> 106.6 | G118: =uk_thomson!G119 -> NA | I118: =uk_thomson!J119 -> Q1 2015 | J118: =uk_thomson!K119 -> 430962
A119: =uk_thomson!A120 -> 34987 | B119: =uk_thomson!B120 -> -8 | C119: =uk_thomson!C120 -> 64 | D119: =uk_thomson!D120 -> 96.5 | E119: =uk_thomson!E120 -> 25454 | F119: =uk_thomson!F120 -> 106.2 | G119: =uk_thomson!G120 -> NA
A120: =uk_thomson!A121 -> 35018 | B120: =uk_thomson!B121 -> -10 | C120: =uk_thomson!C121 -> 64.3 | D120: =uk_thomson!D121 -> 97.1 | E120: =uk_thomson!E121 -> 25549 | F120: =uk_thomson!F121 -> 106.8 | G120: =uk_thomson!G121 -> NA
A121: =uk_thomson!A122 -> 35048 | B121: =uk_thomson!B122 -> -11 | C121: =uk_thomson!C122 -> 64.5 | D121: =uk_thomson!D122 -> 97.3 | E121: =uk_thomson!E122 -> 25562 | F121: =uk_thomson!F122 -> 107.4 | G121: =uk_thomson!G122 -> NA
A122: =uk_thomson!A123 -> 35079 | B122: =uk_thomson!B123 -> -5 | C122: =uk_thomson!C123 -> 65.8 | D122: =uk_thomson!D123 -> 97.6 | E122: =uk_thomson!E123 -> 25558 | F122: =uk_thomson!F123 -> 106.9 | G122: =uk_thomson!G123 -> NA
A123: =uk_thomson!A124 -> 35110 | B123: =uk_thomson!B124 -> -9 | C123: =uk_thomson!C124 -> 67.5 | D123: =uk_thomson!D124 -> 97.6 | E123: =uk_thomson!E124 -> 25555 | F123: =uk_thomson!F124 -> 107.7 | G123: =uk_thomson!G124 -> NA
A124: =uk_thomson!A125 -> 35139 | B124: =uk_thomson!B125 -> -8 | C124: =uk_thomson!C125 -> 67.7 | D124: =uk_thomson!D125 -> 97.7 | E124: =uk_thomson!E125 -> 25558 | F124: =uk_thomson!F125 -> 107.8 | G124: =uk_thomson!G125 -> NA
A125: =uk_thomson!A126 -> 35170 | B125: =uk_thomson!B126 -> -8 | C125: =uk_thomson!C126 -> 68.4 | D125: =uk_thomson!D126 -> 96.6 | E125: =uk_thomson!E126 -> 25582 | F125: =uk_thomson!F126 -> 106.6 | G125: =uk_thomson!G126 -> NA
A126: =uk_thomson!A127 -> 35200 | B126: =uk_thomson!B127 -> -6 | C126: =uk_thomson!C127 -> 67.9 | D126: =uk_thomson!D127 -> 97.2 | E126: =uk_thomson!E127 -> 25589 | F126: =uk_thomson!F127 -> 107.3 | G126: =uk_thomson!G127 -> NA
A127: =uk_thomson!A128 -> 35231 | B127: =uk_thomson!B128 -> -7 | C127: =uk_thomson!C128 -> 68.7 | D127: =uk_thomson!D128 -> 97.1 | E127: =uk_thomson!E128 -> 25584 | F127: =uk_thomson!F128 -> 106.7 | G127: =uk_thomson!G128 -> NA
A128: =uk_thomson!A129 -> 35261 | B128: =uk_thomson!B129 -> -4 | C128: =uk_thomson!C129 -> 68.3 | D128: =uk_thomson!D129 -> 98.5 | E128: =uk_thomson!E129 -> 25634 | F128: =uk_thomson!F129 -> 106.6 | G128: =uk_thomson!G129 -> NA
A129: =uk_thomson!A130 -> 35292 | B129: =uk_thomson!B130 -> -3 | C129: =uk_thomson!C130 -> 68.3 | D129: =uk_thomson!D130 -> 98.5 | E129: =uk_thomson!E130 -> 25640 | F129: =uk_thomson!F130 -> 107.3 | G129: =uk_thomson!G130 -> NA
A130: =uk_thomson!A131 -> 35323 | B130: =uk_thomson!B131 -> -1 | C130: =uk_thomson!C131 -> 69.4 | D130: =uk_thomson!D131 -> 99.3 | E130: =uk_thomson!E131 -> 25693 | F130: =uk_thomson!F131 -> 107.9 | G130: =uk_thomson!G131 -> NA
... A358: =uk_thomson!A359 -> 0 | B358: =uk_thomson!B359 -> 0 | C358: =uk_thomson!C359 -> 0 | D358: =uk_thomson!D359 -> 0 | E358: =uk_thomson!E359 -> 0 | F358: =uk_thomson!F359 -> 0 | G358: =uk_thomson!G359 -> 0

Sheet uk_thomson
A1: =_xll.Thomson.Reuters.AFOSpreadsheetFormulas.DSGRID("UKGFKCCNR,UKRETTOTG,UKTOTPRCF,UKLF2G..O,UKIPTOT.G,UKBQKU.."," ","1/1/1986","TIME","M","RowHeader=true;ColHeader=true;Code=true;SeriesMetaDataLink=true;DispSeriesDescription=false;YearlyTSFormat=false;QuarterlyTSFormat=false","") -> Application offline! Unable to process the request | B1: UK GFK CONSUMER CONFIDENCE INDEX NADJ | C1: UK RETAIL SALES INCL. AUTOMOTIVE FUEL (METHOD BREAK JAN 96) VOLA | D1: UK TERMS OF TRADE - EXPORT/IMPORT PRICES (BOP BASIS) NADJ | E1: UK LFS: IN EMPLOYMENT, ALL, AGED 16-64 VOLA | F1: UK INDEX OF PRODUCTION - ALL PRODUCTION INDUSTRIES VOLA | G1: UK BOP: EXPORTS - TRADE IN GOODS VOLA | J1: =_xll.Thomson.Reuters.AFOSpreadsheetFormulas.DSGRID("UKGDP...D"," ","1986-01-01","TIME","Q","RowHeader=true;ColHeader=true;Code=true;SeriesMetaDataLink=true;DispSeriesDescription=false;YearlyTSFormat=false;QuarterlyTSFormat=false","") -> Application offline! Unable to process the request | K1: UK GDP AT MARKET PRICES (CVM) CONA
A2: Code | B2: UKGFKCCNR | C2: UKRETTOTG | D2: UKTOTPRCF | E2: UKLF2G..O | F2: UKIPTOT.G | G2: UKBQKU.. | J2: Code | K2: UKGDP...D
A3: 31427 | B3: -11 | C3: 51.6 | D3: 97.3 | E3: 24257 | F3: 87.6 | G3: NA | J3: Q1 1986 | K3: 225834
A4: 31458 | B4: -14 | C4: 51.4 | D4: 94.7 | E4: 24262 | F4: 88.3 | G4: NA | J4: Q2 1986 | K4: 228391
A5: 31486 | B5: -11 | C5: 52.1 | D5: 93.4 | E5: 24272 | F5: 89.1 | G5: NA | J5: Q3 1986 | K5: 229928
A6: 31517 | B6: -8 | C6: 52.2 | D6: 93.5 | E6: 24280 | F6: 90.2 | G6: NA | J6: Q4 1986 | K6: 234262
A7: 31547 | B7: -8 | C7: 52.4 | D7: 94.9 | E7: 24291 | F7: 88.8 | G7: NA | J7: Q1 1987 | K7: 236229
A8: 31578 | B8: -6 | C8: 53.2 | D8: 95.7 | E8: 24310 | F8: 90 | G8: NA | J8: Q2 1987 | K8: 239505
A9: 31608 | B9: -3 | C9: 52.7 | D9: 94.9 | E9: 24340 | F9: 89.2 | G9: NA | J9: Q3 1987 | K9: 245364
A10: 31639 | B10: -5 | C10: 52.9 | D10: 94.6 | E10: 24369 | F10: 89.2 | G10: NA | J10: Q4 1987 | K10: 248254
A11: 31670 | B11: -6 | C11: 53.8 | D11: 93.3 | E11: 24388 | F11: 91.5 | G11: NA | J11: Q1 1988 | K11: 252941
A12: 31700 | B12: -3 | C12: 53.6 | D12: 93.1 | E12: 24423 | F12: 91.7 | G12: NA | J12: Q2 1988 | K12: 254603
A13: 31731 | B13: -3 | C13: 54 | D13: 92.8 | E13: 24447 | F13: 91.4 | G13: NA | J13: Q3 1988 | K13: 258558
A14: 31761 | B14: -6 | C14: 53.9 | D14: 92 | E14: 24472 | F14: 91.7 | G14: NA | J14: Q4 1988 | K14: 260772
... A119: 34957 | B119: -8 | C119: 63.7 | D119: 95.6 | E119: 25432 | F119: 106.6 | G119: NA | J119: Q1 2015 | K119: 430962
A120: 34987 | B120: -8 | C120: 64 | D120: 96.5 | E120: 25454 | F120: 106.2 | G120: NA
A121: 35018 | B121: -10 | C121: 64.3 | D121: 97.1 | E121: 25549 | F121: 106.8 | G121: NA
A122: 35048 | B122: -11 | C122: 64.5 | D122: 97.3 | E122: 25562 | F122: 107.4 | G122: NA
A123: 35079 | B123: -5 | C123: 65.8 | D123: 97.6 | E123: 25558 | F123: 106.9 | G123: NA
A124: 35110 | B124: -9 | C124: 67.5 | D124: 97.6 | E124: 25555 | F124: 107.7 | G124: NA
A125: 35139 | B125: -8 | C125: 67.7 | D125: 97.7 | E125: 25558 | F125: 107.8 | G125: NA
A126: 35170 | B126: -8 | C126: 68.4 | D126: 96.6 | E126: 25582 | F126: 106.6 | G126: NA
A127: 35200 | B127: -6 | C127: 67.9 | D127: 97.2 | E127: 25589 | F127: 107.3 | G127: NA
A128: 35231 | B128: -7 | C128: 68.7 | D128: 97.1 | E128: 25584 | F128: 106.7 | G128: NA
A129: 35261 | B129: -4 | C129: 68.3 | D129: 98.5 | E129: 25634 | F129: 106.6 | G129: NA
A130: 35292 | B130: -3 | C130: 68.3 | D130: 98.5 | E130: 25640 | F130: 107.3 | G130: NA
A131: 35323 | B131: -1 | C131: 69.4 | D131: 99.3 | E131: 25693 | F131: 107.9 | G131: NA
... A146: 35779 | B146: 0 | C146: 72.1 | D146: 99 | E146: 26192 | F146: 109.4 | G146: NA
A147: 35810 | B147: 4 | C147: 72.2 | D147: 98.7 | E147: 26226 | F147: 109.8 | G147: 70.1
A148: 35841 | B148: 4 | C148: 72.2 | D148: 97.3 | E148: 26245 | F148: 110.7 | G148: 70.5
A149: 35869 | B149: 2 | C149: 72 | D149: 97.9 | E149: 26265 | F149: 111.1 | G149: 72.3
A150: 35900 | B150: 4 | C150: 71.9 | D150: 97.7 | E150: 26266 | F150: 111.1 | G150: 71.1
A151: 35930 | B151: 7 | C151: 72.3 | D151: 98.6 | E151: 26270 | F151: 110.1 | G151: 70.3
A152: 35961 | B152: 2 | C152: 71.8 | D152: 99.4 | E152: 26330 | F152: 110.4 | G152: 70.7
A153: 35991 | B153: -1 | C153: 72.3 | D153: 100.1 | E153: 26392 | F153: 110.6 | G153: 69.5
A154: 36022 | B154: -5 | C154: 72.8 | D154: 99 | E154: 26407 | F154: 109.6 | G154: 69.3
A155: 36053 | B155: -3 | C155: 72.5 | D155: 98.6 | E155: 26450 | F155: 109.7 | G155: 68.3
A156: 36083 | B156: -9 | C156: 72.1 | D156: 98.7 | E156: 26510 | F156: 109.8 | G156: 68.7
A157: 36114 | B157: -7 | C157: 72.4 | D157: 99.4 | E157: 26524 | F157: 109.5 | G157: 69.2
A158: 36144 | B158: -8 | C158: 71.9 | D158: 99 | E158: 26565 | F158: 109.8 | G158: 71.2
...

Sheet can_eviews
B1: consconf | C1: retsales | D1: tot | E1: emp | F1: ip | G1: ex | J1: gdp
A2: =can_thomson!A3 -> 31427 | B2: =can_thomson!B3 -> 101.644 | C2: =can_thomson!C3 -> 50.87 | D2: =can_thomson!D3 -> 85.2 | E2: =can_thomson!E3 -> 11903.5 | F2: =can_thomson!F3 -> NA | G2: =can_thomson!G3 -> 40.2 | I2: =can_thomson!J3 -> Q1 1986 | J2: =can_thomson!K3 -> 887933
A3: =hun_thomson!A4 -> 31458 | B3: =can_thomson!B4 -> 101.427 | C3: =can_thomson!C4 -> 50.9 | D3: =can_thomson!D4 -> 84 | E3: =can_thomson!E4 -> 11917.9 | F3: =can_thomson!F4 -> NA | G3: =can_thomson!G4 -> 39.2 | I3: =can_thomson!J4 -> Q2 1986 | J3: =can_thomson!K4 -> 893151
A4: =hun_thomson!A5 -> 31486 | B4: =can_thomson!B5 -> 101.497 | C4: =can_thomson!C5 -> 51.35 | D4: =can_thomson!D5 -> 83.6 | E4: =can_thomson!E5 -> 11926.3 | F4: =can_thomson!F5 -> NA | G4: =can_thomson!G5 -> 38.9 | I4: =can_thomson!J5 -> Q3 1986 | J4: =can_thomson!K5 -> 893985
A5: =hun_thomson!A6 -> 31517 | B5: =can_thomson!B6 -> 101.771 | C5: =can_thomson!C6 -> 51.08 | D5: =can_thomson!D6 -> 83.7 | E5: =can_thomson!E6 -> 12008.1 | F5: =can_thomson!F6 -> NA | G5: =can_thomson!G6 -> 39 | I5: =can_thomson!J6 -> Q4 1986 | J5: =can_thomson!K6 -> 888863
A6: =hun_thomson!A7 -> 31547 | B6: =can_thomson!B7 -> 101.951 | C6: =can_thomson!C7 -> 51.5 | D6: =can_thomson!D7 -> 84.1 | E6: =can_thomson!E7 -> 11977.2 | F6: =can_thomson!F7 -> NA | G6: =can_thomson!G7 -> 39 | I6: =can_thomson!J7 -> Q1 1987 | J6: =can_thomson!K7 -> 907839
A7: =hun_thomson!A8 -> 31578 | B7: =can_thomson!B8 -> 102.006 | C7: =can_thomson!C8 -> 51.31 | D7: =can_thomson!D8 -> 84.3 | E7: =can_thomson!E8 -> 12016.9 | F7: =can_thomson!F8 -> NA | G7: =can_thomson!G8 -> 39.1 | I7: =can_thomson!J8 -> Q2 1987 | J7: =can_thomson!K8 -> 919383
A8: =hun_thomson!A9 -> 31608 | B8: =can_thomson!B9 -> 101.989 | C8: =can_thomson!C9 -> 51.93 | D8: =can_thomson!D9 -> 84.2 | E8: =can_thomson!E9 -> 12017.1 | F8: =can_thomson!F9 -> NA | G8: =can_thomson!G9 -> 40.3 | I8: =can_thomson!J9 -> Q3 1987 | J8: =can_thomson!K9 -> 933736
A9: =hun_thomson!A10 -> 31639 | B9: =can_thomson!B10 -> 101.983 | C9: =can_thomson!C10 -> 52.47 | D9: =can_thomson!D10 -> 84 | E9: =can_thomson!E10 -> 12024.7 | F9: =can_thomson!F10 -> NA | G9: =can_thomson!G10 -> 38 | I9: =can_thomson!J10 -> Q4 1987 | J9: =can_thomson!K10 -> 947038
A10: =hun_thomson!A11 -> 31670 | B10: =can_thomson!B11 -> 102.034 | C10: =can_thomson!C11 -> 52.78 | D10: =can_thomson!D11 -> 84.1 | E10: =can_thomson!E11 -> 12035.2 | F10: =can_thomson!F11 -> NA | G10: =can_thomson!G11 -> 40.4 | I10: =can_thomson!J11 -> Q1 1988 | J10: =can_thomson!K11 -> 962006
A11: =hun_thomson!A12 -> 31700 | B11: =can_thomson!B12 -> 102.16 | C11: =can_thomson!C12 -> 52.15 | D11: =can_thomson!D12 -> 84.7 | E11: =can_thomson!E12 -> 12059.6 | F11: =can_thomson!F12 -> NA | G11: =can_thomson!G12 -> 39.1 | I11: =can_thomson!J12 -> Q2 1988 | J11: =can_thomson!K12 -> 971091
A12: =hun_thomson!A13 -> 31731 | B12: =can_thomson!B13 -> 102.293 | C12: =can_thomson!C13 -> 52.1 | D12: =can_thomson!D13 -> 84.6 | E12: =can_thomson!E13 -> 12082 | F12: =can_thomson!F13 -> NA | G12: =can_thomson!G13 -> 40 | I12: =can_thomson!J13 -> Q3 1988 | J12: =can_thomson!K13 -> 971627
A13: =hun_thomson!A14 -> 31761 | B13: =can_thomson!B14 -> 102.481 | C13: =can_thomson!C14 -> 52.3 | D13: =can_thomson!D14 -> 84.7 | E13: =can_thomson!E14 -> 12079.7 | F13: =can_thomson!F14 -> NA | G13: =can_thomson!G14 -> 39.2 | I13: =can_thomson!J14 -> Q4 1988 | J13: =can_thomson!K14 -> 978943
A14: =hun_thomson!A15 -> 31792 | B14: =can_thomson!B15 -> 102.746 | C14: =can_thomson!C15 -> 51.77 | D14: =can_thomson!D15 -> 85.2 | E14: =can_thomson!E15 -> 12102 | F14: =can_thomson!F15 -> NA | G14: =can_thomson!G15 -> 39.9 | I14: =can_thomson!J15 -> Q1 1989 | J14: =can_thomson!K15 -> 989288
... A117: =hun_thomson!A118 -> 34926 | B117: =can_thomson!B118 -> 98.565 | C117: =can_thomson!C118 -> 61.14 | D117: =can_thomson!D118 -> 88.2 | E117: =can_thomson!E118 -> 13297.8 | F117: =can_thomson!F118 -> NA | G117: =can_thomson!G118 -> 72.2 | I117: =can_thomson!J118 -> Q4 2014 | J117: =can_thomson!K118 -> 1767784
A118: =hun_thomson!A119 -> 34957 | B118: =can_thomson!B119 -> 98.215 | C118: =can_thomson!C119 -> 60.54 | D118: =can_thomson!D119 -> 89.6 | E118: =can_thomson!E119 -> 13331.2 | F118: =can_thomson!F119 -> NA | G118: =can_thomson!G119 -> 73.2
A119: =hun_thomson!A120 -> 34987 | B119: =can_thomson!B120 -> 97.547 | C119: =can_thomson!C120 -> 59.99 | D119: =can_thomson!D120 -> 89.1 | E119: =can_thomson!E120 -> 13347 | F119: =can_thomson!F120 -> NA | G119: =can_thomson!G120 -> 73.8
A120: =hun_thomson!A121 -> 35018 | B120: =can_thomson!B121 -> 97.251 | C120: =can_thomson!C121 -> 60.31 | D120: =can_thomson!D121 -> 88.4 | E120: =can_thomson!E121 -> 13315 | F120: =can_thomson!F121 -> NA | G120: =can_thomson!G121 -> 74.8
A121: =hun_thomson!A122 -> 35048 | B121: =can_thomson!B122 -> 97.463 | C121: =can_thomson!C122 -> 60.62 | D121: =can_thomson!D122 -> 88.3 | E121: =can_thomson!E122 -> 13356.8 | F121: =can_thomson!F122 -> NA | G121: =can_thomson!G122 -> 74.3
A122: =hun_thomson!A123 -> 35079 | B122: =can_thomson!B123 -> 98.057 | C122: =can_thomson!C123 -> 60.51 | D122: =can_thomson!D123 -> 88.4 | E122: =can_thomson!E123 -> 13374.5 | F122: =can_thomson!F123 -> NA | G122: =can_thomson!G123 -> 74.8
A123: =hun_thomson!A124 -> 35110 | B123: =can_thomson!B124 -> 98.435 | C123: =can_thomson!C124 -> 60.89 | D123: =can_thomson!D124 -> 88.3 | E123: =can_thomson!E124 -> 13399.4 | F123: =can_thomson!F124 -> NA | G123: =can_thomson!G124 -> 72.9
A124: =hun_thomson!A125 -> 35139 | B124: =can_thomson!B125 -> 98.547 | C124: =can_thomson!C125 -> 60.84 | D124: =can_thomson!D125 -> 88.3 | E124: =can_thomson!E125 -> 13377.2 | F124: =can_thomson!F125 -> NA | G124: =can_thomson!G125 -> 75.5
A125: =hun_thomson!A126 -> 35170 | B125: =can_thomson!B126 -> 98.513 | C125: =can_thomson!C126 -> 60.31 | D125: =can_thomson!D126 -> 88.9 | E125: =can_thomson!E126 -> 13404.1 | F125: =can_thomson!F126 -> NA | G125: =can_thomson!G126 -> 76.6
A126: =hun_thomson!A127 -> 35200 | B126: =can_thomson!B127 -> 98.512 | C126: =can_thomson!C127 -> 60.09 | D126: =can_thomson!D127 -> 88.8 | E126: =can_thomson!E127 -> 13425.6 | F126: =can_thomson!F127 -> NA | G126: =can_thomson!G127 -> 76.3
A127: =hun_thomson!A128 -> 35231 | B127: =can_thomson!B128 -> 98.628 | C127: =can_thomson!C128 -> 60.88 | D127: =can_thomson!D128 -> 88.9 | E127: =can_thomson!E128 -> 13412.9 | F127: =can_thomson!F128 -> NA | G127: =can_thomson!G128 -> 76.7
A128: =hun_thomson!A129 -> 35261 | B128: =can_thomson!B129 -> 98.85 | C128: =can_thomson!C129 -> 60.74 | D128: =can_thomson!D129 -> 89.4 | E128: =can_thomson!E129 -> 13440.4 | F128: =can_thomson!F129 -> NA | G128: =can_thomson!G129 -> 77.4
A129: =hun_thomson!A130 -> 35292 | B129: =can_thomson!B130 -> 98.958 | C129: =can_thomson!C130 -> 61.07 | D129: =can_thomson!D130 -> 89.4 | E129: =can_thomson!E130 -> 13456.6 | F129: =can_thomson!F130 -> NA | G129: =can_thomson!G130 -> 79.1
... A348: =hun_thomson!A349 -> 41958 | B348: =can_thomson!B349 -> 99.751 | C348: =can_thomson!C349 -> 113.74 | D348: =can_thomson!D349 -> 95.7 | E348: =can_thomson!E349 -> 17862.8 | F348: =can_thomson!F349 -> 359984 | G348: =can_thomson!G349 -> 115.6
A349: =can_thomson!A350 -> 41988 | B349: =can_thomson!B350 -> 99.976 | C349: =can_thomson!C350 -> 112.14 | D349: =can_thomson!D350 -> 94.9 | E349: =can_thomson!E350 -> 17851.5 | F349: =can_thomson!F350 -> 361468 | G349: =can_thomson!G350 -> 124.7
A350: =can_thomson!A351 -> 42019 | B350: =can_thomson!B351 -> 100.251 | C350: =can_thomson!C351 -> 111.45 | D350: =can_thomson!D351 -> 93.8 | E350: =can_thomson!E351 -> 17886.9 | F350: =can_thomson!F351 -> 362739 | G350: =can_thomson!G351 -> 114.5
A351: =can_thomson!A352 -> 42050 | B351: =can_thomson!B352 -> 99.962 | C351: =can_thomson!C352 -> 112.86 | D351: =can_thomson!D352 -> 96.1 | E351: =can_thomson!E352 -> 17885.9 | F351: =can_thomson!F352 -> NA | G351: =can_thomson!G352 -> 109.7
A352: =can_thomson!A353 -> 42078 | B352: =can_thomson!B353 -> 100.186 | C352: =can_thomson!C353 -> NA | D352: =can_thomson!D353 -> NA | E352: =can_thomson!E353 -> 17914.6 | F352: =can_thomson!F353 -> NA | G352: =can_thomson!G353 -> NA
A353: =can_thomson!A354 -> 0 | B353: =can_thomson!B354 -> 0 | C353: =can_thomson!C354 -> 0 | D353: =can_thomson!D354 -> 0 | E353: =can_thomson!E354 -> 0 | F353: =can_thomson!F354 -> 0 | G353: =can_thomson!G354 -> 0
A354: =can_thomson!A355 -> 0 | B354: =can_thomson!B355 -> 0 | C354: =can_thomson!C355 -> 0 | D354: =can_thomson!D355 -> 0 | E354: =can_thomson!E355 -> 0 | F354: =can_thomson!F355 -> 0 | G354: =can_thomson!G355 -> 0
