Workbook

Sheet EuroKrone exchangerate
A1: Date | B1: Inflation rate | C1: Interest rate Denmark | D1: Interest rate EU | E1: Real exchange rate eur/dkk | F1: Real exchange rate USD/DKK | G1: FX in DKK | H1: Growth FX | I1: FX/GDP | J1: GDP Denmark in US $ | K1: GDP Denmark in DKK
A2: 42063 | B2: 0 | C2: -0.004 | D2: 0.00% | E2: =Sheet1!D3/100 -> 7.4594 | F2: 6.566049 | G2: 737100 | H2: =(G2-G3)/G3 -> 0.30341601 | I2: =G2/K2 -> 0.35492856 | J2: =J3 -> 316287 | K2: =J2*F2 -> 2076755.9
A3: 42035 | B3: -0.003 | C3: 0.001 | D3: 0.01% | E3: =Sheet1!D4/100 -> 7.455 | F3: 6.400679 | G3: 565514 | H3: =(G3-G4)/G4 -> 0.25629576 | I3: =G3/K3 -> 0.27934183 | J3: =J4*1.017 -> 316287 | K3: =J3*F3 -> 2024451.6
A4: 42004 | B4: 0.001 | C4: 0.0019 | D4: 0.02% | E4: =Sheet1!D5/100 -> 7.4437 | F4: 6.043789 | G4: 450144 | H4: =(G4-G5)/G5 -> 0.0062861588 | I4: =G4/K4 -> 0.23948691 | J4: 311000 | K4: =J4*F4 -> 1879618.4
A5: 41973 | B5: 0.002 | C5: 0.0017 | D5: 0.01% | E5: =Sheet1!D6/100 -> 7.4399947 | F5: 5.966993 | G5: 447332 | H5: =(G5-G6)/G6 -> 0.0065614199 | I5: =G5/K5 -> 0.24105384 | J5: 311000 | K5: =J5*F5 -> 1855734.8
A6: 41943 | B6: 0.003 | C6: 0.0017 | D6: 0.01% | E6: =Sheet1!D7/100 -> 7.441535 | F6: 5.877249 | G6: 444416 | H6: =(G6-G7)/G7 -> 0.0019230639 | I6: =G6/K6 -> 0.24313932 | J6: 311000 | K6: =J6*F6 -> 1827824.4
A7: 41912 | B7: 0.003 | C7: 0.0016 | D7: 0.02% | E7: =Sheet1!D8/100 -> 7.4448043 | F7: 5.776746 | G7: 443563 | H7: =(G7-G8)/G8 -> 0.0020829521 | I7: =G7/K7 -> 0.24689463 | J7: 311000 | K7: =J7*F7 -> 1796568
A8: 41882 | B8: 0.003 | C8: 0.0024 | D8: 0.09% | E8: =Sheet1!D9/100 -> 7.4448773 | F8: 5.591951 | G8: 442641 | H8: =(G8-G9)/G9 -> 0.0018763637 | I8: =G8/K8 -> 0.2545235 | J8: 311000 | K8: =J8*F8 -> 1739096.8
A9: 41851 | B9: 0.005 | C9: 0.0025 | D9: 0.10% | E9: =Sheet1!D10/100 -> 7.4551048 | F9: 5.508538 | G9: 441812 | H9: =(G9-G10)/G10 -> 0.0054526918 | I9: =G9/K9 -> 0.25789372 | J9: 311000 | K9: =J9*F9 -> 1713155.3
A10: 41820 | B10: 0.004 | C10: 0.0023 | D10: 0.15% | E10: =Sheet1!D11/100 -> 7.4564478 | F10: 5.484584 | G10: 439416 | H10: =(G10-G11)/G11 -> 0.0043771329 | I10: =G10/K10 -> 0.25761538 | J10: 311000 | K10: =J10*F10 -> 1705705.6
A11: 41790 | B11: 0.003 | C11: 0.0022 | D11: 0.26% | E11: =Sheet1!D12/100 -> 7.4584526 | F11: 5.435679 | G11: 437501 | H11: =(G11-G12)/G12 -> -0.0034350093 | I11: =G11/K11 -> 0.25880035 | J11: 311000 | K11: =J11*F11 -> 1690496.2
A12: 41759 | B12: 0.005 | C12: 0.0015 | D12: 0.25% | E12: =Sheet1!D13/100 -> 7.4641053 | F12: 5.406446 | G12: 439009 | H12: =(G12-G13)/G13 -> -0.043978275 | I12: =G12/K12 -> 0.26109657 | J12: 311000 | K12: =J12*F12 -> 1681404.7
A13: 41729 | B13: 0.002 | C13: 0.0013 | D13: 0.23% | E13: =Sheet1!D14/100 -> 7.4656 | F13: 5.397828 | G13: 459204 | H13: =(G13-G14)/G14 -> -0.036012755 | I13: =G13/K13 -> 0.27354339 | J13: 311000 | K13: =J13*F13 -> 1678724.5
A14: 41698 | B14: 0.003 | C14: 0.0013 | D14: 0.22% | E14: =Sheet1!D15/100 -> 7.4638429 | F14: 5.463482 | G14: 476359 | H14: =(G14-G15)/G15 -> 8.6076949e-05 | I14: =G14/K14 -> 0.28035252 | J14: 311000 | K14: =J14*F14 -> 1699142.9
A15: 41670 | B15: 0.008 | C15: 0.0013 | D15: 0.22% | E15: =Sheet1!D16/100 -> 7.46224 | F15: 5.4783 | G15: 476318 | H15: =(G15-G16)/G16 -> -0.025898704 | I15: =G15/K15 -> 0.27957015 | J15: 311000 | K15: =J15*F15 -> 1703751.3
... A75: 39844 | B75: 0.017 | C75: 0.0411 | D75: 2.14% | E75: =Sheet1!D76/100 -> 7.4508773 | F75: 5.609403 | G75: 216957 | H75: =(G75-G76)/G76 -> 0.2326612 | I75: =G75/K75 -> 0.11243424 | J75: 344000 | K75: =J75*F75 -> 1929634.6
A76: 39813 | B76: 0.024 | C76: 0.0494 | D76: 2.99% | E76: 7.449841 | F76: 5.517354 | G76: 176007 | H76: 0.31 | I76: =G76/K76 -> 0.10257433 | J76: 311000 | K76: =J76*F76 -> 1715897.1
A77: 39782 | E77: 7.450535 | F77: 5.85851 | G77: 134573 | H77: =(G77-G78)/G78 -> -0.16584226 | I77: =G77/K77 -> 0.073860181 | J77: 311000 | K77: =J77*F77 -> 1821996.6
A78: 39752 | E78: 7.462909 | F78: 5.617243 | G78: 161328 | H78: =(G78-G79)/G79 -> -0.021525137 | I78: =G78/K78 -> 0.092347714 | J78: 311000 | K78: =J78*F78 -> 1746962.6
A79: 39721 | E79: 7.457733 | F79: 5.197411 | G79: 164877 | H79: =(G79-G80)/G80 -> 0.0052372301 | I79: =G79/K79 -> 0.10200293 | J79: 311000 | K79: =J79*F79 -> 1616394.8
A80: 39691 | E80: 7.458674 | F80: 4.989801 | G80: 164018 | H80: =(G80-G81)/G81 -> -0.0064513003 | I80: =G80/K80 -> 0.10569341 | J80: 311000 | K80: =J80*F80 -> 1551828.1
A81: 39660 | E81: 7.457057 | F81: 4.73037 | G81: 165083 | H81: =(G81-G82)/G82 -> 0.01830171 | I81: =G81/K81 -> 0.11221395 | J81: 311000 | K81: =J81*F81 -> 1471145.1
A82: 39629 | E82: 7.456777 | F82: 4.788191 | G82: 162116 | H82: =(G82-G83)/G83 -> -0.067044186 | I82: =G82/K82 -> 0.10886644 | J82: 311000 | K82: =J82*F82 -> 1489127.4
A83: 39599 | E83: 7.457943 | F83: 4.794606 | G83: 173766 | H83: =(G83-G84)/G84 -> -0.042748697 | I83: =G83/K83 -> 0.11653369 | J83: 311000 | K83: =J83*F83 -> 1491122.5
A84: 39568 | E84: 7.458163 | F84: 4.736536 | G84: 181526 | H84: =(G84-G85)/G85 -> 0.0064369473 | I84: =G84/K84 -> 0.12323033 | J84: 311000 | K84: =J84*F84 -> 1473062.7
A85: 39538 | E85: 7.457962 | F85: 4.807492 | G85: 180365 | H85: =(G85-G86)/G86 -> 0.0046622254 | I85: =G85/K85 -> 0.12063499 | J85: 311000 | K85: =J85*F85 -> 1495130
A86: 39507 | E86: 7.454214 | F86: 5.057746 | G86: 179528 | H86: =(G86-G87)/G87 -> 0.047531246 | I86: =G86/K86 -> 0.11413393 | J86: 311000 | K86: =J86*F86 -> 1572959
A87: 39478 | E87: 7.450586 | F87: 5.065827 | G87: 171382 | H87: =(G87-G88)/G88 -> -0.062702697 | I87: =G87/K87 -> 0.10878135 | J87: 311000 | K87: =J87*F87 -> 1575472.2
A88: 39447 | E88: 7.458839 | F88: 5.126266 | G88: 182847 | H88: =(G88-G89)/G89 -> -0.010053924 | I88: =G88/K88 -> 0.13017756 | J88: 274000 | K88: =J88*F88 -> 1404596.9
... A110: 38776 | E110: 7.461607 | F110: 6.25143 | G110: 210926 | H110: =(G110-G111)/G111 -> 0.018533184 | I110: =G110/K110 -> 0.1307769 | J110: 258000 | K110: =J110*F110 -> 1612868.9
A111: 38748 | E111: 7.463297 | F111: 6.165021 | G111: 207088 | H111: -0.020578039 | I111: =G111/K111 -> 0.13019691 | J111: 258000 | K111: =J111*F111 -> 1590575.4

Sheet Inflation rate
A1: Feb. 28, 2015 | B1: 0
A2: Jan. 31, 2015 | B2: -0.003 | C2: =100*B2 -> -0.3
A3: Dec. 31, 2014 | B3: 0.001
A4: Nov. 30, 2014 | B4: 0.002
A5: Oct. 31, 2014 | B5: 0.003
A6: Sept. 30, 2014 | B6: 0.003
A7: Aug. 31, 2014 | B7: 0.003
A8: July 31, 2014 | B8: 0.005
A9: June 30, 2014 | B9: 0.004
A10: May 31, 2014 | B10: 0.003
A11: April 30, 2014 | B11: 0.005
A12: March 31, 2014 | B12: 0.002
A13: Feb. 28, 2014 | B13: 0.003
A14: Jan. 31, 2014 | B14: 0.008
... A75: Dec. 31, 2008 | B75: 0.024

Sheet Intrst rate
A1: Feb. 28, 2015 | B1: -0.004
A2: Jan. 31, 2015 | B2: 0.001
A3: Dec. 31, 2014 | B3: 0.0019
A4: Nov. 30, 2014 | B4: 0.0017
A5: Oct. 31, 2014 | B5: 0.0017
A6: Sept. 30, 2014 | B6: 0.0016
A7: Aug. 31, 2014 | B7: 0.0024
A8: July 31, 2014 | B8: 0.0025
A9: June 30, 2014 | B9: 0.0023
A10: May 31, 2014 | B10: 0.0022
A11: April 30, 2014 | B11: 0.0015
A12: March 31, 2014 | B12: 0.0013
... A75: Dec. 31, 2008 | B75: 0.0494

Sheet Eu Interest rate
A1: Feb. 28, 2015 | B1: 0.00%
A2: Jan. 31, 2015 | B2: 0.01%
A3: Dec. 31, 2014 | B3: 0.02%
A4: Nov. 30, 2014 | B4: 0.01%
A5: Oct. 31, 2014 | B5: 0.01%
A6: Sept. 30, 2014 | B6: 0.02%
A7: Aug. 31, 2014 | B7: 0.09%
A8: July 31, 2014 | B8: 0.10%
A9: June 30, 2014 | B9: 0.15%
A10: May 31, 2014 | B10: 0.26%
A11: April 30, 2014 | B11: 0.25%
A12: March 31, 2014 | B12: 0.23%
... A99: Dec. 31, 2006 | B99: 3.64%
A100: Nov. 30, 2006 | B100: 0.0342

Sheet Sheet1
A1: Date | B1: Real exchange rate | C1: Natuurlijke logaritme
A3: 42086 | B3: 745.55 | C3: 6.6141222 | D3: =AVERAGE(B3,B18) -> 745.94 | E3: =D3 -> 745.94
A4: 42083 | B4: 745.16 | C4: 6.613599 | D4: =AVERAGE(B19,B38) -> 745.5 | E4: =D4 -> 745.5
A5: 42082 | B5: 745.08 | C5: 6.6134916 | D5: =AVERAGE(B39,B59) -> 744.37 | E5: =D5 -> 744.37
A6: 42081 | B6: 745.91 | C6: 6.6146049 | D6: =AVERAGE(B60:B78) -> 743.99947 | E6: =D6 -> 743.99947
A7: 42080 | B7: 746.14 | C7: 6.6149133 | D7: =AVERAGE(B79:B98) -> 744.1535 | E7: =D7 -> 744.1535
A8: 42079 | B8: 746.59 | C8: 6.6155162 | D8: =AVERAGE(B99:B121) -> 744.48043 | E8: =D8 -> 744.48043
A9: 42076 | B9: 745.95 | C9: 6.6146586 | D9: =AVERAGE(B122:B143) -> 744.48773 | E9: =D9 -> 744.48773
A10: 42075 | B10: 745.75 | C10: 6.6143904 | D10: =AVERAGE(B144:B164) -> 745.51048 | E10: =D10 -> 745.51048
A11: 42074 | B11: 745.91 | C11: 6.6146049 | D11: =AVERAGE(B165:B187) -> 745.64478 | E11: =D11 -> 745.64478
A12: 42073 | B12: 745.16 | C12: 6.613599 | D12: =AVERAGE(B188:B206) -> 745.84526 | E12: =D12 -> 745.84526
A13: 42072 | B13: 745.04 | C13: 6.6134379 | D13: =AVERAGE(B207:B225) -> 746.41053 | E13: =D13 -> 746.41053
A14: 42069 | B14: 745.14 | C14: 6.6135721 | D14: =AVERAGE(B226:B244) -> 746.56 | E14: =D14 -> 746.56
A15: 42068 | B15: 745.42 | C15: 6.6139478 | D15: =AVERAGE(B245:B265) -> 746.38429 | E15: =D15 -> 746.38429
A16: 42067 | B16: 745.75 | C16: 6.6143904 | D16: =AVERAGE(B266:B285) -> 746.224 | E16: =D16 -> 746.224
A17: 42066 | B17: 745.33 | C17: 6.6138271 | D17: =AVERAGE(B286:B307) -> 746.14227 | E17: =D17 -> 746.14227
A18: 42065 | B18: 746.33 | C18: 6.6151679 | D18: =AVERAGE(B308:B325) -> 746.02833 | E18: =D18 -> 746.02833
A19: 42062 | B19: 746.6 | C19: 6.6155296 | D19: =AVERAGE(B326:B346) -> 745.86571 | E19: =D19 -> 745.86571
A20: 42061 | B20: 746.79 | C20: 6.615784 | D20: =AVERAGE(B347:B369) -> 745.91783 | E20: =D20 -> 745.91783
A21: 42060 | B21: 746.5 | C21: 6.6153956 | D21: =AVERAGE(B370:B390) -> 745.79381 | E21: =D21 -> 745.79381
A22: 42059 | B22: 745.95 | C22: 6.6146586 | D22: =AVERAGE(B391:B412) -> 745.8 | E22: =D22 -> 745.8
A23: 42058 | B23: 746.37 | C23: 6.6152215 | D23: =AVERAGE(B413:B435) -> 745.79261 | E23: =D23 -> 745.79261
A24: 42055 | B24: 746.12 | C24: 6.6148864 | D24: =AVERAGE(B436:B454) -> 745.78 | E24: =D24 -> 745.78
A25: 42054 | B25: 744.42 | C25: 6.6126054 | D25: =AVERAGE(B455:B474) -> 745.369 | E25: =D25 -> 745.369
A26: 42053 | B26: 744.4 | C26: 6.6125785 | D26: =AVERAGE(B475:B494) -> 745.53 | E26: =D26 -> 745.53
A27: 42052 | B27: 744.4 | C27: 6.6125785 | D27: =AVERAGE(B495:B513) -> 745.53158 | E27: =D27 -> 745.53158
A28: 42051 | B28: 744.4 | C28: 6.6125785 | D28: =AVERAGE(B514:B533) -> 745.981 | E28: =D28 -> 745.981
A29: 42048 | B29: 744.4 | C29: 6.6125785 | D29: =AVERAGE(B534:B555) -> 746.14273 | E29: =D29 -> 746.14273
A30: 42047 | B30: 744.45 | C30: 6.6126457 | D30: =AVERAGE(B556:B572) -> 746.03059 | E30: =D30 -> 746.03059
A31: 42046 | B31: 744.4 | C31: 6.6125785 | D31: =AVERAGE(B573:B594) -> 745.865 | E31: =D31 -> 745.865
A32: 42045 | B32: 744.41 | C32: 6.612592 | D32: =AVERAGE(B595:B617) -> 745.82043 | E32: =D32 -> 745.82043
A33: 42044 | B33: 744.4 | C33: 6.6125785 | D33: =AVERAGE(B618:B637) -> 745.3895 | E33: =D33 -> 745.3895
A34: 42041 | B34: 744.41 | C34: 6.612592 | D34: =AVERAGE(B638:B660) -> 744.54391 | E34: =D34 -> 744.54391
A35: 42040 | B35: 744.56 | C35: 6.6127934 | D35: =AVERAGE(B661:B682) -> 743.83773 | E35: =D35 -> 743.83773
A36: 42039 | B36: 744.4 | C36: 6.6125785 | D36: =AVERAGE(B683:B702) -> 743.259 | E36: =D36 -> 743.259
A37: 42038 | B37: 744.4 | C37: 6.6125785 | D37: =AVERAGE(B703:B721) -> 743.37474 | E37: =D37 -> 743.37474
A38: 42037 | B38: 744.4 | C38: 6.6125785 | D38: =AVERAGE(B722:B739) -> 743.92611 | E38: =D38 -> 743.92611
A39: 42034 | B39: 744.4 | C39: 6.6125785 | D39: =AVERAGE(B740:B761) -> 743.54045 | E39: =D39 -> 743.54045
A40: 42033 | B40: 744.4 | C40: 6.6125785 | D40: =AVERAGE(B762:B782) -> 743.41476 | E40: =D40 -> 743.41476
A41: 42032 | B41: 744.4 | C41: 6.6125785 | D41: =AVERAGE(B783:B804) -> 743.53091 | E41: =D41 -> 743.53091
...
