Workbook
Name A: #REF!

Sheet S.Exchanges Status
B2: Level of Economic Development | E2: Ownership structure
B3: Developed economy | C3: 1 | E3: Demutualised | G3: 1
B4: Otherwise | C4: 0 | E4: 0therwise | G4: 0 | K4: Automated Exchanges
H5: Year Demutualised | L5: Automation Year
A6: 1 | B6: Wiener Borse (Austria) | C6: 1 | E6: 1 | F6: Wiener Borse (Austria) | G6: 0 | H6: 0 | J6: 1 | K6: Wiener Borse (Austria) | L6: 1999
A7: 2 | B7: Australian SE | C7: 1 | E7: 2 | F7: Australian SE | G7: 1 | H7: 1998 | J7: 2 | K7: Australian SE | L7: 1990
A8: 3 | B8: Euronext Brussels (Belgium) | C8: 1 | E8: 3 | F8: Euronext Brussels (Belgium) | G8: 1 | H8: 2000 | J8: 3 | K8: Euronext Brussels (Belgium) | L8: 1998
A9: 4 | B9: Botswana | C9: 0 | E9: 4 | F9: Botswana | G9: 0 | H9: 0 | J9: 4 | K9: Botswana | L9: 2012
A10: 5 | B10: Dhaka Stock Exchange (Bangladesh) | C10: 0 | E10: 5 | F10: Dhaka Stock Exchange (Bangladesh) | G10: 0 | H10: 0 | J10: 5 | K10: Dhaka Stock Exchange (Bangladesh) | L10: 1998
A11: 6 | B11: Barbados | C11: 1 | E11: 6 | F11: Barbados | G11: 0 | H11: 0 | J11: 6 | K11: Barbados | L11: 2010
A12: 7 | B12: Cyprus | C12: 1 | E12: 7 | F12: Cyprus | G12: 0 | H12: 0 | J12: 7 | K12: Cyprus | L12: 0
A13: 8 | B13: Cote d'Ivoire | C13: 0 | E13: 8 | F13: Cote d'Ivoire | G13: 0 | H13: 0 | J13: 8 | K13: Cote d'Ivoire | L13: 1999
A14: 9 | B14: Zagreb Stock Exchange ( Crotia) | C14: 0 | E14: 9 | F14: Zagreb Stock Exchange ( Crotia) | G14: 0 | H14: 0 | J14: 9 | K14: Zagreb Stock Exchange ( Crotia) | L14: 1994
A15: 10 | B15: Borsa de Valores de Colombia | C15: 0 | E15: 10 | F15: Borsa de Valores de Colombia | G15: 1 | H15: 2001 | J15: 10 | K15: Borsa de Valores de Colombia | L15: 2006
A16: 11 | B16: Eyptian | C16: 0 | E16: 11 | F16: Eyptian | G16: 0 | H16: 0 | J16: 11 | K16: Eyptian | L16: 1998
A17: 12 | B17: Helsinki Stock Exchange ( Finland) | C17: 1 | E17: 12 | F17: Helsinki Stock Exchange ( Finland) | G17: 1 | H17: 1995 | J17: 12 | K17: Helsinki Stock Exchange ( Finland) | L17: 1990
... A55: 50 | B55: Malawi | C55: 0 | E55: 50 | F55: Malawi | G55: 0 | H55: 0 | J55: 50 | K55: Malawi | L55: 0

Sheet Age
A1: Age | B1: 1771 | C1: 1861 | D1: 1801 | E1: 1989 | F1: 1924 | G1: 1987 | H1: 1996 | I1: 1975 | J1: 1860 | K1: 1901 | L1: 1883 | M1: 1912 | N1: 1724 | O1: 1585 | P1: 1876 | Q1: 1990 | R1: 1864 | S1: 1891 | T1: 1808 | U1: 1912 | V1: 1935 | W1: 1968 | X1: 1999 | Y1: 1801 | Z1: 1928 | AA1: 1964 | AB1: 1988 | AC1: 1992 | AD1: 1886 | AE1: 1923 | AF1: 1992 | AG1: 1954 | AH1: 1817 | AI1: 1960 | AJ1: 1818 | AK1: 1974 | AL1: 1927 | AM1: 1973 | AN1: 1887 | AO1: 1990 | AP1: 1863 | AQ1: 1985 | AR1: 1969 | AS1: 1866 | AT1: 1947 | AU1: 1896 | AV1: 1831 | AW1: 1993 | AX1: 1996 | AY1: 1994
B2: Wiener Borse (Austria) | C2: Australian SE | D2: Euronext Brussels (Belgium) | E2: Botswana | F2: Dhaka Stock Exchange (Bangladesh) | G2: Barbados | H2: Cyprus | I2: Cote d'Ivoire | J2: Zagreb ( Crotia) | K2: Borsa Colombia | L2: Eyptian | M2: Helsinki( Finland) | N2: Euronext Paris ( France) | O2: Deutsche Börse(Germany) | P2: Athens (Greece) | Q2: Ghana | R2: Budapest ( Hungary) | S2: Hong Kong Exchanges | T2: Borsa Italiana | U2: Indonesia SE | V2: Tel Aviv Stock Exchange (Israel) | W2: Jamaica | X2: Amman ( Jordan) | Y2: London SE | Z2: Luxembourg | AA2: Bursa Malaysia | AB2: Mauritius | AC2: Malta | AD2: Bolsa Mexicana | AE2: Casablanca (Morocco) | AF2: Namibian Stock Exchange | AG2: Nairobi (Kenya) | AH2: NYSE Euronext | AI2: Nigeria | AJ2: Oslo (Norway) | AK2: New Zealand | AL2: Philippine | AM2: Singapore Exchange | AN2: Johannesburg SE ( South Africa) | AO2: Swaziland | AP2: Stockholm (Sweden) | AQ2: Colombo ( Sri Lanka) | AR2: Tunis (Tunisia) | AS2: Istabul (Turkey) | AT2: Caracus (Venezuela) | AU2: ZSE.( Zimbabwe) | AV2: BME Spanish | AW2: Lusaka SE | AX2: Uganda | AY2: Malawi
A3: 1990 | B3: =MAX(0,$A3-B$1) -> 219 | C3: =MAX(0,$A3-C$1) -> 129 | D3: =MAX(0,$A3-D$1) -> 189 | E3: =MAX(0,$A3-E$1) -> 1 | F3: =MAX(0,$A3-F$1) -> 66 | G3: =MAX(0,$A3-G$1) -> 3 | H3: =MAX(0,$A3-H$1) -> 0 | I3: =MAX(0,$A3-I$1) -> 15 | ... AY3: =MAX(0,$A3-AY$1) -> 0
A4: 1991 | B4: =MAX(0,$A4-B$1) -> 220 | C4: =MAX(0,$A4-C$1) -> 130 | D4: =MAX(0,$A4-D$1) -> 190 | E4: =MAX(0,$A4-E$1) -> 2 | F4: =MAX(0,$A4-F$1) -> 67 | G4: =MAX(0,$A4-G$1) -> 4 | H4: =MAX(0,$A4-H$1) -> 0 | I4: =MAX(0,$A4-I$1) -> 16 | ... AY4: =MAX(0,$A4-AY$1) -> 0
A5: 1992 | B5: =MAX(0,$A5-B$1) -> 221 | C5: =MAX(0,$A5-C$1) -> 131 | D5: =MAX(0,$A5-D$1) -> 191 | E5: =MAX(0,$A5-E$1) -> 3 | F5: =MAX(0,$A5-F$1) -> 68 | G5: =MAX(0,$A5-G$1) -> 5 | H5: =MAX(0,$A5-H$1) -> 0 | I5: =MAX(0,$A5-I$1) -> 17 | ... AY5: =MAX(0,$A5-AY$1) -> 0
A6: 1993 | B6: =MAX(0,$A6-B$1) -> 222 | C6: =MAX(0,$A6-C$1) -> 132 | D6: =MAX(0,$A6-D$1) -> 192 | E6: =MAX(0,$A6-E$1) -> 4 | F6: =MAX(0,$A6-F$1) -> 69 | G6: =MAX(0,$A6-G$1) -> 6 | H6: =MAX(0,$A6-H$1) -> 0 | I6: =MAX(0,$A6-I$1) -> 18 | ... AY6: =MAX(0,$A6-AY$1) -> 0
A7: 1994 | B7: =MAX(0,$A7-B$1) -> 223 | C7: =MAX(0,$A7-C$1) -> 133 | D7: =MAX(0,$A7-D$1) -> 193 | E7: =MAX(0,$A7-E$1) -> 5 | F7: =MAX(0,$A7-F$1) -> 70 | G7: =MAX(0,$A7-G$1) -> 7 | H7: =MAX(0,$A7-H$1) -> 0 | I7: =MAX(0,$A7-I$1) -> 19 | ... AY7: =MAX(0,$A7-AY$1) -> 0
A8: 1995 | B8: =MAX(0,$A8-B$1) -> 224 | C8: =MAX(0,$A8-C$1) -> 134 | D8: =MAX(0,$A8-D$1) -> 194 | E8: =MAX(0,$A8-E$1) -> 6 | F8: =MAX(0,$A8-F$1) -> 71 | G8: =MAX(0,$A8-G$1) -> 8 | H8: =MAX(0,$A8-H$1) -> 0 | I8: =MAX(0,$A8-I$1) -> 20 | ... AY8: =MAX(0,$A8-AY$1) -> 1
A9: 1996 | B9: =MAX(0,$A9-B$1) -> 225 | C9: =MAX(0,$A9-C$1) -> 135 | D9: =MAX(0,$A9-D$1) -> 195 | E9: =MAX(0,$A9-E$1) -> 7 | F9: =MAX(0,$A9-F$1) -> 72 | G9: =MAX(0,$A9-G$1) -> 9 | H9: =MAX(0,$A9-H$1) -> 0 | I9: =MAX(0,$A9-I$1) -> 21 | ... AY9: =MAX(0,$A9-AY$1) -> 2
A10: 1997 | B10: =MAX(0,$A10-B$1) -> 226 | C10: =MAX(0,$A10-C$1) -> 136 | D10: =MAX(0,$A10-D$1) -> 196 | E10: =MAX(0,$A10-E$1) -> 8 | F10: =MAX(0,$A10-F$1) -> 73 | G10: =MAX(0,$A10-G$1) -> 10 | H10: =MAX(0,$A10-H$1) -> 1 | I10: =MAX(0,$A10-I$1) -> 22 | ... AY10: =MAX(0,$A10-AY$1) -> 3
A11: 1998 | B11: =MAX(0,$A11-B$1) -> 227 | C11: =MAX(0,$A11-C$1) -> 137 | D11: =MAX(0,$A11-D$1) -> 197 | E11: =MAX(0,$A11-E$1) -> 9 | F11: =MAX(0,$A11-F$1) -> 74 | G11: =MAX(0,$A11-G$1) -> 11 | H11: =MAX(0,$A11-H$1) -> 2 | I11: =MAX(0,$A11-I$1) -> 23 | ... AY11: =MAX(0,$A11-AY$1) -> 4
A12: 1999 | B12: =MAX(0,$A12-B$1) -> 228 | C12: =MAX(0,$A12-C$1) -> 138 | D12: =MAX(0,$A12-D$1) -> 198 | E12: =MAX(0,$A12-E$1) -> 10 | F12: =MAX(0,$A12-F$1) -> 75 | G12: =MAX(0,$A12-G$1) -> 12 | H12: =MAX(0,$A12-H$1) -> 3 | I12: =MAX(0,$A12-I$1) -> 24 | ... AY12: =MAX(0,$A12-AY$1) -> 5
A13: 2000 | B13: =MAX(0,$A13-B$1) -> 229 | C13: =MAX(0,$A13-C$1) -> 139 | D13: =MAX(0,$A13-D$1) -> 199 | E13: =MAX(0,$A13-E$1) -> 11 | F13: =MAX(0,$A13-F$1) -> 76 | G13: =MAX(0,$A13-G$1) -> 13 | H13: =MAX(0,$A13-H$1) -> 4 | I13: =MAX(0,$A13-I$1) -> 25 | ... AY13: =MAX(0,$A13-AY$1) -> 6
A14: 2001 | B14: =MAX(0,$A14-B$1) -> 230 | C14: =MAX(0,$A14-C$1) -> 140 | D14: =MAX(0,$A14-D$1) -> 200 | E14: =MAX(0,$A14-E$1) -> 12 | F14: =MAX(0,$A14-F$1) -> 77 | G14: =MAX(0,$A14-G$1) -> 14 | H14: =MAX(0,$A14-H$1) -> 5 | I14: =MAX(0,$A14-I$1) -> 26 | ... AY14: =MAX(0,$A14-AY$1) -> 7
... A24: 2011 | B24: =MAX(0,$A24-B$1) -> 240 | C24: =MAX(0,$A24-C$1) -> 150 | D24: =MAX(0,$A24-D$1) -> 210 | E24: =MAX(0,$A24-E$1) -> 22 | F24: =MAX(0,$A24-F$1) -> 87 | G24: =MAX(0,$A24-G$1) -> 24 | H24: =MAX(0,$A24-H$1) -> 15 | I24: =MAX(0,$A24-I$1) -> 36 | ... AY24: =MAX(0,$A24-AY$1) -> 17

Sheet Reg Data
C1: MK | D1: ST | E1: LS | F1: AS | G1: TSA
C2: ='Market Cap % GDP'!B3 -> 7 | D2: ='Turnover % GDP'!B3 -> 11.3 | E2: ='Listed Co.s'!B3 -> 97 | F2: =AS!B3 -> 0 | G2: =TSA!B3 -> 0
C3: ='Market Cap % GDP'!B4 -> 4.5 | D3: ='Turnover % GDP'!B4 -> 4.1 | E3: ='Listed Co.s'!B4 -> 105 | F3: =AS!B4 -> 0 | G3: =TSA!B4 -> 0
C4: ='Market Cap % GDP'!B5 -> 11.3 | D4: ='Turnover % GDP'!B5 -> 2.6 | E4: ='Listed Co.s'!B5 -> 112 | F4: =AS!B5 -> 0 | G4: =TSA!B5 -> 0
C5: ='Market Cap % GDP'!B6 -> 15.1 | D5: ='Turnover % GDP'!B6 -> 3.5 | E5: ='Listed Co.s'!B6 -> 111 | F5: =AS!B6 -> 0 | G5: =TSA!B6 -> 0
C6: ='Market Cap % GDP'!B7 -> 15 | D6: ='Turnover % GDP'!B7 -> 8.1 | E6: ='Listed Co.s'!B7 -> 111 | F6: =AS!B7 -> 0 | G6: =TSA!B7 -> 0
C7: ='Market Cap % GDP'!B8 -> 13.6 | D7: ='Turnover % GDP'!B8 -> 10.8 | E7: ='Listed Co.s'!B8 -> 109 | F7: =AS!B8 -> 0 | G7: =TSA!B8 -> 0
C8: ='Market Cap % GDP'!B9 -> 14.5 | D8: ='Turnover % GDP'!B9 -> 8.7 | E8: ='Listed Co.s'!B9 -> 106 | F8: =AS!B9 -> 0 | G8: =TSA!B9 -> 0
C9: ='Market Cap % GDP'!B10 -> 17.2 | D9: ='Turnover % GDP'!B10 -> 5.8 | E9: ='Listed Co.s'!B10 -> 101 | F9: =AS!B10 -> 0 | G9: =TSA!B10 -> 0
C10: ='Market Cap % GDP'!B11 -> 16 | D10: ='Turnover % GDP'!B11 -> 8.2 | E10: ='Listed Co.s'!B11 -> 96 | F10: =AS!B11 -> 0 | G10: =TSA!B11 -> 0
C11: ='Market Cap % GDP'!B12 -> 15.6 | D11: ='Turnover % GDP'!B12 -> 5.5 | E11: ='Listed Co.s'!B12 -> 97 | F11: =AS!B12 -> 0 | G11: =TSA!B12 -> 0
C12: ='Market Cap % GDP'!B13 -> 15.6 | D12: ='Turnover % GDP'!B13 -> 4.9 | E12: ='Listed Co.s'!B13 -> 97 | F12: =AS!B13 -> 1 | G12: =TSA!B13 -> 1
C13: ='Market Cap % GDP'!B14 -> 12.8 | D13: ='Turnover % GDP'!B14 -> 3.8 | E13: ='Listed Co.s'!B14 -> 114 | F13: =AS!B14 -> 1 | G13: =TSA!B14 -> 2
... C23: ='Market Cap % GDP'!B24 -> 19.7 | D23: ='Turnover % GDP'!B24 -> 9.3 | E23: ='Listed Co.s'!B24 -> 73 | F23: =AS!B24 -> 1 | G23: =TSA!B24 -> 12
C24: ='Market Cap % GDP'!C3 -> 35 | D24: ='Turnover % GDP'!C3 -> 12.9 | E24: ='Listed Co.s'!C3 -> 1089 | F24: =AS!C3 -> 0 | G24: =TSA!C3 -> 0
C25: ='Market Cap % GDP'!C4 -> 45.7 | D25: ='Turnover % GDP'!C4 -> 14.4 | E25: ='Listed Co.s'!C4 -> 957 | F25: =AS!C4 -> 1 | G25: =TSA!C4 -> 1
C26: ='Market Cap % GDP'!C5 -> 44.5 | D26: ='Turnover % GDP'!C5 -> 14.1 | E26: ='Listed Co.s'!C5 -> 1030 | F26: =AS!C5 -> 1 | G26: =TSA!C5 -> 2
C27: ='Market Cap % GDP'!C6 -> 65.6 | D27: ='Turnover % GDP'!C6 -> 21.7 | E27: ='Listed Co.s'!C6 -> 1070 | F27: =AS!C6 -> 1 | G27: =TSA!C6 -> 3
C28: ='Market Cap % GDP'!C7 -> 67.7 | D28: ='Turnover % GDP'!C7 -> 29.3 | E28: ='Listed Co.s'!C7 -> 1186 | F28: =AS!C7 -> 1 | G28: =TSA!C7 -> 4
C29: ='Market Cap % GDP'!C8 -> 66.5 | D29: ='Turnover % GDP'!C8 -> 26.8 | E29: ='Listed Co.s'!C8 -> 1178 | F29: =AS!C8 -> 1 | G29: =TSA!C8 -> 5
C30: ='Market Cap % GDP'!C9 -> 77.6 | D30: ='Turnover % GDP'!C9 -> 36.2 | E30: ='Listed Co.s'!C9 -> 1190 | F30: =AS!C9 -> 1 | G30: =TSA!C9 -> 6
C31: ='Market Cap % GDP'!C10 -> 67.9 | D31: ='Turnover % GDP'!C10 -> 39.4 | E31: ='Listed Co.s'!C10 -> 1159 | F31: =AS!C10 -> 1 | G31: =TSA!C10 -> 7
C32: ='Market Cap % GDP'!C11 -> 82.3 | D32: ='Turnover % GDP'!C11 -> 40.3 | E32: ='Listed Co.s'!C11 -> 1162 | F32: =AS!C11 -> 1 | G32: =TSA!C11 -> 8
C33: ='Market Cap % GDP'!C12 -> 109.8 | D33: ='Turnover % GDP'!C12 -> 49.9 | E33: ='Listed Co.s'!C12 -> 1217 | F33: =AS!C12 -> 1 | G33: =TSA!C12 -> 9
C34: ='Market Cap % GDP'!C13 -> 89.7 | D34: ='Turnover % GDP'!C13 -> 54.4 | E34: ='Listed Co.s'!C13 -> 1330 | F34: =AS!C13 -> 1 | G34: =TSA!C13 -> 10
C35: ='Market Cap % GDP'!C14 -> 98.9 | D35: ='Turnover % GDP'!C14 -> 63.4 | E35: ='Listed Co.s'!C14 -> 1334 | F35: =AS!C14 -> 1 | G35: =TSA!C14 -> 11
... C45: ='Market Cap % GDP'!C24 -> 86.9 | D45: ='Turnover % GDP'!C24 -> 90.4 | E45: ='Listed Co.s'!C24 -> 1922 | F45: =AS!C24 -> 1 | G45: =TSA!C24 -> 21
C46: ='Market Cap % GDP'!D3 -> 32.2 | D46: ='Turnover % GDP'!D3 -> 3.2 | E46: ='Listed Co.s'!D3 -> 182 | F46: =AS!D3 -> 0 | G46: =TSA!D3 -> 0
C47: ='Market Cap % GDP'!D4 -> 34.3 | D47: ='Turnover % GDP'!D4 -> 3 | E47: ='Listed Co.s'!D4 -> 183 | F47: =AS!D4 -> 0 | G47: =TSA!D4 -> 0
C48: ='Market Cap % GDP'!D5 -> 27.7 | D48: ='Turnover % GDP'!D5 -> 3.5 | E48: ='Listed Co.s'!D5 -> 171 | F48: =AS!D5 -> 0 | G48: =TSA!D5 -> 0
C49: ='Market Cap % GDP'!D6 -> 35.2 | D49: ='Turnover % GDP'!D6 -> 5 | E49: ='Listed Co.s'!D6 -> 165 | F49: =AS!D6 -> 0 | G49: =TSA!D6 -> 0
C50: ='Market Cap % GDP'!D7 -> 34.8 | D50: ='Turnover % GDP'!D7 -> 5.3 | E50: ='Listed Co.s'!D7 -> 155 | F50: =AS!D7 -> 0 | G50: =TSA!D7 -> 0
C51: ='Market Cap % GDP'!D8 -> 36.9 | D51: ='Turnover % GDP'!D8 -> 5.4 | E51: ='Listed Co.s'!D8 -> 143 | F51: =AS!D8 -> 0 | G51: =TSA!D8 -> 0
C52: ='Market Cap % GDP'!D9 -> 43.4 | D52: ='Turnover % GDP'!D9 -> 9.5 | E52: ='Listed Co.s'!D9 -> 139 | F52: =AS!D9 -> 0 | G52: =TSA!D9 -> 0
C53: ='Market Cap % GDP'!D10 -> 54.8 | D53: ='Turnover % GDP'!D10 -> 11.9 | E53: ='Listed Co.s'!D10 -> 141 | F53: =AS!D10 -> 0 | G53: =TSA!D10 -> 0
C54: ='Market Cap % GDP'!D11 -> 96.1 | D54: ='Turnover % GDP'!D11 -> 21.7 | E54: ='Listed Co.s'!D11 -> 169 | F54: =AS!D11 -> 0 | G54: =TSA!D11 -> 0
C55: ='Market Cap % GDP'!D12 -> 72.7 | D55: ='Turnover % GDP'!D12 -> 23.2 | E55: ='Listed Co.s'!D12 -> 172 | F55: =AS!D12 -> 1 | G55: =TSA!D12 -> 1
C56: ='Market Cap % GDP'!D13 -> 78.4 | D56: ='Turnover % GDP'!D13 -> 16.3 | E56: ='Listed Co.s'!D13 -> 174 | F56: =AS!D13 -> 1 | G56: =TSA!D13 -> 2
C57: ='Market Cap % GDP'!D14 -> 71.3 | D57: ='Turnover % GDP'!D14 -> 17.7 | E57: ='Listed Co.s'!D14 -> 156 | F57: =AS!D14 -> 1 | G57: =TSA!D14 -> 3
... C67: ='Market Cap % GDP'!D24 -> 44.8 | D67: ='Turnover % GDP'!D24 -> 20.9 | E67: ='Listed Co.s'!D24 -> 158 | F67: =AS!D24 -> 1 | G67: =TSA!D24 -> 13
...

Sheet Listed Co.s
J1: Number of listed counters(LS)
B2: Wiener Borse (Austria) | C2: Australian SE | D2: Euronext Brussels (Belgium) | E2: Botswana | F2: Dhaka Stock Exchange (Bangladesh) | G2: Barbados | H2: Cyprus | I2: Cote d'Ivoire | J2: Zagreb Stock Exchange ( Crotia) | K2: Borsa de Valores de Colombia | L2: Eyptian | M2: Helsinki Stock Exchange ( Finland) | N2: Euronext Paris ( France) | O2: Deutsche Börse(Germany) | P2: Athens Exchange (Greece) | Q2: Ghana | R2: Budapest Stock Exchange ( Hungary) | S2: Hong Kong Exchanges | T2: Borsa Italiana (Italy) | U2: Indonesia SE | V2: Tel Aviv Stock Exchange (Israel) | W2: Jamaica Stock Exchange | X2: Amman Stock Exchange ( Jordan) | Y2: London SE (UK) | Z2: Luxembourg | AA2: Bursa Malaysia | AB2: Mauritius | AC2: Malta | AD2: Bolsa Mexicana de Valores (Mexico) | AE2: Casablanca Stock Exchange (Morocco) | AF2: Namibian Stock Exchange | AG2: Nairobi (Kenya) | AH2: NYSE Euronext | AI2: Nigeria | AJ2: Oslo Stock Exchange (Norway) | AK2: New Zealand Exchange | AL2: Philippine SE | AM2: Singapore Exchange | AN2: Johannesburg SE ( South Africa) | AO2: Swaziland | AP2: Stockholm Stock Exchange (Sweden) | AQ2: Colombo stock Exchange ( Sri Lanka) | AR2: Tunis (Tunisia) | AS2: Istabul Stock Exchange (Turkey) | AT2: Caracus Stock Exchange (Venezuela) | AU2: Zimbabwe Stock Exchange( Zimbabwe) | AV2: BME Spanish | AW2: Lusaka SE | AX2: Uganda SE | AY2: Malawi
A3: 1990 | B3: 97 | C3: 1089 | D3: 182 | E3: 0 | F3: 134 | G3: 14 | H3: 0 | I3: 23 | J3: 0 | K3: 80 | L3: 573 | M3: 73 | N3: 578 | O3: 413 | P3: 145 | Q3: 0 | R3: 0 | S3: 284 | T3: 220 | U3: 125 | V3: 216 | W3: 44 | X3: 105 | Y3: 1701 | Z3: 54 | AA3: 282 | AB3: 13 | AC3: 0 | AD3: 199 | AE3: 71 | AF3: 0 | AG3: 54 | AH3: 6599 | AI3: 131 | AJ3: 112 | AK3: 171 | AL3: 153 | AM3: 150 | AN3: 732 | AO3: 1 | AP3: 258 | AQ3: 175 | AR3: 13 | AS3: 110 | AT3: 76 | AU3: 57 | AV3: 427 | AW3: 0 | AX3: 0 | AY3: 0
A4: 1991 | B4: 105 | C4: 957 | D4: 183 | E4: 9 | F4: 138 | G4: 14 | H4: 39 | I4: 25 | J4: 0 | K4: 83 | L4: 627 | M4: 63 | N4: 551 | O4: 428 | P4: 126 | Q4: 13 | R4: 21 | S4: 333 | T4: 224 | U4: 141 | V4: 229 | W4: 44 | X4: 101 | Y4: 1623 | Z4: 70 | AA4: 321 | AB4: 20 | AC4: 0 | AD4: 209 | AE4: 67 | AF4: 0 | AG4: 53 | AH4: 6742 | AI4: 142 | AJ4: 112 | AK4: 139 | AL4: 161 | AM4: 166 | AN4: 688 | AO4: 2 | AP4: 230 | AQ4: 178 | AR4: 15 | AS4: 134 | AT4: 87 | AU4: 60 | AV4: 433 | AW4: 0 | AX4: 0 | AY4: 0
A5: 1992 | B5: 112 | C5: 1030 | D5: 171 | E5: 11 | F5: 145 | G5: 15 | H5: 40 | I5: 27 | J5: 2 | K5: 80 | L5: 656 | M5: 61 | N5: 786 | O5: 665 | P5: 129 | Q5: 15 | R5: 23 | S5: 386 | T5: 228 | U5: 155 | V5: 377 | W5: 48 | X5: 103 | Y5: 1874 | Z5: 59 | AA5: 369 | AB5: 22 | AC5: 4 | AD5: 195 | AE5: 62 | AF5: 3 | AG5: 57 | AH5: 6699 | AI5: 153 | AJ5: 115 | AK5: 123 | AL5: 169 | AM5: 163 | AN5: 683 | AO5: 4 | AP5: 205 | AQ5: 190 | AR5: 17 | AS5: 145 | AT5: 91 | AU5: 62 | AV5: 399 | AW5: 0 | AX5: 0 | AY5: 0
A6: 1993 | B6: 111 | C6: 1070 | D6: 165 | E6: 11 | F6: 153 | G6: 16 | H6: 39 | I6: 24 | J6: 0 | K6: 89 | L6: 674 | M6: 57 | N6: 472 | O6: 426 | P6: 143 | Q6: 15 | R6: 28 | S6: 450 | T6: 210 | U6: 174 | V6: 558 | W6: 50 | X6: 101 | Y6: 1646 | Z6: 62 | AA6: 410 | AB6: 30 | AC6: 4 | AD6: 190 | AE6: 65 | AF6: 4 | AG6: 56 | AH6: 7246 | AI6: 174 | AJ6: 120 | AK6: 136 | AL6: 178 | AM6: 178 | AN6: 647 | AO6: 4 | AP6: 205 | AQ6: 200 | AR6: 19 | AS6: 152 | AT6: 93 | AU6: 62 | AV6: 376 | AW6: 0 | AX6: 0 | AY6: 0
A7: 1994 | B7: 111 | C7: 1186 | D7: 155 | E7: 11 | F7: 170 | G7: 19 | H7: 38 | I7: 27 | J7: 29 | K7: 113 | L7: 700 | M7: 65 | N7: 459 | O7: 417 | P7: 216 | Q7: 17 | R7: 40 | S7: 529 | T7: 223 | U7: 216 | V7: 638 | W7: 50 | X7: 95 | Y7: 2070 | Z7: 60 | AA7: 478 | AB7: 35 | AC7: 4 | AD7: 206 | AE7: 51 | AF7: 8 | AG7: 56 | AH7: 7692 | AI7: 177 | AJ7: 132 | AK7: 173 | AL7: 189 | AM7: 240 | AN7: 640 | AO7: 4 | AP7: 228 | AQ7: 215 | AR7: 21 | AS7: 176 | AT7: 90 | AU7: 64 | AV7: 379 | AW7: 0 | AX7: 0 | AY7: 0
A8: 1995 | B8: 109 | C8: 1178 | D8: 143 | E8: 12 | F8: 183 | G8: 18 | H8: 41 | I8: 31 | J8: 61 | K8: 190 | L8: 746 | M8: 73 | N8: 450 | O8: 678 | P8: 212 | Q8: 19 | R8: 42 | S8: 518 | T8: 250 | U8: 238 | V8: 654 | W8: 51 | X8: 97 | Y8: 2078 | Z8: 61 | AA8: 529 | AB8: 28 | AC8: 5 | AD8: 185 | AE8: 44 | AF8: 10 | AG8: 56 | AH8: 7671 | AI8: 181 | AJ8: 151 | AK8: 134 | AL8: 205 | AM8: 212 | AN8: 640 | AO8: 4 | AP8: 223 | AQ8: 226 | AR8: 26 | AS8: 205 | AT8: 90 | AU8: 64 | AV8: 362 | AW8: 2 | AX8: 0 | AY8: 0
A9: 1996 | B9: 106 | C9: 1190 | D9: 139 | E9: 12 | F9: 186 | G9: 19 | H9: 39 | I9: 31 | J9: 66 | K9: 189 | L9: 649 | M9: 71 | N9: 686 | O9: 681 | P9: 224 | Q9: 21 | R9: 45 | S9: 561 | T9: 244 | U9: 253 | V9: 655 | W9: 46 | X9: 98 | Y9: 2171 | Z9: 54 | AA9: 621 | AB9: 40 | AC9: 6 | AD9: 193 | AE9: 47 | AF9: 12 | AG9: 56 | AH9: 8479 | AI9: 183 | AJ9: 158 | AK9: 126 | AL9: 216 | AM9: 223 | AN9: 626 | AO9: 6 | AP9: 229 | AQ9: 235 | AR9: 30 | AS9: 228 | AT9: 87 | AU9: 64 | AV9: 357 | AW9: 6 | AX9: 0 | AY9: 1
A10: 1997 | B10: 101 | C10: 1159 | D10: 141 | E10: 12 | F10: 202 | G10: 18 | H10: 49 | I10: 35 | J10: 77 | K10: 189 | L10: 654 | M10: 124 | N10: 683 | O10: 700 | P10: 230 | Q10: 21 | R10: 49 | S10: 671 | T10: 239 | U10: 282 | V10: 640 | W10: 45 | X10: 139 | Y10: 2157 | Z10: 56 | AA10: 708 | AB10: 40 | AC10: 6 | AD10: 198 | AE10: 49 | AF10: 13 | AG10: 58 | AH10: 8851 | AI10: 182 | AJ10: 196 | AK10: 129 | AL10: 221 | AM10: 303 | AN10: 642 | AO10: 4 | AP10: 245 | AQ10: 239 | AR10: 34 | AS10: 258 | AT10: 91 | AU10: 64 | AV10: 384 | AW10: 7 | AX10: 0 | AY10: 3
A11: 1998 | B11: 96 | C11: 1162 | D11: 169 | E11: 14 | F11: 208 | G11: 20 | H11: 54 | I11: 35 | J11: 50 | K11: 163 | L11: 861 | M11: 129 | N11: 711 | O11: 741 | P11: 244 | Q11: 21 | R11: 55 | S11: 693 | T11: 243 | U11: 288 | V11: 650 | W11: 49 | X11: 150 | Y11: 2087 | Z11: 53 | AA11: 736 | AB11: 40 | AC11: 7 | AD11: 194 | AE11: 53 | AF11: 15 | AG11: 58 | AH11: 8450 | AI11: 186 | AJ11: 213 | AK11: 136 | AL11: 221 | AM11: 321 | AN11: 668 | AO11: 5 | AP11: 258 | AQ11: 233 | AR11: 38 | AS11: 277 | AT11: 94 | AU11: 67 | AV11: 484 | AW11: 9 | AX11: 1 | AY11: 6
A12: 1999 | B12: 97 | C12: 1217 | D12: 172 | E12: 15 | F12: 211 | G12: 18 | H12: 60 | I12: 38 | J12: 59 | K12: 145 | L12: 1033 | M12: 147 | N12: 968 | O12: 933 | P12: 281 | Q12: 22 | R12: 66 | S12: 717 | T12: 270 | U12: 277 | V12: 644 | W12: 46 | X12: 152 | Y12: 1945 | Z12: 51 | AA12: 757 | AB12: 41 | AC12: 7 | AD12: 188 | AE12: 55 | AF12: 14 | AG12: 57 | AH12: 7651 | AI12: 194 | AJ12: 195 | AK12: 128 | AL12: 225 | AM12: 355 | AN12: 668 | AO12: 7 | AP12: 277 | AQ12: 239 | AR12: 44 | AS12: 285 | AT12: 87 | AU12: 70 | AV12: 718 | AW12: 9 | AX12: 1 | AY12: 7
A13: 2000 | B13: 97 | C13: 1330 | D13: 174 | E13: 16 | F13: 221 | G13: 17 | H13: 120 | I13: 41 | J13: 64 | K13: 126 | L13: 1076 | M13: 154 | N13: 808 | O13: 1022 | P13: 329 | Q13: 22 | R13: 60 | S13: 779 | T13: 291 | U13: 290 | V13: 654 | W13: 46 | X13: 163 | Y13: 1904 | Z13: 54 | AA13: 795 | AB13: 40 | AC13: 10 | AD13: 179 | AE13: 53 | AF13: 13 | AG13: 57 | AH13: 7524 | AI13: 195 | AJ13: 191 | AK13: 142 | AL13: 228 | AM13: 418 | AN13: 616 | AO13: 6 | AP13: 292 | AQ13: 239 | AR13: 44 | AS13: 315 | AT13: 85 | AU13: 69 | AV13: 1019 | AW13: 9 | AX13: 2 | AY13: 8
A14: 2001 | B14: 114 | C14: 1334 | D14: 156 | E14: 16 | F14: 230 | G14: 20 | H14: 145 | I14: 38 | J14: 62 | K14: 123 | L14: 1110 | M14: 152 | N14: 791 | O14: 749 | P14: 338 | Q14: 22 | R14: 57 | S14: 857 | T14: 288 | U14: 316 | V14: 636 | W14: 42 | X14: 161 | Y14: 1923 | Z14: 46 | AA14: 809 | AB14: 40 | AC14: 12 | AD14: 168 | AE14: 55 | AF14: 13 | AG14: 57 | AH14: 6355 | AI14: 194 | AJ14: 186 | AK14: 132 | AL14: 232 | AM14: 386 | AN14: 542 | AO14: 5 | AP14: 285 | AQ14: 238 | AR14: 46 | AS14: 310 | AT14: 63 | AU14: 72 | AV14: 1458 | AW14: 9 | AX14: 2 | AY14: 8
... A24: 2011 | B24: 73 | C24: 1922 | D24: 158 | E24: 23 | F24: 216 | G24: 22 | H24: 117 | I24: 33 | J24: 209 | K24: 79 | L24: 231 | M24: 121 | N24: 893 | O24: 670 | P24: 275 | Q24: 36 | R24: 52 | S24: 1472 | T24: 287 | U24: 440 | V24: 576 | W24: 37 | X24: 247 | Y24: 2001 | Z24: 31 | AA24: 941 | AB24: 86 | AC24: 20 | AD24: 128 | AE24: 75 | AF24: 7 | AG24: 58 | AH24: 4171 | AI24: 196 | AJ24: 192 | AK24: 144 | AL24: 268 | AM24: 462 | AN24: 355 | AO24: 5 | AP24: 340 | AQ24: 253 | AR24: 57 | AS24: 362 | AT24: 36 | AU24: 75 | AV24: 3241 | AW24: 20 | AX24: 8 | AY24: 14

Sheet Market Cap % GDP
M1: Market Capitalisation as a % of GDP(MK)
B2: Wiener Borse (Austria) | C2: Australian SE | D2: Euronext Brussels (Belgium) | E2: Botswana | F2: Dhaka Stock Exchange (Bangladesh) | G2: Barbados | H2: Cyprus | I2: Cote d'Ivoire | J2: Zagreb Stock Exchange ( Crotia) | K2: Borsa de Valores de Colombia | L2: Eyptian | M2: Helsinki Stock Exchange ( Finland) | N2: Euronext Paris ( France) | O2: Deutsche Börse(Germany) | P2: Athens Exchange (Greece) | Q2: Ghana | R2: Budapest Stock Exchange ( Hungary) | S2: Hong Kong Exchanges | T2: Borsa Italiana (Italy) | U2: Indonesia SE | V2: Tel Aviv Stock Exchange (Israel) | W2: Jamaica Stock Exchange | X2: Amman Stock Exchange ( Jordan) | Y2: London SE (UK) | Z2: Luxembourg | AA2: Bursa Malaysia | AB2: Mauritius | AC2: Malta | AD2: Bolsa Mexicana de Valores (Mexico) | AE2: Casablanca Stock Exchange (Morocco) | AF2: Namibian Stock Exchange | AG2: Nairobi (Kenya) | AH2: NYSE Euronext | AI2: Nigeria | AJ2: Oslo Stock Exchange (Norway) | AK2: New Zealand Exchange | AL2: Philippine SE | AM2: Singapore Exchange | AN2: Johannesburg SE ( South Africa) | AO2: Swaziland | AP2: Stockholm Stock Exchange (Sweden) | AQ2: Colombo stock Exchange ( Sri Lanka) | AR2: Tunis (Tunisia) | AS2: Istabul Stock Exchange (Turkey) | AT2: Caracus Stock Exchange (Venezuela) | AU2: Zimbabwe Stock Exchange( Zimbabwe) | AV2: BME Spanish | AW2: Lusaka SE | AX2: Uganda | AY2: Malawi
A3: 1990 | B3: 7 | C3: 35 | D3: 32.2 | E3: 0 | F3: 1.1 | G3: 16.5 | H3: 18.6 | I3: 5.1 | J3: 0 | K3: 3.5 | L3: 4.1 | M3: 16.3 | N3: 25.2 | O3: 20.7 | P3: 16.3 | Q3: 0 | R3: 0 | S3: 108.4 | T3: 13.1 | U3: 7.1 | V3: 6.3 | W3: 19.8 | X3: 49.7 | Y3: 83.8 | Z3: 82.9 | AA3: 110.4 | AB3: 10.1 | AC3: 0 | AD3: 12.4 | AE3: 3.7 | AF3: 0 | AG3: 5.3 | AH3: 53.2 | AI3: 4.8 | AJ3: 22.2 | AK3: 19.9 | AL3: 13.4 | AM3: 95 | AN3: 123.2 | AO3: 1.5 | AP3: 40.1 | AQ3: 11.4 | AR3: 4.3 | AS3: 12.7 | AT3: 17.8 | AU3: 27.3 | AV3: 21.3 | AW3: 0 | AX3: 0 | AY3: 0
A4: 1991 | B4: 4.5 | C4: 45.7 | D4: 34.3 | E4: 6.6 | F4: 0.9 | G4: 18.3 | H4: 22.4 | I4: 5.2 | J4: 0 | K4: 9.8 | L4: 7.2 | M4: 11.4 | N4: 27.9 | O4: 21.7 | P4: 13.1 | Q4: 1.2 | R4: 1.5 | S4: 137.1 | T4: 13.2 | U4: 5.3 | V4: 10.4 | W4: 25.1 | X4: 59.9 | Y4: 93.6 | Z4: 82.4 | AA4: 119.3 | AB4: 10.9 | AC4: 0 | AD4: 31.2 | AE4: 5.5 | AF4: 0 | AG4: 5.6 | AH4: 69 | AI4: 6.9 | AJ4: 18.4 | AK4: 34.2 | AL4: 25.1 | AM4: 110.5 | AN4: 139.7 | AO4: 2.3 | AP4: 39.2 | AQ4: 21.6 | AR4: 5.4 | AS4: 10.4 | AT4: 21.6 | AU4: 16.1 | AV4: 26.4 | AW4: 0 | AX4: 0 | AY4: 0
A5: 1992 | B5: 11.3 | C5: 44.5 | D5: 27.7 | E5: 7.1 | F5: 1 | G5: 16.3 | H5: 17.1 | I5: 4.3 | J5: 0 | K5: 11.5 | L5: 7.8 | M5: 11.1 | N5: 25.6 | O5: 16.9 | P5: 8.6 | Q5: 1.3 | R5: 1.5 | S5: 165 | T5: 10.1 | U5: 8.6 | V5: 45 | W5: 91.4 | X5: 63.3 | Y5: 84.9 | Z5: 77.3 | AA5: 158.9 | AB5: 12.9 | AC5: 1.2 | AD5: 38.2 | AE5: 6.7 | AF5: 0.7 | AG5: 7.8 | AH5: 71.7 | AI5: 3.7 | AJ5: 13.9 | AK5: 37.6 | AL5: 28.9 | AM5: 99.5 | AN5: 79.7 | AO5: 8.6 | AP5: 29.4 | AQ5: 14.8 | AR5: 5.3 | AS5: 6.2 | AT5: 13 | AU5: 9.3 | AV5: 16.2 | AW5: 0 | AX5: 0 | AY5: 0
A6: 1993 | B6: 15.1 | C6: 65.6 | D6: 35.2 | E6: 6.3 | F6: 1.4 | G6: 20 | H6: 14.9 | I6: 3.7 | J6: 0 | K6: 16.6 | L6: 8.2 | M6: 27 | N6: 35.2 | O6: 23.1 | P6: 11.9 | Q6: 2 | R6: 2.1 | S6: 320.1 | T6: 13.3 | U6: 20.9 | V6: 77.1 | W6: 30.1 | X6: 87.2 | Y6: 117.4 | Z6: 122.5 | AA6: 328.9 | AB6: 24.2 | AC6: 1.5 | AD6: 49.9 | AE6: 9.9 | AF6: 1 | AG6: 18.4 | AH6: 117.4 | AI6: 4.8 | AJ6: 23.2 | AK6: 55.9 | AL6: 74.1 | AM6: 221.3 | AN6: 131.9 | AO6: 21.9 | AP6: 53.1 | AQ6: 24.2 | AR6: 6.5 | AS6: 20.8 | AT6: 13.8 | AU6: 21.8 | AV6: 23.4 | AW6: 0 | AX6: 0 | AY6: 0
A7: 1994 | B7: 15 | C7: 67.7 | D7: 34.8 | E7: 8.7 | F7: 3.1 | G7: 30 | H7: 18 | I7: 5.1 | J7: 3.5 | K7: 17.1 | L7: 8.2 | M7: 38 | N7: 33 | O7: 21.9 | P7: 13.4 | Q7: 34.3 | R7: 3.8 | S7: 198.4 | T7: 17 | U7: 26.7 | V7: 43.8 | W7: 35.4 | X7: 73.6 | Y7: 114.1 | Z7: 162.5 | AA7: 267.2 | AB7: 42.4 | AC7: 1.7 | AD7: 30.8 | AE7: 14.4 | AF7: 6.2 | AG7: 43.1 | AH7: 114.1 | AI7: 11.5 | AJ7: 29.3 | AK7: 50.2 | AL7: 88.6 | AM7: 194.3 | AN7: 166.4 | AO7: 23.8 | AP7: 60.2 | AQ7: 24.6 | AR7: 16.4 | AS7: 16.5 | AT7: 7.3 | AU7: 26.6 | AV7: 30.1 | AW7: 0 | AX7: 0 | AY7: 0
A8: 1995 | B8: 13.6 | C8: 66.5 | D8: 36.9 | E8: 8.3 | F8: 3.5 | G8: 26.6 | H8: 27.2 | I8: 7.9 | J8: 2.6 | K8: 19.3 | L8: 13.4 | M8: 33.7 | N8: 33.2 | O8: 22.9 | P8: 13.1 | Q8: 25.5 | R8: 5.3 | S8: 210 | T8: 18.5 | U8: 32.9 | V8: 37.9 | W8: 21.8 | X8: 69.4 | Y8: 121.7 | Z8: 147.3 | AA8: 250.7 | AB8: 32.9 | AC8: 4.3 | AD8: 31.6 | AE8: 18 | AF8: 5.4 | AG8: 20.8 | AH8: 121.7 | AI8: 7.2 | AJ8: 29.9 | AK8: 50.9 | AL8: 79.5 | AM8: 183.2 | AN8: 185.6 | AO8: 20 | AP8: 70.2 | AQ8: 15.3 | AR8: 21.8 | AS8: 12.3 | AT8: 4.9 | AU8: 28.7 | AV8: 33.1 | AW8: 0.5 | AX8: 0 | AY8: 0
A9: 1996 | B9: 14.5 | C9: 77.6 | D9: 43.4 | E9: 6.8 | F9: 11.2 | G9: 38.8 | H9: 25.2 | I9: 7.5 | J9: 12.7 | K9: 17.6 | L9: 21 | M9: 49.2 | N9: 37.6 | O9: 27.5 | P9: 17.5 | Q9: 21.5 | R9: 11.5 | S9: 281.4 | T9: 20.4 | U9: 40 | V9: 34.2 | W9: 28.9 | X9: 65.7 | Y9: 142.7 | Z9: 158.9 | AA9: 304.6 | AB9: 37.9 | AC9: 12.9 | AD9: 32 | AE9: 23.8 | AF9: 13.2 | AG9: 15.3 | AH9: 142.7 | AI9: 10.1 | AJ9: 35.9 | AK9: 56.1 | AL9: 97.4 | AM9: 158.6 | AN9: 168.1 | AO9: 29.4 | AP9: 89.4 | AQ9: 13.3 | AR9: 21.8 | AS9: 16.5 | AT9: 14.7 | AU9: 42.5 | AV9: 39 | AW9: 6 | AX9: 0 | AY9: 0
A10: 1997 | B10: 17.2 | C10: 67.9 | D10: 54.8 | E10: 11.9 | F10: 3.6 | G10: 52 | H10: 22.6 | I10: 10.9 | J10: 18.1 | K10: 18.3 | L10: 26.6 | M10: 59.6 | N10: 47.4 | O10: 38.3 | P10: 25.4 | Q10: 16.5 | R10: 32.2 | S10: 233.1 | T10: 28.8 | U10: 13.5 | V10: 41.7 | W10: 27.4 | X10: 75.1 | Y10: 145.9 | Z10: 183.1 | AA10: 93.5 | AB10: 39.8 | AC10: 12.7 | AD10: 39 | AE10: 36.4 | AF10: 19 | AG10: 13.9 | AH10: 145.9 | AI10: 10.1 | AJ10: 42 | AK10: 47 | AL10: 38.1 | AM10: 101.7 | AN10: 155.9 | AO10: 7.5 | AP10: 107.7 | AQ10: 13.9 | AR10: 11.2 | AS10: 32.2 | AT10: 17 | AU10: 23.1 | AV10: 50.7 | AW10: 18 | AX10: 0 | AY10: 0
A11: 1998 | B11: 16 | C11: 82.3 | D11: 96.1 | E11: 13.9 | F11: 2.3 | G11: 102 | H11: 27.4 | I11: 14.2 | J11: 12.7 | K11: 13.6 | L11: 28.7 | M11: 119.1 | N11: 67.5 | O11: 50.2 | P11: 59.1 | Q11: 18.5 | R11: 29.3 | S11: 203.3 | T11: 46.5 | U11: 23.2 | V11: 36.1 | W11: 24.5 | X11: 73.8 | Y11: 162.4 | Z11: 182.9 | AA11: 136.6 | AB11: 44.3 | AC11: 20.6 | AD11: 21.8 | AE11: 39.2 | AF11: 12.6 | AG11: 14.4 | AH11: 153.9 | AI11: 9 | AJ11: 31.1 | AK11: 45.3 | AL11: 48.9 | AM11: 98.6 | AN11: 126.8 | AO11: 5.4 | AP11: 109.4 | AQ11: 10.8 | AR11: 10.4 | AS11: 12.5 | AT11: 8.3 | AU11: 20.5 | AV11: 66.9 | AW11: 9.3 | AX11: 0.2 | AY11: 2.1
A12: 1999 | B12: 15.6 | C12: 109.8 | D12: 72.7 | E12: 17.9 | F12: 1.9 | G12: 81.3 | H12: 71.1 | I12: 12.1 | J12: 11.2 | K12: 13.4 | L12: 36.2 | M12: 268.1 | N12: 101.3 | O12: 67.2 | P12: 153.3 | Q12: 11.9 | R12: 33.8 | S12: 367.4 | T12: 60.3 | U12: 45.8 | V12: 57.6 | W12: 28.7 | X12: 71.5 | Y12: 195.1 | Z12: 169.6 | AA12: 183.8 | AB12: 38.3 | AC12: 49 | AD12: 32 | AE12: 34.5 | AF12: 20.4 | AG12: 10.9 | AH12: 178.9 | AI12: 8.5 | AJ12: 40 | AK12: 48.7 | AL12: 50.8 | AM12: 230.8 | AN12: 197.1 | AO12: 6.1 | AP12: 144.2 | AQ12: 10.1 | AR12: 11.8 | AS12: 45.1 | AT12: 7.6 | AU12: 36.7 | AV12: 69.9 | AW12: 8.9 | AX12: 0.4 | AY12: 1.4
A13: 2000 | B13: 15.6 | C13: 89.7 | D13: 78.4 | E13: 17.4 | F13: 2.5 | G13: 66 | H13: 46.7 | I13: 11.4 | J13: 12.7 | K13: 9.6 | L13: 28.8 | M13: 241.1 | N13: 109.1 | O13: 67.3 | P13: 89.1 | Q13: 10.1 | R13: 25.9 | S13: 363.1 | T13: 69.6 | U13: 16.3 | V13: 51.3 | W13: 39.8 | X13: 58.4 | Y13: 174.6 | Z13: 167.8 | AA13: 124.7 | AB13: 29 | AC13: 51.7 | AD13: 21.5 | AE13: 29.4 | AF13: 8 | AG13: 10.1 | AH13: 152.6 | AI13: 9.2 | AJ13: 38.6 | AK13: 36.6 | AL13: 32 | AM13: 159.3 | AN13: 154.2 | AO13: 4.8 | AP13: 132.8 | AQ13: 6.6 | AR13: 13.2 | AS13: 26.1 | AT13: 6.9 | AU13: 36.4 | AV13: 86.9 | AW13: 7.2 | AX13: 0.3 | AY13: 2.8
A14: 2001 | B14: 12.8 | C14: 98.9 | D14: 71.3 | E14: 21 | F14: 2.4 | G14: 71.6 | H14: 63.9 | I14: 11 | J14: 14.4 | K14: 13.5 | L14: 24.9 | M14: 152.8 | N14: 87.8 | O14: 57 | P14: 66.6 | Q14: 9.9 | R14: 19.7 | S14: 298.7 | T14: 46.9 | U14: 14.3 | V14: 57.2 | W14: 51.7 | X14: 70.3 | Y14: 147.5 | Z14: 117.8 | AA14: 129.3 | AB14: 23.4 | AC14: 35.1 | AD14: 20.3 | AE14: 24.1 | AF14: 4.2 | AG14: 8.1 | AH14: 135.4 | AI14: 11.3 | AJ14: 40.4 | AK14: 33.6 | AL14: 54.4 | AM14: 128.7 | AN14: 118 | AO14: 9.4 | AP14: 104 | AQ14: 8.5 | AR14: 10.4 | AS14: 24.1 | AT14: 5.1 | AU14: 117.6 | AV14: 76.9 | AW14: 6.9 | AX14: 0.6 | AY14: 3.2
... A24: 2011 | B24: 19.7 | C24: 86.9 | D24: 44.8 | E24: 23.7 | F24: 21 | G24: 124.1 | H24: 11.6 | I24: 26.1 | J24: 34.9 | K24: 60.4 | L24: 21.2 | M24: 54.4 | N24: 56.6 | O24: 32.9 | P24: 11.6 | Q24: 7.9 | R24: 13.4 | S24: 357.8 | T24: 19.7 | U24: 46.1 | V24: 59.7 | W24: 50 | X24: 94.3 | Y24: 118.7 | Z24: 114.2 | AA24: 137.2 | AB24: 68.1 | AC24: 38.5 | AD24: 35.4 | AE24: 60 | AF24: 9.2 | AG24: 30.3 | AH24: 104.3 | AI24: 16.1 | AJ24: 45.1 | AK24: 44.9 | AL24: 73.6 | AM24: 128.6 | AN24: 128.1 | AO24: 0.1 | AP24: 87.1 | AQ24: 32.8 | AR24: 20.8 | AS24: 26 | AT24: 1.6 | AU24: 112.9 | AV24: 69.8 | AW24: 20.9 | AX24: 46 | AY24: 24.6

Sheet Turnover % GDP
K1: Stock Traded, Total Value as a % of GDP(ST)
B2: Wiener Borse (Austria) | C2: Australian SE | D2: Euronext Brussels (Belgium) | E2: Botswana | F2: Dhaka Stock Exchange (Bangladesh) | G2: Barbados | H2: Cyprus | I2: Cote d'Ivoire | J2: Zagreb Stock Exchange ( Crotia) | K2: Borsa de Valores de Colombia | L2: Eyptian | M2: Helsinki Stock Exchange ( Finland) | N2: Euronext Paris ( France) | O2: Deutsche Börse(Germany) | P2: Athens Exchange (Greece) | Q2: Ghana | R2: Budapest Stock Exchange ( Hungary) | S2: Hong Kong Exchanges | T2: Borsa Italiana (Italy) | U2: Indonesia SE | V2: Tel Aviv Stock Exchange (Israel) | W2: Jamaica Stock Exchange | X2: Amman Stock Exchange ( Jordan) | Y2: London SE (UK) | Z2: Luxembourg | AA2: Bursa Malaysia | AB2: Mauritius | AC2: Malta | AD2: Bolsa Mexicana de Valores (Mexico) | AE2: Casablanca Stock Exchange (Morocco) | AF2: Namibian Stock Exchange | AG2: Nairobi (Kenya) | AH2: NYSE Euronext | AI2: Nigeria | AJ2: Oslo Stock Exchange (Norway) | AK2: New Zealand Exchange | AL2: Philippine SE | AM2: Singapore Exchange | AN2: Johannesburg SE ( South Africa) | AO2: Swaziland | AP2: Stockholm Stock Exchange (Sweden) | AQ2: Colombo stock Exchange ( Sri Lanka) | AR2: Tunis (Tunisia) | AS2: Istabul Stock Exchange (Turkey) | AT2: Caracus Stock Exchange (Venezuela) | AU2: Zimbabwe Stock Exchange( Zimbabwe) | AV2: BME Spanish | AW2: Lusaka SE | AX2: Uganda | AY2: Malawi
A3: 1990 | B3: 11.3 | C3: 12.9 | D3: 3.2 | E3: 0 | F3: 0 | G3: 0.6 | H3: 0 | I3: 0.2 | J3: 0 | K3: 0.2 | L3: 0.3 | M3: 2.8 | N3: 9.4 | O3: 29.3 | P3: 4.2 | Q3: 0 | R3: 0 | S3: 45 | T3: 3.7 | U3: 3.5 | V3: 10.5 | W3: 0.7 | X3: 10.1 | Y3: 27.5 | Z3: 0.7 | AA3: 24.7 | AB3: 0.2 | AC3: 0 | AD3: 4.6 | AE3: 0.2 | AF3: 0 | AG3: 0.1 | AH3: 30.5 | AI3: 0 | AJ3: 11.9 | AK3: 4.3 | AL3: 2.7 | AM3: 56.2 | AN3: 7.3 | AO3: 0 | AP3: 7.2 | AQ3: 0.5 | AR3: 0.2 | AS3: 3.9 | AT3: 4.7 | AU3: 0.6 | AV3: 7.9 | AW3: 0 | AX3: 0 | AY3: 0
A4: 1991 | B4: 4.1 | C4: 14.4 | D4: 3 | E4: 0.2 | F4: 0 | G4: 0.5 | H4: 1.1 | I4: 0.1 | J4: 0 | K4: 0.5 | L4: 0.4 | M4: 1.2 | N4: 9.1 | O4: 21 | P4: 2.4 | Q4: 0 | R4: 0.3 | S4: 43.4 | T4: 2.1 | U4: 2.3 | V4: 14.2 | W4: 2.3 | X4: 10.3 | Y4: 29.9 | Z4: 1 | AA4: 21.7 | AB4: 0.2 | AC4: 0 | AD4: 10.1 | AE4: 0.2 | AF4: 0 | AG4: 0.1 | AH4: 36.8 | AI4: 0 | AJ4: 9.7 | AK4: 6.9 | AL4: 3.3 | AM4: 42 | AN4: 6.7 | AO4: 0 | AP4: 8.4 | AQ4: 1.2 | AR4: 0.2 | AS4: 5.7 | AT4: 6.3 | AU4: 0.9 | AV4: 7.2 | AW4: 0 | AX4: 0 | AY4: 0
A5: 1992 | B5: 2.6 | C5: 14.1 | D5: 3.5 | E5: 0.4 | F5: 0 | G5: 0.1 | H5: 1.3 | I5: 0 | J5: 0 | K5: 1.1 | L5: 0.5 | M5: 2.1 | N5: 8.9 | O5: 21.6 | P5: 1.4 | Q5: 0 | R5: 0.1 | S5: 75.4 | T5: 2.2 | U5: 2.8 | V5: 22.3 | W5: 10.9 | X5: 24.8 | Y5: 35.1 | Z5: 0.8 | AA5: 36.7 | AB5: 0.3 | AC5: 0.1 | AD5: 12.3 | AE5: 0.2 | AF5: 0 | AG5: 0.1 | AH5: 33.2 | AI5: 0 | AJ5: 7.9 | AK5: 7.8 | AL5: 5.7 | AM5: 28.7 | AN5: 6 | AO5: 0 | AP5: 10.6 | AQ5: 1.2 | AR5: 0.2 | AS5: 5.1 | AT5: 4.5 | AU5: 0.3 | AV5: 6.5 | AW5: 0 | AX5: 0 | AY5: 0
A6: 1993 | B6: 3.5 | C6: 21.7 | D6: 5 | E6: 0.5 | F6: 0 | G6: 0.2 | H6: 0.4 | I6: 0.1 | J6: 0 | K6: 1.3 | L6: 0.4 | M6: 9.3 | N6: 13.4 | O6: 15.1 | P6: 2.6 | Q6: 0.1 | R6: 0.3 | S6: 109.3 | T6: 6.4 | U6: 5.8 | V6: 46 | W6: 6.9 | X6: 24.6 | Y6: 43.2 | Z6: 7 | AA6: 229.7 | AB6: 1.2 | AC6: 0.1 | AD6: 15.5 | AE6: 1.9 | AF6: 0 | AG6: 0.2 | AH6: 51 | AI6: 0 | AJ6: 7.4 | AK6: 14.8 | AL6: 12.4 | AM6: 136.1 | AN6: 10 | AO6: 0 | AP6: 21.6 | AQ6: 3.7 | AR6: 0.3 | AS6: 12.9 | AT6: 3.2 | AU6: 0.8 | AV6: 9.2 | AW6: 0 | AX6: 0 | AY6: 0
A7: 1994 | B7: 8.1 | C7: 29.3 | D7: 5.3 | E7: 0.7 | F7: 0.3 | G7: 0.3 | H7: 1.1 | I7: 0.1 | J7: 1.7 | K7: 2.7 | L7: 1.5 | M7: 13.1 | N7: 22.5 | O7: 21.4 | P7: 4.6 | Q7: 1.4 | R7: 0.6 | S7: 108.4 | T7: 11.1 | U7: 6.7 | V7: 33.6 | W7: 3.2 | X7: 10 | Y7: 43.8 | Z7: 1.5 | AA7: 169.8 | AB7: 2.4 | AC7: 0.1 | AD7: 19.7 | AE7: 2.6 | AF7: 0.6 | AG7: 0.9 | AH7: 51 | AI7: 0.1 | AJ7: 7.1 | AK7: 13.2 | AL7: 23.3 | AM7: 117.1 | AN7: 11.5 | AO7: 0.1 | AP7: 39.3 | AQ7: 6 | AR7: 1.9 | AS7: 16.6 | AT7: 1.7 | AU7: 2.6 | AV7: 11.9 | AW7: 0 | AX7: 0 | AY7: 0
A8: 1995 | B8: 10.8 | C8: 26.8 | D8: 5.4 | E8: 0.8 | F8: 0.4 | G8: 0.2 | H8: 3.3 | I8: 0.1 | J8: 0.2 | K8: 1.4 | L8: 1.1 | M8: 14.5 | N8: 23.2 | O8: 22.7 | P8: 4.7 | Q8: 0.3 | R8: 0.8 | S8: 73.9 | T8: 7.7 | U8: 7.1 | V8: 9.5 | W8: 5.9 | X8: 7.7 | Y8: 44.1 | Z8: 1 | AA8: 86.5 | AB8: 1.7 | AC8: 0.4 | AD8: 12 | AE8: 7.4 | AF8: 0.1 | AG8: 0.7 | AH8: 69.6 | AI8: 0 | AJ8: 16.4 | AK8: 13.4 | AL8: 19.9 | AM8: 74.8 | AN8: 11.3 | AO8: 0 | AP8: 36.7 | AQ8: 1.7 | AR8: 3.7 | AS8: 30.3 | AT8: 0.7 | AU8: 2.1 | AV8: 10 | AW8: 0.1 | AX8: 0 | AY8: 0
A9: 1996 | B9: 8.7 | C9: 36.2 | D9: 9.5 | E9: 0.6 | F9: 1.8 | G9: 0.3 | H9: 4.9 | I9: 0.2 | J9: 1 | K9: 1.4 | L9: 3.6 | M9: 17.5 | N9: 17.6 | O9: 31.5 | P9: 6 | Q9: 0.2 | R9: 3.6 | S9: 104.2 | T9: 8.1 | U9: 14.1 | V9: 7.7 | W9: 0.6 | X9: 4.3 | Y9: 47.4 | Z9: 2.6 | AA9: 172.1 | AB9: 1.8 | AC9: 0.4 | AD9: 12.9 | AE9: 1.2 | AF9: 1.2 | AG9: 0.6 | AH9: 91.9 | AI9: 0.2 | AJ9: 22.4 | AK9: 12.9 | AL9: 30.8 | AM9: 45.1 | AN9: 18.9 | AO9: 0.1 | AP9: 49.5 | AQ9: 1 | AR9: 1.4 | AS9: 20.3 | AT9: 1.9 | AU9: 3 | AV9: 40.3 | AW9: 0.1 | AX9: 0 | AY9: 0
A10: 1997 | B10: 5.8 | C10: 39.4 | D10: 11.9 | E10: 1.1 | F10: 0.9 | G10: 1 | H10: 3.3 | I10: 0.2 | J10: 1.5 | K10: 1.7 | L10: 7.5 | M10: 29.6 | N10: 28.3 | O10: 24.8 | P10: 15.6 | Q10: 0.7 | R10: 16.1 | S10: 275.9 | T10: 16.5 | U10: 19.9 | V10: 9.9 | W10: 1 | X10: 6.9 | Y10: 60.6 | Z10: 3 | AA10: 153 | AB10: 3.2 | AC10: 0.6 | AD10: 13 | AE10: 3.1 | AF10: 0.7 | AG10: 0.8 | AH10: 123.7 | AI10: 0.4 | AJ10: 29.3 | AK10: 16.6 | AL10: 24.8 | AM10: 61.2 | AN10: 30.1 | AO10: 0 | AP10: 69.6 | AQ10: 2 | AR10: 1.3 | AS10: 31.1 | AT10: 4.5 | AU10: 6.3 | AV10: 79.1 | AW10: 0.2 | AX10: 0 | AY10: 0
A11: 1998 | B11: 8.2 | C11: 40.3 | D11: 21.7 | E11: 1.3 | F11: 1.8 | G11: 1.4 | H11: 6.4 | I11: 0.3 | J11: 0.4 | K11: 1.5 | L11: 5.9 | M11: 46.5 | N11: 40.3 | O11: 35 | P11: 34.6 | Q11: 0.8 | R11: 33.5 | S11: 121.9 | T11: 38.9 | U11: 11.1 | V11: 10.3 | W11: 0.5 | X11: 8.3 | Y11: 79.9 | Z11: 6.1 | AA11: 41.4 | AB11: 2.4 | AC11: 1.5 | AD11: 8.1 | AE11: 3.5 | AF11: 0.4 | AG11: 0.6 | AH11: 150.4 | AI11: 0.5 | AJ11: 28.2 | AK11: 18.7 | AL11: 14 | AM11: 52.9 | AN11: 43.4 | AO11: 0 | AP11: 80 | AQ11: 1.8 | AR11: 0.9 | AS11: 25.4 | AT11: 1.7 | AU11: 2.9 | AV11: 116.3 | AW11: 0.1 | AX11: 0 | AY11: 0.1
A12: 1999 | B12: 5.5 | C12: 49.9 | D12: 23.2 | E12: 0.6 | F12: 1.7 | G12: 0.4 | H12: 68 | I12: 0.7 | J12: 0.3 | K12: 0.8 | L12: 10 | M12: 87.1 | N12: 54.1 | O12: 38.2 | P12: 141.7 | Q12: 0.3 | R12: 29.8 | S12: 149.3 | T12: 44.4 | U12: 14.2 | V12: 14 | W12: 0.4 | X12: 6.7 | Y12: 91.6 | Z12: 4.9 | AA12: 61.3 | AB12: 1.8 | AC12: 8.6 | AD12: 7.5 | AE12: 6.4 | AF12: 0.7 | AG12: 0.6 | AH12: 199.7 | AI12: 0.4 | AJ12: 34 | AK12: 19.5 | AL12: 23.9 | AM12: 114 | AN12: 54.7 | AO12: 0 | AP12: 92 | AQ12: 1.3 | AR12: 1.8 | AS12: 32.5 | AT12: 0.8 | AU12: 3.3 | AV12: 120.5 | AW12: 0.4 | AX12: 0 | AY12: 0.1
A13: 2000 | B13: 4.9 | C13: 54.4 | D13: 16.3 | E13: 0.8 | F13: 1.6 | G13: 0.3 | H13: 99.4 | I13: 0.3 | J13: 0.9 | K13: 0.4 | L13: 11.1 | M13: 169.7 | N13: 81.7 | O13: 56.7 | P13: 76.4 | Q13: 0.2 | R13: 26.2 | S13: 220.1 | T13: 70.5 | U13: 8.7 | V13: 18.7 | W13: 0.8 | X13: 4.9 | Y13: 124.4 | Z13: 5.9 | AA13: 62.4 | AB13: 1.6 | AC13: 4.7 | AD13: 7.8 | AE13: 3 | AF13: 0.6 | AG13: 0.4 | AH13: 321.9 | AI13: 0.6 | AJ13: 35.7 | AK13: 20.9 | AL13: 10.1 | AM13: 95.4 | AN13: 58.3 | AO13: 0 | AP13: 157.7 | AQ13: 0.9 | AR13: 2.9 | AS13: 67.2 | AT13: 0.6 | AU13: 4.2 | AV13: 169.9 | AW13: 0.2 | AX13: 0 | AY13: 0
A14: 2001 | B14: 3.8 | C14: 63.4 | D14: 17.7 | E14: 1.1 | F14: 1.6 | G14: 0.4 | H14: 35.5 | I14: 0.1 | J14: 0.5 | K14: 0.4 | L14: 4 | M14: 143.7 | N14: 80.5 | O14: 75.5 | P14: 28.8 | Q14: 0.2 | R14: 9.1 | S14: 115.9 | T14: 49.1 | U14: 6 | V14: 24.2 | W14: 0.8 | X14: 10.4 | Y14: 126.8 | Z14: 2.1 | AA14: 22.4 | AB14: 2.5 | AC14: 1.2 | AD14: 6.4 | AE14: 2.6 | AF14: 0.2 | AG14: 0.3 | AH14: 283.8 | AI14: 1 | AJ14: 30.6 | AK14: 15.9 | AL14: 4.1 | AM14: 69.5 | AN14: 58.8 | AO14: 0.7 | AP14: 132.6 | AQ14: 1 | AR14: 1.4 | AS14: 39.8 | AT14: 0.3 | AU14: 22.6 | AV14: 137.7 | AW14: 1.5 | AX14: 0 | AY14: 0
... A24: 2011 | B24: 9.3 | C24: 90.4 | D24: 20.9 | E24: 0.8 | F24: 16.2 | G24: 0.5 | H24: 2 | I24: 0.5 | J24: 1.5 | K24: 8.2 | L24: 9.6 | M24: 66.3 | N24: 53.2 | O24: 48.8 | P24: 8.5 | Q24: 0.3 | R24: 13.9 | S24: 624.1 | T24: 40.4 | U24: 16.5 | V24: 43.4 | W24: 1.5 | X24: 13.9 | Y24: 121.5 | Z24: 0.2 | AA24: 44.8 | AB24: 4.6 | AC24: 0.5 | AD24: 9.7 | AE24: 6.3 | AF24: 0.1 | AG24: 2.6 | AH24: 205.1 | AI24: 1.7 | AJ24: 42.9 | AK24: 13.4 | AL24: 14.6 | AM24: 105.9 | AN24: 91.2 | AO24: 0 | AP24: 93.7 | AQ24: 8.4 | AR24: 2.4 | AS24: 53.4 | AT24: 0.3 | AU24: 18.9 | AV24: 96.1 | AW24: 0.5 | AX24: 0.1 | AY24: 0.9

Sheet DATA
B1: COUNTRY | D1: Wiener Borse (Austria) | L1: Dhaka Stock Exchange | P1: =AS!I2 -> Cote d'Ivoire | T1: =AS!L2 -> Eyptian | X1: Tel Aviv | AB1: =AS!X2 -> Amman ( Jordan) | AF1: =AS!AE2 -> Casablanca (Morocco) | AJ1: =AS!AI2 -> Nigeria | AN1: =AS!AJ2 -> Oslo (Norway) | AR1: =AS!P2 -> Athens (Greece)
L2: (Bangladesh) | X2: (Israel)
B3: VARIABLES | C3: MK (%GDP) | D3: ST(% GDP) | E3: EL | F3: AS | G3: TSA | H3: AGE | I3: DS | J3: TSA | K3: DMK(%GDP) | L3: DST %GDP) | M3: DEL | O3: CMK | P3: CST | Q3: CEL | S3: EMK | T3: EST | U3: EEL | W3: TMK | X3: TST | Y3: TEL | AA3: MK | AB3: ST | AC3: EL | AE3: MMK | AF3: MST | AG3: MEL | AI3: MK | AJ3: ST | AK3: EL | AM3: MK | AN3: ST | AO3: EL | AQ3: MK | AR3: ST | AS3: EL
B4: 1990 | C4: 7 | D4: 11.3 | E4: 97 | F4: =AS!B3 -> 0 | G4: =TSA!B3 -> 0 | H4: =Age!B3 -> 219 | I4: 0 | J4: -10 | K4: 1.1 | L4: 0 | M4: 134 | O4: 5.1 | P4: ='Turnover % GDP'!I3 -> 0.2 | Q4: ='Listed Co.s'!F3 -> 134 | S4: ='Market Cap % GDP'!L3 -> 4.1 | T4: ='Turnover % GDP'!L3 -> 0.3 | U4: ='Listed Co.s'!L3 -> 573 | W4: ='Market Cap % GDP'!V3 -> 6.3 | X4: ='Turnover % GDP'!V3 -> 10.5 | Y4: ='Listed Co.s'!V3 -> 216 | AA4: ='Market Cap % GDP'!X3 -> 49.7 | AB4: ='Turnover % GDP'!X3 -> 10.1 | AC4: ='Listed Co.s'!X3 -> 105 | AE4: ='Market Cap % GDP'!AE3 -> 3.7 | AF4: ='Turnover % GDP'!AE3 -> 0.2 | AG4: ='Listed Co.s'!AE3 -> 71 | AI4: ='Market Cap % GDP'!AI3 -> 4.8 | AJ4: ='Turnover % GDP'!AI3 -> 0 | AK4: ='Listed Co.s'!AI3 -> 131 | AM4: ='Market Cap % GDP'!AJ3 -> 22.2 | AN4: ='Turnover % GDP'!AJ3 -> 11.9 | AO4: ='Listed Co.s'!AJ3 -> 112 | AQ4: ='Market Cap % GDP'!P3 -> 16.3 | AR4: ='Turnover % GDP'!P3 -> 4.2 | AS4: ='Listed Co.s'!P3 -> 145
B5: 1991 | C5: 4.5 | D5: 4.1 | E5: 105 | F5: =AS!B4 -> 0 | G5: =TSA!B4 -> 0 | H5: =Age!B4 -> 220 | I5: 0 | J5: -9 | K5: 0.9 | L5: 0 | M5: 138 | O5: 5.2 | P5: ='Turnover % GDP'!I4 -> 0.1 | Q5: ='Listed Co.s'!F4 -> 138 | S5: ='Market Cap % GDP'!L4 -> 7.2 | T5: ='Turnover % GDP'!L4 -> 0.4 | U5: ='Listed Co.s'!L4 -> 627 | W5: ='Market Cap % GDP'!V4 -> 10.4 | X5: ='Turnover % GDP'!V4 -> 14.2 | Y5: ='Listed Co.s'!V4 -> 229 | AA5: ='Market Cap % GDP'!X4 -> 59.9 | AB5: ='Turnover % GDP'!X4 -> 10.3 | AC5: ='Listed Co.s'!X4 -> 101 | AE5: ='Market Cap % GDP'!AE4 -> 5.5 | AF5: ='Turnover % GDP'!AE4 -> 0.2 | AG5: ='Listed Co.s'!AE4 -> 67 | AI5: ='Market Cap % GDP'!AI4 -> 6.9 | AJ5: ='Turnover % GDP'!AI4 -> 0 | AK5: ='Listed Co.s'!AI4 -> 142 | AM5: ='Market Cap % GDP'!AJ4 -> 18.4 | AN5: ='Turnover % GDP'!AJ4 -> 9.7 | AO5: ='Listed Co.s'!AJ4 -> 112 | AQ5: ='Market Cap % GDP'!P4 -> 13.1 | AR5: ='Turnover % GDP'!P4 -> 2.4 | AS5: ='Listed Co.s'!P4 -> 126
B6: 1992 | C6: 11.3 | D6: 2.6 | E6: 112 | F6: =AS!B5 -> 0 | G6: =TSA!B5 -> 0 | H6: =Age!B5 -> 221 | I6: 0 | J6: -8 | K6: 1 | L6: 0 | M6: 145 | O6: 4.3 | P6: ='Turnover % GDP'!I5 -> 0 | Q6: ='Listed Co.s'!F5 -> 145 | S6: ='Market Cap % GDP'!L5 -> 7.8 | T6: ='Turnover % GDP'!L5 -> 0.5 | U6: ='Listed Co.s'!L5 -> 656 | W6: ='Market Cap % GDP'!V5 -> 45 | X6: ='Turnover % GDP'!V5 -> 22.3 | Y6: ='Listed Co.s'!V5 -> 377 | AA6: ='Market Cap % GDP'!X5 -> 63.3 | AB6: ='Turnover % GDP'!X5 -> 24.8 | AC6: ='Listed Co.s'!X5 -> 103 | AE6: ='Market Cap % GDP'!AE5 -> 6.7 | AF6: ='Turnover % GDP'!AE5 -> 0.2 | AG6: ='Listed Co.s'!AE5 -> 62 | AI6: ='Market Cap % GDP'!AI5 -> 3.7 | AJ6: ='Turnover % GDP'!AI5 -> 0 | AK6: ='Listed Co.s'!AI5 -> 153 | AM6: ='Market Cap % GDP'!AJ5 -> 13.9 | AN6: ='Turnover % GDP'!AJ5 -> 7.9 | AO6: ='Listed Co.s'!AJ5 -> 115 | AQ6: ='Market Cap % GDP'!P5 -> 8.6 | AR6: ='Turnover % GDP'!P5 -> 1.4 | AS6: ='Listed Co.s'!P5 -> 129
B7: =B6+1 -> 1993 | C7: 15.1 | D7: 3.5 | E7: 111 | F7: =AS!B6 -> 0 | G7: =TSA!B6 -> 0 | H7: =Age!B6 -> 222 | I7: 0 | J7: -7 | K7: 1.4 | L7: 0 | M7: 153 | O7: 3.7 | P7: ='Turnover % GDP'!I6 -> 0.1 | Q7: ='Listed Co.s'!F6 -> 153 | S7: ='Market Cap % GDP'!L6 -> 8.2 | T7: ='Turnover % GDP'!L6 -> 0.4 | U7: ='Listed Co.s'!L6 -> 674 | W7: ='Market Cap % GDP'!V6 -> 77.1 | X7: ='Turnover % GDP'!V6 -> 46 | Y7: ='Listed Co.s'!V6 -> 558 | AA7: ='Market Cap % GDP'!X6 -> 87.2 | AB7: ='Turnover % GDP'!X6 -> 24.6 | AC7: ='Listed Co.s'!X6 -> 101 | AE7: ='Market Cap % GDP'!AE6 -> 9.9 | AF7: ='Turnover % GDP'!AE6 -> 1.9 | AG7: ='Listed Co.s'!AE6 -> 65 | AI7: ='Market Cap % GDP'!AI6 -> 4.8 | AJ7: ='Turnover % GDP'!AI6 -> 0 | AK7: ='Listed Co.s'!AI6 -> 174 | AM7: ='Market Cap % GDP'!AJ6 -> 23.2 | AN7: ='Turnover % GDP'!AJ6 -> 7.4 | AO7: ='Listed Co.s'!AJ6 -> 120 | AQ7: ='Market Cap % GDP'!P6 -> 11.9 | AR7: ='Turnover % GDP'!P6 -> 2.6 | AS7: ='Listed Co.s'!P6 -> 143
B8: =B7+1 -> 1994 | C8: 15 | D8: 8.1 | E8: 111 | F8: =AS!B7 -> 0 | G8: =TSA!B7 -> 0 | H8: =Age!B7 -> 223 | I8: 0 | J8: -6 | K8: 3.1 | L8: 0.3 | M8: 170 | O8: 5.1 | P8: ='Turnover % GDP'!I7 -> 0.1 | Q8: ='Listed Co.s'!F7 -> 170 | S8: ='Market Cap % GDP'!L7 -> 8.2 | T8: ='Turnover % GDP'!L7 -> 1.5 | U8: ='Listed Co.s'!L7 -> 700 | W8: ='Market Cap % GDP'!V7 -> 43.8 | X8: ='Turnover % GDP'!V7 -> 33.6 | Y8: ='Listed Co.s'!V7 -> 638 | AA8: ='Market Cap % GDP'!X7 -> 73.6 | AB8: ='Turnover % GDP'!X7 -> 10 | AC8: ='Listed Co.s'!X7 -> 95 | AE8: ='Market Cap % GDP'!AE7 -> 14.4 | AF8: ='Turnover % GDP'!AE7 -> 2.6 | AG8: ='Listed Co.s'!AE7 -> 51 | AI8: ='Market Cap % GDP'!AI7 -> 11.5 | AJ8: ='Turnover % GDP'!AI7 -> 0.1 | AK8: ='Listed Co.s'!AI7 -> 177 | AM8: ='Market Cap % GDP'!AJ7 -> 29.3 | AN8: ='Turnover % GDP'!AJ7 -> 7.1 | AO8: ='Listed Co.s'!AJ7 -> 132 | AQ8: ='Market Cap % GDP'!P7 -> 13.4 | AR8: ='Turnover % GDP'!P7 -> 4.6 | AS8: ='Listed Co.s'!P7 -> 216
B9: =B8+1 -> 1995 | C9: 13.6 | D9: 10.8 | E9: 109 | F9: =AS!B8 -> 0 | G9: =TSA!B8 -> 0 | H9: =Age!B8 -> 224 | I9: 0 | J9: -5 | K9: 3.5 | L9: 0.4 | M9: 183 | O9: 7.9 | P9: ='Turnover % GDP'!I8 -> 0.1 | Q9: ='Listed Co.s'!F8 -> 183 | S9: ='Market Cap % GDP'!L8 -> 13.4 | T9: ='Turnover % GDP'!L8 -> 1.1 | U9: ='Listed Co.s'!L8 -> 746 | W9: ='Market Cap % GDP'!V8 -> 37.9 | X9: ='Turnover % GDP'!V8 -> 9.5 | Y9: ='Listed Co.s'!V8 -> 654 | AA9: ='Market Cap % GDP'!X8 -> 69.4 | AB9: ='Turnover % GDP'!X8 -> 7.7 | AC9: ='Listed Co.s'!X8 -> 97 | AE9: ='Market Cap % GDP'!AE8 -> 18 | AF9: ='Turnover % GDP'!AE8 -> 7.4 | AG9: ='Listed Co.s'!AE8 -> 44 | AI9: ='Market Cap % GDP'!AI8 -> 7.2 | AJ9: ='Turnover % GDP'!AI8 -> 0 | AK9: ='Listed Co.s'!AI8 -> 181 | AM9: ='Market Cap % GDP'!AJ8 -> 29.9 | AN9: ='Turnover % GDP'!AJ8 -> 16.4 | AO9: ='Listed Co.s'!AJ8 -> 151 | AQ9: ='Market Cap % GDP'!P8 -> 13.1 | AR9: ='Turnover % GDP'!P8 -> 4.7 | AS9: ='Listed Co.s'!P8 -> 212
B10: =B9+1 -> 1996 | C10: 14.5 | D10: 8.7 | E10: 106 | F10: =AS!B9 -> 0 | G10: =TSA!B9 -> 0 | H10: =Age!B9 -> 225 | I10: 0 | J10: -4 | K10: 11.2 | L10: 1.8 | M10: 186 | O10: 7.5 | P10: ='Turnover % GDP'!I9 -> 0.2 | Q10: ='Listed Co.s'!F9 -> 186 | S10: ='Market Cap % GDP'!L9 -> 21 | T10: ='Turnover % GDP'!L9 -> 3.6 | U10: ='Listed Co.s'!L9 -> 649 | W10: ='Market Cap % GDP'!V9 -> 34.2 | X10: ='Turnover % GDP'!V9 -> 7.7 | Y10: ='Listed Co.s'!V9 -> 655 | AA10: ='Market Cap % GDP'!X9 -> 65.7 | AB10: ='Turnover % GDP'!X9 -> 4.3 | AC10: ='Listed Co.s'!X9 -> 98 | AE10: ='Market Cap % GDP'!AE9 -> 23.8 | AF10: ='Turnover % GDP'!AE9 -> 1.2 | AG10: ='Listed Co.s'!AE9 -> 47 | AI10: ='Market Cap % GDP'!AI9 -> 10.1 | AJ10: ='Turnover % GDP'!AI9 -> 0.2 | AK10: ='Listed Co.s'!AI9 -> 183 | AM10: ='Market Cap % GDP'!AJ9 -> 35.9 | AN10: ='Turnover % GDP'!AJ9 -> 22.4 | AO10: ='Listed Co.s'!AJ9 -> 158 | AQ10: ='Market Cap % GDP'!P9 -> 17.5 | AR10: ='Turnover % GDP'!P9 -> 6 | AS10: ='Listed Co.s'!P9 -> 224
B11: =B10+1 -> 1997 | C11: 17.2 | D11: 5.8 | E11: 101 | F11: =AS!B10 -> 0 | G11: =TSA!B10 -> 0 | H11: =Age!B10 -> 226 | I11: 0 | J11: -3 | K11: 3.6 | L11: 0.9 | M11: 202 | O11: 10.9 | P11: ='Turnover % GDP'!I10 -> 0.2 | Q11: ='Listed Co.s'!F10 -> 202 | S11: ='Market Cap % GDP'!L10 -> 26.6 | T11: ='Turnover % GDP'!L10 -> 7.5 | U11: ='Listed Co.s'!L10 -> 654 | W11: ='Market Cap % GDP'!V10 -> 41.7 | X11: ='Turnover % GDP'!V10 -> 9.9 | Y11: ='Listed Co.s'!V10 -> 640 | AA11: ='Market Cap % GDP'!X10 -> 75.1 | AB11: ='Turnover % GDP'!X10 -> 6.9 | AC11: ='Listed Co.s'!X10 -> 139 | AE11: ='Market Cap % GDP'!AE10 -> 36.4 | AF11: ='Turnover % GDP'!AE10 -> 3.1 | AG11: ='Listed Co.s'!AE10 -> 49 | AI11: ='Market Cap % GDP'!AI10 -> 10.1 | AJ11: ='Turnover % GDP'!AI10 -> 0.4 | AK11: ='Listed Co.s'!AI10 -> 182 | AM11: ='Market Cap % GDP'!AJ10 -> 42 | AN11: ='Turnover % GDP'!AJ10 -> 29.3 | AO11: ='Listed Co.s'!AJ10 -> 196 | AQ11: ='Market Cap % GDP'!P10 -> 25.4 | AR11: ='Turnover % GDP'!P10 -> 15.6 | AS11: ='Listed Co.s'!P10 -> 230
B12: =B11+1 -> 1998 | C12: 16 | D12: 8.2 | E12: 96 | F12: =AS!B11 -> 0 | G12: =TSA!B11 -> 0 | H12: =Age!B11 -> 227 | I12: 0 | J12: -2 | K12: 2.3 | L12: 1.8 | M12: 208 | O12: 14.2 | P12: ='Turnover % GDP'!I11 -> 0.3 | Q12: ='Listed Co.s'!F11 -> 208 | S12: ='Market Cap % GDP'!L11 -> 28.7 | T12: ='Turnover % GDP'!L11 -> 5.9 | U12: ='Listed Co.s'!L11 -> 861 | W12: ='Market Cap % GDP'!V11 -> 36.1 | X12: ='Turnover % GDP'!V11 -> 10.3 | Y12: ='Listed Co.s'!V11 -> 650 | AA12: ='Market Cap % GDP'!X11 -> 73.8 | AB12: ='Turnover % GDP'!X11 -> 8.3 | AC12: ='Listed Co.s'!X11 -> 150 | AE12: ='Market Cap % GDP'!AE11 -> 39.2 | AF12: ='Turnover % GDP'!AE11 -> 3.5 | AG12: ='Listed Co.s'!AE11 -> 53 | AI12: ='Market Cap % GDP'!AI11 -> 9 | AJ12: ='Turnover % GDP'!AI11 -> 0.5 | AK12: ='Listed Co.s'!AI11 -> 186 | AM12: ='Market Cap % GDP'!AJ11 -> 31.1 | AN12: ='Turnover % GDP'!AJ11 -> 28.2 | AO12: ='Listed Co.s'!AJ11 -> 213 | AQ12: ='Market Cap % GDP'!P11 -> 59.1 | AR12: ='Turnover % GDP'!P11 -> 34.6 | AS12: ='Listed Co.s'!P11 -> 244
B13: =B12+1 -> 1999 | C13: 15.6 | D13: 5.5 | E13: 97 | F13: =AS!B12 -> 0 | G13: =TSA!B12 -> 0 | H13: =Age!B12 -> 228 | I13: 0 | J13: -1 | K13: 1.9 | L13: 1.7 | M13: 211 | O13: 12.1 | P13: ='Turnover % GDP'!I12 -> 0.7 | Q13: ='Listed Co.s'!F12 -> 211 | S13: ='Market Cap % GDP'!L12 -> 36.2 | T13: ='Turnover % GDP'!L12 -> 10 | U13: ='Listed Co.s'!L12 -> 1033 | W13: ='Market Cap % GDP'!V12 -> 57.6 | X13: ='Turnover % GDP'!V12 -> 14 | Y13: ='Listed Co.s'!V12 -> 644 | AA13: ='Market Cap % GDP'!X12 -> 71.5 | AB13: ='Turnover % GDP'!X12 -> 6.7 | AC13: ='Listed Co.s'!X12 -> 152 | AE13: ='Market Cap % GDP'!AE12 -> 34.5 | AF13: ='Turnover % GDP'!AE12 -> 6.4 | AG13: ='Listed Co.s'!AE12 -> 55 | AI13: ='Market Cap % GDP'!AI12 -> 8.5 | AJ13: ='Turnover % GDP'!AI12 -> 0.4 | AK13: ='Listed Co.s'!AI12 -> 194 | AM13: ='Market Cap % GDP'!AJ12 -> 40 | AN13: ='Turnover % GDP'!AJ12 -> 34 | AO13: ='Listed Co.s'!AJ12 -> 195 | AQ13: ='Market Cap % GDP'!P12 -> 153.3 | AR13: ='Turnover % GDP'!P12 -> 141.7 | AS13: ='Listed Co.s'!P12 -> 281
B14: =B13+1 -> 2000 | C14: 15.6 | D14: 4.9 | E14: 97 | F14: =AS!B13 -> 1 | G14: =TSA!B13 -> 1 | H14: =Age!B13 -> 229 | I14: 0 | J14: 0 | K14: 2.5 | L14: 1.6 | M14: 221 | O14: 11.4 | P14: ='Turnover % GDP'!I13 -> 0.3 | Q14: ='Listed Co.s'!F13 -> 221 | S14: ='Market Cap % GDP'!L13 -> 28.8 | T14: ='Turnover % GDP'!L13 -> 11.1 | U14: ='Listed Co.s'!L13 -> 1076 | W14: ='Market Cap % GDP'!V13 -> 51.3 | X14: ='Turnover % GDP'!V13 -> 18.7 | Y14: ='Listed Co.s'!V13 -> 654 | AA14: ='Market Cap % GDP'!X13 -> 58.4 | AB14: ='Turnover % GDP'!X13 -> 4.9 | AC14: ='Listed Co.s'!X13 -> 163 | AE14: ='Market Cap % GDP'!AE13 -> 29.4 | AF14: ='Turnover % GDP'!AE13 -> 3 | AG14: ='Listed Co.s'!AE13 -> 53 | AI14: ='Market Cap % GDP'!AI13 -> 9.2 | AJ14: ='Turnover % GDP'!AI13 -> 0.6 | AK14: ='Listed Co.s'!AI13 -> 195 | AM14: ='Market Cap % GDP'!AJ13 -> 38.6 | AN14: ='Turnover % GDP'!AJ13 -> 35.7 | AO14: ='Listed Co.s'!AJ13 -> 191 | AQ14: ='Market Cap % GDP'!P13 -> 89.1 | AR14: ='Turnover % GDP'!P13 -> 76.4 | AS14: ='Listed Co.s'!P13 -> 329
B15: =B14+1 -> 2001 | C15: 12.8 | D15: 3.8 | E15: 114 | F15: =AS!B14 -> 1 | G15: =TSA!B14 -> 2 | H15: =Age!B14 -> 230 | I15: 0 | J15: 1 | K15: 2.4 | L15: 1.6 | M15: 230 | O15: 11 | P15: ='Turnover % GDP'!I14 -> 0.1 | Q15: ='Listed Co.s'!F14 -> 230 | S15: ='Market Cap % GDP'!L14 -> 24.9 | T15: ='Turnover % GDP'!L14 -> 4 | U15: ='Listed Co.s'!L14 -> 1110 | W15: ='Market Cap % GDP'!V14 -> 57.2 | X15: ='Turnover % GDP'!V14 -> 24.2 | Y15: ='Listed Co.s'!V14 -> 636 | AA15: ='Market Cap % GDP'!X14 -> 70.3 | AB15: ='Turnover % GDP'!X14 -> 10.4 | AC15: ='Listed Co.s'!X14 -> 161 | AE15: ='Market Cap % GDP'!AE14 -> 24.1 | AF15: ='Turnover % GDP'!AE14 -> 2.6 | AG15: ='Listed Co.s'!AE14 -> 55 | AI15: ='Market Cap % GDP'!AI14 -> 11.3 | AJ15: ='Turnover % GDP'!AI14 -> 1 | AK15: ='Listed Co.s'!AI14 -> 194 | AM15: ='Market Cap % GDP'!AJ14 -> 40.4 | AN15: ='Turnover % GDP'!AJ14 -> 30.6 | AO15: ='Listed Co.s'!AJ14 -> 186 | AQ15: ='Market Cap % GDP'!P14 -> 66.6 | AR15: ='Turnover % GDP'!P14 -> 28.8 | AS15: ='Listed Co.s'!P14 -> 338
B16: =B15+1 -> 2002 | C16: 15.4 | D16: 2.8 | E16: 91 | F16: =AS!B15 -> 1 | G16: =TSA!B15 -> 3 | H16: =Age!B15 -> 231 | I16: 0 | J16: 2 | K16: 2.5 | L16: 1.4 | M16: 239 | O16: 11.6 | P16: ='Turnover % GDP'!I15 -> 0.1 | Q16: ='Listed Co.s'!F15 -> 239 | S16: ='Market Cap % GDP'!L15 -> 29.7 | T16: ='Turnover % GDP'!L15 -> 2.9 | U16: ='Listed Co.s'!L15 -> 1148 | W16: ='Market Cap % GDP'!V15 -> 40.2 | X16: ='Turnover % GDP'!V15 -> 48.9 | Y16: ='Listed Co.s'!V15 -> 615 | AA16: ='Market Cap % GDP'!X15 -> 73.9 | AB16: ='Turnover % GDP'!X15 -> 14 | AC16: ='Listed Co.s'!X15 -> 158 | AE16: ='Market Cap % GDP'!AE15 -> 21.3 | AF16: ='Turnover % GDP'!AE15 -> 1.5 | AG16: ='Listed Co.s'!AE15 -> 55 | AI16: ='Market Cap % GDP'!AI15 -> 9.7 | AJ16: ='Turnover % GDP'!AI15 -> 0.8 | AK16: ='Listed Co.s'!AI15 -> 195 | AM16: ='Market Cap % GDP'!AJ15 -> 35.1 | AN16: ='Turnover % GDP'!AJ15 -> 25.5 | AO16: ='Listed Co.s'!AJ15 -> 179 | AQ16: ='Market Cap % GDP'!P15 -> 47.1 | AR16: ='Turnover % GDP'!P15 -> 17 | AS16: ='Listed Co.s'!P15 -> 341
B17: =B16+1 -> 2003 | C17: 21.7 | D17: 4.3 | E17: 86 | F17: =AS!B16 -> 1 | G17: =TSA!B16 -> 4 | H17: =Age!B16 -> 232 | I17: 0 | J17: 3 | K17: 3.1 | L17: 0.6 | M17: 247 | O17: 12 | P17: ='Turnover % GDP'!I16 -> 0.2 | Q17: ='Listed Co.s'!F16 -> 247 | S17: ='Market Cap % GDP'!L16 -> 32.6 | T17: ='Turnover % GDP'!L16 -> 4 | U17: ='Listed Co.s'!L16 -> 967 | W17: ='Market Cap % GDP'!V16 -> 63.8 | X17: ='Turnover % GDP'!V16 -> 35 | Y17: ='Listed Co.s'!V16 -> 576 | AA17: ='Market Cap % GDP'!X16 -> 107.5 | AB17: ='Turnover % GDP'!X16 -> 25.6 | AC17: ='Listed Co.s'!X16 -> 161 | AE17: ='Market Cap % GDP'!AE16 -> 26.4 | AF17: ='Turnover % GDP'!AE16 -> 1.4 | AG17: ='Listed Co.s'!AE16 -> 53 | AI17: ='Market Cap % GDP'!AI16 -> 14 | AJ17: ='Turnover % GDP'!AI16 -> 1.3 | AK17: ='Listed Co.s'!AI16 -> 200 | AM17: ='Market Cap % GDP'!AJ16 -> 42.1 | AN17: ='Turnover % GDP'!AJ16 -> 31.1 | AO17: ='Listed Co.s'!AJ16 -> 158 | AQ17: ='Market Cap % GDP'!P16 -> 55.4 | AR17: ='Turnover % GDP'!P16 -> 20 | AS17: ='Listed Co.s'!P16 -> 339
B18: =B17+1 -> 2004 | C18: 29.6 | D18: 8.2 | E18: 99 | F18: =AS!B17 -> 1 | G18: =TSA!B17 -> 5 | H18: =Age!B17 -> 233 | I18: 0 | J18: 4 | K18: 5.9 | L18: 1.6 | M18: 250 | O18: 13.5 | P18: ='Turnover % GDP'!I17 -> 0.3 | Q18: ='Listed Co.s'!F17 -> 250 | S18: ='Market Cap % GDP'!L17 -> 48.9 | T18: ='Turnover % GDP'!L17 -> 7.1 | U18: ='Listed Co.s'!L17 -> 792 | W18: ='Market Cap % GDP'!V17 -> 75.5 | X18: ='Turnover % GDP'!V17 -> 36.5 | Y18: ='Listed Co.s'!V17 -> 571 | AA18: ='Market Cap % GDP'!X17 -> 161.1 | AB18: ='Turnover % GDP'!X17 -> 46.7 | AC18: ='Listed Co.s'!X17 -> 192 | AE18: ='Market Cap % GDP'!AE17 -> 44 | AF18: ='Turnover % GDP'!AE17 -> 2.9 | AG18: ='Listed Co.s'!AE17 -> 52 | AI18: ='Market Cap % GDP'!AI17 -> 16.5 | AJ18: ='Turnover % GDP'!AI17 -> 1.9 | AK18: ='Listed Co.s'!AI17 -> 207 | AM18: ='Market Cap % GDP'!AJ17 -> 54.4 | AN18: ='Turnover % GDP'!AJ17 -> 52.1 | AO18: ='Listed Co.s'!AJ17 -> 166 | AQ18: ='Market Cap % GDP'!P17 -> 54.9 | AR18: ='Turnover % GDP'!P17 -> 19.1 | AS18: ='Listed Co.s'!P17 -> 340
... B24: =B23+1 -> 2010 | C24: 18 | D24: 12.8 | E24: 86 | F24: =AS!B23 -> 1 | G24: =TSA!B23 -> 11 | H24: =Age!B23 -> 239 | I24: 0 | J24: 10 | K24: 15.6 | L24: 14.6 | M24: 209 | O24: 31 | P24: ='Turnover % GDP'!I23 -> 0.6 | Q24: ='Listed Co.s'!F23 -> 209 | S24: ='Market Cap % GDP'!L23 -> 37.7 | T24: ='Turnover % GDP'!L23 -> 17 | U24: ='Listed Co.s'!L23 -> 213 | W24: ='Market Cap % GDP'!V23 -> 100.3 | X24: ='Turnover % GDP'!V23 -> 61.3 | Y24: ='Listed Co.s'!V23 -> 613 | AA24: ='Market Cap % GDP'!X23 -> 116.8 | AB24: ='Turnover % GDP'!X23 -> 35.7 | AC24: ='Listed Co.s'!X23 -> 277 | AE24: ='Market Cap % GDP'!AE23 -> 76.2 | AF24: ='Turnover % GDP'!AE23 -> 11.8 | AG24: ='Listed Co.s'!AE23 -> 73 | AI24: ='Market Cap % GDP'!AI23 -> 22.3 | AJ24: ='Turnover % GDP'!AI23 -> 2.3 | AK24: ='Listed Co.s'!AI23 -> 215 | AM24: ='Market Cap % GDP'!AJ23 -> 60.1 | AN24: ='Turnover % GDP'!AJ23 -> 52 | AO24: ='Listed Co.s'!AJ23 -> 195 | AQ24: ='Market Cap % GDP'!P23 -> 24.9 | AR24: ='Turnover % GDP'!P23 -> 14.7 | AS24: ='Listed Co.s'!P23 -> 287
C26: tsa=c(1)+c(2)*mk+c(3)*st+c(4)*el | G26: Y= β0+ β1X1+β2X2+ β3 X3+µ,

Sheet Sheet2
B3: buying
A4: Year | C4: 0 | D4: 1 | E4: 2 | F4: 3 | G4: 4
A5: initial outlay | C5: -1000000
A6: service | D6: 80000 | E6: 80000 | F6: 80000 | G6: 80000 | J6: -244000 | K6: -244000 | L6: -244000 | M6: -244000 | N6: -244000
A7: dprn | D7: 250000 | E7: 187500 | F7: 140625 | G7: 105469 | J7: 0 | K7: 40000 | L7: 40000 | M7: 40000 | N7: 40000
A8: total ex | D8: =+D6+D7 -> 330000 | E8: =+E6+E7 -> 267500 | F8: =+F6+F7 -> 220625 | G8: =+G6+G7 -> 185469
A9: tax | D9: =0.3*D8 -> 99000 | E9: =0.3*E8 -> 80250 | F9: =0.3*F8 -> 66187.5 | G9: =0.3*G8 -> 55640.7
A10: total ex | D10: =D8-D9 -> 231000 | E10: =E8-E9 -> 187250 | F10: =F8-F9 -> 154437.5 | G10: =G8-G9 -> 129828.3
A11: depreciation | D11: 250000 | E11: 187500 | F11: 140625 | G11: 105469
A12: cashflows | C12: =C5 -> -1000000 | D12: =D10+D11 -> 481000 | E12: =E10+E11 -> 374750 | F12: =F10+F11 -> 295062.5 | G12: =G10+G11 -> 235297.3
A13: Disc Value | C13: =C12 -> -1000000 | D13: =D12/(1+C$17)^D4 -> 449532.71 | E13: =E12/(1+D17)^E4 -> 374750 | F13: =F12/(1+C17)^F4 -> 240858.89 | G13: =G12/(1+C17)^G4 -> 179507.18
A14: npv | C14: =NPV(0.07,C12:G12) -> 184317.71
B15: after tax wacc=ko(1-t)
C16: =0.1*(1-0.2) -> 0.08
C17: =0.07 -> 0.07
C19: =SUM(C12:G12) -> 386109.8

Sheet AS
A1: Automation Status(AS) | B1: 1999 | C1: 1990 | D1: 1998 | E1: 2012 | F1: 1998 | G1: 2010 | H1: 2013 | I1: 1999 | J1: 1994 | K1: 2006 | L1: 1998 | M1: 1990 | N1: 1989 | O1: 1997 | P1: 1999 | Q1: 2013 | R1: 1998 | S1: 1993 | T1: 1994 | U1: 1995 | V1: 1999 | W1: 2000 | X1: 1999 | Y1: 1986 | Z1: 1996 | AA1: 2008 | AB1: 2001 | AC1: 2001 | AD1: 2008 | AE1: 1998 | AF1: 2006 | AG1: 2006 | AH1: 2002 | AI1: 1999 | AJ1: 1999 | AK1: 1992 | AL1: 1995 | AM1: 1989 | AN1: 1996 | AO1: 2013 | AP1: 1990 | AQ1: 1997 | AR1: 1996 | AS1: 1994 | AT1: 1992 | AU1: 2013 | AV1: 1989 | AW1: 2009 | AX1: 2010 | AY1: 2013
B2: Wiener Borse (Austria) | C2: Australian SE | D2: Euronext Brussels (Belgium) | E2: Botswana | F2: Dhaka Stock Exchange (Bangladesh) | G2: Barbados | H2: Cyprus | I2: Cote d'Ivoire | J2: Zagreb ( Crotia) | K2: Borsa Colombia | L2: Eyptian | M2: Helsinki( Finland) | N2: Euronext Paris ( France) | O2: Deutsche Börse(Germany) | P2: Athens (Greece) | Q2: Ghana | R2: Budapest ( Hungary) | S2: Hong Kong Exchanges | T2: Borsa Italiana | U2: Indonesia SE | V2: Tel Aviv Stock Exchange (Israel) | W2: Jamaica | X2: Amman ( Jordan) | Y2: London SE | Z2: Luxembourg | AA2: Bursa Malaysia | AB2: Mauritius | AC2: Malta | AD2: Bolsa Mexicana | AE2: Casablanca (Morocco) | AF2: Namibian Stock Exchange | AG2: Nairobi (Kenya) | AH2: NYSE Euronext | AI2: Nigeria | AJ2: Oslo (Norway) | AK2: New Zealand | AL2: Philippine | AM2: Singapore Exchange | AN2: Johannesburg SE ( South Africa) | AO2: Swaziland | AP2: Stockholm (Sweden) | AQ2: Colombo ( Sri Lanka) | AR2: Tunis (Tunisia) | AS2: Istabul (Turkey) | AT2: Caracus (Venezuela) | AU2: ZSE.( Zimbabwe) | AV2: BME Spanish | AW2: Lusaka SE | AX2: Uganda | AY2: Malawi
A3: 1990 | B3: =IF(TSA!B3>0,1,0) -> 0 | C3: =IF(TSA!C3>0,1,0) -> 0 | D3: =IF(TSA!D3>0,1,0) -> 0 | E3: =IF(TSA!E3>0,1,0) -> 0 | F3: =IF(TSA!F3>0,1,0) -> 0 | G3: =IF(TSA!G3>0,1,0) -> 0 | H3: =IF(TSA!H3>0,1,0) -> 0 | I3: =IF(TSA!I3>0,1,0) -> 0 | ... AY3: =IF(TSA!AY3>0,1,0) -> 0
A4: 1991 | B4: =IF(TSA!B4>0,1,0) -> 0 | C4: =IF(TSA!C4>0,1,0) -> 1 | D4: =IF(TSA!D4>0,1,0) -> 0 | E4: =IF(TSA!E4>0,1,0) -> 0 | F4: =IF(TSA!F4>0,1,0) -> 0 | G4: =IF(TSA!G4>0,1,0) -> 0 | H4: =IF(TSA!H4>0,1,0) -> 0 | I4: =IF(TSA!I4>0,1,0) -> 0 | ... AY4: =IF(TSA!AY4>0,1,0) -> 0
A5: 1992 | B5: =IF(TSA!B5>0,1,0) -> 0 | C5: =IF(TSA!C5>0,1,0) -> 1 | D5: =IF(TSA!D5>0,1,0) -> 0 | E5: =IF(TSA!E5>0,1,0) -> 0 | F5: =IF(TSA!F5>0,1,0) -> 0 | G5: =IF(TSA!G5>0,1,0) -> 0 | H5: =IF(TSA!H5>0,1,0) -> 0 | I5: =IF(TSA!I5>0,1,0) -> 0 | ... AY5: =IF(TSA!AY5>0,1,0) -> 0
