Workbook
Name _DLX1.EMG: aud!$A$1:$N$10
Name _DLX2.EMG: usd!$A$8:$T$17
Name _DLX2.EMG: usd_sd!$A$8:$N$17
Name _DLX2.EMG: usd_T!$A$8:$N$17
Name _DLX2.EMG: cad!$A$8:$S$17
Name c_tickers: Eviews!$C$1:$AJ$1
Name data: OFFSET(Eviews!$B$1,0,0,all!$A$26+3,COUNTA(Eviews!$B$1:$AJ$1)+3)
Name haver_tickers: Eviews!$C$2:$AJ$2

Sheet charts

Sheet Eviews
C1: =all!C7 -> USD_PMI_0_0_0_0 | D1: =all!D7 -> USD_NOR_0_0_0_0 | E1: =all!E7 -> USD_INV_0_0_0_0 | F1: =all!F7 -> USD_PMN_0_0_0_0 | G1: =all!G7 -> USD_EMP_0_0_0_1 | H1: =all!H7 -> USD_EAR_0_0_1_1 | I1: =all!I7 -> USD_EXP_0_0_1_1 | J1: =all!J7 -> USD_RET_0_0_0_1 | ... T1: =all!T7 -> CAD_PMI_0_0_0_0 | X1: =all!X7 -> CAD_EMP_0_0_0_1 | Y1: =all!Y7 -> CAD_EAR_0_0_1_1 | Z1: =all!Z7 -> CAD_EXP_0_0_1_1 | AA1: =all!AA7 -> CAD_RET_0_0_0_1 | AB1: =all!AB7 -> CAD_IND_0_0_0_1 | AC1: =all!AC7 -> CAD_HOU_0_0_0_1 | AD1: =all!AD7 -> CAD_IOR_0_0_1_1 | AE1: =all!AE7 -> CAD_GOV_0_0_1_1 | ... AJ1: =all!AJ7 -> CAD_EPR_0_0_0_1
C2: =all!C8 -> S111VMC@INTSRVYS | D2: =all!D8 -> S111VMNI@INTSRVYS | E2: =all!E8 -> S111VMII@INTSRVYS | F2: =all!F8 -> S111VFC@INTSRVYS | G2: =all!G8 -> S111ELEN@G10 | H2: =all!H8 -> S111EH@G10 | I2: =all!I8 -> S111IX@G10 | J2: =all!J8 -> S111TRXC@G10 | ... T2: =all!T8 -> S156VMI@INTSRVYS | X2: =all!X8 -> S156ELE@G10 | Y2: =all!Y8 -> S156EH@G10 | Z2: =all!Z8 -> S156IX@G10 | AA2: =all!AA8 -> S156TRSC@G10 | AB2: =all!AB8 -> S156D@G10 | AC2: =all!AC8 -> S156HP@G10 | AD2: =all!AD8 -> S156TO@G10 | AE2: =all!AE8 -> H156FGE@G10 | ... AJ2: =all!AJ8 -> S156PFXI@G10
B3: 25569
B4: 25600
B5: 25628
B6: 25659
B7: 25689
B8: 25720
B9: 25750
B10: 25781
B11: 25812
B12: 25842
B13: 25873
B14: 25903
... B538: 41852

Sheet all
C1: =usd!C1 -> USD | D1: =usd!D1 -> USD | E1: =usd!E1 -> USD | F1: =usd!F1 -> USD | G1: =usd!G1 -> USD | H1: =usd!H1 -> USD | I1: =usd!I1 -> USD | J1: =usd!J1 -> USD | ... S1: =usd!S1 -> USD | T1: =cad!C1 -> CAD | U1: =cad!D1 -> CAD | V1: =cad!E1 -> CAD | W1: =cad!F1 -> CAD | X1: =cad!G1 -> CAD | Y1: =cad!H1 -> CAD | Z1: =cad!I1 -> CAD | AA1: =cad!J1 -> CAD | ... AJ1: =cad!S1 -> CAD
C2: =usd!C2 -> PMI | D2: =usd!D2 -> NOR | E2: =usd!E2 -> INV | F2: =usd!F2 -> PMN | G2: =usd!G2 -> EMP | H2: =usd!H2 -> EAR | I2: =usd!I2 -> EXP | J2: =usd!J2 -> RET | ... S2: =usd!S2 -> EPR | T2: =cad!C2 -> PMI | U2: =cad!D2 -> NOR | V2: =cad!E2 -> INV | W2: =cad!F2 -> PMN | X2: =cad!G2 -> EMP | Y2: =cad!H2 -> EAR | Z2: =cad!I2 -> EXP | AA2: =cad!J2 -> RET | ... AJ2: =cad!S2 -> EPR
A3: =usd_sd!A3 -> Frequency | C3: =usd!C3 -> 0 | D3: =usd!D3 -> 0 | E3: =usd!E3 -> 0 | F3: =usd!F3 -> 0 | G3: =usd!G3 -> 0 | H3: =usd!H3 -> 0 | I3: =usd!I3 -> 0 | J3: =usd!J3 -> 0 | ... S3: =usd!S3 -> 0 | T3: =cad!C3 -> 0 | U3: =cad!D3 -> 0 | V3: =cad!E3 -> 0 | W3: =cad!F3 -> 0 | X3: =cad!G3 -> 0 | Y3: =cad!H3 -> 0 | Z3: =cad!I3 -> 0 | AA3: =cad!J3 -> 0 | ... AJ3: =cad!S3 -> 0
A4: =usd_sd!A5 -> Real or nominal | C4: =usd!C5 -> 0 | D4: =usd!D5 -> 0 | E4: =usd!E5 -> 0 | F4: =usd!F5 -> 0 | G4: =usd!G5 -> 0 | H4: =usd!H5 -> 1 | I4: =usd!I5 -> 1 | J4: =usd!J5 -> 0 | ... S4: =usd!S5 -> 0 | T4: =cad!C4 -> 0 | U4: =cad!D4 -> 0 | V4: =cad!E4 -> 0 | W4: =cad!F4 -> 0 | X4: =cad!G4 -> 0 | Y4: =cad!H4 -> 0 | Z4: =cad!I4 -> 0 | AA4: =cad!J4 -> 0 | ... AJ4: =cad!S4 -> 0
A5: =usd_sd!A4 -> SA | C5: =usd!C4 -> 0 | D5: =usd!D4 -> 0 | E5: =usd!E4 -> 0 | F5: =usd!F4 -> 0 | G5: =usd!G4 -> 0 | H5: =usd!H4 -> 0 | I5: =usd!I4 -> 0 | J5: =usd!J4 -> 0 | ... S5: =usd!S4 -> 0 | T5: =cad!C5 -> 0 | U5: =cad!D5 -> 0 | V5: =cad!E5 -> 0 | W5: =cad!F5 -> 0 | X5: =cad!G5 -> 0 | Y5: =cad!H5 -> 1 | Z5: =cad!I5 -> 1 | AA5: =cad!J5 -> 0 | ... AJ5: =cad!S5 -> 0
A6: =usd_sd!A6 -> Transformation | C6: =usd!C6 -> 0 | D6: =usd!D6 -> 0 | E6: =usd!E6 -> 0 | F6: =usd!F6 -> 0 | G6: =usd!G6 -> 1 | H6: =usd!H6 -> 1 | I6: =usd!I6 -> 1 | J6: =usd!J6 -> 1 | ... S6: =usd!S6 -> 1 | T6: =cad!C6 -> 0 | U6: =cad!D6 -> 0 | V6: =cad!E6 -> 0 | W6: =cad!F6 -> 0 | X6: =cad!G6 -> 1 | Y6: =cad!H6 -> 1 | Z6: =cad!I6 -> 1 | AA6: =cad!J6 -> 1 | ... AJ6: =cad!S6 -> 1
A7: c_ticker | C7: =usd!C7 -> USD_PMI_0_0_0_0 | D7: =usd!D7 -> USD_NOR_0_0_0_0 | E7: =usd!E7 -> USD_INV_0_0_0_0 | F7: =usd!F7 -> USD_PMN_0_0_0_0 | G7: =usd!G7 -> USD_EMP_0_0_0_1 | H7: =usd!H7 -> USD_EAR_0_0_1_1 | I7: =usd!I7 -> USD_EXP_0_0_1_1 | J7: =usd!J7 -> USD_RET_0_0_0_1 | ... S7: =usd!S7 -> USD_EPR_0_0_0_1 | T7: =cad!C7 -> CAD_PMI_0_0_0_0 | U7: =cad!D7 -> 0 | V7: =cad!E7 -> 0 | W7: =cad!F7 -> 0 | X7: =cad!G7 -> CAD_EMP_0_0_0_1 | Y7: =cad!H7 -> CAD_EAR_0_0_1_1 | Z7: =cad!I7 -> CAD_EXP_0_0_1_1 | AA7: =cad!J7 -> CAD_RET_0_0_0_1 | ... AJ7: =cad!S7 -> CAD_EPR_0_0_0_1
A8: haver_ticker | C8: =usd!C8 -> S111VMC@INTSRVYS | D8: =usd!D8 -> S111VMNI@INTSRVYS | E8: =usd!E8 -> S111VMII@INTSRVYS | F8: =usd!F8 -> S111VFC@INTSRVYS | G8: =usd!G8 -> S111ELEN@G10 | H8: =usd!H8 -> S111EH@G10 | I8: =usd!I8 -> S111IX@G10 | J8: =usd!J8 -> S111TRXC@G10 | ... S8: =usd!S8 -> H111PFXI@G10 | T8: =cad!C8 -> S156VMI@INTSRVYS | U8: =cad!D8 -> 0 | V8: =cad!E8 -> 0 | W8: =cad!F8 -> 0 | X8: =cad!G8 -> S156ELE@G10 | Y8: =cad!H8 -> S156EH@G10 | Z8: =cad!I8 -> S156IX@G10 | AA8: =cad!J8 -> S156TRSC@G10 | ... AJ8: =cad!S8 -> S156PFXI@G10
A9: Database | C9: =RIGHT(C8,LEN(C8)-FIND("@",C8)) -> INTSRVYS | D9: =RIGHT(D8,LEN(D8)-FIND("@",D8)) -> INTSRVYS | E9: =RIGHT(E8,LEN(E8)-FIND("@",E8)) -> INTSRVYS | F9: =RIGHT(F8,LEN(F8)-FIND("@",F8)) -> INTSRVYS | G9: =RIGHT(G8,LEN(G8)-FIND("@",G8)) -> G10 | H9: =RIGHT(H8,LEN(H8)-FIND("@",H8)) -> G10 | I9: =RIGHT(I8,LEN(I8)-FIND("@",I8)) -> G10 | J9: =RIGHT(J8,LEN(J8)-FIND("@",J8)) -> G10 | ... AJ9: =RIGHT(AJ8,LEN(AJ8)-FIND("@",AJ8)) -> G10
A17: Country | B17: three digit currency code
A18: Category | B18: Generally, first three digits of indicator name. Hard coded on the sheet named "usd"
A19: Frequency | B19: 0 = monthly, 1 = quarterly, 2 = weekly
A20: SA | B20: 0 = sa, 1 = NSA
A21: Real or nominal | B21: 0 = real, 1 = nominal
A22: Transformation | B22: 0 = no transformation, 1 = yr-yr pct chg, 2 = period to period pct chg
A25: 25569
A26: =(YEAR(NOW())-YEAR(A25))*12+MONTH(NOW())-MONTH(A25) -> 535

Sheet aud
A1: 198001 !M | B1: .excel_last | C1: S193VMI@INTSRVYS | D1: S193VM6O@INTSRVYS | E1: S193VM6I@INTSRVYS | F1: S193PSI@INTSRVYS | G1: S193ELE@G10 | I1: h193IX@G10 | J1: S193TRSC@G10 | K1: S193D@G10 | L1: S193HP@G10 | M1: AUSVBF@ANZ | N1: AUNFGE@ANZ
A2: .DESC | C2: Australia: Performance of Mfg Index (SA, 50+=Expansion) | D2: Australia: Performance of Manufacuring Index: New orders (SA, 50+=Expansion) | E2: Australia: Performance of Manufacuring Index: Inventories (SA, 50+=Expansion) | F2: Australia: Performance of Services Index (SA, 50+=Expansion) | G2: Australia: Labor Force: Employment (SA, Thous) | I2: Australia: Exports of Goods, fob (SA, Mil.A$) | J2: Australia: Retail Sales (SA, Mil.Chn.Q3/07-Q2/08.A$) | K2: Australia: Industrial Production excl Construction (SA, Q3:11-Q2:12=100) | L2: Australia: Total Dwelling Units Approved (SA, Units) | M2: Australia: NAB Business Survey: Forward Orders (SA, %) | N2: Australia: Govt Fin: Total Expenses (NSA, Mil.A$)
A3: .T1 | C3: Sep-1992 | D3: Sep-1992 | E3: Sep-1992 | F3: Feb-2003 | G3: Feb-1978 | I3: Jan-1988 | J3: Q3-1983 [???] | K3: Q3-1974 [???] | L3: Jul-1983 | M3: Mar-1997 | N3: Aug-1973
A4: .TN | C4: Jul-2014 | D4: Jul-2014 | E4: Jul-2014 | F4: Jul-2014 | G4: Jul-2014 | I4: Jun-2014 | J4: Q2-2014 [???] | K4: Q1-2014 [???] | L4: Jun-2014 | M4: Jun-2014 | N4: May-2014
A5: .SOURCE | C5: AIG-PWC | D5: AIG-PWC | E5: AIG-PWC | F5: AIG-CWB | G5: ABS | I5: ABS/H | J5: ABS | K5: ABS/H | L5: ABS | M5: NAB | N5: RBA
A6: .LSOURCE | C6: Australian Industry Group-PricewaterhouseCoopers | D6: Australian Industry Group-PricewaterhouseCoopers | E6: Australian Industry Group-PricewaterhouseCoopers | F6: Australian Industry Group-Commonwealth Bank | G6: Australian Bureau of Statistics | I6: Australian Bureau of Statistics/Haver Analytics | J6: Australian Bureau of Statistics | K6: Australian Bureau of Statistics/Haver Analytics | L6: Australian Bureau of Statistics | M6: National Australia Bank | N6: Australian Office of Financial Management
A7: .AGG | C7: Average | D7: Average | E7: Average | F7: Average | G7: Average | I7: Sum | J7: Sum | K7: Average | L7: Sum | M7: Average | N7: Sum
A8: .DTLM | C8: Jul-31-2014 19:30 | D8: Jul-31-2014 19:30 | E8: Jul-31-2014 19:30 | F8: Aug-04-2014 19:30 | G8: Aug-06-2014 21:32 | I8: Aug-04-2014 21:35 | J8: Aug-03-2014 21:31 | K8: Jun-03-2014 21:32 | L8: Jul-30-2014 21:36 | M8: Jul-07-2014 21:38 | N8: Jun-27-2014 00:21
A9: .FRQ | C9: Monthly | D9: Monthly | E9: Monthly | F9: Monthly | G9: Monthly | I9: Monthly | J9: Quarterly | K9: Quarterly | L9: Monthly | M9: Monthly | N9: Monthly
A10: .DATA_TYPE | C10: INDEX | D10: INDEX | E10: INDEX | F10: INDEX | G10: Units | I10: LocCur | J10: LocCur | K10: INDEX | L10: Units | M10: % | N10: LocCur
A11: 198001 | B11: 29251 | C11: #N/A | D11: #N/A | E11: #N/A | F11: #N/A | G11: 6211.8 | I11: #N/A | L11: #N/A | M11: #N/A | N11: 2589
A12: 198002 | B12: 29280 | C12: #N/A | D12: #N/A | E12: #N/A | F12: #N/A | G12: 6226.1 | I12: #N/A | L12: #N/A | M12: #N/A | N12: 2678
A13: 198003 | B13: 29311 | C13: #N/A | D13: #N/A | E13: #N/A | F13: #N/A | G13: 6238.9 | I13: #N/A | L13: #N/A | M13: #N/A | N13: 2505
A14: 198004 | B14: 29341 | C14: #N/A | D14: #N/A | E14: #N/A | F14: #N/A | G14: 6251.2 | I14: #N/A | L14: #N/A | M14: #N/A | N14: 2648
A15: 198005 | B15: 29372 | C15: #N/A | D15: #N/A | E15: #N/A | F15: #N/A | G15: 6272.1 | I15: #N/A | L15: #N/A | M15: #N/A | N15: 2787
A16: 198006 | B16: 29402 | C16: #N/A | D16: #N/A | E16: #N/A | F16: #N/A | G16: 6279.9 | I16: #N/A | L16: #N/A | M16: #N/A | N16: 2613
A17: 198007 | B17: 29433 | C17: #N/A | D17: #N/A | E17: #N/A | F17: #N/A | G17: 6310.6 | I17: #N/A | L17: #N/A | M17: #N/A | N17: 3172
A18: 198008 | B18: 29464 | C18: #N/A | D18: #N/A | E18: #N/A | F18: #N/A | G18: 6321.9 | I18: #N/A | L18: #N/A | M18: #N/A | N18: 2968
A19: 198009 | B19: 29494 | C19: #N/A | D19: #N/A | E19: #N/A | F19: #N/A | G19: 6326.8 | I19: #N/A | L19: #N/A | M19: #N/A | N19: 2880
A20: 198010 | B20: 29525 | C20: #N/A | D20: #N/A | E20: #N/A | F20: #N/A | G20: 6311.4 | I20: #N/A | L20: #N/A | M20: #N/A | N20: 3113
A21: 198011 | B21: 29555 | C21: #N/A | D21: #N/A | E21: #N/A | F21: #N/A | G21: 6337 | I21: #N/A | L21: #N/A | M21: #N/A | N21: 2797
A22: 198012 | B22: 29586 | C22: #N/A | D22: #N/A | E22: #N/A | F22: #N/A | G22: 6357.2 | I22: #N/A | L22: #N/A | M22: #N/A | N22: 3296
... A52: 198306 | B52: 30497 | C52: #N/A | D52: #N/A | E52: #N/A | F52: #N/A | G52: 6275.2 | I52: #N/A | L52: #N/A | M52: #N/A | N52: 5115
A53: 198307 | B53: 30528 | C53: #N/A | D53: #N/A | E53: #N/A | F53: #N/A | G53: 6288.8 | I53: #N/A | L53: 10692 | M53: #N/A | N53: 4532
A54: 198308 | B54: 30559 | C54: #N/A | D54: #N/A | E54: #N/A | F54: #N/A | G54: 6287.6 | I54: #N/A | L54: 11522 | M54: #N/A | N54: 4386
A55: 198309 | B55: 30589 | C55: #N/A | D55: #N/A | E55: #N/A | F55: #N/A | G55: 6320.4 | I55: #N/A | L55: 12026 | M55: #N/A | N55: 4595
A56: 198310 | B56: 30620 | C56: #N/A | D56: #N/A | E56: #N/A | F56: #N/A | G56: 6322.3 | I56: #N/A | L56: 12554 | M56: #N/A | N56: 4645
A57: 198311 | B57: 30650 | C57: #N/A | D57: #N/A | E57: #N/A | F57: #N/A | G57: 6356.3 | I57: #N/A | L57: 11943 | M57: #N/A | N57: 4225
A58: 198312 | B58: 30681 | C58: #N/A | D58: #N/A | E58: #N/A | F58: #N/A | G58: 6385.2 | I58: #N/A | L58: 13074 | M58: #N/A | N58: 5024
A59: 198401 | B59: 30712 | C59: #N/A | D59: #N/A | E59: #N/A | F59: #N/A | G59: 6379.5 | I59: #N/A | L59: 12421 | M59: #N/A | N59: 4131
A60: 198402 | B60: 30741 | C60: #N/A | D60: #N/A | E60: #N/A | F60: #N/A | G60: 6397.1 | I60: #N/A | L60: 13265 | M60: #N/A | N60: 4812
A61: 198403 | B61: 30772 | C61: #N/A | D61: #N/A | E61: #N/A | F61: #N/A | G61: 6455.2 | I61: #N/A | L61: 13665 | M61: #N/A | N61: 4697
A62: 198404 | B62: 30802 | C62: #N/A | D62: #N/A | E62: #N/A | F62: #N/A | G62: 6463.7 | I62: #N/A | L62: 13538 | M62: #N/A | N62: 4974
A63: 198405 | B63: 30833 | C63: #N/A | D63: #N/A | E63: #N/A | F63: #N/A | G63: 6486.9 | I63: #N/A | L63: 14210 | M63: #N/A | N63: 4973
A64: 198406 | B64: 30863 | C64: #N/A | D64: #N/A | E64: #N/A | F64: #N/A | G64: 6505 | I64: #N/A | L64: 13131 | M64: #N/A | N64: 5576
... A106: 198712 | B106: 32142 | C106: #N/A | D106: #N/A | E106: #N/A | F106: #N/A | G106: 7237.3 | I106: #N/A | L106: 12509 | M106: #N/A | N106: 7148
A107: 198801 | B107: 32173 | C107: #N/A | D107: #N/A | E107: #N/A | F107: #N/A | G107: 7303.2 | I107: 3802 | L107: 13491 | M107: #N/A | N107: 5927
A108: 198802 | B108: 32202 | C108: #N/A | D108: #N/A | E108: #N/A | F108: #N/A | G108: 7286.2 | I108: 3974 | L108: 13322 | M108: #N/A | N108: 6793
A109: 198803 | B109: 32233 | C109: #N/A | D109: #N/A | E109: #N/A | F109: #N/A | G109: 7358.7 | I109: 3590 | L109: 13121 | M109: #N/A | N109: 7254
A110: 198804 | B110: 32263 | C110: #N/A | D110: #N/A | E110: #N/A | F110: #N/A | G110: 7362.5 | I110: 3411 | L110: 14134 | M110: #N/A | N110: 5560
...

Sheet cad
A1: Country | C1: CAD | D1: =C1 -> CAD | E1: =D1 -> CAD | F1: =E1 -> CAD | G1: =F1 -> CAD | H1: =G1 -> CAD | I1: =H1 -> CAD | J1: =I1 -> CAD | K1: =J1 -> CAD | ... S1: =R1 -> CAD
A2: Category | C2: =usd!C2 -> PMI | D2: =usd!D2 -> NOR | E2: =usd!E2 -> INV | F2: =usd!F2 -> PMN | G2: =usd!G2 -> EMP | H2: =usd!H2 -> EAR | I2: =usd!I2 -> EXP | J2: =usd!J2 -> RET | ... S2: =usd!S2 -> EPR
A3: Frequency | C3: 0 | G3: 0 | H3: 0 | I3: 0 | J3: 0 | K3: 0 | L3: 0 | M3: 0 | N3: 0 | O3: 0 | P3: 0 | Q3: 0 | R3: 0 | S3: 0
A4: SA | C4: 0 | G4: 0 | H4: 0 | I4: 0 | J4: 0 | K4: 0 | L4: 0 | M4: 0 | N4: 0 | O4: 0 | P4: 0 | Q4: 0 | R4: 1 | S4: 0
A5: Real or nominal | C5: 0 | G5: 0 | H5: 1 | I5: 1 | J5: 0 | K5: 0 | L5: 0 | M5: 1 | N5: 1 | O5: 0 | P5: 0 | Q5: 0 | R5: 0 | S5: 0
A6: Transformation | C6: 0 | G6: 1 | H6: 1 | I6: 1 | J6: 1 | K6: 1 | L6: 1 | M6: 1 | N6: 1 | O6: 0 | P6: 1 | Q6: 1 | R6: 1 | S6: 1
A7: Ticker | C7: =C1&"_"&C2&"_"&C3&"_"&C4&"_"&C5&"_"&C6 -> CAD_PMI_0_0_0_0 | G7: =G1&"_"&G2&"_"&G3&"_"&G4&"_"&G5&"_"&G6 -> CAD_EMP_0_0_0_1 | H7: =H1&"_"&H2&"_"&H3&"_"&H4&"_"&H5&"_"&H6 -> CAD_EAR_0_0_1_1 | I7: =I1&"_"&I2&"_"&I3&"_"&I4&"_"&I5&"_"&I6 -> CAD_EXP_0_0_1_1 | J7: =J1&"_"&J2&"_"&J3&"_"&J4&"_"&J5&"_"&J6 -> CAD_RET_0_0_0_1 | K7: =K1&"_"&K2&"_"&K3&"_"&K4&"_"&K5&"_"&K6 -> CAD_IND_0_0_0_1 | L7: =L1&"_"&L2&"_"&L3&"_"&L4&"_"&L5&"_"&L6 -> CAD_HOU_0_0_0_1 | M7: =M1&"_"&M2&"_"&M3&"_"&M4&"_"&M5&"_"&M6 -> CAD_IOR_0_0_1_1 | N7: =N1&"_"&N2&"_"&N3&"_"&N4&"_"&N5&"_"&N6 -> CAD_GOV_0_0_1_1 | ... S7: =S1&"_"&S2&"_"&S3&"_"&S4&"_"&S5&"_"&S6 -> CAD_EPR_0_0_0_1
A8: 197001 !M | B8: .excel_last | C8: S156VMI@INTSRVYS | G8: S156ELE@G10 | H8: S156EH@G10 | I8: S156IX@G10 | J8: S156TRSC@G10 | K8: S156D@G10 | L8: S156HP@G10 | M8: S156TO@G10 | N8: H156FGE@G10 | O8: N156VRM@G10 | P8: S156PC@G10 | Q8: S156PCXG@G10 | R8: V7P09115@CANADA | S8: S156PFXI@G10
A9: .DESC | C9: Canada: Ivey Purchasing Managers Index (SA, 50+ = Econ Expand) | G9: Canada: Employment: 15 Years and Over (SA, Thous) | H9: Canada: Avg Hourly Earnings inc Overtime: Hrly Workers: Total Economy (SA, C$) | I9: Canada: Exports of Goods, BOP Basis (SA, Mil.C$) | J9: Canada: Real Retail Sales (SA, Mil.2007.C$) | K9: Canada: Industrial Production: Manufacturing, Mining & Utilities (SA, 2007=100) | L9: Canada: Building Permits Authorized (SA, Thous Units) | M9: Canada: New Orders: All Manufacturing Industries (SA, Thous.C$) | N9: Canada: Federal Government Expenditures (SA, Mil.C$) | O9: Canada: ECRI Recession/Expansion: Recession Shading (+1 or -1) | P9: Canada: Consumer Price Index (SA, 2002=100) | Q9: Canada: CPI: All Items Less Food and Energy (SA, 2002=100) | R9: Canada: IPPI: Total IPPI, excl Energy/Petroleum Prods(NSA, 2010=100) | S9: Canada: Export [Customs] Laspeyres Price Index: All Merchandise (SA, 2007=100)
A10: .T1 | C10: Feb-2009 | G10: Jan-1966 | H10: Jan-1991 | I10: Jan-1988 | J10: Jan-1997 | K10: Jan-1981 | L10: Jan-1960 | M10: Jan-1992 | N10: Apr-1985 | O10: May-1953 | P10: Jan-1992 | Q10: Jan-1992 | R10: Jan-1981 | S10: Jan-1997
A11: .TN | C11: Jul-2014 | G11: Jul-2014 | H11: May-2014 | I11: Jun-2014 | J11: May-2014 | K11: May-2014 | L11: Jun-2014 | M11: May-2014 | N11: May-2014 | O11: Jul-2014 | P11: Jun-2014 | Q11: Jun-2014 | R11: Jun-2014 | S11: Jun-2014
A12: .SOURCE | C12: IveyUWO | G12: StatCan | H12: StatCan | I12: StatCan | J12: StatCan | K12: StaCan/H | L12: StatCan | M12: StatCan | N12: DoFC/H | O12: ECRI/H | P12: StatCan | Q12: StatCan | R12: StatCan | S12: StatCan
A13: .LSOURCE | C13: Richard Ivey School of Business/Univ W Ontario | G13: Statistics Canada | H13: Statistics Canada | I13: Statistics Canada | J13: Statistics Canada | K13: Statistics Canada/Haver Analytics | L13: Statistics Canada | M13: Statistics Canada | N13: Department of Finance Canada/Haver Analytics | O13: Economic Cycle Research Institute/Haver Analytics | P13: Statistics Canada | Q13: Statistics Canada | R13: Statistics Canada | S13: Statistics Canada
A14: .AGG | C14: End of Period | G14: Average | H14: Average | I14: Sum | J14: Sum | K14: Average | L14: Sum | M14: Sum | N14: Sum | O14: Not Allowed | P14: Average | Q14: Average | R14: Average | S14: Average
A15: .DTLM | C15: Aug-07-2014 10:03 | G15: Aug-08-2014 09:11 | H15: Jul-31-2014 09:03 | I15: Aug-06-2014 08:32 | J15: Jul-23-2014 08:47 | K15: Jul-31-2014 09:08 | L15: Aug-07-2014 08:44 | M15: Jul-16-2014 08:40 | N15: Jul-25-2014 11:56 | O15: Aug-01-2014 06:00 | P15: Jul-18-2014 08:34 | Q15: Jul-18-2014 08:34 | R15: Jul-30-2014 08:30 | S15: Aug-06-2014 08:39
A16: .FRQ | C16: Monthly | G16: Monthly | H16: Monthly | I16: Monthly | J16: Monthly | K16: Monthly | L16: Monthly | M16: Monthly | N16: Monthly | O16: Monthly | P16: Monthly | Q16: Monthly | R16: Monthly | S16: Monthly
A17: .DATA_TYPE | C17: INDEX | G17: Units | H17: LocCur | I17: LocCur | J17: LocCur | K17: INDEX | L17: Units | M17: LocCur | N17: LocCur | O17: Units | P17: INDEX | Q17: INDEX | R17: INDEX | S17: INDEX
A18: 197001 | B18: 25599 | C18: #N/A | G18: 7860 | H18: #N/A | I18: #N/A | J18: #N/A | K18: #N/A | L18: 13.2 | M18: #N/A | N18: #N/A | O18: -1 | P18: #N/A | Q18: #N/A | R18: #N/A | S18: #N/A
A19: 197002 | B19: 25627 | C19: #N/A | G19: 7864 | H19: #N/A | I19: #N/A | J19: #N/A | K19: #N/A | L19: 11.9 | M19: #N/A | N19: #N/A | O19: -1 | P19: #N/A | Q19: #N/A | R19: #N/A | S19: #N/A
A20: 197003 | B20: 25658 | C20: #N/A | G20: 7858 | H20: #N/A | I20: #N/A | J20: #N/A | K20: #N/A | L20: 10.9 | M20: #N/A | N20: #N/A | O20: -1 | P20: #N/A | Q20: #N/A | R20: #N/A | S20: #N/A
A21: 197004 | B21: 25688 | C21: #N/A | G21: 7890 | H21: #N/A | I21: #N/A | J21: #N/A | K21: #N/A | L21: 12.1 | M21: #N/A | N21: #N/A | O21: -1 | P21: #N/A | Q21: #N/A | R21: #N/A | S21: #N/A
A22: 197005 | B22: 25719 | C22: #N/A | G22: 7927 | H22: #N/A | I22: #N/A | J22: #N/A | K22: #N/A | L22: 13.2 | M22: #N/A | N22: #N/A | O22: -1 | P22: #N/A | Q22: #N/A | R22: #N/A | S22: #N/A
A23: 197006 | B23: 25749 | C23: #N/A | G23: 7931 | H23: #N/A | I23: #N/A | J23: #N/A | K23: #N/A | L23: 12.8 | M23: #N/A | N23: #N/A | O23: -1 | P23: #N/A | Q23: #N/A | R23: #N/A | S23: #N/A
A24: 197007 | B24: 25780 | C24: #N/A | G24: 7911 | H24: #N/A | I24: #N/A | J24: #N/A | K24: #N/A | L24: 10.9 | M24: #N/A | N24: #N/A | O24: -1 | P24: #N/A | Q24: #N/A | R24: #N/A | S24: #N/A
A25: 197008 | B25: 25811 | C25: #N/A | G25: 7921 | H25: #N/A | I25: #N/A | J25: #N/A | K25: #N/A | L25: 15.5 | M25: #N/A | N25: #N/A | O25: -1 | P25: #N/A | Q25: #N/A | R25: #N/A | S25: #N/A
A26: 197009 | B26: 25841 | C26: #N/A | G26: 7966 | H26: #N/A | I26: #N/A | J26: #N/A | K26: #N/A | L26: 19.4 | M26: #N/A | N26: #N/A | O26: -1 | P26: #N/A | Q26: #N/A | R26: #N/A | S26: #N/A
A27: 197010 | B27: 25872 | C27: #N/A | G27: 7976 | H27: #N/A | I27: #N/A | J27: #N/A | K27: #N/A | L27: 19.9 | M27: #N/A | N27: #N/A | O27: -1 | P27: #N/A | Q27: #N/A | R27: #N/A | S27: #N/A
A28: 197011 | B28: 25902 | C28: #N/A | G28: 7996 | H28: #N/A | I28: #N/A | J28: #N/A | K28: #N/A | L28: 20 | M28: #N/A | N28: #N/A | O28: -1 | P28: #N/A | Q28: #N/A | R28: #N/A | S28: #N/A
A29: 197012 | B29: 25933 | C29: #N/A | G29: 7944 | H29: #N/A | I29: #N/A | J29: #N/A | K29: #N/A | L29: 19 | M29: #N/A | N29: #N/A | O29: -1 | P29: #N/A | Q29: #N/A | R29: #N/A | S29: #N/A
... A149: 198012 | B149: 29586 | C149: #N/A | G149: 11140 | H149: #N/A | I149: #N/A | J149: #N/A | K149: #N/A | L149: 13.5 | M149: #N/A | N149: #N/A | O149: -1 | P149: #N/A | Q149: #N/A | R149: #N/A | S149: #N/A
A150: 198101 | B150: 29617 | C150: #N/A | G150: 11206.5 | H150: #N/A | I150: #N/A | J150: #N/A | K150: 56.02 | L150: 15.9 | M150: #N/A | N150: #N/A | O150: -1 | P150: #N/A | Q150: #N/A | R150: 54.4 | S150: #N/A
A151: 198102 | B151: 29645 | C151: #N/A | G151: 11283.3 | H151: #N/A | I151: #N/A | J151: #N/A | K151: 56.26 | L151: 17.2 | M151: #N/A | N151: #N/A | O151: -1 | P151: #N/A | Q151: #N/A | R151: 54.6 | S151: #N/A
A152: 198103 | B152: 29676 | C152: #N/A | G152: 11278.7 | H152: #N/A | I152: #N/A | J152: #N/A | K152: 56.26 | L152: 18.2 | M152: #N/A | N152: #N/A | O152: -1 | P152: #N/A | Q152: #N/A | R152: 54.7 | S152: #N/A
A153: 198104 | B153: 29706 | C153: #N/A | G153: 11315.8 | H153: #N/A | I153: #N/A | J153: #N/A | K153: 57.33 | L153: 17.8 | M153: #N/A | N153: #N/A | O153: 1 | P153: #N/A | Q153: #N/A | R153: 55.2 | S153: #N/A
A154: 198105 | B154: 29737 | C154: #N/A | G154: 11345.8 | H154: #N/A | I154: #N/A | J154: #N/A | K154: 56.33 | L154: 17.2 | M154: #N/A | N154: #N/A | O154: 1 | P154: #N/A | Q154: #N/A | R154: 55.6 | S154: #N/A
A155: 198106 | B155: 29767 | C155: #N/A | G155: 11375.6 | H155: #N/A | I155: #N/A | J155: #N/A | K155: 56.6 | L155: 16.4 | M155: #N/A | N155: #N/A | O155: 1 | P155: #N/A | Q155: #N/A | R155: 56 | S155: #N/A
A156: 198107 | B156: 29798 | C156: #N/A | G156: 11336.4 | H156: #N/A | I156: #N/A | J156: #N/A | K156: 56.83 | L156: 16.3 | M156: #N/A | N156: #N/A | O156: 1 | P156: #N/A | Q156: #N/A | R156: 56.2 | S156: #N/A
A157: 198108 | B157: 29829 | C157: #N/A | G157: 11353.8 | H157: #N/A | I157: #N/A | J157: #N/A | K157: 54.53 | L157: 12.4 | M157: #N/A | N157: #N/A | O157: 1 | P157: #N/A | Q157: #N/A | R157: 56.6 | S157: #N/A
A158: 198109 | B158: 29859 | C158: #N/A | G158: 11328.7 | H158: #N/A | I158: #N/A | J158: #N/A | K158: 55.9 | L158: 12.1 | M158: #N/A | N158: #N/A | O158: 1 | P158: #N/A | Q158: #N/A | R158: 56.6 | S158: #N/A
A159: 198110 | B159: 29890 | C159: #N/A | G159: 11300.1 | H159: #N/A | I159: #N/A | J159: #N/A | K159: 54.93 | L159: 11.9 | M159: #N/A | N159: #N/A | O159: 1 | P159: #N/A | Q159: #N/A | R159: 57.1 | S159: #N/A
...

Sheet usd
A1: Country | C1: USD | D1: =C1 -> USD | E1: =D1 -> USD | F1: =E1 -> USD | G1: =F1 -> USD | H1: =G1 -> USD | I1: =H1 -> USD | J1: =I1 -> USD | K1: =J1 -> USD | ... N1: =M1 -> USD | O1: USD | P1: USD | Q1: USD | R1: USD | S1: USD
A2: Category | C2: PMI | D2: NOR | E2: INV | F2: PMN | G2: EMP | H2: EAR | I2: EXP | J2: RET | K2: IND | L2: HOU | M2: IOR | N2: GOV | O2: REC | P2: CPI | Q2: CPX | R2: PPI | S2: EPR
A3: Frequency | C3: 0 | D3: 0 | E3: 0 | F3: 0 | G3: 0 | H3: 0 | I3: 0 | J3: 0 | K3: 0 | L3: 0 | M3: 0 | N3: 0 | O3: 0 | P3: 0 | Q3: 0 | R3: 0 | S3: 0
A4: SA | C4: 0 | D4: 0 | E4: 0 | F4: 0 | G4: 0 | H4: 0 | I4: 0 | J4: 0 | K4: 0 | L4: 0 | M4: 0 | N4: 0 | O4: 0 | P4: 0 | Q4: 0 | R4: 0 | S4: 0
A5: Real or nominal | C5: 0 | D5: 0 | E5: 0 | F5: 0 | G5: 0 | H5: 1 | I5: 1 | J5: 0 | K5: 0 | L5: 0 | M5: 1 | N5: 1 | O5: 0 | P5: 0 | Q5: 0 | R5: 0 | S5: 0
A6: Transformation | C6: 0 | D6: 0 | E6: 0 | F6: 0 | G6: 1 | H6: 1 | I6: 1 | J6: 1 | K6: 1 | L6: 1 | M6: 1 | N6: 1 | O6: 0 | P6: 1 | Q6: 1 | R6: 1 | S6: 1
A7: Ticker | C7: =C1&"_"&C2&"_"&C3&"_"&C4&"_"&C5&"_"&C6 -> USD_PMI_0_0_0_0 | D7: =D1&"_"&D2&"_"&D3&"_"&D4&"_"&D5&"_"&D6 -> USD_NOR_0_0_0_0 | E7: =E1&"_"&E2&"_"&E3&"_"&E4&"_"&E5&"_"&E6 -> USD_INV_0_0_0_0 | F7: =F1&"_"&F2&"_"&F3&"_"&F4&"_"&F5&"_"&F6 -> USD_PMN_0_0_0_0 | G7: =G1&"_"&G2&"_"&G3&"_"&G4&"_"&G5&"_"&G6 -> USD_EMP_0_0_0_1 | H7: =H1&"_"&H2&"_"&H3&"_"&H4&"_"&H5&"_"&H6 -> USD_EAR_0_0_1_1 | I7: =I1&"_"&I2&"_"&I3&"_"&I4&"_"&I5&"_"&I6 -> USD_EXP_0_0_1_1 | J7: =J1&"_"&J2&"_"&J3&"_"&J4&"_"&J5&"_"&J6 -> USD_RET_0_0_0_1 | ... T7: =T1&"_"&T2&"_"&T3&"_"&T4&"_"&T5&"_"&T6 -> _____
A8: 197001 !M | B8: .excel_last | C8: S111VMC@INTSRVYS | D8: S111VMNI@INTSRVYS | E8: S111VMII@INTSRVYS | F8: S111VFC@INTSRVYS | G8: S111ELEN@G10 | H8: S111EH@G10 | I8: S111IX@G10 | J8: S111TRXC@G10 | K8: S111D@G10 | L8: S111HS@G10 | M8: S111TOD@G10 | N8: H111FGE@G10 | O8: RECESSM@USECON | P8: S111PC@G10 | Q8: S111PCX@G10 | R8: SP3200@USECON | S8: H111PFXI@G10 | T8: C111LIAT@OECDMEI
A9: .DESC | C9: U.S.: ISM Mfg: PMI Composite Index (SA, 50+ = Econ Expand) | D9: U.S.: ISM Mfg: New Orders Index (SA, 50+ = Econ Expand) | E9: U.S.: ISM Mfg: Inventories Index (SA, 50+ = Econ Expand) | F9: US: ISM: Nonmfg: NMI Composite Index (SA, 50+ = Econ Expand) | G9: U.S.: Total Employees on Nonfarm Payrolls (SA, Thous) | H9: U.S.: Average Hourly Earnings: Private Nonfarm Payrolls (SA, $/Hour) | I9: U.S.: Exports of Goods, f.a.s. (SA, Mil.$) | J9: U.S.: Retail Sales & Food Services excl Motor Vehicle & Parts(SA, Mil.Chn.2009$) | K9: U.S.: Industrial Production excluding Construction (SA, 2007=100) | L9: U.S.: Housing Starts (SA, Thous.Units) | M9: U.S.: Manufacturing New Orders: Durable Goods (SA, Mil.$) | N9: U.S.: Federal Outlays (SA, Mil.$) | O9: Monthly NBER Recession/Expansion: Recession Shading (+1/-1) | P9: U.S.: Consumer Price Index (SA, 1982-84=100) | Q9: U.S.: CPI-U: All Items Less Food and Energy (SA, 1982-84=100) | R9: PPI: Finished Goods: Capital Equipment (SA, 1982=100) | S9: U.S.: Export Price Index: All Exports (SA, 2000=100) | T9: U.S.: Total Leading Indicator (NSA, Amplitude Adjusted)
A10: .T1 | C10: Jan-1948 | D10: Jan-1948 | E10: Jan-1948 | F10: Jul-1997 | G10: Jan-1939 | H10: Jan-1964 | I10: Jan-1948 | J10: Jan-1992 | K10: Jan-1921 | L10: Jan-1959 | M10: Feb-1992 | N10: Jan-1954 | O10: Jan-1921 | P10: Jan-1947 | Q10: Jan-1957 | R10: Apr-1947 | S10: Jan-1989 | T10: Jan-1955
A11: .TN | C11: Jul-2014 | D11: Jul-2014 | E11: Jul-2014 | F11: Jul-2014 | G11: Jul-2014 | H11: Jul-2014 | I11: Jun-2014 | J11: Jun-2014 | K11: Jun-2014 | L11: Jun-2014 | M11: Jun-2014 | N11: Jun-2014 | O11: Jul-2014 | P11: Jun-2014 | Q11: Jun-2014 | R11: Jun-2014 | S11: Jun-2014 | T11: Jun-2014
A12: .SOURCE | C12: ISM | D12: ISM | E12: ISM | F12: ISM | G12: BLS | H12: BLS | I12: CENSUS | J12: BEA | K12: FRB | L12: CENSUS | M12: CENSUS | N12: TREAS/H | O12: NBER | P12: BLS | Q12: BLS | R12: BLS | S12: BLS/H | T12: OECD
A13: .LSOURCE | C13: Institute for Supply Management | D13: Institute for Supply Management | E13: Institute for Supply Management | F13: Institute for Supply Management | G13: Bureau of Labor Statistics | H13: Bureau of Labor Statistics | I13: Bureau of the Census | J13: Bureau of Economic Analysis | K13: Federal Reserve Board | L13: Census Bureau | M13: Bureau of the Census | N13: U.S. Treasury/Haver Analytics | O13: National Bureau of Economic Research | P13: Bureau of Labor Statistics | Q13: Bureau of Labor Statistics | R13: Bureau of Labor Statistics | S13: Bureau of Labor Statistics/Haver Analytics | T13: Organization for Economic Cooperation & Devt
A14: .AGG | C14: Average | D14: Average | E14: Average | F14: Average | G14: Average | H14: Average | I14: Sum | J14: Sum | K14: Average | L14: Sum | M14: Sum | N14: Sum | O14: Not Allowed | P14: Average | Q14: Average | R14: Average | S14: Average | T14: Average
A15: .DTLM | C15: Aug-01-2014 10:04 | D15: Aug-01-2014 10:04 | E15: Aug-01-2014 10:04 | F15: Aug-05-2014 10:02 | G15: Aug-01-2014 08:31 | H15: Aug-01-2014 08:31 | I15: Aug-06-2014 08:39 | J15: Aug-04-2014 14:36 | K15: Jul-16-2014 09:19 | L15: Jul-17-2014 08:32 | M15: Aug-05-2014 10:02 | N15: Jul-11-2014 16:23 | O15: Aug-01-2014 09:25 | P15: Jul-22-2014 08:33 | Q15: Jul-22-2014 08:33 | R15: Jul-16-2014 08:36 | S15: Jul-15-2014 08:39 | T15: Aug-11-2014 08:58
A16: .FRQ | C16: Monthly | D16: Monthly | E16: Monthly | F16: Monthly | G16: Monthly | H16: Monthly | I16: Monthly | J16: Monthly | K16: Monthly | L16: Monthly | M16: Monthly | N16: Monthly | O16: Monthly | P16: Monthly | Q16: Monthly | R16: Monthly | S16: Monthly | T16: Monthly
A17: .DATA_TYPE | C17: INDEX | D17: INDEX | E17: INDEX | F17: INDEX | G17: Units | H17: US$ | I17: US$ | J17: US$ | K17: INDEX | L17: Units | M17: US$ | N17: US$ | O17: SCALAR | P17: INDEX | Q17: INDEX | R17: INDEX | S17: INDEX | T17: INDEX
A18: 197001 | B18: 25599 | C18: 48.7 | D18: 45.8 | E18: 50.2 | F18: #N/A | G18: 71176 | H18: 3.31 | I18: 3405.6 | J18: #N/A | K18: 37.8724 | L18: 90 | M18: #N/A | N18: 15824 | O18: 1 | P18: 37.9 | Q18: 39.6 | R18: 39.3 | S18: #N/A | T18: 98.4964
A19: 197002 | B19: 25627 | C19: 47.4 | D19: 45.8 | E19: 48.6 | F19: #N/A | G19: 71304 | H19: 3.33 | I19: 3546.5 | J19: #N/A | K19: 37.8474 | L19: 109 | M19: #N/A | N19: 15987 | O19: 1 | P19: 38.1 | Q19: 39.8 | R19: 39.4 | S19: #N/A | T19: 98.1827
A20: 197003 | B20: 25658 | C20: 46.9 | D20: 45.2 | E20: 51.4 | F20: #N/A | G20: 71452 | H20: 3.35 | I20: 3375 | J20: #N/A | K20: 37.7983 | L20: 110 | M20: #N/A | N20: 17037 | O20: 1 | P20: 38.3 | Q20: 40.1 | R20: 39.6 | S20: #N/A | T20: 97.9191
A21: 197004 | B21: 25688 | C21: 45 | D21: 45.7 | E21: 44.3 | F21: #N/A | G21: 71348 | H21: 3.36 | I21: 3410 | J21: #N/A | K21: 37.7011 | L21: 105 | M21: #N/A | N21: 17345 | O21: 1 | P21: 38.5 | Q21: 40.4 | R21: 39.7 | S21: #N/A | T21: 97.7185
A22: 197005 | B22: 25719 | C22: 47.2 | D22: 45.3 | E22: 40.4 | F22: #N/A | G22: 71123 | H22: 3.38 | I22: 3660.9 | J22: #N/A | K22: 37.6572 | L22: 108 | M22: #N/A | N22: 17302 | O22: 1 | P22: 38.6 | Q22: 40.5 | R22: 39.8 | S22: #N/A | T22: 97.6062
A23: 197006 | B23: 25749 | C23: 51.1 | D23: 53.2 | E23: 45.3 | F23: #N/A | G23: 71029 | H23: 3.39 | I23: 3726.9 | J23: #N/A | K23: 37.5354 | L23: 115 | M23: #N/A | N23: 14639 | O23: 1 | P23: 38.8 | Q23: 40.8 | R23: 39.9 | S23: #N/A | T23: 97.5753
A24: 197007 | B24: 25780 | C24: 49.5 | D24: 52.5 | E24: 45.4 | F24: #N/A | G24: 71053 | H24: 3.41 | I24: 3703.6 | J24: #N/A | K24: 37.6275 | L24: 126 | M24: #N/A | N24: 17934 | O24: 1 | P24: 38.9 | Q24: 40.9 | R24: 40 | S24: #N/A | T24: 97.5968
A25: 197008 | B25: 25811 | C25: 47.3 | D25: 51.8 | E25: 43.8 | F25: #N/A | G25: 70933 | H25: 3.43 | I25: 3591.4 | J25: #N/A | K25: 37.5604 | L25: 117 | M25: #N/A | N25: 17686 | O25: 1 | P25: 39 | Q25: 41.1 | R25: 40.2 | S25: #N/A | T25: 97.6602
A26: 197009 | B26: 25841 | C26: 44.1 | D26: 44.2 | E26: 47.2 | F26: #N/A | G26: 70948 | H26: 3.45 | I26: 3552.7 | J26: #N/A | K26: 37.3015 | L26: 128 | M26: #N/A | N26: 16974 | O26: 1 | P26: 39.2 | Q26: 41.3 | R26: 40.3 | S26: #N/A | T26: 97.7867
A27: 197010 | B27: 25872 | C27: 42.4 | D27: 44.7 | E27: 45.7 | F27: #N/A | G27: 70519 | H27: 3.46 | I27: 3688 | J27: #N/A | K27: 36.5553 | L27: 132 | M27: #N/A | N27: 16630 | O27: 1 | P27: 39.4 | Q27: 41.5 | R27: 40.8 | S27: #N/A | T27: 98.0041
A28: 197011 | B28: 25902 | C28: 39.7 | D28: 43.3 | E28: 46.3 | F28: #N/A | G28: 70409 | H28: 3.47 | I28: 3499.4 | J28: #N/A | K28: 36.3339 | L28: 137 | M28: #N/A | N28: 17731 | O28: 1 | P28: 39.6 | Q28: 41.8 | R28: 41 | S28: #N/A | T28: 98.3455
A29: 197012 | B29: 25933 | C29: 45.4 | D29: 51.2 | E29: 44.4 | F29: #N/A | G29: 70790 | H29: 3.5 | I29: 3569.2 | J29: #N/A | K29: 37.1684 | L29: 158 | M29: #N/A | N29: 16754 | O29: -1 | P29: 39.8 | Q29: 42 | R29: 41.1 | S29: #N/A | T29: 98.7948
... A245: 198812 | B245: 32508 | C245: 56 | D245: 59 | E245: 49.9 | F245: #N/A | G245: 106906 | H245: 9.6 | I245: 29202.9 | J245: #N/A | K245: 61.8936 | L245: 130 | M245: #N/A | N245: 94596 | O245: -1 | P245: 120.7 | Q245: 126 | R245: 116.1 | S245: #N/A | T245: 100.5762
A246: 198901 | B246: 32539 | C246: 54.7 | D246: 57.3 | E246: 46.7 | F246: #N/A | G246: 107168 | H246: 9.65 | I246: 28380.8 | J246: #N/A | K246: 62.0714 | L246: 135 | M246: #N/A | N246: 96973 | O246: -1 | P246: 121.2 | Q246: 126.5 | R246: 116.9 | S246: 94.7 | T246: 100.5089
A247: 198902 | B247: 32567 | C247: 54.1 | D247: 57.3 | E247: 49 | F247: #N/A | G247: 107426 | H247: 9.68 | I247: 28494 | J247: #N/A | K247: 61.806 | L247: 119 | M247: #N/A | N247: 94734 | O247: -1 | P247: 121.6 | Q247: 126.9 | R247: 117.3 | S247: 94.6 | T247: 100.3801
A248: 198903 | B248: 32598 | C248: 51.5 | D248: 52 | E248: 48.3 | F248: #N/A | G248: 107619 | H248: 9.7 | I248: 30659.3 | J248: #N/A | K248: 61.961 | L248: 119 | M248: #N/A | N248: 93205 | O248: -1 | P248: 122.2 | Q248: 127.4 | R248: 117.5 | S248: 95.2 | T248: 100.208
A249: 198904 | B249: 32628 | C249: 52.2 | D249: 53.1 | E249: 47.4 | F249: #N/A | G249: 107792 | H249: 9.75 | I249: 30569.2 | J249: #N/A | K249: 62.0166 | L249: 112 | M249: #N/A | N249: 94208 | O249: -1 | P249: 123.1 | Q249: 127.8 | R249: 117.6 | S249: 94.9 | T249: 100.0234
A250: 198905 | B250: 32659 | C250: 49.3 | D250: 50.7 | E250: 44.9 | F250: #N/A | G250: 107910 | H250: 9.73 | I250: 30689.5 | J250: #N/A | K250: 61.5631 | L250: 111 | M250: #N/A | N250: 94365 | O250: -1 | P250: 123.7 | Q250: 128.3 | R250: 118.3 | S250: 95.2 | T250: 99.8552
A251: 198906 | B251: 32689 | C251: 47.3 | D251: 45.6 | E251: 47.5 | F251: #N/A | G251: 108026 | H251: 9.77 | I251: 31295.3 | J251: #N/A | K251: 61.6029 | L251: 116 | M251: #N/A | N251: 93302 | O251: -1 | P251: 124.1 | Q251: 128.8 | R251: 118.9 | S251: 95.2 | T251: 99.733
A252: 198907 | B252: 32720 | C252: 45.9 | D252: 45.8 | E252: 46.2 | F252: #N/A | G252: 108066 | H252: 9.82 | I252: 29933.6 | J252: #N/A | K252: 61.0102 | L252: 119 | M252: #N/A | N252: 93094 | O252: -1 | P252: 124.5 | Q252: 129.2 | R252: 118.9 | S252: 94.9 | T252: 99.6632
A253: 198908 | B253: 32751 | C253: 45.1 | D253: 45.2 | E253: 43.5 | F253: #N/A | G253: 108115 | H253: 9.83 | I253: 30167.5 | J253: #N/A | K253: 61.5621 | L253: 111 | M253: #N/A | N253: 95103 | O253: -1 | P253: 124.5 | Q253: 129.5 | R253: 119.3 | S253: 94.2 | T253: 99.6414
A254: 198909 | B254: 32781 | C254: 46 | D254: 46 | E254: 44.8 | F254: #N/A | G254: 108365 | H254: 9.87 | I254: 30414.6 | J254: #N/A | K254: 61.3843 | L254: 107 | M254: #N/A | N254: 109773 | O254: -1 | P254: 124.8 | Q254: 129.9 | R254: 119.7 | S254: 94.5 | T254: 99.6597
A255: 198910 | B255: 32812 | C255: 46.8 | D255: 49.3 | E255: 43.8 | F255: #N/A | G255: 108476 | H255: 9.93 | I255: 31159.6 | J255: #N/A | K255: 61.3103 | L255: 118 | M255: #N/A | N255: 96752 | O255: -1 | P255: 125.4 | Q255: 130.6 | R255: 120 | S255: 94.4 | T255: 99.6987
...

Sheet usd_T
A1: Country | C1: USD | D1: =C1 -> USD | E1: =D1 -> USD | F1: =E1 -> USD | G1: =F1 -> USD | H1: =G1 -> USD | I1: =H1 -> USD | J1: =I1 -> USD | K1: =J1 -> USD | ... N1: =M1 -> USD
A2: Category | C2: PMI | D2: NOR | E2: INV | F2: PMN | G2: EMP | H2: EAR | I2: EXP | J2: RET | K2: IND | L2: HOU | M2: IOR | N2: GOV
A3: Frequency | C3: 0 | G3: 0
A4: SA | C4: 1 | G4: 1
A5: Real or nominal | C5: 0 | G5: 0
A6: Transformation | C6: 0 | G6: 1
A7: Ticker | C7: =C1&"_"&C2&"_"&C3&"_"&C4&"_"&C5&"_"&C6 -> USD_PMI_0_1_0_0
A8: 198001 !M | B8: .excel_last | C8: S111VMC@INTSRVYS | D8: S111VMNI@INTSRVYS | E8: S111VMII@INTSRVYS | F8: S111VFC@INTSRVYS | G8: S111ELEN@G10 | H8: S111EH@G10 | I8: S111IX@G10 | J8: S111TRXC@G10 | K8: S111D@G10 | L8: S111HS@G10 | M8: S111TOD@G10 | N8: H111FGE@G10
A9: .DESC | C9: U.S.: ISM Mfg: PMI Composite Index (SA, 50+ = Econ Expand) | D9: U.S.: ISM Mfg: New Orders Index (SA, 50+ = Econ Expand) | E9: U.S.: ISM Mfg: Inventories Index (SA, 50+ = Econ Expand) | F9: US: ISM: Nonmfg: NMI Composite Index (SA, 50+ = Econ Expand) | G9: U.S.: Total Employees on Nonfarm Payrolls (SA, Thous) | H9: U.S.: Average Hourly Earnings: Private Nonfarm Payrolls (SA, $/Hour) | I9: U.S.: Exports of Goods, f.a.s. (SA, Mil.$) | J9: U.S.: Retail Sales & Food Services excl Motor Vehicle & Parts(SA, Mil.Chn.2009$) | K9: U.S.: Industrial Production excluding Construction (SA, 2007=100) | L9: U.S.: Housing Starts (SA, Thous.Units) | M9: U.S.: Manufacturing New Orders: Durable Goods (SA, Mil.$) | N9: U.S.: Federal Outlays (SA, Mil.$)
A10: .T1 | C10: Jan-1948 | D10: Jan-1948 | E10: Jan-1948 | F10: Jul-1997 | G10: Jan-1939 | H10: Jan-1964 | I10: Jan-1948 | J10: Jan-1992 | K10: Jan-1921 | L10: Jan-1959 | M10: Feb-1992 | N10: Jan-1954
A11: .TN | C11: Jul-2014 | D11: Jul-2014 | E11: Jul-2014 | F11: Jul-2014 | G11: Jul-2014 | H11: Jul-2014 | I11: Jun-2014 | J11: Jun-2014 | K11: Jun-2014 | L11: Jun-2014 | M11: Jun-2014 | N11: Jun-2014
A12: .SOURCE | C12: ISM | D12: ISM | E12: ISM | F12: ISM | G12: BLS | H12: BLS | I12: CENSUS | J12: BEA | K12: FRB | L12: CENSUS | M12: CENSUS | N12: TREAS/H
A13: .LSOURCE | C13: Institute for Supply Management | D13: Institute for Supply Management | E13: Institute for Supply Management | F13: Institute for Supply Management | G13: Bureau of Labor Statistics | H13: Bureau of Labor Statistics | I13: Bureau of the Census | J13: Bureau of Economic Analysis | K13: Federal Reserve Board | L13: Census Bureau | M13: Bureau of the Census | N13: U.S. Treasury/Haver Analytics
A14: .AGG | C14: Average | D14: Average | E14: Average | F14: Average | G14: Average | H14: Average | I14: Sum | J14: Sum | K14: Average | L14: Sum | M14: Sum | N14: Sum
A15: .DTLM | C15: Aug-01-2014 10:04 | D15: Aug-01-2014 10:04 | E15: Aug-01-2014 10:04 | F15: Aug-05-2014 10:02 | G15: Aug-01-2014 08:31 | H15: Aug-01-2014 08:31 | I15: Aug-06-2014 08:39 | J15: Aug-04-2014 14:36 | K15: Jul-16-2014 09:19 | L15: Jul-17-2014 08:32 | M15: Aug-05-2014 10:02 | N15: Jul-11-2014 16:23
A16: .FRQ | C16: Monthly | D16: Monthly | E16: Monthly | F16: Monthly | G16: Monthly | H16: Monthly | I16: Monthly | J16: Monthly | K16: Monthly | L16: Monthly | M16: Monthly | N16: Monthly
A17: .DATA_TYPE | C17: INDEX | D17: INDEX | E17: INDEX | F17: INDEX | G17: Units | H17: US$ | I17: US$ | J17: US$ | K17: INDEX | L17: Units | M17: US$ | N17: US$
A18: 198001 | B18: 29251
A19: 198002 | B19: 29280
A20: 198003 | B20: 29311
A21: 198004 | B21: 29341
A22: 198005 | B22: 29372
A23: 198006 | B23: 29402
A24: 198007 | B24: 29433
A25: 198008 | B25: 29464
A26: 198009 | B26: 29494
A27: 198010 | B27: 29525
A28: 198011 | B28: 29555
A29: 198012 | B29: 29586
A30: 198101 | B30: 29617 | C30: =usd!C30 -> 47.9 | D30: =usd!D30 -> 55.4 | E30: =usd!E30 -> 47.4 | F30: =usd!F30 -> #N/A | G30: =(usd!G30/usd!G18-1)*100 -> -0.43554007 | H30: =(usd!H30/usd!H18-1)*100 -> 6.3444109 | I30: =(usd!I30/usd!I18-1)*100 -> 5.7464177 | J30: =(usd!J30/usd!J18-1)*100 -> #N/A | K30: =(usd!K30/usd!K18-1)*100 -> -1.1039702 | L30: =(usd!L30/usd!L18-1)*100 -> 68.888889 | M30: =(usd!M30/usd!M18-1)*100 -> #N/A | N30: =(usd!N30/usd!N18-1)*100 -> 10.401921 | O30: =usd!O30 -> -1
A31: 198102 | B31: 29645 | C31: =usd!C31 -> 54.8 | D31: =usd!D31 -> 62.8 | E31: =usd!E31 -> 48 | F31: =usd!F31 -> #N/A | G31: =(usd!G31/usd!G19-1)*100 -> -0.69841804 | H31: =(usd!H31/usd!H19-1)*100 -> 6.3063063 | I31: =(usd!I31/usd!I19-1)*100 -> 4.1731284 | J31: =(usd!J31/usd!J19-1)*100 -> #N/A | K31: =(usd!K31/usd!K19-1)*100 -> -1.227297 | L31: =(usd!L31/usd!L19-1)*100 -> 33.027523 | M31: =(usd!M31/usd!M19-1)*100 -> #N/A | N31: =(usd!N31/usd!N19-1)*100 -> 10.708701 | O31: =usd!O31 -> -1
A32: 198103 | B32: 29676 | C32: =usd!C32 -> 51.2 | D32: =usd!D32 -> 56.2 | E32: =usd!E32 -> 51.2 | F32: =usd!F32 -> #N/A | G32: =(usd!G32/usd!G20-1)*100 -> -0.82992778 | H32: =(usd!H32/usd!H20-1)*100 -> 6.2686567 | I32: =(usd!I32/usd!I20-1)*100 -> 12.281481 | J32: =(usd!J32/usd!J20-1)*100 -> #N/A | K32: =(usd!K32/usd!K20-1)*100 -> -1.2061389 | L32: =(usd!L32/usd!L20-1)*100 -> 44.545455 | M32: =(usd!M32/usd!M20-1)*100 -> #N/A | N32: =(usd!N32/usd!N20-1)*100 -> 3.8915302 | O32: =usd!O32 -> -1
A33: 198104 | B33: 29706 | C33: =usd!C33 -> 54.5 | D33: =usd!D33 -> 59.6 | E33: =usd!E33 -> 55.5 | F33: =usd!F33 -> #N/A | G33: =(usd!G33/usd!G21-1)*100 -> -0.43589169 | H33: =(usd!H33/usd!H21-1)*100 -> 6.25 | I33: =(usd!I33/usd!I21-1)*100 -> 6.4721408 | J33: =(usd!J33/usd!J21-1)*100 -> #N/A | K33: =(usd!K33/usd!K21-1)*100 -> -0.39521393 | L33: =(usd!L33/usd!L21-1)*100 -> 58.095238 | M33: =(usd!M33/usd!M21-1)*100 -> #N/A | N33: =(usd!N33/usd!N21-1)*100 -> -2.7558374 | O33: =usd!O33 -> -1
A34: 198105 | B34: 29737 | C34: =usd!C34 -> 54.2 | D34: =usd!D34 -> 57 | E34: =usd!E34 -> 55.1 | F34: =usd!F34 -> #N/A | G34: =(usd!G34/usd!G22-1)*100 -> 0.17434585 | H34: =(usd!H34/usd!H22-1)*100 -> 6.5088757 | I34: =(usd!I34/usd!I22-1)*100 -> 2.3327597 | J34: =(usd!J34/usd!J22-1)*100 -> #N/A | K34: =(usd!K34/usd!K22-1)*100 -> 0.22678266 | L34: =(usd!L34/usd!L22-1)*100 -> 58.333333 | M34: =(usd!M34/usd!M22-1)*100 -> #N/A | N34: =(usd!N34/usd!N22-1)*100 -> 8.1204485 | O34: =usd!O34 -> -1
A35: 198106 | B35: 29767 | C35: =usd!C35 -> 53.8 | D35: =usd!D35 -> 57.9 | E35: =usd!E35 -> 59 | F35: =usd!F35 -> #N/A | G35: =(usd!G35/usd!G23-1)*100 -> 0.31536415 | H35: =(usd!H35/usd!H23-1)*100 -> 6.7846608 | I35: =(usd!I35/usd!I23-1)*100 -> -1.4650246 | J35: =(usd!J35/usd!J23-1)*100 -> #N/A | K35: =(usd!K35/usd!K23-1)*100 -> 0.97374745 | L35: =(usd!L35/usd!L23-1)*100 -> 46.956522 | M35: =(usd!M35/usd!M23-1)*100 -> #N/A | N35: =(usd!N35/usd!N23-1)*100 -> 29.68782 | O35: =usd!O35 -> -1
A36: 198107 | B36: 29798 | C36: =usd!C36 -> 54.4 | D36: =usd!D36 -> 57.8 | E36: =usd!E36 -> 58.9 | F36: =usd!F36 -> #N/A | G36: =(usd!G36/usd!G24-1)*100 -> 0.36873883 | H36: =(usd!H36/usd!H24-1)*100 -> 6.4516129 | I36: =(usd!I36/usd!I24-1)*100 -> -3.5316989 | J36: =(usd!J36/usd!J24-1)*100 -> #N/A | K36: =(usd!K36/usd!K24-1)*100 -> 0.43425686 | L36: =(usd!L36/usd!L24-1)*100 -> 38.095238 | M36: =(usd!M36/usd!M24-1)*100 -> #N/A | N36: =(usd!N36/usd!N24-1)*100 -> -0.59105609 | O36: =usd!O36 -> -1
A37: 198108 | B37: 29829 | C37: =usd!C37 -> 53.6 | D37: =usd!D37 -> 58.4 | E37: =usd!E37 -> 50.9 | F37: =usd!F37 -> #N/A | G37: =(usd!G37/usd!G25-1)*100 -> 0.61607432 | H37: =(usd!H37/usd!H25-1)*100 -> 6.7055394 | I37: =(usd!I37/usd!I25-1)*100 -> 2.0911065 | J37: =(usd!J37/usd!J25-1)*100 -> #N/A | K37: =(usd!K37/usd!K25-1)*100 -> 0.029818639 | L37: =(usd!L37/usd!L25-1)*100 -> 53.846154 | M37: =(usd!M37/usd!M25-1)*100 -> #N/A | N37: =(usd!N37/usd!N25-1)*100 -> 10.771231 | O37: =usd!O37 -> -1
A38: 198109 | B38: 29859 | C38: =usd!C38 -> 55.1 | D38: =usd!D38 -> 61 | E38: =usd!E38 -> 40.2 | F38: =usd!F38 -> #N/A | G38: =(usd!G38/usd!G26-1)*100 -> 0.94294413 | H38: =(usd!H38/usd!H26-1)*100 -> 6.3768116 | I38: =(usd!I38/usd!I26-1)*100 -> 26.292679 | J38: =(usd!J38/usd!J26-1)*100 -> #N/A | K38: =(usd!K38/usd!K26-1)*100 -> 2.3610311 | L38: =(usd!L38/usd!L26-1)*100 -> 32.8125 | M38: =(usd!M38/usd!M26-1)*100 -> #N/A | N38: =(usd!N38/usd!N26-1)*100 -> 3.876517 | O38: =usd!O38 -> -1
A39: 198110 | B39: 29890 | C39: =usd!C39 -> 55 | D39: =usd!D39 -> 61.4 | E39: =usd!E39 -> 38.1 | F39: =usd!F39 -> #N/A | G39: =(usd!G39/usd!G27-1)*100 -> 1.5924786 | H39: =(usd!H39/usd!H27-1)*100 -> 6.3583815 | I39: =(usd!I39/usd!I27-1)*100 -> -27.635575 | J39: =(usd!J39/usd!J27-1)*100 -> #N/A | K39: =(usd!K39/usd!K27-1)*100 -> 5.2323466 | L39: =(usd!L39/usd!L27-1)*100 -> 34.090909 | M39: =(usd!M39/usd!M27-1)*100 -> #N/A | N39: =(usd!N39/usd!N27-1)*100 -> 14.996993 | O39: =usd!O39 -> -1
A40: 198111 | B40: 29920 | C40: =usd!C40 -> 52.3 | D40: =usd!D40 -> 55.4 | E40: =usd!E40 -> 41.6 | F40: =usd!F40 -> #N/A | G40: =(usd!G40/usd!G28-1)*100 -> 2.0409323 | H40: =(usd!H40/usd!H28-1)*100 -> 6.3400576 | I40: =(usd!I40/usd!I28-1)*100 -> -8.6786306 | J40: =(usd!J40/usd!J28-1)*100 -> #N/A | K40: =(usd!K40/usd!K28-1)*100 -> 6.3230207 | L40: =(usd!L40/usd!L28-1)*100 -> 32.846715 | M40: =(usd!M40/usd!M28-1)*100 -> #N/A | N40: =(usd!N40/usd!N28-1)*100 -> 6.2602222 | O40: =usd!O40 -> -1
...

Sheet usd_sd
A1: Country | C1: USD | D1: =C1 -> USD | E1: =D1 -> USD | F1: =E1 -> USD | G1: =F1 -> USD | H1: =G1 -> USD | I1: =H1 -> USD | J1: =I1 -> USD | K1: =J1 -> USD | ... N1: =M1 -> USD
A2: Category | C2: PMI | D2: NOR | E2: INV | F2: PMN | G2: EMP | H2: EAR | I2: EXP | J2: RET | K2: IND | L2: HOU | M2: IOR | N2: GOV
A3: Frequency | C3: 0 | D3: 0 | E3: 0 | F3: 0 | G3: 0 | H3: 0 | I3: 0 | J3: 0 | K3: 0 | L3: 0 | M3: 0 | N3: 0
A4: SA | C4: 1 | D4: 1 | E4: 1 | F4: 1 | G4: 1 | H4: 1 | I4: 1 | J4: 1 | K4: 1 | L4: 1 | M4: 1 | N4: 1
A5: Real or nominal | C5: 0 | D5: 0 | E5: 0 | F5: 0 | G5: 0 | H5: 0 | I5: 0 | J5: 0 | K5: 0 | L5: 0 | M5: 0 | N5: 0
A6: Transformation | C6: 0 | D6: 0 | E6: 0 | F6: 0 | G6: 0 | H6: 0 | I6: 0 | J6: 0 | K6: 0 | L6: 0 | M6: 0 | N6: 0
A7: Ticker | C7: =C1&"_"&C2&"_"&C3&"_"&C4&"_"&C5&"_"&C6 -> USD_PMI_0_1_0_0 | D7: =D1&"_"&D2&"_"&D3&"_"&D4&"_"&D5&"_"&D6 -> USD_NOR_0_1_0_0 | E7: =E1&"_"&E2&"_"&E3&"_"&E4&"_"&E5&"_"&E6 -> USD_INV_0_1_0_0 | F7: =F1&"_"&F2&"_"&F3&"_"&F4&"_"&F5&"_"&F6 -> USD_PMN_0_1_0_0 | G7: =G1&"_"&G2&"_"&G3&"_"&G4&"_"&G5&"_"&G6 -> USD_EMP_0_1_0_0 | H7: =H1&"_"&H2&"_"&H3&"_"&H4&"_"&H5&"_"&H6 -> USD_EAR_0_1_0_0 | I7: =I1&"_"&I2&"_"&I3&"_"&I4&"_"&I5&"_"&I6 -> USD_EXP_0_1_0_0 | J7: =J1&"_"&J2&"_"&J3&"_"&J4&"_"&J5&"_"&J6 -> USD_RET_0_1_0_0 | ... N7: =N1&"_"&N2&"_"&N3&"_"&N4&"_"&N5&"_"&N6 -> USD_GOV_0_1_0_0
A8: 198001 !M | B8: .excel_last | C8: S111VMC@INTSRVYS | D8: S111VMNI@INTSRVYS | E8: S111VMII@INTSRVYS | F8: S111VFC@INTSRVYS | G8: S111ELEN@G10 | H8: S111EH@G10 | I8: S111IX@G10 | J8: S111TRXC@G10 | K8: S111D@G10 | L8: S111HS@G10 | M8: S111TOD@G10 | N8: H111FGE@G10
A9: .DESC | C9: U.S.: ISM Mfg: PMI Composite Index (SA, 50+ = Econ Expand) | D9: U.S.: ISM Mfg: New Orders Index (SA, 50+ = Econ Expand) | E9: U.S.: ISM Mfg: Inventories Index (SA, 50+ = Econ Expand) | F9: US: ISM: Nonmfg: NMI Composite Index (SA, 50+ = Econ Expand) | G9: U.S.: Total Employees on Nonfarm Payrolls (SA, Thous) | H9: U.S.: Average Hourly Earnings: Private Nonfarm Payrolls (SA, $/Hour) | I9: U.S.: Exports of Goods, f.a.s. (SA, Mil.$) | J9: U.S.: Retail Sales & Food Services excl Motor Vehicle & Parts(SA, Mil.Chn.2009$) | K9: U.S.: Industrial Production excluding Construction (SA, 2007=100) | L9: U.S.: Housing Starts (SA, Thous.Units) | M9: U.S.: Manufacturing New Orders: Durable Goods (SA, Mil.$) | N9: U.S.: Federal Outlays (SA, Mil.$)
A10: .T1 | C10: Jan-1948 | D10: Jan-1948 | E10: Jan-1948 | F10: Jul-1997 | G10: Jan-1939 | H10: Jan-1964 | I10: Jan-1948 | J10: Jan-1992 | K10: Jan-1921 | L10: Jan-1959 | M10: Feb-1992 | N10: Jan-1954
A11: .TN | C11: Jul-2014 | D11: Jul-2014 | E11: Jul-2014 | F11: Jul-2014 | G11: Jul-2014 | H11: Jul-2014 | I11: Jun-2014 | J11: Jun-2014 | K11: Jun-2014 | L11: Jun-2014 | M11: Jun-2014 | N11: Jun-2014
A12: .SOURCE | C12: ISM | D12: ISM | E12: ISM | F12: ISM | G12: BLS | H12: BLS | I12: CENSUS | J12: BEA | K12: FRB | L12: CENSUS | M12: CENSUS | N12: TREAS/H
A13: .LSOURCE | C13: Institute for Supply Management | D13: Institute for Supply Management | E13: Institute for Supply Management | F13: Institute for Supply Management | G13: Bureau of Labor Statistics | H13: Bureau of Labor Statistics | I13: Bureau of the Census | J13: Bureau of Economic Analysis | K13: Federal Reserve Board | L13: Census Bureau | M13: Bureau of the Census | N13: U.S. Treasury/Haver Analytics
A14: .AGG | C14: Average | D14: Average | E14: Average | F14: Average | G14: Average | H14: Average | I14: Sum | J14: Sum | K14: Average | L14: Sum | M14: Sum | N14: Sum
A15: .DTLM | C15: Aug-01-2014 10:04 | D15: Aug-01-2014 10:04 | E15: Aug-01-2014 10:04 | F15: Aug-05-2014 10:02 | G15: Aug-01-2014 08:31 | H15: Aug-01-2014 08:31 | I15: Aug-06-2014 08:39 | J15: Aug-04-2014 14:36 | K15: Jul-16-2014 09:19 | L15: Jul-17-2014 08:32 | M15: Aug-05-2014 10:02 | N15: Jul-11-2014 16:23
A16: .FRQ | C16: Monthly | D16: Monthly | E16: Monthly | F16: Monthly | G16: Monthly | H16: Monthly | I16: Monthly | J16: Monthly | K16: Monthly | L16: Monthly | M16: Monthly | N16: Monthly
A17: .DATA_TYPE | C17: INDEX | D17: INDEX | E17: INDEX | F17: INDEX | G17: Units | H17: US$ | I17: US$ | J17: US$ | K17: INDEX | L17: Units | M17: US$ | N17: US$ | T17: OECD LEI | U17: Composite Indicator
A18: 198001 | B18: 29251
A19: 198002 | B19: 29280
A20: 198003 | B20: 29311
A21: 198004 | B21: 29341
A22: 198005 | B22: 29372
A23: 198006 | B23: 29402
A24: 198007 | B24: 29433
A25: 198008 | B25: 29464
A26: 198009 | B26: 29494
A27: 198010 | B27: 29525
A28: 198011 | B28: 29555
A29: 198012 | B29: 29586
... A148: 199011 | B148: 33207
A149: 199012 | B149: 33238 | C149: =(usd_T!C149-AVERAGE(usd_T!C30:C149))/STDEV(usd_T!C30:C149) -> -0.21021769 | D149: =(usd_T!D149-AVERAGE(usd_T!D30:D149))/STDEV(usd_T!D30:D149) -> -0.5538871 | E149: =(usd_T!E149-AVERAGE(usd_T!E30:E149))/STDEV(usd_T!E30:E149) -> 0.14748006 | G149: =(usd_T!G149-AVERAGE(usd_T!G30:G149))/STDEV(usd_T!G30:G149) -> -1.0213181 | H149: =(usd_T!H149-AVERAGE(usd_T!H30:H149))/STDEV(usd_T!H30:H149) -> 1.5412724 | I149: =(usd_T!I149-AVERAGE(usd_T!I30:I149))/STDEV(usd_T!I30:I149) -> -0.24466094 | K149: =(usd_T!K149-AVERAGE(usd_T!K30:K149))/STDEV(usd_T!K30:K149) -> -0.66068238 | L149: =(usd_T!L149-AVERAGE(usd_T!L30:L149))/STDEV(usd_T!L30:L149) -> -0.13781059 | N149: =(usd_T!N149-AVERAGE(usd_T!N30:N149))/STDEV(usd_T!N30:N149) -> -0.71746958 | T149: =usd!T149-100 -> 0.242 | U149: =AVERAGE(C149:N149) -> -0.20636599 | V149: =usd_T!O149 -> -1
A150: 199101 | B150: 33269 | C150: =(usd_T!C150-AVERAGE(usd_T!C31:C150))/STDEV(usd_T!C31:C150) -> -0.64460418 | D150: =(usd_T!D150-AVERAGE(usd_T!D31:D150))/STDEV(usd_T!D31:D150) -> -0.8032501 | E150: =(usd_T!E150-AVERAGE(usd_T!E31:E150))/STDEV(usd_T!E31:E150) -> -0.60091911 | G150: =(usd_T!G150-AVERAGE(usd_T!G31:G150))/STDEV(usd_T!G31:G150) -> -1.045692 | H150: =(usd_T!H150-AVERAGE(usd_T!H31:H150))/STDEV(usd_T!H31:H150) -> 2.5479976 | I150: =(usd_T!I150-AVERAGE(usd_T!I31:I150))/STDEV(usd_T!I31:I150) -> -0.63107547 | K150: =(usd_T!K150-AVERAGE(usd_T!K31:K150))/STDEV(usd_T!K31:K150) -> -0.82065538 | L150: =(usd_T!L150-AVERAGE(usd_T!L31:L150))/STDEV(usd_T!L31:L150) -> 0.44409159 | N150: =(usd_T!N150-AVERAGE(usd_T!N31:N150))/STDEV(usd_T!N31:N150) -> 1.7982324 | T150: =usd!T150-100 -> 0.1431 | U150: =AVERAGE(C150:N150) -> 0.027125044 | V150: =usd_T!O150 -> -1
A151: 199102 | B151: 33297 | C151: =(usd_T!C151-AVERAGE(usd_T!C32:C151))/STDEV(usd_T!C32:C151) -> -0.68312786 | D151: =(usd_T!D151-AVERAGE(usd_T!D32:D151))/STDEV(usd_T!D32:D151) -> -0.54719948 | E151: =(usd_T!E151-AVERAGE(usd_T!E32:E151))/STDEV(usd_T!E32:E151) -> -0.86891612 | G151: =(usd_T!G151-AVERAGE(usd_T!G32:G151))/STDEV(usd_T!G32:G151) -> -1.0607334 | H151: =(usd_T!H151-AVERAGE(usd_T!H32:H151))/STDEV(usd_T!H32:H151) -> 2.0408162 | I151: =(usd_T!I151-AVERAGE(usd_T!I32:I151))/STDEV(usd_T!I32:I151) -> -0.15669438 | K151: =(usd_T!K151-AVERAGE(usd_T!K32:K151))/STDEV(usd_T!K32:K151) -> -0.90769256 | L151: =(usd_T!L151-AVERAGE(usd_T!L32:L151))/STDEV(usd_T!L32:L151) -> -0.3695132 | N151: =(usd_T!N151-AVERAGE(usd_T!N32:N151))/STDEV(usd_T!N32:N151) -> 1.0441288 | T151: =usd!T151-100 -> -0.0005 | U151: =AVERAGE(C151:N151) -> -0.16765911 | V151: =usd_T!O151 -> -1
A152: 199103 | B152: 33328 | C152: =(usd_T!C152-AVERAGE(usd_T!C33:C152))/STDEV(usd_T!C33:C152) -> -0.59019031 | D152: =(usd_T!D152-AVERAGE(usd_T!D33:D152))/STDEV(usd_T!D33:D152) -> -0.63339963 | E152: =(usd_T!E152-AVERAGE(usd_T!E33:E152))/STDEV(usd_T!E33:E152) -> -0.57597124 | G152: =(usd_T!G152-AVERAGE(usd_T!G33:G152))/STDEV(usd_T!G33:G152) -> -1.0747057 | H152: =(usd_T!H152-AVERAGE(usd_T!H33:H152))/STDEV(usd_T!H33:H152) -> 1.7218835 | I152: =(usd_T!I152-AVERAGE(usd_T!I33:I152))/STDEV(usd_T!I33:I152) -> -0.15974324 | K152: =(usd_T!K152-AVERAGE(usd_T!K33:K152))/STDEV(usd_T!K33:K152) -> -0.76820764 | L152: =(usd_T!L152-AVERAGE(usd_T!L33:L152))/STDEV(usd_T!L33:L152) -> 0.83120251 | N152: =(usd_T!N152-AVERAGE(usd_T!N33:N152))/STDEV(usd_T!N33:N152) -> -0.043531508 | T152: =usd!T152-100 -> -0.1504 | U152: =AVERAGE(C152:N152) -> -0.14362925 | V152: =usd_T!O152 -> -1
A153: 199104 | B153: 33358 | C153: =(usd_T!C153-AVERAGE(usd_T!C34:C153))/STDEV(usd_T!C34:C153) -> -0.35999702 | D153: =(usd_T!D153-AVERAGE(usd_T!D34:D153))/STDEV(usd_T!D34:D153) -> -0.3305804 | E153: =(usd_T!E153-AVERAGE(usd_T!E34:E153))/STDEV(usd_T!E34:E153) -> -0.59882142 | G153: =(usd_T!G153-AVERAGE(usd_T!G34:G153))/STDEV(usd_T!G34:G153) -> -0.96903482 | H153: =(usd_T!H153-AVERAGE(usd_T!H34:H153))/STDEV(usd_T!H34:H153) -> 1.9861909 | I153: =(usd_T!I153-AVERAGE(usd_T!I34:I153))/STDEV(usd_T!I34:I153) -> -0.75945066 | K153: =(usd_T!K153-AVERAGE(usd_T!K34:K153))/STDEV(usd_T!K34:K153) -> -0.50485877 | L153: =(usd_T!L153-AVERAGE(usd_T!L34:L153))/STDEV(usd_T!L34:L153) -> 0.96547613 | N153: =(usd_T!N153-AVERAGE(usd_T!N34:N153))/STDEV(usd_T!N34:N153) -> -0.148168 | T153: =usd!T153-100 -> -0.3377 | U153: =AVERAGE(C153:N153) -> -0.079916003 | V153: =usd_T!O153 -> -1
A154: 199105 | B154: 33389 | C154: =(usd_T!C154-AVERAGE(usd_T!C35:C154))/STDEV(usd_T!C35:C154) -> -0.14355349 | D154: =(usd_T!D154-AVERAGE(usd_T!D35:D154))/STDEV(usd_T!D35:D154) -> -0.062955711 | E154: =(usd_T!E154-AVERAGE(usd_T!E35:E154))/STDEV(usd_T!E35:E154) -> -0.12036692 | G154: =(usd_T!G154-AVERAGE(usd_T!G35:G154))/STDEV(usd_T!G35:G154) -> -0.74100068 | H154: =(usd_T!H154-AVERAGE(usd_T!H35:H154))/STDEV(usd_T!H35:H154) -> 1.8794829 | I154: =(usd_T!I154-AVERAGE(usd_T!I35:I154))/STDEV(usd_T!I35:I154) -> -0.73135088 | K154: =(usd_T!K154-AVERAGE(usd_T!K35:K154))/STDEV(usd_T!K35:K154) -> 0.012654357 | L154: =(usd_T!L154-AVERAGE(usd_T!L35:L154))/STDEV(usd_T!L35:L154) -> 0.8048116 | N154: =(usd_T!N154-AVERAGE(usd_T!N35:N154))/STDEV(usd_T!N35:N154) -> 0.50608692 | T154: =usd!T154-100 -> -0.5945 | U154: =AVERAGE(C154:N154) -> 0.15597868 | V154: =usd_T!O154 -> -1
A155: 199106 | B155: 33419 | C155: =(usd_T!C155-AVERAGE(usd_T!C36:C155))/STDEV(usd_T!C36:C155) -> -0.45819147 | D155: =(usd_T!D155-AVERAGE(usd_T!D36:D155))/STDEV(usd_T!D36:D155) -> -0.53823784 | E155: =(usd_T!E155-AVERAGE(usd_T!E36:E155))/STDEV(usd_T!E36:E155) -> -0.034646362 | G155: =(usd_T!G155-AVERAGE(usd_T!G36:G155))/STDEV(usd_T!G36:G155) -> -0.47194814 | H155: =(usd_T!H155-AVERAGE(usd_T!H36:H155))/STDEV(usd_T!H36:H155) -> 1.5913572 | I155: =(usd_T!I155-AVERAGE(usd_T!I36:I155))/STDEV(usd_T!I36:I155) -> -0.7385453 | K155: =(usd_T!K155-AVERAGE(usd_T!K36:K155))/STDEV(usd_T!K36:K155) -> 0.30241821 | L155: =(usd_T!L155-AVERAGE(usd_T!L36:L155))/STDEV(usd_T!L36:L155) -> -0.53097118 | N155: =(usd_T!N155-AVERAGE(usd_T!N36:N155))/STDEV(usd_T!N36:N155) -> -0.17449147 | T155: =usd!T155-100 -> -0.9 | U155: =AVERAGE(C155:N155) -> -0.11702848 | V155: =usd_T!O155 -> -1
A156: 199107 | B156: 33450 | C156: =(usd_T!C156-AVERAGE(usd_T!C37:C156))/STDEV(usd_T!C37:C156) -> -0.90163709 | D156: =(usd_T!D156-AVERAGE(usd_T!D37:D156))/STDEV(usd_T!D37:D156) -> -0.87490703 | E156: =(usd_T!E156-AVERAGE(usd_T!E37:E156))/STDEV(usd_T!E37:E156) -> -0.57586877 | G156: =(usd_T!G156-AVERAGE(usd_T!G37:G156))/STDEV(usd_T!G37:G156) -> -0.27774239 | H156: =(usd_T!H156-AVERAGE(usd_T!H37:H156))/STDEV(usd_T!H37:H156) -> 1.5048922 | I156: =(usd_T!I156-AVERAGE(usd_T!I37:I156))/STDEV(usd_T!I37:I156) -> -0.83885891 | K156: =(usd_T!K156-AVERAGE(usd_T!K37:K156))/STDEV(usd_T!K37:K156) -> 0.52236258 | L156: =(usd_T!L156-AVERAGE(usd_T!L37:L156))/STDEV(usd_T!L37:L156) -> -0.70229924 | N156: =(usd_T!N156-AVERAGE(usd_T!N37:N156))/STDEV(usd_T!N37:N156) -> -0.5944325 | T156: =usd!T156-100 -> -1.2156 | U156: =AVERAGE(C156:N156) -> -0.3042768 | V156: =usd_T!O156 -> 1
A157: 199108 | B157: 33481 | C157: =(usd_T!C157-AVERAGE(usd_T!C38:C157))/STDEV(usd_T!C38:C157) -> -0.71422757 | D157: =(usd_T!D157-AVERAGE(usd_T!D38:D157))/STDEV(usd_T!D38:D157) -> -0.90326826 | E157: =(usd_T!E157-AVERAGE(usd_T!E38:E157))/STDEV(usd_T!E38:E157) -> -0.25087562 | G157: =(usd_T!G157-AVERAGE(usd_T!G38:G157))/STDEV(usd_T!G38:G157) -> -0.44397482 | H157: =(usd_T!H157-AVERAGE(usd_T!H38:H157))/STDEV(usd_T!H38:H157) -> 1.7175461 | I157: =(usd_T!I157-AVERAGE(usd_T!I38:I157))/STDEV(usd_T!I38:I157) -> -1.1959296 | K157: =(usd_T!K157-AVERAGE(usd_T!K38:K157))/STDEV(usd_T!K38:K157) -> 0.46353788 | L157: =(usd_T!L157-AVERAGE(usd_T!L38:L157))/STDEV(usd_T!L38:L157) -> -1.3311548 | N157: =(usd_T!N157-AVERAGE(usd_T!N38:N157))/STDEV(usd_T!N38:N157) -> -0.58777157 | T157: =usd!T157-100 -> -1.5363 | U157: =AVERAGE(C157:N157) -> -0.36067981 | V157: =usd_T!O157 -> 1
A158: 199109 | B158: 33511 | C158: =(usd_T!C158-AVERAGE(usd_T!C39:C158))/STDEV(usd_T!C39:C158) -> -1.3463617 | D158: =(usd_T!D158-AVERAGE(usd_T!D39:D158))/STDEV(usd_T!D39:D158) -> -1.3860844 | E158: =(usd_T!E158-AVERAGE(usd_T!E39:E158))/STDEV(usd_T!E39:E158) -> -0.85249812 | G158: =(usd_T!G158-AVERAGE(usd_T!G39:G158))/STDEV(usd_T!G39:G158) -> -0.55456904 | H158: =(usd_T!H158-AVERAGE(usd_T!H39:H158))/STDEV(usd_T!H39:H158) -> 1.6278949 | I158: =(usd_T!I158-AVERAGE(usd_T!I39:I158))/STDEV(usd_T!I39:I158) -> -0.92991352 | K158: =(usd_T!K158-AVERAGE(usd_T!K39:K158))/STDEV(usd_T!K39:K158) -> 0.068324054 | L158: =(usd_T!L158-AVERAGE(usd_T!L39:L158))/STDEV(usd_T!L39:L158) -> -1.4279781 | N158: =(usd_T!N158-AVERAGE(usd_T!N39:N158))/STDEV(usd_T!N39:N158) -> 0.23357105 | T158: =usd!T158-100 -> -1.8788 | U158: =AVERAGE(C158:N158) -> -0.50751276 | V158: =usd_T!O158 -> 1
...
