Workbook

Sheet Factor portfolios
A1: Date | B1: Mkt-RF_EU | C1: SMB_EU | D1: HML_EU | E1: WML_EU
A2: 199012 | B2: -0.015621381 | C2: 0.0060814703 | D2: 0.0078689584 | E2: 0.0053854723
A3: 199101 | B3: 0.015873349 | C3: -0.045625178 | D3: -0.0026033859 | E3: -0.019386714
A4: 199102 | B4: 0.070458464 | C4: 0.010445258 | D4: 0.0084640784 | E4: -0.08077631
A5: 199103 | B5: -0.070207895 | C5: 0.02644717 | D5: -0.0056157388 | E5: -0.0076290272
A6: 199104 | B6: -0.0074275158 | C6: -0.0036064956 | D6: -0.0092425814 | E6: 0.013804281
A7: 199105 | B7: 0.0065783154 | C7: -0.032833157 | D7: 0.0046889895 | E7: -0.0095454128
A8: 199106 | B8: -0.077313103 | C8: 0.0079681696 | D8: -0.0034057931 | E8: 0.0042907814
A9: 199107 | B9: 0.053066721 | C9: -0.032833157 | D9: -0.0044097085 | E9: 0.057419491
A10: 199108 | B10: 0.013902905 | C10: -0.0062192998 | D10: -0.0032051309 | E10: 0.017152059
A11: 199109 | B11: 0.029170377 | C11: 0.020782539 | D11: -0.006118681 | E11: 0.041717593
A12: 199110 | B12: -0.027885203 | C12: -0.0079313703 | D12: -0.006118681 | E12: 0.0303352
A13: 199111 | B13: -0.02306394 | C13: 0.0031948909 | D13: -0.017247893 | E13: 0.0035935355
... A283: 201405 | B283: 0.0075712655 | C283: -0.006521217 | D283: -0.0056157388 | E283: -0.0036064956

Sheet Rf
A1: RF
A2: 0.0056838165
A3: 0.0059820717
A4: 0.0051865267
A5: 0.0047885167
A6: 0.0043903483
A7: 0.0052860044
A8: 0.0046889895
A9: 0.0041912046
A10: 0.0048880341
A11: 0.0045894523
A12: 0.0045894523
A13: 0.0041912046
... A284: 0

Sheet Raw data mutual funds
A1: Date | B1: GF_01 | C1: GF_02 | D1: GF_03 | E1: GF_04 | F1: GF_05 | G1: GF_06 | H1: GF_07 | I1: GF_08 | J1: GF_09 | K1: GF_10 | L1: GF_11 | M1: GF_12 | N1: GF_13 | O1: GF_14 | P1: GF_15 | Q1: GF_16 | R1: GF_17 | S1: GF_18 | T1: GF_19 | U1: GF_20 | V1: GF_21 | W1: GF_22 | X1: GF_23 | Y1: GF_24 | Z1: GF_25 | AA1: GF_26 | AB1: GF_27 | AC1: GF_28 | AD1: GF_29 | AE1: GF_30 | AF1: GF_31 | AG1: GF_32 | AH1: GF_33 | AI1: GF_34 | AJ1: GF_35 | AK1: GF_36 | AL1: GF_37 | AM1: GF_38 | AN1: GF_39 | AO1: GF_40 | AP1: GF_41 | AQ1: GF_42 | AR1: GF_43 | AS1: GF_44 | AT1: GF_45 | AU1: GF_46 | AV1: GF_47 | AW1: GF_48 | AX1: GF_49 | AY1: GF_50 | AZ1: GF_51 | BA1: GF_52 | BB1: GF_53 | BC1: GF_54 | BD1: GF_55 | BE1: GF_56 | BF1: GF_57 | BG1: GF_58 | BH1: GF_59 | BI1: GF_60 | BJ1: GF_61 | BK1: GF_62 | BL1: GF_63 | BM1: GF_64 | BN1: GF_65 | BO1: GF_66 | BP1: GF_67 | BQ1: GF_68 | BR1: GF_69 | BS1: GF_70 | BT1: GF_71 | BU1: GF_72 | BV1: GF_73 | BW1: GF_74 | BX1: GF_75 | BY1: GF_76 | BZ1: GF_77 | CA1: GF_78 | CB1: GF_79 | CC1: GF_80 | CD1: GF_81 | CE1: GF_82 | CF1: GF_83 | CG1: GF_84 | CH1: GF_85 | CI1: GF_86 | CJ1: GF_87 | CK1: GF_88 | CL1: GF_89 | CM1: GF_90 | CN1: GF_91 | CO1: GF_92 | CP1: GF_93 | CQ1: GF_94 | CR1: GF_95 | CS1: GF_96 | CT1: GF_97 | CU1: GF_98 | CV1: GF_99 | CW1: GF_100 | CX1: GF_101 | CY1: GF_102 | CZ1: GF_103 | DA1: GF_104 | DB1: GF_105 | DC1: GF_106 | DD1: GF_107 | DE1: GF_108 | DF1: GF_109 | DG1: GF_110 | DH1: GF_111 | DI1: GF_112 | DJ1: GF_113 | DK1: GF_114 | DL1: GF_115 | DM1: GF_116 | DN1: GF_117 | DO1: GF_118 | DP1: GF_119 | DQ1: GF_120 | DR1: GF_121 | DS1: GF_122 | DT1: GF_123 | DU1: GF_124 | DV1: GF_125 | DW1: GF_126 | DX1: GF_127 | DY1: GF_128 | DZ1: GF_129 | EA1: GF_130 | EB1: GF_131 | EC1: GF_132 | ED1: GF_133 | EE1: GF_134 | EF1: GF_135 | EG1: GF_136 | EH1: GF_137 | EI1: GF_138 | EJ1: GF_139 | EK1: GF_140 | EL1: GF_141 | EM1: GF_142 | EN1: GF_143 | EO1: GF_144 | EP1: GF_145 | EQ1: GF_146 | ER1: GF_147 | ES1: GF_148 | ET1: GF_149 | EU1: GF_150 | EV1: GF_151 | EW1: GF_152 | EX1: GF_153 | EY1: GF_154 | EZ1: GF_155 | FA1: GF_156 | FB1: GF_157 | FC1: GF_158 | FD1: GF_159 | FE1: GF_160 | FF1: GF_161 | FG1: GF_162 | FH1: GF_163 | FI1: GF_164 | FJ1: GF_165 | FK1: GF_166 | FL1: GF_167 | FM1: GF_168 | FN1: GF_169 | FO1: GF_170 | FP1: GF_171 | FQ1: GF_172 | FR1: GF_173 | FS1: GF_174 | FT1: GF_175 | FU1: GF_176 | FV1: GF_177 | FW1: GF_178 | FX1: GF_179 | FY1: GF_180 | FZ1: GF_181 | GA1: GF_182 | GB1: GF_183 | GC1: GF_184 | GD1: GF_185 | GE1: GF_186
A2: 33178 | BB2: 147.03 | DB2: 119.62 | EC2: 110.37 | EV2: 86.68
A3: 33208 | AX3: 99.66 | BB3: 146.29 | DB3: 119.35 | EC3: 105.53 | EV3: 87.89
A4: 33239 | AX4: 102.98 | BB4: 146.52 | DB4: 121.31 | EC4: 107.07 | EV4: 88.52
A5: 33270 | AX5: 106.76 | BB5: 142.93 | DB5: 124.66 | EC5: 103.73 | EV5: 90.97
A6: 33298 | AX6: 114.71 | BB6: 156.17 | DB6: 138.52 | EC6: 116.19 | EV6: 99.37
A7: 33329 | AX7: 122.5 | BB7: 171.33 | DB7: 145.98 | EC7: 126.18 | EV7: 106.61
A8: 33359 | AX8: 124.09 | BB8: 168.4 | DB8: 146.73 | EC8: 127.32 | EV8: 110.18
A9: 33390 | AX9: 124.55 | BB9: 173.27 | DB9: 149.26 | EC9: 129.49 | EV9: 110.34
A10: 33420 | AX10: 125.23 | BB10: 170.73 | DB10: 144.25 | EC10: 130.8 | EV10: 109.42
A11: 33451 | AX11: 123.07 | BB11: 169.57 | DB11: 149.34 | EC11: 127.17 | EV11: 110.3
A12: 33482 | AX12: 121.68 | BB12: 174.11 | BY12: 100.03 | DB12: 152.77 | EC12: 127.57 | EV12: 111.6
A13: 33512 | AX13: 117.83 | BB13: 176.98 | BY13: 100.42 | DB13: 155.23 | EC13: 124.74 | EV13: 112.44
A14: 33543 | AX14: 117.89 | BB14: 175.05 | BY14: 100.76 | DB14: 153.79 | EC14: 124.36 | EV14: 113.41
A15: 33573 | AX15: 111.28 | BB15: 169.62 | BY15: 99.73 | DB15: 146.57 | EC15: 113.37 | EV15: 107.74
A16: 33604 | AX16: 106.69 | BB16: 165 | BY16: 100.11 | DB16: 143.11 | EC16: 111.45 | EV16: 106.13
A17: 33635 | AX17: 115.91 | BB17: 171.08 | BY17: 103.31 | DB17: 154.56 | EC17: 122.12 | EV17: 113.2
A18: 33664 | AX18: 116.63 | BB18: 175.17 | BY18: 103.85 | DB18: 155.77 | EC18: 127.56 | EV18: 116.81
A19: 33695 | AX19: 106.6 | BB19: 168.91 | BY19: 101.97 | DB19: 151.21 | EC19: 117.46 | EV19: 113.46
A20: 33725 | AX20: 106.57 | BB20: 185.47 | BY20: 104.19 | DB20: 168.63 | EC20: 118.54 | EV20: 113.8
A21: 33756 | AX21: 109.47 | BB21: 186.67 | BG21: 99.78 | BY21: 105.12 | DB21: 172.52 | EC21: 121.71 | EV21: 115.13
A22: 33786 | AX22: 102.66 | BB22: 177.57 | BG22: 96.15 | BY22: 103.11 | DB22: 162.35 | EC22: 111.96 | EV22: 106.5
A23: 33817 | AX23: 96.8 | BB23: 166.16 | BG23: 92.21 | BY23: 100.01 | DB23: 149.05 | EC23: 106.46 | EV23: 103.14
A24: 33848 | AX24: 90 | BB24: 159.5 | BG24: 87.09 | BY24: 96.46 | DB24: 138.81 | EC24: 101.68 | EV24: 98.27
A25: 33878 | AX25: 89.84 | BB25: 160.74 | BG25: 85.73 | BY25: 95.31 | DB25: 139.8 | DC25: 98.54 | EC25: 105.51 | EV25: 100.05
A26: 33909 | AX26: 96.82 | BB26: 166.99 | BG26: 89.95 | BY26: 96.7 | DB26: 137.35 | DC26: 103.07 | EC26: 113.26 | EV26: 106.03
A27: 33939 | AX27: 100.31 | BB27: 177.91 | BG27: 93.39 | BY27: 98.82 | DB27: 143.24 | DC27: 104.34 | EC27: 125.11 | EV27: 112.35
A28: 33970 | AX28: 98.12 | BB28: 184.57 | BG28: 94.74 | BY28: 100.2 | DB28: 156.22 | DC28: 104.39 | EC28: 130.37 | EV28: 116.54
A29: 34001 | AX29: 100.34 | BB29: 185.59 | BG29: 97.34 | BY29: 100.74 | DB29: 157.56 | DC29: 110.91 | EC29: 136.3 | EV29: 117.32
A30: 34029 | AX30: 100.88 | BB30: 192.17 | BG30: 100.12 | BY30: 102.79 | DB30: 158.77 | DC30: 111.44 | EC30: 141.04 | EV30: 121.22
A31: 34060 | AX31: 99.94 | BB31: 201.52 | BG31: 99.82 | BY31: 104.74 | DB31: 167.26 | DC31: 111.12 | EC31: 146.41 | EV31: 126.76
A32: 34090 | AX32: 96.73 | BB32: 198.64 | BG32: 97.58 | BY32: 102.04 | DB32: 167.7 | DC32: 107.1 | EC32: 146.48 | EV32: 125.42
A33: 34121 | AX33: 98.87 | BB33: 201.42 | BG33: 99.6 | BY33: 103.85 | DB33: 168.01 | DC33: 108.04 | EC33: 149.47 | EV33: 132.39
A34: 34151 | AX34: 99.01 | BB34: 210.35 | BG34: 100.32 | BY34: 103.64 | DB34: 175.88 | DC34: 109.33 | EC34: 153.43 | EV34: 136.79
A35: 34182 | AX35: 100.28 | BB35: 218.69 | BG35: 106.99 | BY35: 105.19 | DB35: 181.54 | DC35: 111.61 | EC35: 158.69 | EV35: 141.69
A36: 34213 | AX36: 98.41 | BB36: 226.68 | BG36: 107.12 | BY36: 107.21 | DB36: 185.59 | DC36: 113.31 | EC36: 161.15 | EV36: 147.62
... A46: 34516 | AX46: 87.31 | BB46: 225.91 | BG46: 96.29 | BY46: 101.02 | DB46: 181.2 | DC46: 106.93 | EC46: 152.74 | EV46: 139.44
A47: 34547 | AX47: 87.94 | BB47: 226.98 | BG47: 95.74 | BY47: 103.71 | DB47: 185.61 | DC47: 107.76 | EC47: 153.15 | EV47: 143.57 | FL47: 100.17
A48: 34578 | AX48: 89.97 | BB48: 240.19 | BG48: 96.77 | BY48: 105.11 | DB48: 197.5 | DC48: 109.9 | EC48: 155.37 | EV48: 146.1 | FL48: 102.27
A49: 34608 | AX49: 86.54 | BB49: 227.95 | BG49: 93.44 | BY49: 101.56 | DB49: 186.6 | DC49: 106.05 | EC49: 149.89 | EV49: 140.24 | FL49: 102.01
...

Sheet LN
A1: Name | B1: GF_01 | C1: GF_02 | D1: GF_03 | E1: GF_04 | F1: GF_05 | G1: GF_06 | H1: GF_07 | I1: GF_08 | J1: GF_09 | K1: GF_10 | L1: GF_11 | M1: GF_12 | N1: GF_13 | O1: GF_14 | P1: GF_15 | Q1: GF_16 | R1: GF_17 | S1: GF_18 | T1: GF_19 | U1: GF_20 | V1: GF_21 | W1: GF_22 | X1: GF_23 | Y1: GF_24 | Z1: GF_25 | AA1: GF_26 | AB1: GF_27 | AC1: GF_28 | AD1: GF_29 | AE1: GF_30 | AF1: GF_31 | AG1: GF_32 | AH1: GF_33 | AI1: GF_34 | AJ1: GF_35 | AK1: GF_36 | AL1: GF_37 | AM1: GF_38 | AN1: GF_39 | AO1: GF_40 | AP1: GF_41 | AQ1: GF_42 | AR1: GF_43 | AS1: GF_44 | AT1: GF_45 | AU1: GF_46 | AV1: GF_47 | AW1: GF_48 | AX1: GF_49 | AY1: GF_50 | AZ1: GF_51 | BA1: GF_52 | BB1: GF_53 | BC1: GF_54 | BD1: GF_55 | BE1: GF_56 | BF1: GF_57 | BG1: GF_58 | BH1: GF_59 | BI1: GF_60 | BJ1: GF_61 | BK1: GF_62 | BL1: GF_63 | BM1: GF_64 | BN1: GF_65 | BO1: GF_66 | BP1: GF_67 | BQ1: GF_68 | BR1: GF_69 | BS1: GF_70 | BT1: GF_71 | BU1: GF_72 | BV1: GF_73 | BW1: GF_74 | BX1: GF_75 | BY1: GF_76 | BZ1: GF_77 | CA1: GF_78 | CB1: GF_79 | CC1: GF_80 | CD1: GF_81 | CE1: GF_82 | CF1: GF_83 | CG1: GF_84 | CH1: GF_85 | CI1: GF_86 | CJ1: GF_87 | CK1: GF_88 | CL1: GF_89 | CM1: GF_90 | CN1: GF_91 | CO1: GF_92 | CP1: GF_93 | CQ1: GF_94 | CR1: GF_95 | CS1: GF_96 | CT1: GF_97 | CU1: GF_98 | CV1: GF_99 | CW1: GF_100 | CX1: GF_101 | CY1: GF_102 | CZ1: GF_103 | DA1: GF_104 | DB1: GF_105 | DC1: GF_106 | DD1: GF_107 | DE1: GF_108 | DF1: GF_109 | DG1: GF_110 | DH1: GF_111 | DI1: GF_112 | DJ1: GF_113 | DK1: GF_114 | DL1: GF_115 | DM1: GF_116 | DN1: GF_117 | DO1: GF_118 | DP1: GF_119 | DQ1: GF_120 | DR1: GF_121 | DS1: GF_122 | DT1: GF_123 | DU1: GF_124 | DV1: GF_125 | DW1: GF_126 | DX1: GF_127 | DY1: GF_128 | DZ1: GF_129 | EA1: GF_130 | EB1: GF_131 | EC1: GF_132 | ED1: GF_133 | EE1: GF_134 | EF1: GF_135 | EG1: GF_136 | EH1: GF_137 | EI1: GF_138 | EJ1: GF_139 | EK1: GF_140 | EL1: GF_141 | EM1: GF_142 | EN1: GF_143 | EO1: GF_144 | EP1: GF_145 | EQ1: GF_146 | ER1: GF_147 | ES1: GF_148 | ET1: GF_149 | EU1: GF_150 | EV1: GF_151 | EW1: GF_152 | EX1: GF_153 | EY1: GF_154 | EZ1: GF_155 | FA1: GF_156 | FB1: GF_157 | FC1: GF_158 | FD1: GF_159 | FE1: GF_160 | FF1: GF_161 | FG1: GF_162 | FH1: GF_163 | FI1: GF_164 | FJ1: GF_165 | FK1: GF_166 | FL1: GF_167 | FM1: GF_168 | FN1: GF_169 | FO1: GF_170 | FP1: GF_171 | FQ1: GF_172 | FR1: GF_173 | FS1: GF_174 | FT1: GF_175 | FU1: GF_176 | FV1: GF_177 | FW1: GF_178 | FX1: GF_179 | FY1: GF_180 | FZ1: GF_181 | GA1: GF_182 | GB1: GF_183 | GC1: GF_184 | GD1: GF_185 | GE1: GF_186
A2: 33178 | B2: =LN('Raw data mutual funds'!B3) -> #NUM! | C2: =LN('Raw data mutual funds'!C3) -> #NUM! | D2: =LN('Raw data mutual funds'!D3) -> #NUM! | E2: =LN('Raw data mutual funds'!E3) -> #NUM! | F2: =LN('Raw data mutual funds'!F3) -> #NUM! | G2: =LN('Raw data mutual funds'!G3) -> #NUM! | H2: =LN('Raw data mutual funds'!H3) -> #NUM! | I2: =LN('Raw data mutual funds'!I3) -> #NUM! | ... GE2: =LN('Raw data mutual funds'!GE3) -> #NUM!
A3: 33208 | B3: =LN('Raw data mutual funds'!B4) -> #NUM! | C3: =LN('Raw data mutual funds'!C4) -> #NUM! | D3: =LN('Raw data mutual funds'!D4) -> #NUM! | E3: =LN('Raw data mutual funds'!E4) -> #NUM! | F3: =LN('Raw data mutual funds'!F4) -> #NUM! | G3: =LN('Raw data mutual funds'!G4) -> #NUM! | H3: =LN('Raw data mutual funds'!H4) -> #NUM! | I3: =LN('Raw data mutual funds'!I4) -> #NUM! | ... GE3: =LN('Raw data mutual funds'!GE4) -> #NUM!
A4: 33239 | B4: =LN('Raw data mutual funds'!B5) -> #NUM! | C4: =LN('Raw data mutual funds'!C5) -> #NUM! | D4: =LN('Raw data mutual funds'!D5) -> #NUM! | E4: =LN('Raw data mutual funds'!E5) -> #NUM! | F4: =LN('Raw data mutual funds'!F5) -> #NUM! | G4: =LN('Raw data mutual funds'!G5) -> #NUM! | H4: =LN('Raw data mutual funds'!H5) -> #NUM! | I4: =LN('Raw data mutual funds'!I5) -> #NUM! | ... GE4: =LN('Raw data mutual funds'!GE5) -> #NUM!
A5: 33270 | B5: =LN('Raw data mutual funds'!B6) -> #NUM! | C5: =LN('Raw data mutual funds'!C6) -> #NUM! | D5: =LN('Raw data mutual funds'!D6) -> #NUM! | E5: =LN('Raw data mutual funds'!E6) -> #NUM! | F5: =LN('Raw data mutual funds'!F6) -> #NUM! | G5: =LN('Raw data mutual funds'!G6) -> #NUM! | H5: =LN('Raw data mutual funds'!H6) -> #NUM! | I5: =LN('Raw data mutual funds'!I6) -> #NUM! | ... GE5: =LN('Raw data mutual funds'!GE6) -> #NUM!
A6: 33298 | B6: =LN('Raw data mutual funds'!B7) -> #NUM! | C6: =LN('Raw data mutual funds'!C7) -> #NUM! | D6: =LN('Raw data mutual funds'!D7) -> #NUM! | E6: =LN('Raw data mutual funds'!E7) -> #NUM! | F6: =LN('Raw data mutual funds'!F7) -> #NUM! | G6: =LN('Raw data mutual funds'!G7) -> #NUM! | H6: =LN('Raw data mutual funds'!H7) -> #NUM! | I6: =LN('Raw data mutual funds'!I7) -> #NUM! | ... GE6: =LN('Raw data mutual funds'!GE7) -> #NUM!
A7: 33329 | B7: =LN('Raw data mutual funds'!B8) -> #NUM! | C7: =LN('Raw data mutual funds'!C8) -> #NUM! | D7: =LN('Raw data mutual funds'!D8) -> #NUM! | E7: =LN('Raw data mutual funds'!E8) -> #NUM! | F7: =LN('Raw data mutual funds'!F8) -> #NUM! | G7: =LN('Raw data mutual funds'!G8) -> #NUM! | H7: =LN('Raw data mutual funds'!H8) -> #NUM! | I7: =LN('Raw data mutual funds'!I8) -> #NUM! | ... GE7: =LN('Raw data mutual funds'!GE8) -> #NUM!
A8: 33359 | B8: =LN('Raw data mutual funds'!B9) -> #NUM! | C8: =LN('Raw data mutual funds'!C9) -> #NUM! | D8: =LN('Raw data mutual funds'!D9) -> #NUM! | E8: =LN('Raw data mutual funds'!E9) -> #NUM! | F8: =LN('Raw data mutual funds'!F9) -> #NUM! | G8: =LN('Raw data mutual funds'!G9) -> #NUM! | H8: =LN('Raw data mutual funds'!H9) -> #NUM! | I8: =LN('Raw data mutual funds'!I9) -> #NUM! | ... GE8: =LN('Raw data mutual funds'!GE9) -> #NUM!
A9: 33390 | B9: =LN('Raw data mutual funds'!B10) -> #NUM! | C9: =LN('Raw data mutual funds'!C10) -> #NUM! | D9: =LN('Raw data mutual funds'!D10) -> #NUM! | E9: =LN('Raw data mutual funds'!E10) -> #NUM! | F9: =LN('Raw data mutual funds'!F10) -> #NUM! | G9: =LN('Raw data mutual funds'!G10) -> #NUM! | H9: =LN('Raw data mutual funds'!H10) -> #NUM! | I9: =LN('Raw data mutual funds'!I10) -> #NUM! | ... GE9: =LN('Raw data mutual funds'!GE10) -> #NUM!
A10: 33420 | B10: =LN('Raw data mutual funds'!B11) -> #NUM! | C10: =LN('Raw data mutual funds'!C11) -> #NUM! | D10: =LN('Raw data mutual funds'!D11) -> #NUM! | E10: =LN('Raw data mutual funds'!E11) -> #NUM! | F10: =LN('Raw data mutual funds'!F11) -> #NUM! | G10: =LN('Raw data mutual funds'!G11) -> #NUM! | H10: =LN('Raw data mutual funds'!H11) -> #NUM! | I10: =LN('Raw data mutual funds'!I11) -> #NUM! | ... GE10: =LN('Raw data mutual funds'!GE11) -> #NUM!
A11: 33451 | B11: =LN('Raw data mutual funds'!B12) -> #NUM! | C11: =LN('Raw data mutual funds'!C12) -> #NUM! | D11: =LN('Raw data mutual funds'!D12) -> #NUM! | E11: =LN('Raw data mutual funds'!E12) -> #NUM! | F11: =LN('Raw data mutual funds'!F12) -> #NUM! | G11: =LN('Raw data mutual funds'!G12) -> #NUM! | H11: =LN('Raw data mutual funds'!H12) -> #NUM! | I11: =LN('Raw data mutual funds'!I12) -> #NUM! | ... GE11: =LN('Raw data mutual funds'!GE12) -> #NUM!
A12: 33482 | B12: =LN('Raw data mutual funds'!B13) -> #NUM! | C12: =LN('Raw data mutual funds'!C13) -> #NUM! | D12: =LN('Raw data mutual funds'!D13) -> #NUM! | E12: =LN('Raw data mutual funds'!E13) -> #NUM! | F12: =LN('Raw data mutual funds'!F13) -> #NUM! | G12: =LN('Raw data mutual funds'!G13) -> #NUM! | H12: =LN('Raw data mutual funds'!H13) -> #NUM! | I12: =LN('Raw data mutual funds'!I13) -> #NUM! | ... GE12: =LN('Raw data mutual funds'!GE13) -> #NUM!
A13: 33512 | B13: =LN('Raw data mutual funds'!B14) -> #NUM! | C13: =LN('Raw data mutual funds'!C14) -> #NUM! | D13: =LN('Raw data mutual funds'!D14) -> #NUM! | E13: =LN('Raw data mutual funds'!E14) -> #NUM! | F13: =LN('Raw data mutual funds'!F14) -> #NUM! | G13: =LN('Raw data mutual funds'!G14) -> #NUM! | H13: =LN('Raw data mutual funds'!H14) -> #NUM! | I13: =LN('Raw data mutual funds'!I14) -> #NUM! | ... GE13: =LN('Raw data mutual funds'!GE14) -> #NUM!
... A284: 41760 | B284: =LN('Raw data mutual funds'!B285) -> #NUM! | C284: =LN('Raw data mutual funds'!C285) -> #NUM! | D284: =LN('Raw data mutual funds'!D285) -> #NUM! | E284: =LN('Raw data mutual funds'!E285) -> #NUM! | F284: =LN('Raw data mutual funds'!F285) -> #NUM! | G284: =LN('Raw data mutual funds'!G285) -> #NUM! | H284: =LN('Raw data mutual funds'!H285) -> #NUM! | I284: =LN('Raw data mutual funds'!I285) -> #NUM! | ... GE284: =LN('Raw data mutual funds'!GE285) -> #NUM!

Sheet Excess return
A1: Date | B1: GF_GL01 | C1: GF_GL02 | D1: GF_GL03 | E1: GF_GL04 | F1: GF_GL05 | G1: GF_GL06 | H1: GF_GL07 | I1: GF_GL08 | J1: GF_GL09 | K1: GF_GL10 | L1: GF_GL11 | M1: GF_GL12 | N1: GF_GL13 | O1: GF_GL14 | P1: GF_GL15 | Q1: GF_GL16 | R1: GF_GL17 | S1: GF_GL18 | T1: GF_GL19 | U1: GF_GL20 | V1: GF_GL21 | W1: GF_GL22 | X1: GF_GL23 | Y1: GF_GL24 | Z1: GF_GL25 | AA1: GF_GL26 | AB1: GF_GL27 | AC1: GF_GL28 | AD1: GF_GL29 | AE1: GF_GL30 | AF1: GF_GL31 | AG1: GF_GL32 | AH1: GF_GL33 | AI1: GF_GL34 | AJ1: GF_GL35 | AK1: GF_GL36 | AL1: GF_GL37 | AM1: GF_GL38 | AN1: GF_GL39 | AO1: GF_GL40 | AP1: GF_GL41 | AQ1: GF_GL42 | AR1: GF_GL43 | AS1: GF_GL44 | AT1: GF_GL45 | AU1: GF_GL46 | AV1: GF_GL47 | AW1: GF_GL48 | AX1: GF_GL49 | AY1: GF_GL50 | AZ1: GF_GL51 | BA1: GF_GL52 | BB1: GF_GL53 | BC1: GF_GL54 | BD1: GF_GL55 | BE1: GF_GL56 | BF1: GF_GL57 | BG1: GF_GL58 | BH1: GF_GL59 | BI1: GF_GL60 | BJ1: GF_GL61 | BK1: GF_GL62 | BL1: GF_GL63 | BM1: GF_GL64 | BN1: GF_GL65 | BO1: GF_GL66 | BP1: GF_GL67 | BQ1: GF_GL68 | BR1: GF_GL69 | BS1: GF_GL70 | BT1: GF_GL71 | BU1: GF_GL72 | BV1: GF_GL73 | BW1: GF_GL74 | BX1: GF_GL75 | BY1: GF_GL76 | BZ1: GF_GL77 | CA1: GF_GL78 | CB1: GF_GL79 | CC1: GF_GL80 | CD1: GF_GL81 | CE1: GF_GL82 | CF1: GF_GL83 | CG1: GF_GL84 | CH1: GF_GL85 | CI1: GF_GL86 | CJ1: GF_GL87 | CK1: GF_GL88 | CL1: GF_GL89 | CM1: GF_GL90 | CN1: GF_GL91 | CO1: GF_GL92 | CP1: GF_GL93 | CQ1: GF_GL94 | CR1: GF_GL95 | CS1: GF_GL96 | CT1: GF_GL97 | CU1: GF_GL98 | CV1: GF_GL99 | CW1: GF_GL100 | CX1: GF_GL101 | CY1: GF_GL102 | CZ1: GF_GL103 | DA1: GF_GL104 | DB1: GF_GL105 | DC1: GF_GL106 | DD1: GF_GL107 | DE1: GF_GL108 | DF1: GF_GL109 | DG1: GF_GL110 | DH1: GF_GL111 | DI1: GF_GL112 | DJ1: GF_GL113 | DK1: GF_GL114 | DL1: GF_GL115 | DM1: GF_GL116 | DN1: GF_GL117 | DO1: GF_GL118 | DP1: GF_GL119 | DQ1: GF_GL120 | DR1: GF_GL121 | DS1: GF_GL122 | DT1: GF_GL123 | DU1: GF_GL124 | DV1: GF_GL125 | DW1: GF_GL126 | DX1: GF_GL127 | DY1: GF_GL128 | DZ1: GF_GL129 | EA1: GF_GL130 | EB1: GF_GL131 | EC1: GF_GL132 | ED1: GF_GL133 | EE1: GF_GL134 | EF1: GF_GL135 | EG1: GF_GL136 | EH1: GF_GL137 | EI1: GF_GL138 | EJ1: GF_GL139 | EK1: GF_GL140 | EL1: GF_GL141 | EM1: GF_GL142 | EN1: GF_GL143 | EO1: GF_GL144 | EP1: GF_GL145 | EQ1: GF_GL146 | ER1: GF_GL147 | ES1: GF_GL148 | ET1: GF_GL149 | EU1: GF_GL150 | EV1: GF_GL151 | EW1: GF_GL152 | EX1: GF_GL153 | EY1: GF_GL154 | EZ1: GF_GL155 | FA1: GF_GL156 | FB1: GF_GL157 | FC1: GF_GL158 | FD1: GF_GL159 | FE1: GF_GL160 | FF1: GF_GL161 | FG1: GF_GL162 | FH1: GF_GL163 | FI1: GF_GL164 | FJ1: GF_GL165 | FK1: GF_GL166 | FL1: GF_GL167 | FM1: GF_GL168 | FN1: GF_GL169 | FO1: GF_GL170 | FP1: GF_GL171 | FQ1: GF_GL172 | FR1: GF_GL173 | FS1: GF_GL174 | FT1: GF_GL175 | FU1: GF_GL176 | FV1: GF_GL177 | FW1: GF_GL178 | FX1: GF_GL179 | FY1: GF_GL180 | FZ1: GF_GL181 | GA1: GF_GL182 | GB1: GF_GL183 | GC1: GF_GL184 | GD1: GF_GL185 | GE1: GF_GL186
A2: 33178 | B2: =(LN!B2-LN!B1)-Rf!$A1 -> #NUM! | C2: =(LN!C2-LN!C1)-Rf!$A1 -> #NUM! | D2: =(LN!D2-LN!D1)-Rf!$A1 -> #NUM! | E2: =(LN!E2-LN!E1)-Rf!$A1 -> #NUM! | F2: =(LN!F2-LN!F1)-Rf!$A1 -> #NUM! | G2: =(LN!G2-LN!G1)-Rf!$A1 -> #NUM! | H2: =(LN!H2-LN!H1)-Rf!$A1 -> #NUM! | I2: =(LN!I2-LN!I1)-Rf!$A1 -> #NUM! | ... GE2: =(LN!GE2-LN!GE1)-Rf!$A1 -> #NUM!
A3: 33208 | B3: =(LN!B3-LN!B2)-Rf!$A2 -> #NUM! | C3: =(LN!C3-LN!C2)-Rf!$A2 -> #NUM! | D3: =(LN!D3-LN!D2)-Rf!$A2 -> #NUM! | E3: =(LN!E3-LN!E2)-Rf!$A2 -> #NUM! | F3: =(LN!F3-LN!F2)-Rf!$A2 -> #NUM! | G3: =(LN!G3-LN!G2)-Rf!$A2 -> #NUM! | H3: =(LN!H3-LN!H2)-Rf!$A2 -> #NUM! | I3: =(LN!I3-LN!I2)-Rf!$A2 -> #NUM! | ... GE3: =(LN!GE3-LN!GE2)-Rf!$A2 -> #NUM!
A4: 33239 | B4: =(LN!B4-LN!B3)-Rf!$A3 -> #NUM! | C4: =(LN!C4-LN!C3)-Rf!$A3 -> #NUM! | D4: =(LN!D4-LN!D3)-Rf!$A3 -> #NUM! | E4: =(LN!E4-LN!E3)-Rf!$A3 -> #NUM! | F4: =(LN!F4-LN!F3)-Rf!$A3 -> #NUM! | G4: =(LN!G4-LN!G3)-Rf!$A3 -> #NUM! | H4: =(LN!H4-LN!H3)-Rf!$A3 -> #NUM! | I4: =(LN!I4-LN!I3)-Rf!$A3 -> #NUM! | ... GE4: =(LN!GE4-LN!GE3)-Rf!$A3 -> #NUM!
A5: 33270 | B5: =(LN!B5-LN!B4)-Rf!$A4 -> #NUM! | C5: =(LN!C5-LN!C4)-Rf!$A4 -> #NUM! | D5: =(LN!D5-LN!D4)-Rf!$A4 -> #NUM! | E5: =(LN!E5-LN!E4)-Rf!$A4 -> #NUM! | F5: =(LN!F5-LN!F4)-Rf!$A4 -> #NUM! | G5: =(LN!G5-LN!G4)-Rf!$A4 -> #NUM! | H5: =(LN!H5-LN!H4)-Rf!$A4 -> #NUM! | I5: =(LN!I5-LN!I4)-Rf!$A4 -> #NUM! | ... GE5: =(LN!GE5-LN!GE4)-Rf!$A4 -> #NUM!
A6: 33298 | B6: =(LN!B6-LN!B5)-Rf!$A5 -> #NUM! | C6: =(LN!C6-LN!C5)-Rf!$A5 -> #NUM! | D6: =(LN!D6-LN!D5)-Rf!$A5 -> #NUM! | E6: =(LN!E6-LN!E5)-Rf!$A5 -> #NUM! | F6: =(LN!F6-LN!F5)-Rf!$A5 -> #NUM! | G6: =(LN!G6-LN!G5)-Rf!$A5 -> #NUM! | H6: =(LN!H6-LN!H5)-Rf!$A5 -> #NUM! | I6: =(LN!I6-LN!I5)-Rf!$A5 -> #NUM! | ... GE6: =(LN!GE6-LN!GE5)-Rf!$A5 -> #NUM!
A7: 33329 | B7: =(LN!B7-LN!B6)-Rf!$A6 -> #NUM! | C7: =(LN!C7-LN!C6)-Rf!$A6 -> #NUM! | D7: =(LN!D7-LN!D6)-Rf!$A6 -> #NUM! | E7: =(LN!E7-LN!E6)-Rf!$A6 -> #NUM! | F7: =(LN!F7-LN!F6)-Rf!$A6 -> #NUM! | G7: =(LN!G7-LN!G6)-Rf!$A6 -> #NUM! | H7: =(LN!H7-LN!H6)-Rf!$A6 -> #NUM! | I7: =(LN!I7-LN!I6)-Rf!$A6 -> #NUM! | ... GE7: =(LN!GE7-LN!GE6)-Rf!$A6 -> #NUM!
A8: 33359 | B8: =(LN!B8-LN!B7)-Rf!$A7 -> #NUM! | C8: =(LN!C8-LN!C7)-Rf!$A7 -> #NUM! | D8: =(LN!D8-LN!D7)-Rf!$A7 -> #NUM! | E8: =(LN!E8-LN!E7)-Rf!$A7 -> #NUM! | F8: =(LN!F8-LN!F7)-Rf!$A7 -> #NUM! | G8: =(LN!G8-LN!G7)-Rf!$A7 -> #NUM! | H8: =(LN!H8-LN!H7)-Rf!$A7 -> #NUM! | I8: =(LN!I8-LN!I7)-Rf!$A7 -> #NUM! | ... GE8: =(LN!GE8-LN!GE7)-Rf!$A7 -> #NUM!
A9: 33390 | B9: =(LN!B9-LN!B8)-Rf!$A8 -> #NUM! | C9: =(LN!C9-LN!C8)-Rf!$A8 -> #NUM! | D9: =(LN!D9-LN!D8)-Rf!$A8 -> #NUM! | E9: =(LN!E9-LN!E8)-Rf!$A8 -> #NUM! | F9: =(LN!F9-LN!F8)-Rf!$A8 -> #NUM! | G9: =(LN!G9-LN!G8)-Rf!$A8 -> #NUM! | H9: =(LN!H9-LN!H8)-Rf!$A8 -> #NUM! | I9: =(LN!I9-LN!I8)-Rf!$A8 -> #NUM! | ... GE9: =(LN!GE9-LN!GE8)-Rf!$A8 -> #NUM!
A10: 33420 | B10: =(LN!B10-LN!B9)-Rf!$A9 -> #NUM! | C10: =(LN!C10-LN!C9)-Rf!$A9 -> #NUM! | D10: =(LN!D10-LN!D9)-Rf!$A9 -> #NUM! | E10: =(LN!E10-LN!E9)-Rf!$A9 -> #NUM! | F10: =(LN!F10-LN!F9)-Rf!$A9 -> #NUM! | G10: =(LN!G10-LN!G9)-Rf!$A9 -> #NUM! | H10: =(LN!H10-LN!H9)-Rf!$A9 -> #NUM! | I10: =(LN!I10-LN!I9)-Rf!$A9 -> #NUM! | ... GE10: =(LN!GE10-LN!GE9)-Rf!$A9 -> #NUM!
A11: 33451 | B11: =(LN!B11-LN!B10)-Rf!$A10 -> #NUM! | C11: =(LN!C11-LN!C10)-Rf!$A10 -> #NUM! | D11: =(LN!D11-LN!D10)-Rf!$A10 -> #NUM! | E11: =(LN!E11-LN!E10)-Rf!$A10 -> #NUM! | F11: =(LN!F11-LN!F10)-Rf!$A10 -> #NUM! | G11: =(LN!G11-LN!G10)-Rf!$A10 -> #NUM! | H11: =(LN!H11-LN!H10)-Rf!$A10 -> #NUM! | I11: =(LN!I11-LN!I10)-Rf!$A10 -> #NUM! | ... GE11: =(LN!GE11-LN!GE10)-Rf!$A10 -> #NUM!
A12: 33482 | B12: =(LN!B12-LN!B11)-Rf!$A11 -> #NUM! | C12: =(LN!C12-LN!C11)-Rf!$A11 -> #NUM! | D12: =(LN!D12-LN!D11)-Rf!$A11 -> #NUM! | E12: =(LN!E12-LN!E11)-Rf!$A11 -> #NUM! | F12: =(LN!F12-LN!F11)-Rf!$A11 -> #NUM! | G12: =(LN!G12-LN!G11)-Rf!$A11 -> #NUM! | H12: =(LN!H12-LN!H11)-Rf!$A11 -> #NUM! | I12: =(LN!I12-LN!I11)-Rf!$A11 -> #NUM! | ... GE12: =(LN!GE12-LN!GE11)-Rf!$A11 -> #NUM!
A13: 33512 | B13: =(LN!B13-LN!B12)-Rf!$A12 -> #NUM! | C13: =(LN!C13-LN!C12)-Rf!$A12 -> #NUM! | D13: =(LN!D13-LN!D12)-Rf!$A12 -> #NUM! | E13: =(LN!E13-LN!E12)-Rf!$A12 -> #NUM! | F13: =(LN!F13-LN!F12)-Rf!$A12 -> #NUM! | G13: =(LN!G13-LN!G12)-Rf!$A12 -> #NUM! | H13: =(LN!H13-LN!H12)-Rf!$A12 -> #NUM! | I13: =(LN!I13-LN!I12)-Rf!$A12 -> #NUM! | ... GE13: =(LN!GE13-LN!GE12)-Rf!$A12 -> #NUM!
... A284: 41760 | B284: =(LN!B284-LN!B283)-Rf!$A283 -> #NUM! | C284: =(LN!C284-LN!C283)-Rf!$A283 -> #NUM! | D284: =(LN!D284-LN!D283)-Rf!$A283 -> #NUM! | E284: =(LN!E284-LN!E283)-Rf!$A283 -> #NUM! | F284: =(LN!F284-LN!F283)-Rf!$A283 -> #NUM! | G284: =(LN!G284-LN!G283)-Rf!$A283 -> #NUM! | H284: =(LN!H284-LN!H283)-Rf!$A283 -> #NUM! | I284: =(LN!I284-LN!I283)-Rf!$A283 -> #NUM! | ... GE284: =(LN!GE284-LN!GE283)-Rf!$A283 -> #NUM!

Sheet Final EViews Dataset
A1: Date | B1: GF_GL01 | C1: GF_GL02 | D1: GF_GL03 | E1: GF_GL04 | F1: GF_GL05 | G1: GF_GL06 | H1: GF_GL07 | I1: GF_GL08 | J1: GF_GL09 | K1: GF_GL10 | L1: GF_GL11 | M1: GF_GL12 | N1: GF_GL13 | O1: GF_GL14 | P1: GF_GL15 | Q1: GF_GL16 | R1: GF_GL17 | S1: GF_GL18 | T1: GF_GL19 | U1: GF_GL20 | V1: GF_GL21 | W1: GF_GL22 | X1: GF_GL23 | Y1: GF_GL24 | Z1: GF_GL25 | AA1: GF_GL26 | AB1: GF_GL27 | AC1: GF_GL28 | AD1: GF_GL29 | AE1: GF_GL30 | AF1: GF_GL31 | AG1: GF_GL32 | AH1: GF_GL33 | AI1: GF_GL34 | AJ1: GF_GL35 | AK1: GF_GL36 | AL1: GF_GL37 | AM1: GF_GL38 | AN1: GF_GL39 | AO1: GF_GL40 | AP1: GF_GL41 | AQ1: GF_GL42 | AR1: GF_GL43 | AS1: GF_GL44 | AT1: GF_GL45 | AU1: GF_GL46 | AV1: GF_GL47 | AW1: GF_GL48 | AX1: GF_GL49 | AY1: GF_GL50 | AZ1: GF_GL51 | BA1: GF_GL52 | BB1: GF_GL53 | BC1: GF_GL54 | BD1: GF_GL55 | BE1: GF_GL56 | BF1: GF_GL57 | BG1: GF_GL58 | BH1: GF_GL59 | BI1: GF_GL60 | BJ1: GF_GL61 | BK1: GF_GL62 | BL1: GF_GL63 | BM1: GF_GL64 | BN1: GF_GL65 | BO1: GF_GL66 | BP1: GF_GL67 | BQ1: GF_GL68 | BR1: GF_GL69 | BS1: GF_GL70 | BT1: GF_GL71 | BU1: GF_GL72 | BV1: GF_GL73 | BW1: GF_GL74 | BX1: GF_GL75 | BY1: GF_GL76 | BZ1: GF_GL77 | CA1: GF_GL78 | CB1: GF_GL79 | CC1: GF_GL80 | CD1: GF_GL81 | CE1: GF_GL82 | CF1: GF_GL83 | CG1: GF_GL84 | CH1: GF_GL85 | CI1: GF_GL86 | CJ1: GF_GL87 | CK1: GF_GL88 | CL1: GF_GL89 | CM1: GF_GL90 | CN1: GF_GL91 | CO1: GF_GL92 | CP1: GF_GL93 | CQ1: GF_GL94 | CR1: GF_GL95 | CS1: GF_GL96 | CT1: GF_GL97 | CU1: GF_GL98 | CV1: GF_GL99 | CW1: GF_GL100 | CX1: GF_GL101 | CY1: GF_GL102 | CZ1: GF_GL103 | DA1: GF_GL104 | DB1: GF_GL105 | DC1: GF_GL106 | DD1: GF_GL107 | DE1: GF_GL108 | DF1: GF_GL109 | DG1: GF_GL110 | DH1: GF_GL111 | DI1: GF_GL112 | DJ1: GF_GL113 | DK1: GF_GL114 | DL1: GF_GL115 | DM1: GF_GL116 | DN1: GF_GL117 | DO1: GF_GL118 | DP1: GF_GL119 | DQ1: GF_GL120 | DR1: GF_GL121 | DS1: GF_GL122 | DT1: GF_GL123 | DU1: GF_GL124 | DV1: GF_GL125 | DW1: GF_GL126 | DX1: GF_GL127 | DY1: GF_GL128 | DZ1: GF_GL129 | EA1: GF_GL130 | EB1: GF_GL131 | EC1: GF_GL132 | ED1: GF_GL133 | EE1: GF_GL134 | EF1: GF_GL135 | EG1: GF_GL136 | EH1: GF_GL137 | EI1: GF_GL138 | EJ1: GF_GL139 | EK1: GF_GL140 | EL1: GF_GL141 | EM1: GF_GL142 | EN1: GF_GL143 | EO1: GF_GL144 | EP1: GF_GL145 | EQ1: GF_GL146 | ER1: GF_GL147 | ES1: GF_GL148 | ET1: GF_GL149 | EU1: GF_GL150 | EV1: GF_GL151 | EW1: GF_GL152 | EX1: GF_GL153 | EY1: GF_GL154 | EZ1: GF_GL155 | FA1: GF_GL156 | FB1: GF_GL157 | FC1: GF_GL158 | FD1: GF_GL159 | FE1: GF_GL160 | FF1: GF_GL161 | FG1: GF_GL162 | FH1: GF_GL163 | FI1: GF_GL164 | FJ1: GF_GL165 | FK1: GF_GL166 | FL1: GF_GL167 | FM1: GF_GL168 | FN1: GF_GL169 | FO1: GF_GL170 | FP1: GF_GL171 | FQ1: GF_GL172 | FR1: GF_GL173 | FS1: GF_GL174 | FT1: GF_GL175 | FU1: GF_GL176 | FV1: GF_GL177 | FW1: GF_GL178 | FX1: GF_GL179 | FY1: GF_GL180 | FZ1: GF_GL181 | GA1: GF_GL182 | GB1: GF_GL183 | GC1: GF_GL184 | GD1: GF_GL185 | GE1: GF_GL186
A2: 33208 | B2: #NUM! | C2: #NUM! | D2: #NUM! | E2: #NUM! | F2: #NUM! | G2: #NUM! | H2: #NUM! | I2: #NUM! | J2: #NUM! | K2: #NUM! | L2: #NUM! | M2: #NUM! | N2: #NUM! | O2: #NUM! | P2: #NUM! | Q2: #NUM! | R2: #NUM! | S2: #NUM! | T2: #NUM! | U2: #NUM! | V2: #NUM! | W2: #NUM! | X2: #NUM! | Y2: #NUM! | Z2: #NUM! | AA2: #NUM! | AB2: #NUM! | AC2: #NUM! | AD2: #NUM! | AE2: #NUM! | AF2: #NUM! | AG2: #NUM! | AH2: #NUM! | AI2: #NUM! | AJ2: #NUM! | AK2: #NUM! | AL2: #NUM! | AM2: #NUM! | AN2: #NUM! | AO2: #NUM! | AP2: #NUM! | AQ2: #NUM! | AR2: #NUM! | AS2: #NUM! | AT2: #NUM! | AU2: #NUM! | AV2: #NUM! | AW2: #NUM! | AX2: #NUM! | AY2: #NUM! | AZ2: #NUM! | BA2: #NUM! | BB2: -0.010729511 | BC2: #NUM! | BD2: #NUM! | BE2: #NUM! | BF2: #NUM! | BG2: #NUM! | BH2: #NUM! | BI2: #NUM! | BJ2: #NUM! | BK2: #NUM! | BL2: #NUM! | BM2: #NUM! | BN2: #NUM! | BO2: #NUM! | BP2: #NUM! | BQ2: #NUM! | BR2: #NUM! | BS2: #NUM! | BT2: #NUM! | BU2: #NUM! | BV2: #NUM! | BW2: #NUM! | BX2: #NUM! | BY2: #NUM! | BZ2: #NUM! | CA2: #NUM! | CB2: #NUM! | CC2: #NUM! | CD2: #NUM! | CE2: #NUM! | CF2: #NUM! | CG2: #NUM! | CH2: #NUM! | CI2: #NUM! | CJ2: #NUM! | CK2: #NUM! | CL2: #NUM! | CM2: #NUM! | CN2: #NUM! | CO2: #NUM! | CP2: #NUM! | CQ2: #NUM! | CR2: #NUM! | CS2: #NUM! | CT2: #NUM! | CU2: #NUM! | CV2: #NUM! | CW2: #NUM! | CX2: #NUM! | CY2: #NUM! | CZ2: #NUM! | DA2: #NUM! | DB2: -0.0079435153 | DC2: #NUM! | DD2: #NUM! | DE2: #NUM! | DF2: #NUM! | DG2: #NUM! | DH2: #NUM! | DI2: #NUM! | DJ2: #NUM! | DK2: #NUM! | DL2: #NUM! | DM2: #NUM! | DN2: #NUM! | DO2: #NUM! | DP2: #NUM! | DQ2: #NUM! | DR2: #NUM! | DS2: #NUM! | DT2: #NUM! | DU2: #NUM! | DV2: #NUM! | DW2: #NUM! | DX2: #NUM! | DY2: #NUM! | DZ2: #NUM! | EA2: #NUM! | EB2: #NUM! | EC2: -0.050526902 | ED2: #NUM! | EE2: #NUM! | EF2: #NUM! | EG2: #NUM! | EH2: #NUM! | EI2: #NUM! | EJ2: #NUM! | EK2: #NUM! | EL2: #NUM! | EM2: #NUM! | EN2: #NUM! | EO2: #NUM! | EP2: #NUM! | EQ2: #NUM! | ER2: #NUM! | ES2: #NUM! | ET2: #NUM! | EU2: #NUM! | EV2: 0.0081790394 | EW2: #NUM! | EX2: #NUM! | EY2: #NUM! | EZ2: #NUM! | FA2: #NUM! | FB2: #NUM! | FC2: #NUM! | FD2: #NUM! | FE2: #NUM! | FF2: #NUM! | FG2: #NUM! | FH2: #NUM! | FI2: #NUM! | FJ2: #NUM! | FK2: #NUM! | FL2: #NUM! | FM2: #NUM! | FN2: #NUM! | FO2: #NUM! | FP2: #NUM! | FQ2: #NUM! | FR2: #NUM! | FS2: #NUM! | FT2: #NUM! | FU2: #NUM! | FV2: #NUM! | FW2: #NUM! | FX2: #NUM! | FY2: #NUM! | FZ2: #NUM! | GA2: #NUM! | GB2: #NUM! | GC2: #NUM! | GD2: #NUM! | GE2: #NUM!
A3: 33239 | B3: #NUM! | C3: #NUM! | D3: #NUM! | E3: #NUM! | F3: #NUM! | G3: #NUM! | H3: #NUM! | I3: #NUM! | J3: #NUM! | K3: #NUM! | L3: #NUM! | M3: #NUM! | N3: #NUM! | O3: #NUM! | P3: #NUM! | Q3: #NUM! | R3: #NUM! | S3: #NUM! | T3: #NUM! | U3: #NUM! | V3: #NUM! | W3: #NUM! | X3: #NUM! | Y3: #NUM! | Z3: #NUM! | AA3: #NUM! | AB3: #NUM! | AC3: #NUM! | AD3: #NUM! | AE3: #NUM! | AF3: #NUM! | AG3: #NUM! | AH3: #NUM! | AI3: #NUM! | AJ3: #NUM! | AK3: #NUM! | AL3: #NUM! | AM3: #NUM! | AN3: #NUM! | AO3: #NUM! | AP3: #NUM! | AQ3: #NUM! | AR3: #NUM! | AS3: #NUM! | AT3: #NUM! | AU3: #NUM! | AV3: #NUM! | AW3: #NUM! | AX3: 0.02678833 | AY3: #NUM! | AZ3: #NUM! | BA3: #NUM! | BB3: -0.0044110868 | BC3: #NUM! | BD3: #NUM! | BE3: #NUM! | BF3: #NUM! | BG3: #NUM! | BH3: #NUM! | BI3: #NUM! | BJ3: #NUM! | BK3: #NUM! | BL3: #NUM! | BM3: #NUM! | BN3: #NUM! | BO3: #NUM! | BP3: #NUM! | BQ3: #NUM! | BR3: #NUM! | BS3: #NUM! | BT3: #NUM! | BU3: #NUM! | BV3: #NUM! | BW3: #NUM! | BX3: #NUM! | BY3: #NUM! | BZ3: #NUM! | CA3: #NUM! | CB3: #NUM! | CC3: #NUM! | CD3: #NUM! | CE3: #NUM! | CF3: #NUM! | CG3: #NUM! | CH3: #NUM! | CI3: #NUM! | CJ3: #NUM! | CK3: #NUM! | CL3: #NUM! | CM3: #NUM! | CN3: #NUM! | CO3: #NUM! | CP3: #NUM! | CQ3: #NUM! | CR3: #NUM! | CS3: #NUM! | CT3: #NUM! | CU3: #NUM! | CV3: #NUM! | CW3: #NUM! | CX3: #NUM! | CY3: #NUM! | CZ3: #NUM! | DA3: #NUM! | DB3: 0.010306828 | DC3: #NUM! | DD3: #NUM! | DE3: #NUM! | DF3: #NUM! | DG3: #NUM! | DH3: #NUM! | DI3: #NUM! | DJ3: #NUM! | DK3: #NUM! | DL3: #NUM! | DM3: #NUM! | DN3: #NUM! | DO3: #NUM! | DP3: #NUM! | DQ3: #NUM! | DR3: #NUM! | DS3: #NUM! | DT3: #NUM! | DU3: #NUM! | DV3: #NUM! | DW3: #NUM! | DX3: #NUM! | DY3: #NUM! | DZ3: #NUM! | EA3: #NUM! | EB3: #NUM! | EC3: 0.0085054818 | ED3: #NUM! | EE3: #NUM! | EF3: #NUM! | EG3: #NUM! | EH3: #NUM! | EI3: #NUM! | EJ3: #NUM! | EK3: #NUM! | EL3: #NUM! | EM3: #NUM! | EN3: #NUM! | EO3: #NUM! | EP3: #NUM! | EQ3: #NUM! | ER3: #NUM! | ES3: #NUM! | ET3: #NUM! | EU3: #NUM! | EV3: 0.0011604109 | EW3: #NUM! | EX3: #NUM! | EY3: #NUM! | EZ3: #NUM! | FA3: #NUM! | FB3: #NUM! | FC3: #NUM! | FD3: #NUM! | FE3: #NUM! | FF3: #NUM! | FG3: #NUM! | FH3: #NUM! | FI3: #NUM! | FJ3: #NUM! | FK3: #NUM! | FL3: #NUM! | FM3: #NUM! | FN3: #NUM! | FO3: #NUM! | FP3: #NUM! | FQ3: #NUM! | FR3: #NUM! | FS3: #NUM! | FT3: #NUM! | FU3: #NUM! | FV3: #NUM! | FW3: #NUM! | FX3: #NUM! | FY3: #NUM! | FZ3: #NUM! | GA3: #NUM! | GB3: #NUM! | GC3: #NUM! | GD3: #NUM! | GE3: #NUM!
A4: 33270 | B4: #NUM! | C4: #NUM! | D4: #NUM! | E4: #NUM! | F4: #NUM! | G4: #NUM! | H4: #NUM! | I4: #NUM! | J4: #NUM! | K4: #NUM! | L4: #NUM! | M4: #NUM! | N4: #NUM! | O4: #NUM! | P4: #NUM! | Q4: #NUM! | R4: #NUM! | S4: #NUM! | T4: #NUM! | U4: #NUM! | V4: #NUM! | W4: #NUM! | X4: #NUM! | Y4: #NUM! | Z4: #NUM! | AA4: #NUM! | AB4: #NUM! | AC4: #NUM! | AD4: #NUM! | AE4: #NUM! | AF4: #NUM! | AG4: #NUM! | AH4: #NUM! | AI4: #NUM! | AJ4: #NUM! | AK4: #NUM! | AL4: #NUM! | AM4: #NUM! | AN4: #NUM! | AO4: #NUM! | AP4: #NUM! | AQ4: #NUM! | AR4: #NUM! | AS4: #NUM! | AT4: #NUM! | AU4: #NUM! | AV4: #NUM! | AW4: #NUM! | AX4: 0.030862003 | AY4: #NUM! | AZ4: #NUM! | BA4: #NUM! | BB4: -0.029993465 | BC4: #NUM! | BD4: #NUM! | BE4: #NUM! | BF4: #NUM! | BG4: #NUM! | BH4: #NUM! | BI4: #NUM! | BJ4: #NUM! | BK4: #NUM! | BL4: #NUM! | BM4: #NUM! | BN4: #NUM! | BO4: #NUM! | BP4: #NUM! | BQ4: #NUM! | BR4: #NUM! | BS4: #NUM! | BT4: #NUM! | BU4: #NUM! | BV4: #NUM! | BW4: #NUM! | BX4: #NUM! | BY4: #NUM! | BZ4: #NUM! | CA4: #NUM! | CB4: #NUM! | CC4: #NUM! | CD4: #NUM! | CE4: #NUM! | CF4: #NUM! | CG4: #NUM! | CH4: #NUM! | CI4: #NUM! | CJ4: #NUM! | CK4: #NUM! | CL4: #NUM! | CM4: #NUM! | CN4: #NUM! | CO4: #NUM! | CP4: #NUM! | CQ4: #NUM! | CR4: #NUM! | CS4: #NUM! | CT4: #NUM! | CU4: #NUM! | CV4: #NUM! | CW4: #NUM! | CX4: #NUM! | CY4: #NUM! | CZ4: #NUM! | DA4: #NUM! | DB4: 0.022054252 | DC4: #NUM! | DD4: #NUM! | DE4: #NUM! | DF4: #NUM! | DG4: #NUM! | DH4: #NUM! | DI4: #NUM! | DJ4: #NUM! | DK4: #NUM! | DL4: #NUM! | DM4: #NUM! | DN4: #NUM! | DO4: #NUM! | DP4: #NUM! | DQ4: #NUM! | DR4: #NUM! | DS4: #NUM! | DT4: #NUM! | DU4: #NUM! | DV4: #NUM! | DW4: #NUM! | DX4: #NUM! | DY4: #NUM! | DZ4: #NUM! | EA4: #NUM! | EB4: #NUM! | EC4: -0.036877983 | ED4: #NUM! | EE4: #NUM! | EF4: #NUM! | EG4: #NUM! | EH4: #NUM! | EI4: #NUM! | EJ4: #NUM! | EK4: #NUM! | EL4: #NUM! | EM4: #NUM! | EN4: #NUM! | EO4: #NUM! | EP4: #NUM! | EQ4: #NUM! | ER4: #NUM! | ES4: #NUM! | ET4: #NUM! | EU4: #NUM! | EV4: 0.02211474 | EW4: #NUM! | EX4: #NUM! | EY4: #NUM! | EZ4: #NUM! | FA4: #NUM! | FB4: #NUM! | FC4: #NUM! | FD4: #NUM! | FE4: #NUM! | FF4: #NUM! | FG4: #NUM! | FH4: #NUM! | FI4: #NUM! | FJ4: #NUM! | FK4: #NUM! | FL4: #NUM! | FM4: #NUM! | FN4: #NUM! | FO4: #NUM! | FP4: #NUM! | FQ4: #NUM! | FR4: #NUM! | FS4: #NUM! | FT4: #NUM! | FU4: #NUM! | FV4: #NUM! | FW4: #NUM! | FX4: #NUM! | FY4: #NUM! | FZ4: #NUM! | GA4: #NUM! | GB4: #NUM! | GC4: #NUM! | GD4: #NUM! | GE4: #NUM!
A5: 33298 | B5: #NUM! | C5: #NUM! | D5: #NUM! | E5: #NUM! | F5: #NUM! | G5: #NUM! | H5: #NUM! | I5: #NUM! | J5: #NUM! | K5: #NUM! | L5: #NUM! | M5: #NUM! | N5: #NUM! | O5: #NUM! | P5: #NUM! | Q5: #NUM! | R5: #NUM! | S5: #NUM! | T5: #NUM! | U5: #NUM! | V5: #NUM! | W5: #NUM! | X5: #NUM! | Y5: #NUM! | Z5: #NUM! | AA5: #NUM! | AB5: #NUM! | AC5: #NUM! | AD5: #NUM! | AE5: #NUM! | AF5: #NUM! | AG5: #NUM! | AH5: #NUM! | AI5: #NUM! | AJ5: #NUM! | AK5: #NUM! | AL5: #NUM! | AM5: #NUM! | AN5: #NUM! | AO5: #NUM! | AP5: #NUM! | AQ5: #NUM! | AR5: #NUM! | AS5: #NUM! | AT5: #NUM! | AU5: #NUM! | AV5: #NUM! | AW5: #NUM! | AX5: 0.067035363 | AY5: #NUM! | AZ5: #NUM! | BA5: #NUM! | BB5: 0.083801641 | BC5: #NUM! | BD5: #NUM! | BE5: #NUM! | BF5: #NUM! | BG5: #NUM! | BH5: #NUM! | BI5: #NUM! | BJ5: #NUM! | BK5: #NUM! | BL5: #NUM! | BM5: #NUM! | BN5: #NUM! | BO5: #NUM! | BP5: #NUM! | BQ5: #NUM! | BR5: #NUM! | BS5: #NUM! | BT5: #NUM! | BU5: #NUM! | BV5: #NUM! | BW5: #NUM! | BX5: #NUM! | BY5: #NUM! | BZ5: #NUM! | CA5: #NUM! | CB5: #NUM! | CC5: #NUM! | CD5: #NUM! | CE5: #NUM! | CF5: #NUM! | CG5: #NUM! | CH5: #NUM! | CI5: #NUM! | CJ5: #NUM! | CK5: #NUM! | CL5: #NUM! | CM5: #NUM! | CN5: #NUM! | CO5: #NUM! | CP5: #NUM! | CQ5: #NUM! | CR5: #NUM! | CS5: #NUM! | CT5: #NUM! | CU5: #NUM! | CV5: #NUM! | CW5: #NUM! | CX5: #NUM! | CY5: #NUM! | CZ5: #NUM! | DA5: #NUM! | DB5: 0.10063617 | DC5: #NUM! | DD5: #NUM! | DE5: #NUM! | DF5: #NUM! | DG5: #NUM! | DH5: #NUM! | DI5: #NUM! | DJ5: #NUM! | DK5: #NUM! | DL5: #NUM! | DM5: #NUM! | DN5: #NUM! | DO5: #NUM! | DP5: #NUM! | DQ5: #NUM! | DR5: #NUM! | DS5: #NUM! | DT5: #NUM! | DU5: #NUM! | DV5: #NUM! | DW5: #NUM! | DX5: #NUM! | DY5: #NUM! | DZ5: #NUM! | EA5: #NUM! | EB5: #NUM! | EC5: 0.1086469 | ED5: #NUM! | EE5: #NUM! | EF5: #NUM! | EG5: #NUM! | EH5: #NUM! | EI5: #NUM! | EJ5: #NUM! | EK5: #NUM! | EL5: #NUM! | EM5: #NUM! | EN5: #NUM! | EO5: #NUM! | EP5: #NUM! | EQ5: #NUM! | ER5: #NUM! | ES5: #NUM! | ET5: #NUM! | EU5: #NUM! | EV5: 0.083531959 | EW5: #NUM! | EX5: #NUM! | EY5: #NUM! | EZ5: #NUM! | FA5: #NUM! | FB5: #NUM! | FC5: #NUM! | FD5: #NUM! | FE5: #NUM! | FF5: #NUM! | FG5: #NUM! | FH5: #NUM! | FI5: #NUM! | FJ5: #NUM! | FK5: #NUM! | FL5: #NUM! | FM5: #NUM! | FN5: #NUM! | FO5: #NUM! | FP5: #NUM! | FQ5: #NUM! | FR5: #NUM! | FS5: #NUM! | FT5: #NUM! | FU5: #NUM! | FV5: #NUM! | FW5: #NUM! | FX5: #NUM! | FY5: #NUM! | FZ5: #NUM! | GA5: #NUM! | GB5: #NUM! | GC5: #NUM! | GD5: #NUM! | GE5: #NUM!
A6: 33329 | B6: #NUM! | C6: #NUM! | D6: #NUM! | E6: #NUM! | F6: #NUM! | G6: #NUM! | H6: #NUM! | I6: #NUM! | J6: #NUM! | K6: #NUM! | L6: #NUM! | M6: #NUM! | N6: #NUM! | O6: #NUM! | P6: #NUM! | Q6: #NUM! | R6: #NUM! | S6: #NUM! | T6: #NUM! | U6: #NUM! | V6: #NUM! | W6: #NUM! | X6: #NUM! | Y6: #NUM! | Z6: #NUM! | AA6: #NUM! | AB6: #NUM! | AC6: #NUM! | AD6: #NUM! | AE6: #NUM! | AF6: #NUM! | AG6: #NUM! | AH6: #NUM! | AI6: #NUM! | AJ6: #NUM! | AK6: #NUM! | AL6: #NUM! | AM6: #NUM! | AN6: #NUM! | AO6: #NUM! | AP6: #NUM! | AQ6: #NUM! | AR6: #NUM! | AS6: #NUM! | AT6: #NUM! | AU6: #NUM! | AV6: #NUM! | AW6: #NUM! | AX6: 0.061313477 | AY6: #NUM! | AZ6: #NUM! | BA6: #NUM! | BB6: 0.088256016 | BC6: #NUM! | BD6: #NUM! | BE6: #NUM! | BF6: #NUM! | BG6: #NUM! | BH6: #NUM! | BI6: #NUM! | BJ6: #NUM! | BK6: #NUM! | BL6: #NUM! | BM6: #NUM! | BN6: #NUM! | BO6: #NUM! | BP6: #NUM! | BQ6: #NUM! | BR6: #NUM! | BS6: #NUM! | BT6: #NUM! | BU6: #NUM! | BV6: #NUM! | BW6: #NUM! | BX6: #NUM! | BY6: #NUM! | BZ6: #NUM! | CA6: #NUM! | CB6: #NUM! | CC6: #NUM! | CD6: #NUM! | CE6: #NUM! | CF6: #NUM! | CG6: #NUM! | CH6: #NUM! | CI6: #NUM! | CJ6: #NUM! | CK6: #NUM! | CL6: #NUM! | CM6: #NUM! | CN6: #NUM! | CO6: #NUM! | CP6: #NUM! | CQ6: #NUM! | CR6: #NUM! | CS6: #NUM! | CT6: #NUM! | CU6: #NUM! | CV6: #NUM! | CW6: #NUM! | CX6: #NUM! | CY6: #NUM! | CZ6: #NUM! | DA6: #NUM! | DB6: 0.048064558 | DC6: #NUM! | DD6: #NUM! | DE6: #NUM! | DF6: #NUM! | DG6: #NUM! | DH6: #NUM! | DI6: #NUM! | DJ6: #NUM! | DK6: #NUM! | DL6: #NUM! | DM6: #NUM! | DN6: #NUM! | DO6: #NUM! | DP6: #NUM! | DQ6: #NUM! | DR6: #NUM! | DS6: #NUM! | DT6: #NUM! | DU6: #NUM! | DV6: #NUM! | DW6: #NUM! | DX6: #NUM! | DY6: #NUM! | DZ6: #NUM! | EA6: #NUM! | EB6: #NUM! | EC6: 0.078092328 | ED6: #NUM! | EE6: #NUM! | EF6: #NUM! | EG6: #NUM! | EH6: #NUM! | EI6: #NUM! | EJ6: #NUM! | EK6: #NUM! | EL6: #NUM! | EM6: #NUM! | EN6: #NUM! | EO6: #NUM! | EP6: #NUM! | EQ6: #NUM! | ER6: #NUM! | ES6: #NUM! | ET6: #NUM! | EU6: #NUM! | EV6: 0.06593671 | EW6: #NUM! | EX6: #NUM! | EY6: #NUM! | EZ6: #NUM! | FA6: #NUM! | FB6: #NUM! | FC6: #NUM! | FD6: #NUM! | FE6: #NUM! | FF6: #NUM! | FG6: #NUM! | FH6: #NUM! | FI6: #NUM! | FJ6: #NUM! | FK6: #NUM! | FL6: #NUM! | FM6: #NUM! | FN6: #NUM! | FO6: #NUM! | FP6: #NUM! | FQ6: #NUM! | FR6: #NUM! | FS6: #NUM! | FT6: #NUM! | FU6: #NUM! | FV6: #NUM! | FW6: #NUM! | FX6: #NUM! | FY6: #NUM! | FZ6: #NUM! | GA6: #NUM! | GB6: #NUM! | GC6: #NUM! | GD6: #NUM! | GE6: #NUM!
A7: 33359 | B7: #NUM! | C7: #NUM! | D7: #NUM! | E7: #NUM! | F7: #NUM! | G7: #NUM! | H7: #NUM! | I7: #NUM! | J7: #NUM! | K7: #NUM! | L7: #NUM! | M7: #NUM! | N7: #NUM! | O7: #NUM! | P7: #NUM! | Q7: #NUM! | R7: #NUM! | S7: #NUM! | T7: #NUM! | U7: #NUM! | V7: #NUM! | W7: #NUM! | X7: #NUM! | Y7: #NUM! | Z7: #NUM! | AA7: #NUM! | AB7: #NUM! | AC7: #NUM! | AD7: #NUM! | AE7: #NUM! | AF7: #NUM! | AG7: #NUM! | AH7: #NUM! | AI7: #NUM! | AJ7: #NUM! | AK7: #NUM! | AL7: #NUM! | AM7: #NUM! | AN7: #NUM! | AO7: #NUM! | AP7: #NUM! | AQ7: #NUM! | AR7: #NUM! | AS7: #NUM! | AT7: #NUM! | AU7: #NUM! | AV7: #NUM! | AW7: #NUM! | AX7: 0.0076100744 | AY7: #NUM! | AZ7: #NUM! | BA7: #NUM! | BB7: -0.022535424 | BC7: #NUM! | BD7: #NUM! | BE7: #NUM! | BF7: #NUM! | BG7: #NUM! | BH7: #NUM! | BI7: #NUM! | BJ7: #NUM! | BK7: #NUM! | BL7: #NUM! | BM7: #NUM! | BN7: #NUM! | BO7: #NUM! | BP7: #NUM! | BQ7: #NUM! | BR7: #NUM! | BS7: #NUM! | BT7: #NUM! | BU7: #NUM! | BV7: #NUM! | BW7: #NUM! | BX7: #NUM! | BY7: #NUM! | BZ7: #NUM! | CA7: #NUM! | CB7: #NUM! | CC7: #NUM! | CD7: #NUM! | CE7: #NUM! | CF7: #NUM! | CG7: #NUM! | CH7: #NUM! | CI7: #NUM! | CJ7: #NUM! | CK7: #NUM! | CL7: #NUM! | CM7: #NUM! | CN7: #NUM! | CO7: #NUM! | CP7: #NUM! | CQ7: #NUM! | CR7: #NUM! | CS7: #NUM! | CT7: #NUM! | CU7: #NUM! | CV7: #NUM! | CW7: #NUM! | CX7: #NUM! | CY7: #NUM! | CZ7: #NUM! | DA7: #NUM! | DB7: -0.00016146723 | DC7: #NUM! | DD7: #NUM! | DE7: #NUM! | DF7: #NUM! | DG7: #NUM! | DH7: #NUM! | DI7: #NUM! | DJ7: #NUM! | DK7: #NUM! | DL7: #NUM! | DM7: #NUM! | DN7: #NUM! | DO7: #NUM! | DP7: #NUM! | DQ7: #NUM! | DR7: #NUM! | DS7: #NUM! | DT7: #NUM! | DU7: #NUM! | DV7: #NUM! | DW7: #NUM! | DX7: #NUM! | DY7: #NUM! | DZ7: #NUM! | EA7: #NUM! | EB7: #NUM! | EC7: 0.003708139 | ED7: #NUM! | EE7: #NUM! | EF7: #NUM! | EG7: #NUM! | EH7: #NUM! | EI7: #NUM! | EJ7: #NUM! | EK7: #NUM! | EL7: #NUM! | EM7: #NUM! | EN7: #NUM! | EO7: #NUM! | EP7: #NUM! | EQ7: #NUM! | ER7: #NUM! | ES7: #NUM! | ET7: #NUM! | EU7: #NUM! | EV7: 0.027652072 | EW7: #NUM! | EX7: #NUM! | EY7: #NUM! | EZ7: #NUM! | FA7: #NUM! | FB7: #NUM! | FC7: #NUM! | FD7: #NUM! | FE7: #NUM! | FF7: #NUM! | FG7: #NUM! | FH7: #NUM! | FI7: #NUM! | FJ7: #NUM! | FK7: #NUM! | FL7: #NUM! | FM7: #NUM! | FN7: #NUM! | FO7: #NUM! | FP7: #NUM! | FQ7: #NUM! | FR7: #NUM! | FS7: #NUM! | FT7: #NUM! | FU7: #NUM! | FV7: #NUM! | FW7: #NUM! | FX7: #NUM! | FY7: #NUM! | FZ7: #NUM! | GA7: #NUM! | GB7: #NUM! | GC7: #NUM! | GD7: #NUM! | GE7: #NUM!
A8: 33390 | B8: #NUM! | C8: #NUM! | D8: #NUM! | E8: #NUM! | F8: #NUM! | G8: #NUM! | H8: #NUM! | I8: #NUM! | J8: #NUM! | K8: #NUM! | L8: #NUM! | M8: #NUM! | N8: #NUM! | O8: #NUM! | P8: #NUM! | Q8: #NUM! | R8: #NUM! | S8: #NUM! | T8: #NUM! | U8: #NUM! | V8: #NUM! | W8: #NUM! | X8: #NUM! | Y8: #NUM! | Z8: #NUM! | AA8: #NUM! | AB8: #NUM! | AC8: #NUM! | AD8: #NUM! | AE8: #NUM! | AF8: #NUM! | AG8: #NUM! | AH8: #NUM! | AI8: #NUM! | AJ8: #NUM! | AK8: #NUM! | AL8: #NUM! | AM8: #NUM! | AN8: #NUM! | AO8: #NUM! | AP8: #NUM! | AQ8: #NUM! | AR8: #NUM! | AS8: #NUM! | AT8: #NUM! | AU8: #NUM! | AV8: #NUM! | AW8: #NUM! | AX8: -0.00098885656 | AY8: #NUM! | AZ8: #NUM! | BA8: #NUM! | BB8: 0.02381998 | BC8: #NUM! | BD8: #NUM! | BE8: #NUM! | BF8: #NUM! | BG8: #NUM! | BH8: #NUM! | BI8: #NUM! | BJ8: #NUM! | BK8: #NUM! | BL8: #NUM! | BM8: #NUM! | BN8: #NUM! | BO8: #NUM! | BP8: #NUM! | BQ8: #NUM! | BR8: #NUM! | BS8: #NUM! | BT8: #NUM! | BU8: #NUM! | BV8: #NUM! | BW8: #NUM! | BX8: #NUM! | BY8: #NUM! | BZ8: #NUM! | CA8: #NUM! | CB8: #NUM! | CC8: #NUM! | CD8: #NUM! | CE8: #NUM! | CF8: #NUM! | CG8: #NUM! | CH8: #NUM! | CI8: #NUM! | CJ8: #NUM! | CK8: #NUM! | CL8: #NUM! | CM8: #NUM! | CN8: #NUM! | CO8: #NUM! | CP8: #NUM! | CQ8: #NUM! | CR8: #NUM! | CS8: #NUM! | CT8: #NUM! | CU8: #NUM! | CV8: #NUM! | CW8: #NUM! | CX8: #NUM! | CY8: #NUM! | CZ8: #NUM! | DA8: #NUM! | DB8: 0.012406599 | DC8: #NUM! | DD8: #NUM! | DE8: #NUM! | DF8: #NUM! | DG8: #NUM! | DH8: #NUM! | DI8: #NUM! | DJ8: #NUM! | DK8: #NUM! | DL8: #NUM! | DM8: #NUM! | DN8: #NUM! | DO8: #NUM! | DP8: #NUM! | DQ8: #NUM! | DR8: #NUM! | DS8: #NUM! | DT8: #NUM! | DU8: #NUM! | DV8: #NUM! | DW8: #NUM! | DX8: #NUM! | DY8: #NUM! | DZ8: #NUM! | EA8: #NUM! | EB8: #NUM! | EC8: 0.012211066 | ED8: #NUM! | EE8: #NUM! | EF8: #NUM! | EG8: #NUM! | EH8: #NUM! | EI8: #NUM! | EJ8: #NUM! | EK8: #NUM! | EL8: #NUM! | EM8: #NUM! | EN8: #NUM! | EO8: #NUM! | EP8: #NUM! | EQ8: #NUM! | ER8: #NUM! | ES8: #NUM! | ET8: #NUM! | EU8: #NUM! | EV8: -0.0032378737 | EW8: #NUM! | EX8: #NUM! | EY8: #NUM! | EZ8: #NUM! | FA8: #NUM! | FB8: #NUM! | FC8: #NUM! | FD8: #NUM! | FE8: #NUM! | FF8: #NUM! | FG8: #NUM! | FH8: #NUM! | FI8: #NUM! | FJ8: #NUM! | FK8: #NUM! | FL8: #NUM! | FM8: #NUM! | FN8: #NUM! | FO8: #NUM! | FP8: #NUM! | FQ8: #NUM! | FR8: #NUM! | FS8: #NUM! | FT8: #NUM! | FU8: #NUM! | FV8: #NUM! | FW8: #NUM! | FX8: #NUM! | FY8: #NUM! | FZ8: #NUM! | GA8: #NUM! | GB8: #NUM! | GC8: #NUM! | GD8: #NUM! | GE8: #NUM!
A9: 33420 | B9: #NUM! | C9: #NUM! | D9: #NUM! | E9: #NUM! | F9: #NUM! | G9: #NUM! | H9: #NUM! | I9: #NUM! | J9: #NUM! | K9: #NUM! | L9: #NUM! | M9: #NUM! | N9: #NUM! | O9: #NUM! | P9: #NUM! | Q9: #NUM! | R9: #NUM! | S9: #NUM! | T9: #NUM! | U9: #NUM! | V9: #NUM! | W9: #NUM! | X9: #NUM! | Y9: #NUM! | Z9: #NUM! | AA9: #NUM! | AB9: #NUM! | AC9: #NUM! | AD9: #NUM! | AE9: #NUM! | AF9: #NUM! | AG9: #NUM! | AH9: #NUM! | AI9: #NUM! | AJ9: #NUM! | AK9: #NUM! | AL9: #NUM! | AM9: #NUM! | AN9: #NUM! | AO9: #NUM! | AP9: #NUM! | AQ9: #NUM! | AR9: #NUM! | AS9: #NUM! | AT9: #NUM! | AU9: #NUM! | AV9: #NUM! | AW9: #NUM! | AX9: 0.0012536002 | AY9: #NUM! | AZ9: #NUM! | BA9: #NUM! | BB9: -0.018958915 | BC9: #NUM! | BD9: #NUM! | BE9: #NUM! | BF9: #NUM! | BG9: #NUM! | BH9: #NUM! | BI9: #NUM! | BJ9: #NUM! | BK9: #NUM! | BL9: #NUM! | BM9: #NUM! | BN9: #NUM! | BO9: #NUM! | BP9: #NUM! | BQ9: #NUM! | BR9: #NUM! | BS9: #NUM! | BT9: #NUM! | BU9: #NUM! | BV9: #NUM! | BW9: #NUM! | BX9: #NUM! | BY9: #NUM! | BZ9: #NUM! | CA9: #NUM! | CB9: #NUM! | CC9: #NUM! | CD9: #NUM! | CE9: #NUM! | CF9: #NUM! | CG9: #NUM! | CH9: #NUM! | CI9: #NUM! | CJ9: #NUM! | CK9: #NUM! | CL9: #NUM! | CM9: #NUM! | CN9: #NUM! | CO9: #NUM! | CP9: #NUM! | CQ9: #NUM! | CR9: #NUM! | CS9: #NUM! | CT9: #NUM! | CU9: #NUM! | CV9: #NUM! | CW9: #NUM! | CX9: #NUM! | CY9: #NUM! | CZ9: #NUM! | DA9: #NUM! | DB9: -0.038333051 | DC9: #NUM! | DD9: #NUM! | DE9: #NUM! | DF9: #NUM! | DG9: #NUM! | DH9: #NUM! | DI9: #NUM! | DJ9: #NUM! | DK9: #NUM! | DL9: #NUM! | DM9: #NUM! | DN9: #NUM! | DO9: #NUM! | DP9: #NUM! | DQ9: #NUM! | DR9: #NUM! | DS9: #NUM! | DT9: #NUM! | DU9: #NUM! | DV9: #NUM! | DW9: #NUM! | DX9: #NUM! | DY9: #NUM! | DZ9: #NUM! | EA9: #NUM! | EB9: #NUM! | EC9: 0.0058745763 | ED9: #NUM! | EE9: #NUM! | EF9: #NUM! | EG9: #NUM! | EH9: #NUM! | EI9: #NUM! | EJ9: #NUM! | EK9: #NUM! | EL9: #NUM! | EM9: #NUM! | EN9: #NUM! | EO9: #NUM! | EP9: #NUM! | EQ9: #NUM! | ER9: #NUM! | ES9: #NUM! | ET9: #NUM! | EU9: #NUM! | EV9: -0.012564024 | EW9: #NUM! | EX9: #NUM! | EY9: #NUM! | EZ9: #NUM! | FA9: #NUM! | FB9: #NUM! | FC9: #NUM! | FD9: #NUM! | FE9: #NUM! | FF9: #NUM! | FG9: #NUM! | FH9: #NUM! | FI9: #NUM! | FJ9: #NUM! | FK9: #NUM! | FL9: #NUM! | FM9: #NUM! | FN9: #NUM! | FO9: #NUM! | FP9: #NUM! | FQ9: #NUM! | FR9: #NUM! | FS9: #NUM! | FT9: #NUM! | FU9: #NUM! | FV9: #NUM! | FW9: #NUM! | FX9: #NUM! | FY9: #NUM! | FZ9: #NUM! | GA9: #NUM! | GB9: #NUM! | GC9: #NUM! | GD9: #NUM! | GE9: #NUM!
A10: 33451 | B10: #NUM! | C10: #NUM! | D10: #NUM! | E10: #NUM! | F10: #NUM! | G10: #NUM! | H10: #NUM! | I10: #NUM! | J10: #NUM! | K10: #NUM! | L10: #NUM! | M10: #NUM! | N10: #NUM! | O10: #NUM! | P10: #NUM! | Q10: #NUM! | R10: #NUM! | S10: #NUM! | T10: #NUM! | U10: #NUM! | V10: #NUM! | W10: #NUM! | X10: #NUM! | Y10: #NUM! | Z10: #NUM! | AA10: #NUM! | AB10: #NUM! | AC10: #NUM! | AD10: #NUM! | AE10: #NUM! | AF10: #NUM! | AG10: #NUM! | AH10: #NUM! | AI10: #NUM! | AJ10: #NUM! | AK10: #NUM! | AL10: #NUM! | AM10: #NUM! | AN10: #NUM! | AO10: #NUM! | AP10: #NUM! | AQ10: #NUM! | AR10: #NUM! | AS10: #NUM! | AT10: #NUM! | AU10: #NUM! | AV10: #NUM! | AW10: #NUM! | AX10: -0.022286781 | AY10: #NUM! | AZ10: #NUM! | BA10: #NUM! | BB10: -0.011705574 | BC10: #NUM! | BD10: #NUM! | BE10: #NUM! | BF10: #NUM! | BG10: #NUM! | BH10: #NUM! | BI10: #NUM! | BJ10: #NUM! | BK10: #NUM! | BL10: #NUM! | BM10: #NUM! | BN10: #NUM! | BO10: #NUM! | BP10: #NUM! | BQ10: #NUM! | BR10: #NUM! | BS10: #NUM! | BT10: #NUM! | BU10: #NUM! | BV10: #NUM! | BW10: #NUM! | BX10: #NUM! | BY10: #NUM! | BZ10: #NUM! | CA10: #NUM! | CB10: #NUM! | CC10: #NUM! | CD10: #NUM! | CE10: #NUM! | CF10: #NUM! | CG10: #NUM! | CH10: #NUM! | CI10: #NUM! | CJ10: #NUM! | CK10: #NUM! | CL10: #NUM! | CM10: #NUM! | CN10: #NUM! | CO10: #NUM! | CP10: #NUM! | CQ10: #NUM! | CR10: #NUM! | CS10: #NUM! | CT10: #NUM! | CU10: #NUM! | CV10: #NUM! | CW10: #NUM! | CX10: #NUM! | CY10: #NUM! | CZ10: #NUM! | DA10: #NUM! | DB10: 0.029789646 | DC10: #NUM! | DD10: #NUM! | DE10: #NUM! | DF10: #NUM! | DG10: #NUM! | DH10: #NUM! | DI10: #NUM! | DJ10: #NUM! | DK10: #NUM! | DL10: #NUM! | DM10: #NUM! | DN10: #NUM! | DO10: #NUM! | DP10: #NUM! | DQ10: #NUM! | DR10: #NUM! | DS10: #NUM! | DT10: #NUM! | DU10: #NUM! | DV10: #NUM! | DW10: #NUM! | DX10: #NUM! | DY10: #NUM! | DZ10: #NUM! | EA10: #NUM! | EB10: #NUM! | EC10: -0.033032699 | ED10: #NUM! | EE10: #NUM! | EF10: #NUM! | EG10: #NUM! | EH10: #NUM! | EI10: #NUM! | EJ10: #NUM! | EK10: #NUM! | EL10: #NUM! | EM10: #NUM! | EN10: #NUM! | EO10: #NUM! | EP10: #NUM! | EQ10: #NUM! | ER10: #NUM! | ES10: #NUM! | ET10: #NUM! | EU10: #NUM! | EV10: 0.0031222036 | EW10: #NUM! | EX10: #NUM! | EY10: #NUM! | EZ10: #NUM! | FA10: #NUM! | FB10: #NUM! | FC10: #NUM! | FD10: #NUM! | FE10: #NUM! | FF10: #NUM! | FG10: #NUM! | FH10: #NUM! | FI10: #NUM! | FJ10: #NUM! | FK10: #NUM! | FL10: #NUM! | FM10: #NUM! | FN10: #NUM! | FO10: #NUM! | FP10: #NUM! | FQ10: #NUM! | FR10: #NUM! | FS10: #NUM! | FT10: #NUM! | FU10: #NUM! | FV10: #NUM! | FW10: #NUM! | FX10: #NUM! | FY10: #NUM! | FZ10: #NUM! | GA10: #NUM! | GB10: #NUM! | GC10: #NUM! | GD10: #NUM! | GE10: #NUM!
A11: 33482 | B11: #NUM! | C11: #NUM! | D11: #NUM! | E11: #NUM! | F11: #NUM! | G11: #NUM! | H11: #NUM! | I11: #NUM! | J11: #NUM! | K11: #NUM! | L11: #NUM! | M11: #NUM! | N11: #NUM! | O11: #NUM! | P11: #NUM! | Q11: #NUM! | R11: #NUM! | S11: #NUM! | T11: #NUM! | U11: #NUM! | V11: #NUM! | W11: #NUM! | X11: #NUM! | Y11: #NUM! | Z11: #NUM! | AA11: #NUM! | AB11: #NUM! | AC11: #NUM! | AD11: #NUM! | AE11: #NUM! | AF11: #NUM! | AG11: #NUM! | AH11: #NUM! | AI11: #NUM! | AJ11: #NUM! | AK11: #NUM! | AL11: #NUM! | AM11: #NUM! | AN11: #NUM! | AO11: #NUM! | AP11: #NUM! | AQ11: #NUM! | AR11: #NUM! | AS11: #NUM! | AT11: #NUM! | AU11: #NUM! | AV11: #NUM! | AW11: #NUM! | AX11: -0.015948104 | AY11: #NUM! | AZ11: #NUM! | BA11: #NUM! | BB11: 0.02183201 | BC11: #NUM! | BD11: #NUM! | BE11: #NUM! | BF11: #NUM! | BG11: #NUM! | BH11: #NUM! | BI11: #NUM! | BJ11: #NUM! | BK11: #NUM! | BL11: #NUM! | BM11: #NUM! | BN11: #NUM! | BO11: #NUM! | BP11: #NUM! | BQ11: #NUM! | BR11: #NUM! | BS11: #NUM! | BT11: #NUM! | BU11: #NUM! | BV11: #NUM! | BW11: #NUM! | BX11: #NUM! | BY11: #NUM! | BZ11: #NUM! | CA11: #NUM! | CB11: #NUM! | CC11: #NUM! | CD11: #NUM! | CE11: #NUM! | CF11: #NUM! | CG11: #NUM! | CH11: #NUM! | CI11: #NUM! | CJ11: #NUM! | CK11: #NUM! | CL11: #NUM! | CM11: #NUM! | CN11: #NUM! | CO11: #NUM! | CP11: #NUM! | CQ11: #NUM! | CR11: #NUM! | CS11: #NUM! | CT11: #NUM! | CU11: #NUM! | CV11: #NUM! | CW11: #NUM! | CX11: #NUM! | CY11: #NUM! | CZ11: #NUM! | DA11: #NUM! | DB11: 0.018118484 | DC11: #NUM! | DD11: #NUM! | DE11: #NUM! | DF11: #NUM! | DG11: #NUM! | DH11: #NUM! | DI11: #NUM! | DJ11: #NUM! | DK11: #NUM! | DL11: #NUM! | DM11: #NUM! | DN11: #NUM! | DO11: #NUM! | DP11: #NUM! | DQ11: #NUM! | DR11: #NUM! | DS11: #NUM! | DT11: #NUM! | DU11: #NUM! | DV11: #NUM! | DW11: #NUM! | DX11: #NUM! | DY11: #NUM! | DZ11: #NUM! | EA11: #NUM! | EB11: #NUM! | EC11: -0.0014489928 | ED11: #NUM! | EE11: #NUM! | EF11: #NUM! | EG11: #NUM! | EH11: #NUM! | EI11: #NUM! | EJ11: #NUM! | EK11: #NUM! | EL11: #NUM! | EM11: #NUM! | EN11: #NUM! | EO11: #NUM! | EP11: #NUM! | EQ11: #NUM! | ER11: #NUM! | ES11: #NUM! | ET11: #NUM! | EU11: #NUM! | EV11: 0.0071276714 | EW11: #NUM! | EX11: #NUM! | EY11: #NUM! | EZ11: #NUM! | FA11: #NUM! | FB11: #NUM! | FC11: #NUM! | FD11: #NUM! | FE11: #NUM! | FF11: #NUM! | FG11: #NUM! | FH11: #NUM! | FI11: #NUM! | FJ11: #NUM! | FK11: #NUM! | FL11: #NUM! | FM11: #NUM! | FN11: #NUM! | FO11: #NUM! | FP11: #NUM! | FQ11: #NUM! | FR11: #NUM! | FS11: #NUM! | FT11: #NUM! | FU11: #NUM! | FV11: #NUM! | FW11: #NUM! | FX11: #NUM! | FY11: #NUM! | FZ11: #NUM! | GA11: #NUM! | GB11: #NUM! | GC11: #NUM! | GD11: #NUM! | GE11: #NUM!
A12: 33512 | B12: #NUM! | C12: #NUM! | D12: #NUM! | E12: #NUM! | F12: #NUM! | G12: #NUM! | H12: #NUM! | I12: #NUM! | J12: #NUM! | K12: #NUM! | L12: #NUM! | M12: #NUM! | N12: #NUM! | O12: #NUM! | P12: #NUM! | Q12: #NUM! | R12: #NUM! | S12: #NUM! | T12: #NUM! | U12: #NUM! | V12: #NUM! | W12: #NUM! | X12: #NUM! | Y12: #NUM! | Z12: #NUM! | AA12: #NUM! | AB12: #NUM! | AC12: #NUM! | AD12: #NUM! | AE12: #NUM! | AF12: #NUM! | AG12: #NUM! | AH12: #NUM! | AI12: #NUM! | AJ12: #NUM! | AK12: #NUM! | AL12: #NUM! | AM12: #NUM! | AN12: #NUM! | AO12: #NUM! | AP12: #NUM! | AQ12: #NUM! | AR12: #NUM! | AS12: #NUM! | AT12: #NUM! | AU12: #NUM! | AV12: #NUM! | AW12: #NUM! | AX12: -0.036741193 | AY12: #NUM! | AZ12: #NUM! | BA12: #NUM! | BB12: 0.011759996 | BC12: #NUM! | BD12: #NUM! | BE12: #NUM! | BF12: #NUM! | BG12: #NUM! | BH12: #NUM! | BI12: #NUM! | BJ12: #NUM! | BK12: #NUM! | BL12: #NUM! | BM12: #NUM! | BN12: #NUM! | BO12: #NUM! | BP12: #NUM! | BQ12: #NUM! | BR12: #NUM! | BS12: #NUM! | BT12: #NUM! | BU12: #NUM! | BV12: #NUM! | BW12: #NUM! | BX12: #NUM! | BY12: -0.00069820272 | BZ12: #NUM! | CA12: #NUM! | CB12: #NUM! | CC12: #NUM! | CD12: #NUM! | CE12: #NUM! | CF12: #NUM! | CG12: #NUM! | CH12: #NUM! | CI12: #NUM! | CJ12: #NUM! | CK12: #NUM! | CL12: #NUM! | CM12: #NUM! | CN12: #NUM! | CO12: #NUM! | CP12: #NUM! | CQ12: #NUM! | CR12: #NUM! | CS12: #NUM! | CT12: #NUM! | CU12: #NUM! | CV12: #NUM! | CW12: #NUM! | CX12: #NUM! | CY12: #NUM! | CZ12: #NUM! | DA12: #NUM! | DB12: 0.011384913 | DC12: #NUM! | DD12: #NUM! | DE12: #NUM! | DF12: #NUM! | DG12: #NUM! | DH12: #NUM! | DI12: #NUM! | DJ12: #NUM! | DK12: #NUM! | DL12: #NUM! | DM12: #NUM! | DN12: #NUM! | DO12: #NUM! | DP12: #NUM! | DQ12: #NUM! | DR12: #NUM! | DS12: #NUM! | DT12: #NUM! | DU12: #NUM! | DV12: #NUM! | DW12: #NUM! | DX12: #NUM! | DY12: #NUM! | DZ12: #NUM! | EA12: #NUM! | EB12: #NUM! | EC12: -0.027023115 | ED12: #NUM! | EE12: #NUM! | EF12: #NUM! | EG12: #NUM! | EH12: #NUM! | EI12: #NUM! | EJ12: #NUM! | EK12: #NUM! | EL12: #NUM! | EM12: #NUM! | EN12: #NUM! | EO12: #NUM! | EP12: #NUM! | EQ12: #NUM! | ER12: #NUM! | ES12: #NUM! | ET12: #NUM! | EU12: #NUM! | EV12: 0.0029092438 | EW12: #NUM! | EX12: #NUM! | EY12: #NUM! | EZ12: #NUM! | FA12: #NUM! | FB12: #NUM! | FC12: #NUM! | FD12: #NUM! | FE12: #NUM! | FF12: #NUM! | FG12: #NUM! | FH12: #NUM! | FI12: #NUM! | FJ12: #NUM! | FK12: #NUM! | FL12: #NUM! | FM12: #NUM! | FN12: #NUM! | FO12: #NUM! | FP12: #NUM! | FQ12: #NUM! | FR12: #NUM! | FS12: #NUM! | FT12: #NUM! | FU12: #NUM! | FV12: #NUM! | FW12: #NUM! | FX12: #NUM! | FY12: #NUM! | FZ12: #NUM! | GA12: #NUM! | GB12: #NUM! | GC12: #NUM! | GD12: #NUM! | GE12: #NUM!
A13: 33543 | B13: #NUM! | C13: #NUM! | D13: #NUM! | E13: #NUM! | F13: #NUM! | G13: #NUM! | H13: #NUM! | I13: #NUM! | J13: #NUM! | K13: #NUM! | L13: #NUM! | M13: #NUM! | N13: #NUM! | O13: #NUM! | P13: #NUM! | Q13: #NUM! | R13: #NUM! | S13: #NUM! | T13: #NUM! | U13: #NUM! | V13: #NUM! | W13: #NUM! | X13: #NUM! | Y13: #NUM! | Z13: #NUM! | AA13: #NUM! | AB13: #NUM! | AC13: #NUM! | AD13: #NUM! | AE13: #NUM! | AF13: #NUM! | AG13: #NUM! | AH13: #NUM! | AI13: #NUM! | AJ13: #NUM! | AK13: #NUM! | AL13: #NUM! | AM13: #NUM! | AN13: #NUM! | AO13: #NUM! | AP13: #NUM! | AQ13: #NUM! | AR13: #NUM! | AS13: #NUM! | AT13: #NUM! | AU13: #NUM! | AV13: #NUM! | AW13: #NUM! | AX13: -0.003682126 | AY13: #NUM! | AZ13: #NUM! | BA13: #NUM! | BB13: -0.015156289 | BC13: #NUM! | BD13: #NUM! | BE13: #NUM! | BF13: #NUM! | BG13: #NUM! | BH13: #NUM! | BI13: #NUM! | BJ13: #NUM! | BK13: #NUM! | BL13: #NUM! | BM13: #NUM! | BN13: #NUM! | BO13: #NUM! | BP13: #NUM! | BQ13: #NUM! | BR13: #NUM! | BS13: #NUM! | BT13: #NUM! | BU13: #NUM! | BV13: #NUM! | BW13: #NUM! | BX13: #NUM! | BY13: -0.00081114374 | BZ13: #NUM! | CA13: #NUM! | CB13: #NUM! | CC13: #NUM! | CD13: #NUM! | CE13: #NUM! | CF13: #NUM! | CG13: #NUM! | CH13: #NUM! | CI13: #NUM! | CJ13: #NUM! | CK13: #NUM! | CL13: #NUM! | CM13: #NUM! | CN13: #NUM! | CO13: #NUM! | CP13: #NUM! | CQ13: #NUM! | CR13: #NUM! | CS13: #NUM! | CT13: #NUM! | CU13: #NUM! | CV13: #NUM! | CW13: #NUM! | CX13: #NUM! | CY13: #NUM! | CZ13: #NUM! | DA13: #NUM! | DB13: -0.013511057 | DC13: #NUM! | DD13: #NUM! | DE13: #NUM! | DF13: #NUM! | DG13: #NUM! | DH13: #NUM! | DI13: #NUM! | DJ13: #NUM! | DK13: #NUM! | DL13: #NUM! | DM13: #NUM! | DN13: #NUM! | DO13: #NUM! | DP13: #NUM! | DQ13: #NUM! | DR13: #NUM! | DS13: #NUM! | DT13: #NUM! | DU13: #NUM! | DV13: #NUM! | DW13: #NUM! | DX13: #NUM! | DY13: #NUM! | DZ13: #NUM! | EA13: #NUM! | EB13: #NUM! | EC13: -0.0072421905 | ED13: #NUM! | EE13: #NUM! | EF13: #NUM! | EG13: #NUM! | EH13: #NUM! | EI13: #NUM! | EJ13: #NUM! | EK13: #NUM! | EL13: #NUM! | EM13: #NUM! | EN13: #NUM! | EO13: #NUM! | EP13: #NUM! | EQ13: #NUM! | ER13: #NUM! | ES13: #NUM! | ET13: #NUM! | EU13: #NUM! | EV13: 0.0043986202 | EW13: #NUM! | EX13: #NUM! | EY13: #NUM! | EZ13: #NUM! | FA13: #NUM! | FB13: #NUM! | FC13: #NUM! | FD13: #NUM! | FE13: #NUM! | FF13: #NUM! | FG13: #NUM! | FH13: #NUM! | FI13: #NUM! | FJ13: #NUM! | FK13: #NUM! | FL13: #NUM! | FM13: #NUM! | FN13: #NUM! | FO13: #NUM! | FP13: #NUM! | FQ13: #NUM! | FR13: #NUM! | FS13: #NUM! | FT13: #NUM! | FU13: #NUM! | FV13: #NUM! | FW13: #NUM! | FX13: #NUM! | FY13: #NUM! | FZ13: #NUM! | GA13: #NUM! | GB13: #NUM! | GC13: #NUM! | GD13: #NUM! | GE13: #NUM!
A14: 33573 | B14: #NUM! | C14: #NUM! | D14: #NUM! | E14: #NUM! | F14: #NUM! | G14: #NUM! | H14: #NUM! | I14: #NUM! | J14: #NUM! | K14: #NUM! | L14: #NUM! | M14: #NUM! | N14: #NUM! | O14: #NUM! | P14: #NUM! | Q14: #NUM! | R14: #NUM! | S14: #NUM! | T14: #NUM! | U14: #NUM! | V14: #NUM! | W14: #NUM! | X14: #NUM! | Y14: #NUM! | Z14: #NUM! | AA14: #NUM! | AB14: #NUM! | AC14: #NUM! | AD14: #NUM! | AE14: #NUM! | AF14: #NUM! | AG14: #NUM! | AH14: #NUM! | AI14: #NUM! | AJ14: #NUM! | AK14: #NUM! | AL14: #NUM! | AM14: #NUM! | AN14: #NUM! | AO14: #NUM! | AP14: #NUM! | AQ14: #NUM! | AR14: #NUM! | AS14: #NUM! | AT14: #NUM! | AU14: #NUM! | AV14: #NUM! | AW14: #NUM! | AX14: -0.061594853 | AY14: #NUM! | AZ14: #NUM! | BA14: #NUM! | BB14: -0.035403421 | BC14: #NUM! | BD14: #NUM! | BE14: #NUM! | BF14: #NUM! | BG14: #NUM! | BH14: #NUM! | BI14: #NUM! | BJ14: #NUM! | BK14: #NUM! | BL14: #NUM! | BM14: #NUM! | BN14: #NUM! | BO14: #NUM! | BP14: #NUM! | BQ14: #NUM! | BR14: #NUM! | BS14: #NUM! | BT14: #NUM! | BU14: #NUM! | BV14: #NUM! | BW14: #NUM! | BX14: #NUM! | BY14: -0.014167332 | BZ14: #NUM! | CA14: #NUM! | CB14: #NUM! | CC14: #NUM! | CD14: #NUM! | CE14: #NUM! | CF14: #NUM! | CG14: #NUM! | CH14: #NUM! | CI14: #NUM! | CJ14: #NUM! | CK14: #NUM! | CL14: #NUM! | CM14: #NUM! | CN14: #NUM! | CO14: #NUM! | CP14: #NUM! | CQ14: #NUM! | CR14: #NUM! | CS14: #NUM! | CT14: #NUM! | CU14: #NUM! | CV14: #NUM! | CW14: #NUM! | CX14: #NUM! | CY14: #NUM! | CZ14: #NUM! | DA14: #NUM! | DB14: -0.05197732 | DC14: #NUM! | DD14: #NUM! | DE14: #NUM! | DF14: #NUM! | DG14: #NUM! | DH14: #NUM! | DI14: #NUM! | DJ14: #NUM! | DK14: #NUM! | DL14: #NUM! | DM14: #NUM! | DN14: #NUM! | DO14: #NUM! | DP14: #NUM! | DQ14: #NUM! | DR14: #NUM! | DS14: #NUM! | DT14: #NUM! | DU14: #NUM! | DV14: #NUM! | DW14: #NUM! | DX14: #NUM! | DY14: #NUM! | DZ14: #NUM! | EA14: #NUM! | EB14: #NUM! | EC14: -0.096416194 | ED14: #NUM! | EE14: #NUM! | EF14: #NUM! | EG14: #NUM! | EH14: #NUM! | EI14: #NUM! | EJ14: #NUM! | EK14: #NUM! | EL14: #NUM! | EM14: #NUM! | EN14: #NUM! | EO14: #NUM! | EP14: #NUM! | EQ14: #NUM! | ER14: #NUM! | ES14: #NUM! | ET14: #NUM! | EU14: #NUM! | EV14: -0.055181068 | EW14: #NUM! | EX14: #NUM! | EY14: #NUM! | EZ14: #NUM! | FA14: #NUM! | FB14: #NUM! | FC14: #NUM! | FD14: #NUM! | FE14: #NUM! | FF14: #NUM! | FG14: #NUM! | FH14: #NUM! | FI14: #NUM! | FJ14: #NUM! | FK14: #NUM! | FL14: #NUM! | FM14: #NUM! | FN14: #NUM! | FO14: #NUM! | FP14: #NUM! | FQ14: #NUM! | FR14: #NUM! | FS14: #NUM! | FT14: #NUM! | FU14: #NUM! | FV14: #NUM! | FW14: #NUM! | FX14: #NUM! | FY14: #NUM! | FZ14: #NUM! | GA14: #NUM! | GB14: #NUM! | GC14: #NUM! | GD14: #NUM! | GE14: #NUM!
