Workbook

Sheet Factor portfolios
A1: Date | B1: Mkt-RF_EU | C1: SMB_EU | D1: HML_EU | E1: WML_EU
A2: 199012 | B2: -0.015621381 | C2: 0.0060814703 | D2: 0.0078689584 | E2: 0.0053854723
A3: 199101 | B3: 0.015873349 | C3: -0.045625178 | D3: -0.0026033859 | E3: -0.019386714
A4: 199102 | B4: 0.070458464 | C4: 0.010445258 | D4: 0.0084640784 | E4: -0.08077631
A5: 199103 | B5: -0.070207895 | C5: 0.02644717 | D5: -0.0056157388 | E5: -0.0076290272
A6: 199104 | B6: -0.0074275158 | C6: -0.0036064956 | D6: -0.0092425814 | E6: 0.013804281
A7: 199105 | B7: 0.0065783154 | C7: -0.032833157 | D7: 0.0046889895 | E7: -0.0095454128
A8: 199106 | B8: -0.077313103 | C8: 0.0079681696 | D8: -0.0034057931 | E8: 0.0042907814
A9: 199107 | B9: 0.053066721 | C9: -0.032833157 | D9: -0.0044097085 | E9: 0.057419491
A10: 199108 | B10: 0.013902905 | C10: -0.0062192998 | D10: -0.0032051309 | E10: 0.017152059
A11: 199109 | B11: 0.029170377 | C11: 0.020782539 | D11: -0.006118681 | E11: 0.041717593
A12: 199110 | B12: -0.027885203 | C12: -0.0079313703 | D12: -0.006118681 | E12: 0.0303352
A13: 199111 | B13: -0.02306394 | C13: 0.0031948909 | D13: -0.017247893 | E13: 0.0035935355
... A283: 201405 | B283: 0.0075712655 | C283: -0.006521217 | D283: -0.0056157388 | E283: -0.0036064956

Sheet Rf
A1: RF
A2: 0.0056838165
A3: 0.0059820717
A4: 0.0051865267
A5: 0.0047885167
A6: 0.0043903483
A7: 0.0052860044
A8: 0.0046889895
A9: 0.0041912046
A10: 0.0048880341
A11: 0.0045894523
A12: 0.0045894523
A13: 0.0041912046
... A284: 0

Sheet Raw data mutual funds
A1: Date | B1: GF_01 | C1: GF_02 | D1: GF_03 | E1: GF_04 | F1: GF_05 | G1: GF_06 | H1: GF_07 | I1: GF_08 | J1: GF_09 | K1: GF_10 | L1: GF_11 | M1: GF_12 | N1: GF_13 | O1: GF_14 | P1: GF_15 | Q1: GF_16 | R1: GF_17 | S1: GF_18 | T1: GF_19 | U1: GF_20 | V1: GF_21 | W1: GF_22 | X1: GF_23 | Y1: GF_24 | Z1: GF_25 | AA1: GF_26 | AB1: GF_27 | AC1: GF_28 | AD1: GF_29 | AE1: GF_30 | AF1: GF_31 | AG1: GF_32 | AH1: GF_33 | AI1: GF_34 | AJ1: GF_35 | AK1: GF_36 | AL1: GF_37 | AM1: GF_38 | AN1: GF_39 | AO1: GF_40 | AP1: GF_41 | AQ1: GF_42 | AR1: GF_43 | AS1: GF_44 | AT1: GF_45 | AU1: GF_46 | AV1: GF_47 | AW1: GF_48 | AX1: GF_49 | AY1: GF_50 | AZ1: GF_51 | BA1: GF_52 | BB1: GF_53 | BC1: GF_54 | BD1: GF_55 | BE1: GF_56 | BF1: GF_57 | BG1: GF_58 | BH1: GF_59 | BI1: GF_60 | BJ1: GF_61 | BK1: GF_62 | BL1: GF_63 | BM1: GF_64 | BN1: GF_65 | BO1: GF_66 | BP1: GF_67 | BQ1: GF_68 | BR1: GF_69 | BS1: GF_70 | BT1: GF_71 | BU1: GF_72 | BV1: GF_73 | BW1: GF_74 | BX1: GF_75 | BY1: GF_76 | BZ1: GF_77 | CA1: GF_78 | CB1: GF_79 | CC1: GF_80 | CD1: GF_81 | CE1: GF_82 | CF1: GF_83 | CG1: GF_84 | CH1: GF_85 | CI1: GF_86 | CJ1: GF_87 | CK1: GF_88 | CL1: GF_89 | CM1: GF_90 | CN1: GF_91 | CO1: GF_92 | CP1: GF_93 | CQ1: GF_94 | CR1: GF_95 | CS1: GF_96 | CT1: GF_97 | CU1: GF_98 | CV1: GF_99 | CW1: GF_100 | CX1: GF_101 | CY1: GF_102 | CZ1: GF_103 | DA1: GF_104 | DB1: GF_105 | DC1: GF_106 | DD1: GF_107 | DE1: GF_108 | DF1: GF_109 | DG1: GF_110 | DH1: GF_111 | DI1: GF_112 | DJ1: GF_113 | DK1: GF_114 | DL1: GF_115 | DM1: GF_116 | DN1: GF_117 | DO1: GF_118 | DP1: GF_119 | DQ1: GF_120 | DR1: GF_121 | DS1: GF_122 | DT1: GF_123 | DU1: GF_124 | DV1: GF_125 | DW1: GF_126 | DX1: GF_127 | DY1: GF_128 | DZ1: GF_129 | EA1: GF_130 | EB1: GF_131 | EC1: GF_132 | ED1: GF_133 | EE1: GF_134 | EF1: GF_135 | EG1: GF_136 | EH1: GF_137 | EI1: GF_138 | EJ1: GF_139 | EK1: GF_140 | EL1: GF_141 | EM1: GF_142 | EN1: GF_143 | EO1: GF_144 | EP1: GF_145 | EQ1: GF_146 | ER1: GF_147 | ES1: GF_148 | ET1: GF_149 | EU1: GF_150 | EV1: GF_151 | EW1: GF_152 | EX1: GF_153 | EY1: GF_154 | EZ1: GF_155 | FA1: GF_156 | FB1: GF_157 | FC1: GF_158 | FD1: GF_159 | FE1: GF_160 | FF1: GF_161 | FG1: GF_162 | FH1: GF_163 | FI1: GF_164 | FJ1: GF_165 | FK1: GF_166 | FL1: GF_167 | FM1: GF_168 | FN1: GF_169 | FO1: GF_170 | FP1: GF_171 | FQ1: GF_172 | FR1: GF_173 | FS1: GF_174 | FT1: GF_175 | FU1: GF_176 | FV1: GF_177 | FW1: GF_178 | FX1: GF_179 | FY1: GF_180 | FZ1: GF_181 | GA1: GF_182 | GB1: GF_183 | GC1: GF_184 | GD1: GF_185 | GE1: GF_186
A2: 33178 | BB2: 147.03 | DB2: 119.62 | EC2: 110.37 | EV2: 86.68
A3: 33208 | AX3: 99.66 | BB3: 146.29 | DB3: 119.35 | EC3: 105.53 | EV3: 87.89
A4: 33239 | AX4: 102.98 | BB4: 146.52 | DB4: 121.31 | EC4: 107.07 | EV4: 88.52
A5: 33270 | AX5: 106.76 | BB5: 142.93 | DB5: 124.66 | EC5: 103.73 | EV5: 90.97
A6: 33298 | AX6: 114.71 | BB6: 156.17 | DB6: 138.52 | EC6: 116.19 | EV6: 99.37
A7: 33329 | AX7: 122.5 | BB7: 171.33 | DB7: 145.98 | EC7: 126.18 | EV7: 106.61
A8: 33359 | AX8: 124.09 | BB8: 168.4 | DB8: 146.73 | EC8: 127.32 | EV8: 110.18
A9: 33390 | AX9: 124.55 | BB9: 173.27 | DB9: 149.26 | EC9: 129.49 | EV9: 110.34
A10: 33420 | AX10: 125.23 | BB10: 170.73 | DB10: 144.25 | EC10: 130.8 | EV10: 109.42
A11: 33451 | AX11: 123.07 | BB11: 169.57 | DB11: 149.34 | EC11: 127.17 | EV11: 110.3
A12: 33482 | AX12: 121.68 | BB12: 174.11 | BY12: 100.03 | DB12: 152.77 | EC12: 127.57 | EV12: 111.6
A13: 33512 | AX13: 117.83 | BB13: 176.98 | BY13: 100.42 | DB13: 155.23 | EC13: 124.74 | EV13: 112.44
A14: 33543 | AX14: 117.89 | BB14: 175.05 | BY14: 100.76 | DB14: 153.79 | EC14: 124.36 | EV14: 113.41
A15: 33573 | AX15: 111.28 | BB15: 169.62 | BY15: 99.73 | DB15: 146.57 | EC15: 113.37 | EV15: 107.74
A16: 33604 | AX16: 106.69 | BB16: 165 | BY16: 100.11 | DB16: 143.11 | EC16: 111.45 | EV16: 106.13
A17: 33635 | AX17: 115.91 | BB17: 171.08 | BY17: 103.31 | DB17: 154.56 | EC17: 122.12 | EV17: 113.2
A18: 33664 | AX18: 116.63 | BB18: 175.17 | BY18: 103.85 | DB18: 155.77 | EC18: 127.56 | EV18: 116.81
A19: 33695 | AX19: 106.6 | BB19: 168.91 | BY19: 101.97 | DB19: 151.21 | EC19: 117.46 | EV19: 113.46
A20: 33725 | AX20: 106.57 | BB20: 185.47 | BY20: 104.19 | DB20: 168.63 | EC20: 118.54 | EV20: 113.8
A21: 33756 | AX21: 109.47 | BB21: 186.67 | BG21: 99.78 | BY21: 105.12 | DB21: 172.52 | EC21: 121.71 | EV21: 115.13
A22: 33786 | AX22: 102.66 | BB22: 177.57 | BG22: 96.15 | BY22: 103.11 | DB22: 162.35 | EC22: 111.96 | EV22: 106.5
A23: 33817 | AX23: 96.8 | BB23: 166.16 | BG23: 92.21 | BY23: 100.01 | DB23: 149.05 | EC23: 106.46 | EV23: 103.14
A24: 33848 | AX24: 90 | BB24: 159.5 | BG24: 87.09 | BY24: 96.46 | DB24: 138.81 | EC24: 101.68 | EV24: 98.27
A25: 33878 | AX25: 89.84 | BB25: 160.74 | BG25: 85.73 | BY25: 95.31 | DB25: 139.8 | DC25: 98.54 | EC25: 105.51 | EV25: 100.05
A26: 33909 | AX26: 96.82 | BB26: 166.99 | BG26: 89.95 | BY26: 96.7 | DB26: 137.35 | DC26: 103.07 | EC26: 113.26 | EV26: 106.03
A27: 33939 | AX27: 100.31 | BB27: 177.91 | BG27: 93.39 | BY27: 98.82 | DB27: 143.24 | DC27: 104.34 | EC27: 125.11 | EV27: 112.35
A28: 33970 | AX28: 98.12 | BB28: 184.57 | BG28: 94.74 | BY28: 100.2 | DB28: 156.22 | DC28: 104.39 | EC28: 130.37 | EV28: 116.54
A29: 34001 | AX29: 100.34 | BB29: 185.59 | BG29: 97.34 | BY29: 100.74 | DB29: 157.56 | DC29: 110.91 | EC29: 136.3 | EV29: 117.32
A30: 34029 | AX30: 100.88 | BB30: 192.17 | BG30: 100.12 | BY30: 102.79 | DB30: 158.77 | DC30: 111.44 | EC30: 141.04 | EV30: 121.22
A31: 34060 | AX31: 99.94 | BB31: 201.52 | BG31: 99.82 | BY31: 104.74 | DB31: 167.26 | DC31: 111.12 | EC31: 146.41 | EV31: 126.76
A32: 34090 | AX32: 96.73 | BB32: 198.64 | BG32: 97.58 | BY32: 102.04 | DB32: 167.7 | DC32: 107.1 | EC32: 146.48 | EV32: 125.42
A33: 34121 | AX33: 98.87 | BB33: 201.42 | BG33: 99.6 | BY33: 103.85 | DB33: 168.01 | DC33: 108.04 | EC33: 149.47 | EV33: 132.39
A34: 34151 | AX34: 99.01 | BB34: 210.35 | BG34: 100.32 | BY34: 103.64 | DB34: 175.88 | DC34: 109.33 | EC34: 153.43 | EV34: 136.79
A35: 34182 | AX35: 100.28 | BB35: 218.69 | BG35: 106.99 | BY35: 105.19 | DB35: 181.54 | DC35: 111.61 | EC35: 158.69 | EV35: 141.69
A36: 34213 | AX36: 98.41 | BB36: 226.68 | BG36: 107.12 | BY36: 107.21 | DB36: 185.59 | DC36: 113.31 | EC36: 161.15 | EV36: 147.62
... A46: 34516 | AX46: 87.31 | BB46: 225.91 | BG46: 96.29 | BY46: 101.02 | DB46: 181.2 | DC46: 106.93 | EC46: 152.74 | EV46: 139.44
A47: 34547 | AX47: 87.94 | BB47: 226.98 | BG47: 95.74 | BY47: 103.71 | DB47: 185.61 | DC47: 107.76 | EC47: 153.15 | EV47: 143.57 | FL47: 100.17
A48: 34578 | AX48: 89.97 | BB48: 240.19 | BG48: 96.77 | BY48: 105.11 | DB48: 197.5 | DC48: 109.9 | EC48: 155.37 | EV48: 146.1 | FL48: 102.27
A49: 34608 | AX49: 86.54 | BB49: 227.95 | BG49: 93.44 | BY49: 101.56 | DB49: 186.6 | DC49: 106.05 | EC49: 149.89 | EV49: 140.24 | FL49: 102.01
A50: 34639 | AX50: 83.96 | BB50: 227.56 | BG50: 90.41 | BY50: 99.88 | DB50: 185.67 | DC50: 102.75 | EC50: 145.75 | EV50: 138.4 | FL50: 101.29
A51: 34669 | AX51: 83.62 | BB51: 225.89 | BG51: 89.13 | BY51: 99.08 | DB51: 185.8 | DC51: 102.3 | EC51: 144.01 | EV51: 137.21 | FL51: 100.8
A52: 34700 | AX52: 82.06 | BB52: 225.66 | BG52: 88.5 | BY52: 99.09 | DB52: 188.21 | DC52: 100.52 | EC52: 143.76 | EV52: 135.62 | FL52: 101.52
A53: 34731 | AX53: 79.68 | BB53: 221.96 | BG53: 87.47 | BY53: 97.07 | DB53: 181.96 | DC53: 98.44 | EC53: 140.12 | EV53: 131.66 | FL53: 102.39
A54: 34759 | AX54: 75.48 | BB54: 218.86 | BG54: 84.56 | BY54: 97.41 | DB54: 177.79 | DC54: 97.56 | EC54: 136.35 | EV54: 126.85 | FL54: 105.05
A55: 34790 | AX55: 72.71 | BB55: 218.69 | BG55: 81.71 | BY55: 95.45 | DB55: 178.53 | DC55: 93.97 | EC55: 128.29 | EV55: 123.41 | FL55: 110.49
A56: 34820 | AX56: 75.73 | BB56: 228.76 | BG56: 83.87 | BY56: 96.8 | DB56: 183.65 | DC56: 95.8 | EC56: 133.78 | EV56: 126.91 | FL56: 108.98
A57: 34851 | AX57: 77.24 | BB57: 233.81 | BG57: 84.72 | BY57: 98.44 | DB57: 189.93 | DC57: 98.87 | EC57: 139.51 | EV57: 131.93 | FL57: 109.38
A58: 34881 | AX58: 76.04 | BB58: 230.88 | BG58: 83.62 | BY58: 98.17 | DB58: 184.25 | DC58: 100.56 | EC58: 133.95 | EV58: 130.71 | FL58: 112.14
... A64: 35065 | AX64: 88.3 | BB64: 253.33 | BG64: 83.77 | BY64: 101 | DB64: 205.65 | DC64: 100.51 | EC64: 141.99 | EV64: 143.62 | FL64: 126.98
A65: 35096 | D65: 100 | AX65: 91.99 | BB65: 270.37 | BG65: 89.15 | BY65: 103.02 | DB65: 207.99 | DC65: 107.26 | EC65: 146.73 | EV65: 149.69 | FL65: 131.17
A66: 35125 | D66: 108.47 | AX66: 94.51 | BB66: 274.32 | BG66: 88.1 | BY66: 100.98 | DB66: 209.72 | DC66: 107.67 | EC66: 145.77 | EV66: 150.95 | FL66: 126.53
A67: 35156 | D67: 108.47 | AX67: 96.68 | BB67: 285.8 | BG67: 88.81 | BY67: 102.61 | DB67: 212.61 | DC67: 109.15 | EC67: 148.37 | EV67: 151.87 | FL67: 129.21
A68: 35186 | D68: 113.84 | AX68: 102.78 | BB68: 302 | BG68: 93.89 | BY68: 107 | DB68: 223.29 | DC68: 114.97 | EC68: 157.42 | EV68: 161.74 | FL68: 129.44
A69: 35217 | D69: 118.83 | AX69: 103.72 | BB69: 311.27 | BG69: 96.71 | BY69: 109.52 | DB69: 231.14 | DC69: 119.92 | EC69: 166.74 | EV69: 164.21 | FL69: 129.14
A70: 35247 | D70: 118.68 | AX70: 103.66 | BB70: 303.78 | BG70: 96.98 | BY70: 109.43 | DB70: 230.46 | DC70: 118.69 | EC70: 167.73 | EV70: 163.67 | FL70: 124.48
A71: 35278 | D71: 115.87 | AX71: 98.8 | BB71: 281.96 | BG71: 93.55 | BY71: 103 | DB71: 219.5 | DC71: 110.71 | EC71: 156.04 | EV71: 151.77 | FL71: 117.15
A72: 35309 | D72: 115.34 | AX72: 99.52 | BB72: 294.2 | BG72: 93.28 | BY72: 105.16 | DB72: 235.05 | DC72: 115.02 | EC72: 158.85 | EV72: 154.64 | FL72: 120.42
A73: 35339 | D73: 120.95 | AX73: 102.87 | BB73: 306.45 | BG73: 96.45 | BY73: 107.85 | DB73: 245.76 | DC73: 117.59 | EC73: 162.71 | EV73: 164.69 | FL73: 125.54
A74: 35370 | D74: 123.55 | AX74: 105.52 | BB74: 312.53 | BG74: 98.04 | BY74: 105.22 | DB74: 254.54 | DC74: 114.1 | EC74: 164.96 | EV74: 161.39 | FL74: 122.14
A75: 35400 | D75: 131.57 | AX75: 109.32 | BB75: 326.32 | BG75: 105.68 | BY75: 108.16 | DB75: 269.61 | DC75: 117.06 | EC75: 170.93 | EV75: 169.28 | FL75: 125.24
A76: 35431 | D76: 132.74 | AX76: 107.56 | BB76: 327.88 | BG76: 105.04 | BY76: 107.28 | DB76: 286.13 | DC76: 116.76 | EC76: 171.62 | EV76: 167.54 | FL76: 121.92
... A81: 35582 | D81: 140.63 | AX81: 125.05 | BB81: 382.82 | BG81: 127.96 | BY81: 124.45 | DB81: 332.1 | DC81: 131.29 | EC81: 193.58 | EV81: 190.92 | FL81: 147.19
A82: 35612 | D82: 163.39 | AX82: 129.63 | BB82: 389.53 | BG82: 132.96 | BY82: 128.9 | DB82: 341.99 | DC82: 137.97 | EC82: 201.44 | EV82: 199.1 | FL82: 152.36 | FX82: 102.44
A83: 35643 | D83: 176.07 | AX83: 133.65 | BB83: 404.28 | BG83: 144.03 | BY83: 138.3 | DB83: 377.64 | DC83: 146.24 | EC83: 219.1 | EV83: 213.56 | FL83: 161.49 | FX83: 107.84
A84: 35674 | D84: 161.59 | AX84: 131.32 | BB84: 397.5 | BG84: 134.28 | BY84: 130.09 | DB84: 363.3 | DC84: 141.6 | EC84: 211.47 | EV84: 200.65 | FL84: 156.78 | FX84: 104.18
A85: 35704 | D85: 173.09 | AX85: 134.16 | BB85: 409.7 | BG85: 138.63 | BY85: 134.68 | DB85: 386.43 | DC85: 151.97 | EC85: 225.14 | EV85: 209.73 | FL85: 163.39 | FX85: 104.18
A86: 35735 | D86: 159.86 | AX86: 130.64 | BB86: 411.63 | BG86: 134.31 | BY86: 128.85 | DB86: 365.41 | DC86: 144.29 | EC86: 214.59 | EV86: 198.14 | FL86: 154.14 | FX86: 93.55
A87: 35765 | D87: 167.02 | AX87: 125.45 | BB87: 417.4 | BG87: 139.19 | BY87: 131.83 | DB87: 368.86 | DC87: 144.69 | EC87: 216.62 | EV87: 200.2 | FL87: 158.58 | FX87: 91.46
A88: 35796 | D88: 173.74 | AX88: 131.3 | BB88: 427.37 | BG88: 136.99 | BY88: 134.8 | DB88: 393.78 | DC88: 141.66 | EC88: 220.96 | EV88: 208.3 | FL88: 163.02 | FX88: 92.33
A89: 35827 | D89: 183.42 | AX89: 130.11 | BB89: 431.09 | BG89: 144.11 | BY89: 137.24 | DB89: 436.99 | DC89: 142.51 | EC89: 228.63 | EV89: 214.75 | FL89: 173.14 | FX89: 90.94
A90: 35855 | D90: 194.17 | AX90: 141.49 | BB90: 459.75 | BG90: 153.79 | BY90: 147.86 | DB90: 459.79 | DC90: 156.68 | EC90: 243.55 | EV90: 223.28 | FL90: 177.1 | FX90: 97.56
A91: 35886 | D91: 220.2 | AX91: 150.35 | BB91: 518.5 | BG91: 166.41 | BY91: 155.76 | DB91: 497.29 | DC91: 166.92 | EC91: 261.19 | EV91: 239.55 | FL91: 187.71 | FX91: 102.79
A92: 35916 | D92: 217.63 | AX92: 151.65 | BB92: 512.59 | BG92: 165.97 | BY92: 155.47 | DB92: 480.29 | DC92: 168.15 | EC92: 256.41 | EV92: 221.97 | FL92: 179.8 | FX92: 97.04
A93: 35947 | D93: 237.94 | AX93: 145.47 | BB93: 523.23 | BG93: 161.58 | BY93: 156.64 | DB93: 481 | DC93: 165.66 | EC93: 256.13 | EV93: 218.26 | FL93: 171.14 | FX93: 94.95
... A98: 36100 | D98: 197.84 | AX98: 126 | BB98: 394.04 | BG98: 145.23 | BY98: 135.22 | DB98: 414.49 | DC98: 126.06 | EC98: 197.38 | EV98: 183.92 | FL98: 163.18 | FX98: 66.38
A99: 36130 | D99: 207.12 | AX99: 126.8 | BB99: 404.05 | BG99: 152.43 | BY99: 141.05 | DB99: 421.87 | DC99: 133.35 | DD99: 62.4 | EC99: 203.33 | EV99: 196.19 | FL99: 171.88 | FX99: 66.9
A100: 36161 | D100: 215.68 | AX100: 129.36 | BB100: 414.04 | BG100: 162.95 | BY100: 144.93 | CA100: 10.72 | DB100: 435.64 | DC100: 134.36 | DD100: 65.34 | EC100: 210.4 | EV100: 196.4 | FL100: 176.86 | FX100: 68.47
A101: 36192 | D101: 239.53 | AX101: 132.43 | BB101: 437.75 | BG101: 168.94 | BY101: 155.03 | CA101: 12.05 | DB101: 493.18 | DC101: 132.83 | DD101: 71.21 | EC101: 223.52 | EV101: 195.49 | FL101: 187.39 | FX101: 70.26
A102: 36220 | D102: 226.67 | AX102: 128.27 | BB102: 448.7 | BG102: 166.36 | BY102: 156.21 | CA102: 11.59 | DB102: 500.62 | DC102: 134.7 | DD102: 68.24 | EC102: 217.2 | EV102: 196.41 | FL102: 189.15 | FX102: 71.41
A103: 36251 | D103: 229.22 | AX103: 127.92 | BB103: 470.35 | BG103: 179.27 | BY103: 162.58 | CA103: 11.88 | DB103: 525.81 | DC103: 138.69 | DD103: 71.88 | EC103: 216.7 | EV103: 199.9 | FL103: 200.17 | FX103: 72.18
A104: 36281 | D104: 241.5 | AX104: 138.6 | BB104: 508.75 | BG104: 180.3 | BY104: 174.12 | CA104: 12.69 | DB104: 559.09 | DC104: 148.86 | DD104: 75.37 | EC104: 224.73 | EV104: 211.54 | FL104: 200.07 | FX104: 81.58
A105: 36312 | D105: 240.04 | AX105: 140.93 | BB105: 518.95 | BG105: 181.1 | BY105: 172.68 | CA105: 12.52 | DB105: 535.21 | DC105: 152.32 | DD105: 73.36 | EC105: 226.89 | EV105: 211.65 | FL105: 193.88 | FX105: 80.05
A106: 36342 | D106: 257.57 | AX106: 145.14 | BB106: 542.26 | BG106: 194.85 | BY106: 185.23 | CA106: 13.54 | DB106: 557.3 | DC106: 163.59 | DD106: 77.69 | EC106: 236.99 | EV106: 221.49 | FL106: 203.93 | FX106: 85.81
A107: 36373 | D107: 243.82 | AX107: 141.74 | BB107: 543.89 | BG107: 184.27 | BY107: 176.71 | CA107: 13.42 | DB107: 543.15 | DC107: 158.47 | DD107: 75.75 | EC107: 220.69 | EV107: 216.87 | FL107: 191.96 | FX107: 82.16
A108: 36404 | D108: 259.06 | AX108: 136.18 | BB108: 554.7 | BG108: 187.49 | BY108: 179.82 | CA108: 13.97 | DB108: 553.09 | DC108: 154.44 | DD108: 76.69 | EC108: 227.32 | EV108: 221.37 | FL108: 194.85 | FX108: 77.17
A109: 36434 | D109: 258.78 | AX109: 132.9 | BB109: 537.58 | BG109: 185.11 | BY109: 175.75 | CA109: 13.53 | DB109: 555.77 | DC109: 151.61 | DD109: 74.75 | EC109: 224.5 | EV109: 218.47 | EX109: 12.6 | FL109: 186.81 | FX109: 70.07
A110: 36465 | D110: 270.17 | AX110: 133.43 | BB110: 527.02 | BG110: 198.07 | BY110: 186.86 | CA110: 14.04 | DB110: 590.74 | DC110: 156.06 | DD110: 78.15 | EC110: 228.78 | EV110: 217.17 | EX110: 12.42 | FL110: 196.26 | FX110: 69.3
A111: 36495 | D111: 305.7 | AX111: 126.2 | BB111: 573 | BG111: 221.87 | BY111: 208.49 | CA111: 15.38 | DB111: 659.67 | DC111: 166.94 | DD111: 85.01 | EC111: 242.77 | EV111: 230.3 | EX111: 12.52 | FL111: 206.19 | FX111: 70.64
A112: 36526 | D112: 348.49 | AX112: 131.32 | BB112: 615.27 | BG112: 230.01 | BY112: 237.32 | CA112: 17 | DB112: 723.05 | DC112: 187.14 | DD112: 91.94 | EC112: 262.38 | EV112: 246.75 | EX112: 13.71 | FL112: 208.11 | FX112: 74.48
A113: 36557 | D113: 328.87 | AX113: 147.49 | BB113: 703.34 | BG113: 240.71 | BY113: 250.62 | CA113: 18.19 | DB113: 784.06 | DC113: 191.63 | DD113: 89.58 | EC113: 273.65 | EV113: 264.69 | EX113: 18.09 | FL113: 223.68 | FX113: 84.08
A114: 36586 | D114: 367.78 | AX114: 189.51 | BB114: 778.36 | BG114: 256.57 | BY114: 283.32 | CA114: 21.08 | DB114: 885.65 | DC114: 208.01 | DD114: 93.61 | EC114: 316.51 | EV114: 293.14 | EX114: 24.15 | FL114: 228.94 | FX114: 96.94
A115: 36617 | D115: 367.19 | AX115: 198.82 | BB115: 772.13 | BG115: 275.05 | BY115: 286.09 | CA115: 21.23 | DB115: 879.56 | DC115: 222.28 | DD115: 99.08 | EC115: 305.18 | EV115: 302.93 | EX115: 22.98 | FL115: 231.58 | FX115: 95.4
A116: 36647 | D116: 365.12 | AX116: 192.98 | BB116: 731.35 | BG116: 271.85 | BY116: 288.83 | CA116: 21.01 | DB116: 834.59 | DC116: 212.61 | DD116: 101.75 | EC116: 304.03 | EV116: 295.17 | EX116: 21.42 | FL116: 239.5 | FX116: 92.14
A117: 36678 | D117: 363.46 | AX117: 195.36 | BB117: 691 | BG117: 264.56 | BY117: 280.12 | CA117: 20.47 | DB117: 767.25 | DC117: 205.37 | DD117: 97.56 | EC117: 294.14 | EV117: 282.51 | EX117: 18.86 | FL117: 233.75 | FX117: 88.49
A118: 36708 | D118: 366.49 | AX118: 206.83 | BB118: 736.13 | BG118: 271.8 | BY118: 298.88 | CA118: 19.32 | DB118: 787.92 | DC118: 214.3 | DD118: 97.55 | EC118: 299.12 | EV118: 296.64 | EX118: 22.12 | FL118: 240.54 | FX118: 97.13
A119: 36739 | D119: 368.33 | AX119: 206.43 | BB119: 774.28 | BG119: 273.31 | BY119: 300.82 | CA119: 19.41 | DB119: 823.41 | DC119: 213.81 | DD119: 96.67 | EC119: 304.58 | EV119: 308.19 | EX119: 21.94 | FL119: 244.74 | FX119: 97.52
A120: 36770 | D120: 389.89 | AX120: 222.35 | BB120: 858.54 | BG120: 289.62 | BY120: 319.35 | CA120: 19.74 | DB120: 903.86 | DC120: 237.5 | DD120: 103 | EC120: 322.63 | EV120: 331.61 | EX120: 25.06 | FL120: 246.45 | FX120: 115.56
A121: 36800 | D121: 356.38 | AX121: 255.79 | BB121: 900.68 | BG121: 282.37 | BY121: 320.27 | CA121: 19.33 | DB121: 881.35 | DC121: 243.19 | DD121: 99.95 | EC121: 316.43 | EP121: 12.25 | EV121: 344.14 | EX121: 28.73 | FL121: 248.19 | FX121: 122.66
A122: 36831 | D122: 349.62 | AX122: 274.92 | BB122: 912.08 | BE122: 100 | BG122: 288.13 | BY122: 336.09 | CA122: 18.88 | DB122: 893.27 | DC122: 247.46 | DD122: 101.79 | EC122: 320.63 | EP122: 12.22 | EV122: 356.1 | EX122: 28.58 | FL122: 259.27 | FX122: 119.78
...

Sheet LN
A1: Name | B1: GF_01 | C1: GF_02 | D1: GF_03 | E1: GF_04 | F1: GF_05 | G1: GF_06 | H1: GF_07 | I1: GF_08 | J1: GF_09 | K1: GF_10 | L1: GF_11 | M1: GF_12 | N1: GF_13 | O1: GF_14 | P1: GF_15 | Q1: GF_16 | R1: GF_17 | S1: GF_18 | T1: GF_19 | U1: GF_20 | V1: GF_21 | W1: GF_22 | X1: GF_23 | Y1: GF_24 | Z1: GF_25 | AA1: GF_26 | AB1: GF_27 | AC1: GF_28 | AD1: GF_29 | AE1: GF_30 | AF1: GF_31 | AG1: GF_32 | AH1: GF_33 | AI1: GF_34 | AJ1: GF_35 | AK1: GF_36 | AL1: GF_37 | AM1: GF_38 | AN1: GF_39 | AO1: GF_40 | AP1: GF_41 | AQ1: GF_42 | AR1: GF_43 | AS1: GF_44 | AT1: GF_45 | AU1: GF_46 | AV1: GF_47 | AW1: GF_48 | AX1: GF_49 | AY1: GF_50 | AZ1: GF_51 | BA1: GF_52 | BB1: GF_53 | BC1: GF_54 | BD1: GF_55 | BE1: GF_56 | BF1: GF_57 | BG1: GF_58 | BH1: GF_59 | BI1: GF_60 | BJ1: GF_61 | BK1: GF_62 | BL1: GF_63 | BM1: GF_64 | BN1: GF_65 | BO1: GF_66 | BP1: GF_67 | BQ1: GF_68 | BR1: GF_69 | BS1: GF_70 | BT1: GF_71 | BU1: GF_72 | BV1: GF_73 | BW1: GF_74 | BX1: GF_75 | BY1: GF_76 | BZ1: GF_77 | CA1: GF_78 | CB1: GF_79 | CC1: GF_80 | CD1: GF_81 | CE1: GF_82 | CF1: GF_83 | CG1: GF_84 | CH1: GF_85 | CI1: GF_86 | CJ1: GF_87 | CK1: GF_88 | CL1: GF_89 | CM1: GF_90 | CN1: GF_91 | CO1: GF_92 | CP1: GF_93 | CQ1: GF_94 | CR1: GF_95 | CS1: GF_96 | CT1: GF_97 | CU1: GF_98 | CV1: GF_99 | CW1: GF_100 | CX1: GF_101 | CY1: GF_102 | CZ1: GF_103 | DA1: GF_104 | DB1: GF_105 | DC1: GF_106 | DD1: GF_107 | DE1: GF_108 | DF1: GF_109 | DG1: GF_110 | DH1: GF_111 | DI1: GF_112 | DJ1: GF_113 | DK1: GF_114 | DL1: GF_115 | DM1: GF_116 | DN1: GF_117 | DO1: GF_118 | DP1: GF_119 | DQ1: GF_120 | DR1: GF_121 | DS1: GF_122 | DT1: GF_123 | DU1: GF_124 | DV1: GF_125 | DW1: GF_126 | DX1: GF_127 | DY1: GF_128 | DZ1: GF_129 | EA1: GF_130 | EB1: GF_131 | EC1: GF_132 | ED1: GF_133 | EE1: GF_134 | EF1: GF_135 | EG1: GF_136 | EH1: GF_137 | EI1: GF_138 | EJ1: GF_139 | EK1: GF_140 | EL1: GF_141 | EM1: GF_142 | EN1: GF_143 | EO1: GF_144 | EP1: GF_145 | EQ1: GF_146 | ER1: GF_147 | ES1: GF_148 | ET1: GF_149 | EU1: GF_150 | EV1: GF_151 | EW1: GF_152 | EX1: GF_153 | EY1: GF_154 | EZ1: GF_155 | FA1: GF_156 | FB1: GF_157 | FC1: GF_158 | FD1: GF_159 | FE1: GF_160 | FF1: GF_161 | FG1: GF_162 | FH1: GF_163 | FI1: GF_164 | FJ1: GF_165 | FK1: GF_166 | FL1: GF_167 | FM1: GF_168 | FN1: GF_169 | FO1: GF_170 | FP1: GF_171 | FQ1: GF_172 | FR1: GF_173 | FS1: GF_174 | FT1: GF_175 | FU1: GF_176 | FV1: GF_177 | FW1: GF_178 | FX1: GF_179 | FY1: GF_180 | FZ1: GF_181 | GA1: GF_182 | GB1: GF_183 | GC1: GF_184 | GD1: GF_185 | GE1: GF_186
A2: 33178 | B2: =LN('Raw data mutual funds'!B3) -> #NUM! | C2: =LN('Raw data mutual funds'!C3) -> #NUM! | D2: =LN('Raw data mutual funds'!D3) -> #NUM! | E2: =LN('Raw data mutual funds'!E3) -> #NUM! | F2: =LN('Raw data mutual funds'!F3) -> #NUM! | G2: =LN('Raw data mutual funds'!G3) -> #NUM! | H2: =LN('Raw data mutual funds'!H3) -> #NUM! | I2: =LN('Raw data mutual funds'!I3) -> #NUM! | ... GE2: =LN('Raw data mutual funds'!GE3) -> #NUM!
A3: 33208 | B3: =LN('Raw data mutual funds'!B4) -> #NUM! | C3: =LN('Raw data mutual funds'!C4) -> #NUM! | D3: =LN('Raw data mutual funds'!D4) -> #NUM! | E3: =LN('Raw data mutual funds'!E4) -> #NUM! | F3: =LN('Raw data mutual funds'!F4) -> #NUM! | G3: =LN('Raw data mutual funds'!G4) -> #NUM! | H3: =LN('Raw data mutual funds'!H4) -> #NUM! | I3: =LN('Raw data mutual funds'!I4) -> #NUM! | ... GE3: =LN('Raw data mutual funds'!GE4) -> #NUM!
A4: 33239 | B4: =LN('Raw data mutual funds'!B5) -> #NUM! | C4: =LN('Raw data mutual funds'!C5) -> #NUM! | D4: =LN('Raw data mutual funds'!D5) -> #NUM! | E4: =LN('Raw data mutual funds'!E5) -> #NUM! | F4: =LN('Raw data mutual funds'!F5) -> #NUM! | G4: =LN('Raw data mutual funds'!G5) -> #NUM! | H4: =LN('Raw data mutual funds'!H5) -> #NUM! | I4: =LN('Raw data mutual funds'!I5) -> #NUM! | ... GE4: =LN('Raw data mutual funds'!GE5) -> #NUM!
A5: 33270 | B5: =LN('Raw data mutual funds'!B6) -> #NUM! | C5: =LN('Raw data mutual funds'!C6) -> #NUM! | D5: =LN('Raw data mutual funds'!D6) -> #NUM! | E5: =LN('Raw data mutual funds'!E6) -> #NUM! | F5: =LN('Raw data mutual funds'!F6) -> #NUM! | G5: =LN('Raw data mutual funds'!G6) -> #NUM! | H5: =LN('Raw data mutual funds'!H6) -> #NUM! | I5: =LN('Raw data mutual funds'!I6) -> #NUM! | ... GE5: =LN('Raw data mutual funds'!GE6) -> #NUM!
A6: 33298 | B6: =LN('Raw data mutual funds'!B7) -> #NUM! | C6: =LN('Raw data mutual funds'!C7) -> #NUM! | D6: =LN('Raw data mutual funds'!D7) -> #NUM! | E6: =LN('Raw data mutual funds'!E7) -> #NUM! | F6: =LN('Raw data mutual funds'!F7) -> #NUM! | G6: =LN('Raw data mutual funds'!G7) -> #NUM! | H6: =LN('Raw data mutual funds'!H7) -> #NUM! | I6: =LN('Raw data mutual funds'!I7) -> #NUM! | ... GE6: =LN('Raw data mutual funds'!GE7) -> #NUM!
A7: 33329 | B7: =LN('Raw data mutual funds'!B8) -> #NUM! | C7: =LN('Raw data mutual funds'!C8) -> #NUM! | D7: =LN('Raw data mutual funds'!D8) -> #NUM! | E7: =LN('Raw data mutual funds'!E8) -> #NUM! | F7: =LN('Raw data mutual funds'!F8) -> #NUM! | G7: =LN('Raw data mutual funds'!G8) -> #NUM! | H7: =LN('Raw data mutual funds'!H8) -> #NUM! | I7: =LN('Raw data mutual funds'!I8) -> #NUM! | ... GE7: =LN('Raw data mutual funds'!GE8) -> #NUM!
A8: 33359 | B8: =LN('Raw data mutual funds'!B9) -> #NUM! | C8: =LN('Raw data mutual funds'!C9) -> #NUM! | D8: =LN('Raw data mutual funds'!D9) -> #NUM! | E8: =LN('Raw data mutual funds'!E9) -> #NUM! | F8: =LN('Raw data mutual funds'!F9) -> #NUM! | G8: =LN('Raw data mutual funds'!G9) -> #NUM! | H8: =LN('Raw data mutual funds'!H9) -> #NUM! | I8: =LN('Raw data mutual funds'!I9) -> #NUM! | ... GE8: =LN('Raw data mutual funds'!GE9) -> #NUM!
A9: 33390 | B9: =LN('Raw data mutual funds'!B10) -> #NUM! | C9: =LN('Raw data mutual funds'!C10) -> #NUM! | D9: =LN('Raw data mutual funds'!D10) -> #NUM! | E9: =LN('Raw data mutual funds'!E10) -> #NUM! | F9: =LN('Raw data mutual funds'!F10) -> #NUM! | G9: =LN('Raw data mutual funds'!G10) -> #NUM! | H9: =LN('Raw data mutual funds'!H10) -> #NUM! | I9: =LN('Raw data mutual funds'!I10) -> #NUM! | ... GE9: =LN('Raw data mutual funds'!GE10) -> #NUM!
A10: 33420 | B10: =LN('Raw data mutual funds'!B11) -> #NUM! | C10: =LN('Raw data mutual funds'!C11) -> #NUM! | D10: =LN('Raw data mutual funds'!D11) -> #NUM! | E10: =LN('Raw data mutual funds'!E11) -> #NUM! | F10: =LN('Raw data mutual funds'!F11) -> #NUM! | G10: =LN('Raw data mutual funds'!G11) -> #NUM! | H10: =LN('Raw data mutual funds'!H11) -> #NUM! | I10: =LN('Raw data mutual funds'!I11) -> #NUM! | ... GE10: =LN('Raw data mutual funds'!GE11) -> #NUM!
A11: 33451 | B11: =LN('Raw data mutual funds'!B12) -> #NUM! | C11: =LN('Raw data mutual funds'!C12) -> #NUM! | D11: =LN('Raw data mutual funds'!D12) -> #NUM! | E11: =LN('Raw data mutual funds'!E12) -> #NUM! | F11: =LN('Raw data mutual funds'!F12) -> #NUM! | G11: =LN('Raw data mutual funds'!G12) -> #NUM! | H11: =LN('Raw data mutual funds'!H12) -> #NUM! | I11: =LN('Raw data mutual funds'!I12) -> #NUM! | ... GE11: =LN('Raw data mutual funds'!GE12) -> #NUM!
A12: 33482 | B12: =LN('Raw data mutual funds'!B13) -> #NUM! | C12: =LN('Raw data mutual funds'!C13) -> #NUM! | D12: =LN('Raw data mutual funds'!D13) -> #NUM! | E12: =LN('Raw data mutual funds'!E13) -> #NUM! | F12: =LN('Raw data mutual funds'!F13) -> #NUM! | G12: =LN('Raw data mutual funds'!G13) -> #NUM! | H12: =LN('Raw data mutual funds'!H13) -> #NUM! | I12: =LN('Raw data mutual funds'!I13) -> #NUM! | ... GE12: =LN('Raw data mutual funds'!GE13) -> #NUM!
A13: 33512 | B13: =LN('Raw data mutual funds'!B14) -> #NUM! | C13: =LN('Raw data mutual funds'!C14) -> #NUM! | D13: =LN('Raw data mutual funds'!D14) -> #NUM! | E13: =LN('Raw data mutual funds'!E14) -> #NUM! | F13: =LN('Raw data mutual funds'!F14) -> #NUM! | G13: =LN('Raw data mutual funds'!G14) -> #NUM! | H13: =LN('Raw data mutual funds'!H14) -> #NUM! | I13: =LN('Raw data mutual funds'!I14) -> #NUM! | ... GE13: =LN('Raw data mutual funds'!GE14) -> #NUM!
... A284: 41760 | B284: =LN('Raw data mutual funds'!B285) -> #NUM! | C284: =LN('Raw data mutual funds'!C285) -> #NUM! | D284: =LN('Raw data mutual funds'!D285) -> #NUM! | E284: =LN('Raw data mutual funds'!E285) -> #NUM! | F284: =LN('Raw data mutual funds'!F285) -> #NUM! | G284: =LN('Raw data mutual funds'!G285) -> #NUM! | H284: =LN('Raw data mutual funds'!H285) -> #NUM! | I284: =LN('Raw data mutual funds'!I285) -> #NUM! | ... GE284: =LN('Raw data mutual funds'!GE285) -> #NUM!

Sheet Excess return
A1: Date | B1: GF_GL01 | C1: GF_GL02 | D1: GF_GL03 | E1: GF_GL04 | F1: GF_GL05 | G1: GF_GL06 | H1: GF_GL07 | I1: GF_GL08 | J1: GF_GL09 | K1: GF_GL10 | L1: GF_GL11 | M1: GF_GL12 | N1: GF_GL13 | O1: GF_GL14 | P1: GF_GL15 | Q1: GF_GL16 | R1: GF_GL17 | S1: GF_GL18 | T1: GF_GL19 | U1: GF_GL20 | V1: GF_GL21 | W1: GF_GL22 | X1: GF_GL23 | Y1: GF_GL24 | Z1: GF_GL25 | AA1: GF_GL26 | AB1: GF_GL27 | AC1: GF_GL28 | AD1: GF_GL29 | AE1: GF_GL30 | AF1: GF_GL31 | AG1: GF_GL32 | AH1: GF_GL33 | AI1: GF_GL34 | AJ1: GF_GL35 | AK1: GF_GL36 | AL1: GF_GL37 | AM1: GF_GL38 | AN1: GF_GL39 | AO1: GF_GL40 | AP1: GF_GL41 | AQ1: GF_GL42 | AR1: GF_GL43 | AS1: GF_GL44 | AT1: GF_GL45 | AU1: GF_GL46 | AV1: GF_GL47 | AW1: GF_GL48 | AX1: GF_GL49 | AY1: GF_GL50 | AZ1: GF_GL51 | BA1: GF_GL52 | BB1: GF_GL53 | BC1: GF_GL54 | BD1: GF_GL55 | BE1: GF_GL56 | BF1: GF_GL57 | BG1: GF_GL58 | BH1: GF_GL59 | BI1: GF_GL60 | BJ1: GF_GL61 | BK1: GF_GL62 | BL1: GF_GL63 | BM1: GF_GL64 | BN1: GF_GL65 | BO1: GF_GL66 | BP1: GF_GL67 | BQ1: GF_GL68 | BR1: GF_GL69 | BS1: GF_GL70 | BT1: GF_GL71 | BU1: GF_GL72 | BV1: GF_GL73 | BW1: GF_GL74 | BX1: GF_GL75 | BY1: GF_GL76 | BZ1: GF_GL77 | CA1: GF_GL78 | CB1: GF_GL79 | CC1: GF_GL80 | CD1: GF_GL81 | CE1: GF_GL82 | CF1: GF_GL83 | CG1: GF_GL84 | CH1: GF_GL85 | CI1: GF_GL86 | CJ1: GF_GL87 | CK1: GF_GL88 | CL1: GF_GL89 | CM1: GF_GL90 | CN1: GF_GL91 | CO1: GF_GL92 | CP1: GF_GL93 | CQ1: GF_GL94 | CR1: GF_GL95 | CS1: GF_GL96 | CT1: GF_GL97 | CU1: GF_GL98 | CV1: GF_GL99 | CW1: GF_GL100 | CX1: GF_GL101 | CY1: GF_GL102 | CZ1: GF_GL103 | DA1: GF_GL104 | DB1: GF_GL105 | DC1: GF_GL106 | DD1: GF_GL107 | DE1: GF_GL108 | DF1: GF_GL109 | DG1: GF_GL110 | DH1: GF_GL111 | DI1: GF_GL112 | DJ1: GF_GL113 | DK1: GF_GL114 | DL1: GF_GL115 | DM1: GF_GL116 | DN1: GF_GL117 | DO1: GF_GL118 | DP1: GF_GL119 | DQ1: GF_GL120 | DR1: GF_GL121 | DS1: GF_GL122 | DT1: GF_GL123 | DU1: GF_GL124 | DV1: GF_GL125 | DW1: GF_GL126 | DX1: GF_GL127 | DY1: GF_GL128 | DZ1: GF_GL129 | EA1: GF_GL130 | EB1: GF_GL131 | EC1: GF_GL132 | ED1: GF_GL133 | EE1: GF_GL134 | EF1: GF_GL135 | EG1: GF_GL136 | EH1: GF_GL137 | EI1: GF_GL138 | EJ1: GF_GL139 | EK1: GF_GL140 | EL1: GF_GL141 | EM1: GF_GL142 | EN1: GF_GL143 | EO1: GF_GL144 | EP1: GF_GL145 | EQ1: GF_GL146 | ER1: GF_GL147 | ES1: GF_GL148 | ET1: GF_GL149 | EU1: GF_GL150 | EV1: GF_GL151 | EW1: GF_GL152 | EX1: GF_GL153 | EY1: GF_GL154 | EZ1: GF_GL155 | FA1: GF_GL156 | FB1: GF_GL157 | FC1: GF_GL158 | FD1: GF_GL159 | FE1: GF_GL160 | FF1: GF_GL161 | FG1: GF_GL162 | FH1: GF_GL163 | FI1: GF_GL164 | FJ1: GF_GL165 | FK1: GF_GL166 | FL1: GF_GL167 | FM1: GF_GL168 | FN1: GF_GL169 | FO1: GF_GL170 | FP1: GF_GL171 | FQ1: GF_GL172 | FR1: GF_GL173 | FS1: GF_GL174 | FT1: GF_GL175 | FU1: GF_GL176 | FV1: GF_GL177 | FW1: GF_GL178 | FX1: GF_GL179 | FY1: GF_GL180 | FZ1: GF_GL181 | GA1: GF_GL182 | GB1: GF_GL183 | GC1: GF_GL184 | GD1: GF_GL185 | GE1: GF_GL186
A2: 33178 | B2: =(LN!B2-LN!B1)-Rf!$A1 -> #NUM! | C2: =(LN!C2-LN!C1)-Rf!$A1 -> #NUM! | D2: =(LN!D2-LN!D1)-Rf!$A1 -> #NUM! | E2: =(LN!E2-LN!E1)-Rf!$A1 -> #NUM! | F2: =(LN!F2-LN!F1)-Rf!$A1 -> #NUM! | G2: =(LN!G2-LN!G1)-Rf!$A1 -> #NUM! | H2: =(LN!H2-LN!H1)-Rf!$A1 -> #NUM! | I2: =(LN!I2-LN!I1)-Rf!$A1 -> #NUM! | ... GE2: =(LN!GE2-LN!GE1)-Rf!$A1 -> #NUM!
A3: 33208 | B3: =(LN!B3-LN!B2)-Rf!$A2 -> #NUM! | C3: =(LN!C3-LN!C2)-Rf!$A2 -> #NUM! | D3: =(LN!D3-LN!D2)-Rf!$A2 -> #NUM! | E3: =(LN!E3-LN!E2)-Rf!$A2 -> #NUM! | F3: =(LN!F3-LN!F2)-Rf!$A2 -> #NUM! | G3: =(LN!G3-LN!G2)-Rf!$A2 -> #NUM! | H3: =(LN!H3-LN!H2)-Rf!$A2 -> #NUM! | I3: =(LN!I3-LN!I2)-Rf!$A2 -> #NUM! | ... GE3: =(LN!GE3-LN!GE2)-Rf!$A2 -> #NUM!
A4: 33239 | B4: =(LN!B4-LN!B3)-Rf!$A3 -> #NUM! | C4: =(LN!C4-LN!C3)-Rf!$A3 -> #NUM! | D4: =(LN!D4-LN!D3)-Rf!$A3 -> #NUM! | E4: =(LN!E4-LN!E3)-Rf!$A3 -> #NUM! | F4: =(LN!F4-LN!F3)-Rf!$A3 -> #NUM! | G4: =(LN!G4-LN!G3)-Rf!$A3 -> #NUM! | H4: =(LN!H4-LN!H3)-Rf!$A3 -> #NUM! | I4: =(LN!I4-LN!I3)-Rf!$A3 -> #NUM! | ... GE4: =(LN!GE4-LN!GE3)-Rf!$A3 -> #NUM!
A5: 33270 | B5: =(LN!B5-LN!B4)-Rf!$A4 -> #NUM! | C5: =(LN!C5-LN!C4)-Rf!$A4 -> #NUM! | D5: =(LN!D5-LN!D4)-Rf!$A4 -> #NUM! | E5: =(LN!E5-LN!E4)-Rf!$A4 -> #NUM! | F5: =(LN!F5-LN!F4)-Rf!$A4 -> #NUM! | G5: =(LN!G5-LN!G4)-Rf!$A4 -> #NUM! | H5: =(LN!H5-LN!H4)-Rf!$A4 -> #NUM! | I5: =(LN!I5-LN!I4)-Rf!$A4 -> #NUM! | ... GE5: =(LN!GE5-LN!GE4)-Rf!$A4 -> #NUM!
A6: 33298 | B6: =(LN!B6-LN!B5)-Rf!$A5 -> #NUM! | C6: =(LN!C6-LN!C5)-Rf!$A5 -> #NUM! | D6: =(LN!D6-LN!D5)-Rf!$A5 -> #NUM! | E6: =(LN!E6-LN!E5)-Rf!$A5 -> #NUM! | F6: =(LN!F6-LN!F5)-Rf!$A5 -> #NUM! | G6: =(LN!G6-LN!G5)-Rf!$A5 -> #NUM! | H6: =(LN!H6-LN!H5)-Rf!$A5 -> #NUM! | I6: =(LN!I6-LN!I5)-Rf!$A5 -> #NUM! | ... GE6: =(LN!GE6-LN!GE5)-Rf!$A5 -> #NUM!
A7: 33329 | B7: =(LN!B7-LN!B6)-Rf!$A6 -> #NUM! | C7: =(LN!C7-LN!C6)-Rf!$A6 -> #NUM! | D7: =(LN!D7-LN!D6)-Rf!$A6 -> #NUM! | E7: =(LN!E7-LN!E6)-Rf!$A6 -> #NUM! | F7: =(LN!F7-LN!F6)-Rf!$A6 -> #NUM! | G7: =(LN!G7-LN!G6)-Rf!$A6 -> #NUM! | H7: =(LN!H7-LN!H6)-Rf!$A6 -> #NUM! | I7: =(LN!I7-LN!I6)-Rf!$A6 -> #NUM! | ... GE7: =(LN!GE7-LN!GE6)-Rf!$A6 -> #NUM!
A8: 33359 | B8: =(LN!B8-LN!B7)-Rf!$A7 -> #NUM! | C8: =(LN!C8-LN!C7)-Rf!$A7 -> #NUM! | D8: =(LN!D8-LN!D7)-Rf!$A7 -> #NUM! | E8: =(LN!E8-LN!E7)-Rf!$A7 -> #NUM! | F8: =(LN!F8-LN!F7)-Rf!$A7 -> #NUM! | G8: =(LN!G8-LN!G7)-Rf!$A7 -> #NUM! | H8: =(LN!H8-LN!H7)-Rf!$A7 -> #NUM! | I8: =(LN!I8-LN!I7)-Rf!$A7 -> #NUM! | ... GE8: =(LN!GE8-LN!GE7)-Rf!$A7 -> #NUM!
A9: 33390 | B9: =(LN!B9-LN!B8)-Rf!$A8 -> #NUM! | C9: =(LN!C9-LN!C8)-Rf!$A8 -> #NUM! | D9: =(LN!D9-LN!D8)-Rf!$A8 -> #NUM! | E9: =(LN!E9-LN!E8)-Rf!$A8 -> #NUM! | F9: =(LN!F9-LN!F8)-Rf!$A8 -> #NUM! | G9: =(LN!G9-LN!G8)-Rf!$A8 -> #NUM! | H9: =(LN!H9-LN!H8)-Rf!$A8 -> #NUM! | I9: =(LN!I9-LN!I8)-Rf!$A8 -> #NUM! | ... GE9: =(LN!GE9-LN!GE8)-Rf!$A8 -> #NUM!
A10: 33420 | B10: =(LN!B10-LN!B9)-Rf!$A9 -> #NUM! | C10: =(LN!C10-LN!C9)-Rf!$A9 -> #NUM! | D10: =(LN!D10-LN!D9)-Rf!$A9 -> #NUM! | E10: =(LN!E10-LN!E9)-Rf!$A9 -> #NUM! | F10: =(LN!F10-LN!F9)-Rf!$A9 -> #NUM! | G10: =(LN!G10-LN!G9)-Rf!$A9 -> #NUM! | H10: =(LN!H10-LN!H9)-Rf!$A9 -> #NUM! | I10: =(LN!I10-LN!I9)-Rf!$A9 -> #NUM! | ... GE10: =(LN!GE10-LN!GE9)-Rf!$A9 -> #NUM!
A11: 33451 | B11: =(LN!B11-LN!B10)-Rf!$A10 -> #NUM! | C11: =(LN!C11-LN!C10)-Rf!$A10 -> #NUM! | D11: =(LN!D11-LN!D10)-Rf!$A10 -> #NUM! | E11: =(LN!E11-LN!E10)-Rf!$A10 -> #NUM! | F11: =(LN!F11-LN!F10)-Rf!$A10 -> #NUM! | G11: =(LN!G11-LN!G10)-Rf!$A10 -> #NUM! | H11: =(LN!H11-LN!H10)-Rf!$A10 -> #NUM! | I11: =(LN!I11-LN!I10)-Rf!$A10 -> #NUM! | ... GE11: =(LN!GE11-LN!GE10)-Rf!$A10 -> #NUM!
A12: 33482 | B12: =(LN!B12-LN!B11)-Rf!$A11 -> #NUM! | C12: =(LN!C12-LN!C11)-Rf!$A11 -> #NUM! | D12: =(LN!D12-LN!D11)-Rf!$A11 -> #NUM! | E12: =(LN!E12-LN!E11)-Rf!$A11 -> #NUM! | F12: =(LN!F12-LN!F11)-Rf!$A11 -> #NUM! | G12: =(LN!G12-LN!G11)-Rf!$A11 -> #NUM! | H12: =(LN!H12-LN!H11)-Rf!$A11 -> #NUM! | I12: =(LN!I12-LN!I11)-Rf!$A11 -> #NUM! | ... GE12: =(LN!GE12-LN!GE11)-Rf!$A11 -> #NUM!
A13: 33512 | B13: =(LN!B13-LN!B12)-Rf!$A12 -> #NUM! | C13: =(LN!C13-LN!C12)-Rf!$A12 -> #NUM! | D13: =(LN!D13-LN!D12)-Rf!$A12 -> #NUM! | E13: =(LN!E13-LN!E12)-Rf!$A12 -> #NUM! | F13: =(LN!F13-LN!F12)-Rf!$A12 -> #NUM! | G13: =(LN!G13-LN!G12)-Rf!$A12 -> #NUM! | H13: =(LN!H13-LN!H12)-Rf!$A12 -> #NUM! | I13: =(LN!I13-LN!I12)-Rf!$A12 -> #NUM! | ... GE13: =(LN!GE13-LN!GE12)-Rf!$A12 -> #NUM!
... A284: 41760 | B284: =(LN!B284-LN!B283)-Rf!$A283 -> #NUM! | C284: =(LN!C284-LN!C283)-Rf!$A283 -> #NUM! | D284: =(LN!D284-LN!D283)-Rf!$A283 -> #NUM! | E284: =(LN!E284-LN!E283)-Rf!$A283 -> #NUM! | F284: =(LN!F284-LN!F283)-Rf!$A283 -> #NUM! | G284: =(LN!G284-LN!G283)-Rf!$A283 -> #NUM! | H284: =(LN!H284-LN!H283)-Rf!$A283 -> #NUM! | I284: =(LN!I284-LN!I283)-Rf!$A283 -> #NUM! | ... GE284: =(LN!GE284-LN!GE283)-Rf!$A283 -> #NUM!

Sheet Final EViews Dataset
A1: Date | B1: GF_GL01 | C1: GF_GL02 | D1: GF_GL03 | E1: GF_GL04 | F1: GF_GL05 | G1: GF_GL06 | H1: GF_GL07 | I1: GF_GL08 | J1: GF_GL09 | K1: GF_GL10 | L1: GF_GL11 | M1: GF_GL12 | N1: GF_GL13 | O1: GF_GL14 | P1: GF_GL15 | Q1: GF_GL16 | R1: GF_GL17 | S1: GF_GL18 | T1: GF_GL19 | U1: GF_GL20 | V1: GF_GL21 | W1: GF_GL22 | X1: GF_GL23 | Y1: GF_GL24 | Z1: GF_GL25 | AA1: GF_GL26 | AB1: GF_GL27 | AC1: GF_GL28 | AD1: GF_GL29 | AE1: GF_GL30 | AF1: GF_GL31 | AG1: GF_GL32 | AH1: GF_GL33 | AI1: GF_GL34 | AJ1: GF_GL35 | AK1: GF_GL36 | AL1: GF_GL37 | AM1: GF_GL38 | AN1: GF_GL39 | AO1: GF_GL40 | AP1: GF_GL41 | AQ1: GF_GL42 | AR1: GF_GL43 | AS1: GF_GL44 | AT1: GF_GL45 | AU1: GF_GL46 | AV1: GF_GL47 | AW1: GF_GL48 | AX1: GF_GL49 | AY1: GF_GL50 | AZ1: GF_GL51 | BA1: GF_GL52 | BB1: GF_GL53 | BC1: GF_GL54 | BD1: GF_GL55 | BE1: GF_GL56 | BF1: GF_GL57 | BG1: GF_GL58 | BH1: GF_GL59 | BI1: GF_GL60 | BJ1: GF_GL61 | BK1: GF_GL62 | BL1: GF_GL63 | BM1: GF_GL64 | BN1: GF_GL65 | BO1: GF_GL66 | BP1: GF_GL67 | BQ1: GF_GL68 | BR1: GF_GL69 | BS1: GF_GL70 | BT1: GF_GL71 | BU1: GF_GL72 | BV1: GF_GL73 | BW1: GF_GL74 | BX1: GF_GL75 | BY1: GF_GL76 | BZ1: GF_GL77 | CA1: GF_GL78 | CB1: GF_GL79 | CC1: GF_GL80 | CD1: GF_GL81 | CE1: GF_GL82 | CF1: GF_GL83 | CG1: GF_GL84 | CH1: GF_GL85 | CI1: GF_GL86 | CJ1: GF_GL87 | CK1: GF_GL88 | CL1: GF_GL89 | CM1: GF_GL90 | CN1: GF_GL91 | CO1: GF_GL92 | CP1: GF_GL93 | CQ1: GF_GL94 | CR1: GF_GL95 | CS1: GF_GL96 | CT1: GF_GL97 | CU1: GF_GL98 | CV1: GF_GL99 | CW1: GF_GL100 | CX1: GF_GL101 | CY1: GF_GL102 | CZ1: GF_GL103 | DA1: GF_GL104 | DB1: GF_GL105 | DC1: GF_GL106 | DD1: GF_GL107 | DE1: GF_GL108 | DF1: GF_GL109 | DG1: GF_GL110 | DH1: GF_GL111 | DI1: GF_GL112 | DJ1: GF_GL113 | DK1: GF_GL114 | DL1: GF_GL115 | DM1: GF_GL116 | DN1: GF_GL117 | DO1: GF_GL118 | DP1: GF_GL119 | DQ1: GF_GL120 | DR1: GF_GL121 | DS1: GF_GL122 | DT1: GF_GL123 | DU1: GF_GL124 | DV1: GF_GL125 | DW1: GF_GL126 | DX1: GF_GL127 | DY1: GF_GL128 | DZ1: GF_GL129 | EA1: GF_GL130 | EB1: GF_GL131 | EC1: GF_GL132 | ED1: GF_GL133 | EE1: GF_GL134 | EF1: GF_GL135 | EG1: GF_GL136 | EH1: GF_GL137 | EI1: GF_GL138 | EJ1: GF_GL139 | EK1: GF_GL140 | EL1: GF_GL141 | EM1: GF_GL142 | EN1: GF_GL143 | EO1: GF_GL144 | EP1: GF_GL145 | EQ1: GF_GL146 | ER1: GF_GL147 | ES1: GF_GL148 | ET1: GF_GL149 | EU1: GF_GL150 | EV1: GF_GL151 | EW1: GF_GL152 | EX1: GF_GL153 | EY1: GF_GL154 | EZ1: GF_GL155 | FA1: GF_GL156 | FB1: GF_GL157 | FC1: GF_GL158 | FD1: GF_GL159 | FE1: GF_GL160 | FF1: GF_GL161 | FG1: GF_GL162 | FH1: GF_GL163 | FI1: GF_GL164 | FJ1: GF_GL165 | FK1: GF_GL166 | FL1: GF_GL167 | FM1: GF_GL168 | FN1: GF_GL169 | FO1: GF_GL170 | FP1: GF_GL171 | FQ1: GF_GL172 | FR1: GF_GL173 | FS1: GF_GL174 | FT1: GF_GL175 | FU1: GF_GL176 | FV1: GF_GL177 | FW1: GF_GL178 | FX1: GF_GL179 | FY1: GF_GL180 | FZ1: GF_GL181 | GA1: GF_GL182 | GB1: GF_GL183 | GC1: GF_GL184 | GD1: GF_GL185 | GE1: GF_GL186
A2: 33208 | B2: #NUM! | C2: #NUM! | D2: #NUM! | E2: #NUM! | F2: #NUM! | G2: #NUM! | H2: #NUM! | I2: #NUM! | J2: #NUM! | K2: #NUM! | L2: #NUM! | M2: #NUM! | N2: #NUM! | O2: #NUM! | P2: #NUM! | Q2: #NUM! | R2: #NUM! | S2: #NUM! | T2: #NUM! | U2: #NUM! | V2: #NUM! | W2: #NUM! | X2: #NUM! | Y2: #NUM! | Z2: #NUM! | AA2: #NUM! | AB2: #NUM! | AC2: #NUM! | AD2: #NUM! | AE2: #NUM! | AF2: #NUM! | AG2: #NUM! | AH2: #NUM! | AI2: #NUM! | AJ2: #NUM! | AK2: #NUM! | AL2: #NUM! | AM2: #NUM! | AN2: #NUM! | AO2: #NUM! | AP2: #NUM! | AQ2: #NUM! | AR2: #NUM! | AS2: #NUM! | AT2: #NUM! | AU2: #NUM! | AV2: #NUM! | AW2: #NUM! | AX2: #NUM! | AY2: #NUM! | AZ2: #NUM! | BA2: #NUM! | BB2: -0.010729511 | BC2: #NUM! | BD2: #NUM! | BE2: #NUM! | BF2: #NUM! | BG2: #NUM! | BH2: #NUM! | BI2: #NUM! | BJ2: #NUM! | BK2: #NUM! | BL2: #NUM! | BM2: #NUM! | BN2: #NUM! | BO2: #NUM! | BP2: #NUM! | BQ2: #NUM! | BR2: #NUM! | BS2: #NUM! | BT2: #NUM! | BU2: #NUM! | BV2: #NUM! | BW2: #NUM! | BX2: #NUM! | BY2: #NUM! | BZ2: #NUM! | CA2: #NUM! | CB2: #NUM! | CC2: #NUM! | CD2: #NUM! | CE2: #NUM! | CF2: #NUM! | CG2: #NUM! | CH2: #NUM! | CI2: #NUM! | CJ2: #NUM! | CK2: #NUM! | CL2: #NUM! | CM2: #NUM! | CN2: #NUM! | CO2: #NUM! | CP2: #NUM! | CQ2: #NUM! | CR2: #NUM! | CS2: #NUM! | CT2: #NUM! | CU2: #NUM! | CV2: #NUM! | CW2: #NUM! | CX2: #NUM! | CY2: #NUM! | CZ2: #NUM! | DA2: #NUM! | DB2: -0.0079435153 | DC2: #NUM! | DD2: #NUM! | DE2: #NUM! | DF2: #NUM! | DG2: #NUM! | DH2: #NUM! | DI2: #NUM! | DJ2: #NUM! | DK2: #NUM! | DL2: #NUM! | DM2: #NUM! | DN2: #NUM! | DO2: #NUM! | DP2: #NUM! | DQ2: #NUM! | DR2: #NUM! | DS2: #NUM! | DT2: #NUM! | DU2: #NUM! | DV2: #NUM! | DW2: #NUM! | DX2: #NUM! | DY2: #NUM! | DZ2: #NUM! | EA2: #NUM! | EB2: #NUM! | EC2: -0.050526902 | ED2: #NUM! | EE2: #NUM! | EF2: #NUM! | EG2: #NUM! | EH2: #NUM! | EI2: #NUM! | EJ2: #NUM! | EK2: #NUM! | EL2: #NUM! | EM2: #NUM! | EN2: #NUM! | EO2: #NUM! | EP2: #NUM! | EQ2: #NUM! | ER2: #NUM! | ES2: #NUM! | ET2: #NUM! | EU2: #NUM! | EV2: 0.0081790394 | EW2: #NUM! | EX2: #NUM! | EY2: #NUM! | EZ2: #NUM! | FA2: #NUM! | FB2: #NUM! | FC2: #NUM! | FD2: #NUM! | FE2: #NUM! | FF2: #NUM! | FG2: #NUM! | FH2: #NUM! | FI2: #NUM! | FJ2: #NUM! | FK2: #NUM! | FL2: #NUM! | FM2: #NUM! | FN2: #NUM! | FO2: #NUM! | FP2: #NUM! | FQ2: #NUM! | FR2: #NUM! | FS2: #NUM! | FT2: #NUM! | FU2: #NUM! | FV2: #NUM! | FW2: #NUM! | FX2: #NUM! | FY2: #NUM! | FZ2: #NUM! | GA2: #NUM! | GB2: #NUM! | GC2: #NUM! | GD2: #NUM! | GE2: #NUM!
A3: 33239 | B3: #NUM! | C3: #NUM! | D3: #NUM! | E3: #NUM! | F3: #NUM! | G3: #NUM! | H3: #NUM! | I3: #NUM! | J3: #NUM! | K3: #NUM! | L3: #NUM! | M3: #NUM! | N3: #NUM! | O3: #NUM! | P3: #NUM! | Q3: #NUM! | R3: #NUM! | S3: #NUM! | T3: #NUM! | U3: #NUM! | V3: #NUM! | W3: #NUM! | X3: #NUM! | Y3: #NUM! | Z3: #NUM! | AA3: #NUM! | AB3: #NUM! | AC3: #NUM! | AD3: #NUM! | AE3: #NUM! | AF3: #NUM! | AG3: #NUM! | AH3: #NUM! | AI3: #NUM! | AJ3: #NUM! | AK3: #NUM! | AL3: #NUM! | AM3: #NUM! | AN3: #NUM! | AO3: #NUM! | AP3: #NUM! | AQ3: #NUM! | AR3: #NUM! | AS3: #NUM! | AT3: #NUM! | AU3: #NUM! | AV3: #NUM! | AW3: #NUM! | AX3: 0.02678833 | AY3: #NUM! | AZ3: #NUM! | BA3: #NUM! | BB3: -0.0044110868 | BC3: #NUM! | BD3: #NUM! | BE3: #NUM! | BF3: #NUM! | BG3: #NUM! | BH3: #NUM! | BI3: #NUM! | BJ3: #NUM! | BK3: #NUM! | BL3: #NUM! | BM3: #NUM! | BN3: #NUM! | BO3: #NUM! | BP3: #NUM! | BQ3: #NUM! | BR3: #NUM! | BS3: #NUM! | BT3: #NUM! | BU3: #NUM! | BV3: #NUM! | BW3: #NUM! | BX3: #NUM! | BY3: #NUM! | BZ3: #NUM! | CA3: #NUM! | CB3: #NUM! | CC3: #NUM! | CD3: #NUM! | CE3: #NUM! | CF3: #NUM! | CG3: #NUM! | CH3: #NUM! | CI3: #NUM! | CJ3: #NUM! | CK3: #NUM! | CL3: #NUM! | CM3: #NUM! | CN3: #NUM! | CO3: #NUM! | CP3: #NUM! | CQ3: #NUM! | CR3: #NUM! | CS3: #NUM! | CT3: #NUM! | CU3: #NUM! | CV3: #NUM! | CW3: #NUM! | CX3: #NUM! | CY3: #NUM! | CZ3: #NUM! | DA3: #NUM! | DB3: 0.010306828 | DC3: #NUM! | DD3: #NUM! | DE3: #NUM! | DF3: #NUM! | DG3: #NUM! | DH3: #NUM! | DI3: #NUM! | DJ3: #NUM! | DK3: #NUM! | DL3: #NUM! | DM3: #NUM! | DN3: #NUM! | DO3: #NUM! | DP3: #NUM! | DQ3: #NUM! | DR3: #NUM! | DS3: #NUM! | DT3: #NUM! | DU3: #NUM! | DV3: #NUM! | DW3: #NUM! | DX3: #NUM! | DY3: #NUM! | DZ3: #NUM! | EA3: #NUM! | EB3: #NUM! | EC3: 0.0085054818 | ED3: #NUM! | EE3: #NUM! | EF3: #NUM! | EG3: #NUM! | EH3: #NUM! | EI3: #NUM! | EJ3: #NUM! | EK3: #NUM! | EL3: #NUM! | EM3: #NUM! | EN3: #NUM! | EO3: #NUM! | EP3: #NUM! | EQ3: #NUM! | ER3: #NUM! | ES3: #NUM! | ET3: #NUM! | EU3: #NUM! | EV3: 0.0011604109 | EW3: #NUM! | EX3: #NUM! | EY3: #NUM! | EZ3: #NUM! | FA3: #NUM! | FB3: #NUM! | FC3: #NUM! | FD3: #NUM! | FE3: #NUM! | FF3: #NUM! | FG3: #NUM! | FH3: #NUM! | FI3: #NUM! | FJ3: #NUM! | FK3: #NUM! | FL3: #NUM! | FM3: #NUM! | FN3: #NUM! | FO3: #NUM! | FP3: #NUM! | FQ3: #NUM! | FR3: #NUM! | FS3: #NUM! | FT3: #NUM! | FU3: #NUM! | FV3: #NUM! | FW3: #NUM! | FX3: #NUM! | FY3: #NUM! | FZ3: #NUM! | GA3: #NUM! | GB3: #NUM! | GC3: #NUM! | GD3: #NUM! | GE3: #NUM!
A4: 33270 | B4: #NUM! | C4: #NUM! | D4: #NUM! | E4: #NUM! | F4: #NUM! | G4: #NUM! | H4: #NUM! | I4: #NUM! | J4: #NUM! | K4: #NUM! | L4: #NUM! | M4: #NUM! | N4: #NUM! | O4: #NUM! | P4: #NUM! | Q4: #NUM! | R4: #NUM! | S4: #NUM! | T4: #NUM! | U4: #NUM! | V4: #NUM! | W4: #NUM! | X4: #NUM! | Y4: #NUM! | Z4: #NUM! | AA4: #NUM! | AB4: #NUM! | AC4: #NUM! | AD4: #NUM! | AE4: #NUM! | AF4: #NUM! | AG4: #NUM! | AH4: #NUM! | AI4: #NUM! | AJ4: #NUM! | AK4: #NUM! | AL4: #NUM! | AM4: #NUM! | AN4: #NUM! | AO4: #NUM! | AP4: #NUM! | AQ4: #NUM! | AR4: #NUM! | AS4: #NUM! | AT4: #NUM! | AU4: #NUM! | AV4: #NUM! | AW4: #NUM! | AX4: 0.030862003 | AY4: #NUM! | AZ4: #NUM! | BA4: #NUM! | BB4: -0.029993465 | BC4: #NUM! | BD4: #NUM! | BE4: #NUM! | BF4: #NUM! | BG4: #NUM! | BH4: #NUM! | BI4: #NUM! | BJ4: #NUM! | BK4: #NUM! | BL4: #NUM! | BM4: #NUM! | BN4: #NUM! | BO4: #NUM! | BP4: #NUM! | BQ4: #NUM! | BR4: #NUM! | BS4: #NUM! | BT4: #NUM! | BU4: #NUM! | BV4: #NUM! | BW4: #NUM! | BX4: #NUM! | BY4: #NUM! | BZ4: #NUM! | CA4: #NUM! | CB4: #NUM! | CC4: #NUM! | CD4: #NUM! | CE4: #NUM! | CF4: #NUM! | CG4: #NUM! | CH4: #NUM! | CI4: #NUM! | CJ4: #NUM! | CK4: #NUM! | CL4: #NUM! | CM4: #NUM! | CN4: #NUM! | CO4: #NUM! | CP4: #NUM! | CQ4: #NUM! | CR4: #NUM! | CS4: #NUM! | CT4: #NUM! | CU4: #NUM! | CV4: #NUM! | CW4: #NUM! | CX4: #NUM! | CY4: #NUM! | CZ4: #NUM! | DA4: #NUM! | DB4: 0.022054252 | DC4: #NUM! | DD4: #NUM! | DE4: #NUM! | DF4: #NUM! | DG4: #NUM! | DH4: #NUM! | DI4: #NUM! | DJ4: #NUM! | DK4: #NUM! | DL4: #NUM! | DM4: #NUM! | DN4: #NUM! | DO4: #NUM! | DP4: #NUM! | DQ4: #NUM! | DR4: #NUM! | DS4: #NUM! | DT4: #NUM! | DU4: #NUM! | DV4: #NUM! | DW4: #NUM! | DX4: #NUM! | DY4: #NUM! | DZ4: #NUM! | EA4: #NUM! | EB4: #NUM! | EC4: -0.036877983 | ED4: #NUM! | EE4: #NUM! | EF4: #NUM! | EG4: #NUM! | EH4: #NUM! | EI4: #NUM! | EJ4: #NUM! | EK4: #NUM! | EL4: #NUM! | EM4: #NUM! | EN4: #NUM! | EO4: #NUM! | EP4: #NUM! | EQ4: #NUM! | ER4: #NUM! | ES4: #NUM! | ET4: #NUM! | EU4: #NUM! | EV4: 0.02211474 | EW4: #NUM! | EX4: #NUM! | EY4: #NUM! | EZ4: #NUM! | FA4: #NUM! | FB4: #NUM! | FC4: #NUM! | FD4: #NUM! | FE4: #NUM! | FF4: #NUM! | FG4: #NUM! | FH4: #NUM! | FI4: #NUM! | FJ4: #NUM! | FK4: #NUM! | FL4: #NUM! | FM4: #NUM! | FN4: #NUM! | FO4: #NUM! | FP4: #NUM! | FQ4: #NUM! | FR4: #NUM! | FS4: #NUM! | FT4: #NUM! | FU4: #NUM! | FV4: #NUM! | FW4: #NUM! | FX4: #NUM! | FY4: #NUM! | FZ4: #NUM! | GA4: #NUM! | GB4: #NUM! | GC4: #NUM! | GD4: #NUM! | GE4: #NUM!
A5: 33298 | B5: #NUM! | C5: #NUM! | D5: #NUM! | E5: #NUM! | F5: #NUM! | G5: #NUM! | H5: #NUM! | I5: #NUM! | J5: #NUM! | K5: #NUM! | L5: #NUM! | M5: #NUM! | N5: #NUM! | O5: #NUM! | P5: #NUM! | Q5: #NUM! | R5: #NUM! | S5: #NUM! | T5: #NUM! | U5: #NUM! | V5: #NUM! | W5: #NUM! | X5: #NUM! | Y5: #NUM! | Z5: #NUM! | AA5: #NUM! | AB5: #NUM! | AC5: #NUM! | AD5: #NUM! | AE5: #NUM! | AF5: #NUM! | AG5: #NUM! | AH5: #NUM! | AI5: #NUM! | AJ5: #NUM! | AK5: #NUM! | AL5: #NUM! | AM5: #NUM! | AN5: #NUM! | AO5: #NUM! | AP5: #NUM! | AQ5: #NUM! | AR5: #NUM! | AS5: #NUM! | AT5: #NUM! | AU5: #NUM! | AV5: #NUM! | AW5: #NUM! | AX5: 0.067035363 | AY5: #NUM! | AZ5: #NUM! | BA5: #NUM! | BB5: 0.083801641 | BC5: #NUM! | BD5: #NUM! | BE5: #NUM! | BF5: #NUM! | BG5: #NUM! | BH5: #NUM! | BI5: #NUM! | BJ5: #NUM! | BK5: #NUM! | BL5: #NUM! | BM5: #NUM! | BN5: #NUM! | BO5: #NUM! | BP5: #NUM! | BQ5: #NUM! | BR5: #NUM! | BS5: #NUM! | BT5: #NUM! | BU5: #NUM! | BV5: #NUM! | BW5: #NUM! | BX5: #NUM! | BY5: #NUM! | BZ5: #NUM! | CA5: #NUM! | CB5: #NUM! | CC5: #NUM! | CD5: #NUM! | CE5: #NUM! | CF5: #NUM! | CG5: #NUM! | CH5: #NUM! | CI5: #NUM! | CJ5: #NUM! | CK5: #NUM! | CL5: #NUM! | CM5: #NUM! | CN5: #NUM! | CO5: #NUM! | CP5: #NUM! | CQ5: #NUM! | CR5: #NUM! | CS5: #NUM! | CT5: #NUM! | CU5: #NUM! | CV5: #NUM! | CW5: #NUM! | CX5: #NUM! | CY5: #NUM! | CZ5: #NUM! | DA5: #NUM! | DB5: 0.10063617 | DC5: #NUM! | DD5: #NUM! | DE5: #NUM! | DF5: #NUM! | DG5: #NUM! | DH5: #NUM! | DI5: #NUM! | DJ5: #NUM! | DK5: #NUM! | DL5: #NUM! | DM5: #NUM! | DN5: #NUM! | DO5: #NUM! | DP5: #NUM! | DQ5: #NUM! | DR5: #NUM! | DS5: #NUM! | DT5: #NUM! | DU5: #NUM! | DV5: #NUM! | DW5: #NUM! | DX5: #NUM! | DY5: #NUM! | DZ5: #NUM! | EA5: #NUM! | EB5: #NUM! | EC5: 0.1086469 | ED5: #NUM! | EE5: #NUM! | EF5: #NUM! | EG5: #NUM! | EH5: #NUM! | EI5: #NUM! | EJ5: #NUM! | EK5: #NUM! | EL5: #NUM! | EM5: #NUM! | EN5: #NUM! | EO5: #NUM! | EP5: #NUM! | EQ5: #NUM! | ER5: #NUM! | ES5: #NUM! | ET5: #NUM! | EU5: #NUM! | EV5: 0.083531959 | EW5: #NUM! | EX5: #NUM! | EY5: #NUM! | EZ5: #NUM! | FA5: #NUM! | FB5: #NUM! | FC5: #NUM! | FD5: #NUM! | FE5: #NUM! | FF5: #NUM! | FG5: #NUM! | FH5: #NUM! | FI5: #NUM! | FJ5: #NUM! | FK5: #NUM! | FL5: #NUM! | FM5: #NUM! | FN5: #NUM! | FO5: #NUM! | FP5: #NUM! | FQ5: #NUM! | FR5: #NUM! | FS5: #NUM! | FT5: #NUM! | FU5: #NUM! | FV5: #NUM! | FW5: #NUM! | FX5: #NUM! | FY5: #NUM! | FZ5: #NUM! | GA5: #NUM! | GB5: #NUM! | GC5: #NUM! | GD5: #NUM! | GE5: #NUM!
A6: 33329 | B6: #NUM! | C6: #NUM! | D6: #NUM! | E6: #NUM! | F6: #NUM! | G6: #NUM! | H6: #NUM! | I6: #NUM! | J6: #NUM! | K6: #NUM! | L6: #NUM! | M6: #NUM! | N6: #NUM! | O6: #NUM! | P6: #NUM! | Q6: #NUM! | R6: #NUM! | S6: #NUM! | T6: #NUM! | U6: #NUM! | V6: #NUM! | W6: #NUM! | X6: #NUM! | Y6: #NUM! | Z6: #NUM! | AA6: #NUM! | AB6: #NUM! | AC6: #NUM! | AD6: #NUM! | AE6: #NUM! | AF6: #NUM! | AG6: #NUM! | AH6: #NUM! | AI6: #NUM! | AJ6: #NUM! | AK6: #NUM! | AL6: #NUM! | AM6: #NUM! | AN6: #NUM! | AO6: #NUM! | AP6: #NUM! | AQ6: #NUM! | AR6: #NUM! | AS6: #NUM! | AT6: #NUM! | AU6: #NUM! | AV6: #NUM! | AW6: #NUM! | AX6: 0.061313477 | AY6: #NUM! | AZ6: #NUM! | BA6: #NUM! | BB6: 0.088256016 | BC6: #NUM! | BD6: #NUM! | BE6: #NUM! | BF6: #NUM! | BG6: #NUM! | BH6: #NUM! | BI6: #NUM! | BJ6: #NUM! | BK6: #NUM! | BL6: #NUM! | BM6: #NUM! | BN6: #NUM! | BO6: #NUM! | BP6: #NUM! | BQ6: #NUM! | BR6: #NUM! | BS6: #NUM! | BT6: #NUM! | BU6: #NUM! | BV6: #NUM! | BW6: #NUM! | BX6: #NUM! | BY6: #NUM! | BZ6: #NUM! | CA6: #NUM! | CB6: #NUM! | CC6: #NUM! | CD6: #NUM! | CE6: #NUM! | CF6: #NUM! | CG6: #NUM! | CH6: #NUM! | CI6: #NUM! | CJ6: #NUM! | CK6: #NUM! | CL6: #NUM! | CM6: #NUM! | CN6: #NUM! | CO6: #NUM! | CP6: #NUM! | CQ6: #NUM! | CR6: #NUM! | CS6: #NUM! | CT6: #NUM! | CU6: #NUM! | CV6: #NUM! | CW6: #NUM! | CX6: #NUM! | CY6: #NUM! | CZ6: #NUM! | DA6: #NUM! | DB6: 0.048064558 | DC6: #NUM! | DD6: #NUM! | DE6: #NUM! | DF6: #NUM! | DG6: #NUM! | DH6: #NUM! | DI6: #NUM! | DJ6: #NUM! | DK6: #NUM! | DL6: #NUM! | DM6: #NUM! | DN6: #NUM! | DO6: #NUM! | DP6: #NUM! | DQ6: #NUM! | DR6: #NUM! | DS6: #NUM! | DT6: #NUM! | DU6: #NUM! | DV6: #NUM! | DW6: #NUM! | DX6: #NUM! | DY6: #NUM! | DZ6: #NUM! | EA6: #NUM! | EB6: #NUM! | EC6: 0.078092328 | ED6: #NUM! | EE6: #NUM! | EF6: #NUM! | EG6: #NUM! | EH6: #NUM! | EI6: #NUM! | EJ6: #NUM! | EK6: #NUM! | EL6: #NUM! | EM6: #NUM! | EN6: #NUM! | EO6: #NUM! | EP6: #NUM! | EQ6: #NUM! | ER6: #NUM! | ES6: #NUM! | ET6: #NUM! | EU6: #NUM! | EV6: 0.06593671 | EW6: #NUM! | EX6: #NUM! | EY6: #NUM! | EZ6: #NUM! | FA6: #NUM! | FB6: #NUM! | FC6: #NUM! | FD6: #NUM! | FE6: #NUM! | FF6: #NUM! | FG6: #NUM! | FH6: #NUM! | FI6: #NUM! | FJ6: #NUM! | FK6: #NUM! | FL6: #NUM! | FM6: #NUM! | FN6: #NUM! | FO6: #NUM! | FP6: #NUM! | FQ6: #NUM! | FR6: #NUM! | FS6: #NUM! | FT6: #NUM! | FU6: #NUM! | FV6: #NUM! | FW6: #NUM! | FX6: #NUM! | FY6: #NUM! | FZ6: #NUM! | GA6: #NUM! | GB6: #NUM! | GC6: #NUM! | GD6: #NUM! | GE6: #NUM!
A7: 33359 | B7: #NUM! | C7: #NUM! | D7: #NUM! | E7: #NUM! | F7: #NUM! | G7: #NUM! | H7: #NUM! | I7: #NUM! | J7: #NUM! | K7: #NUM! | L7: #NUM! | M7: #NUM! | N7: #NUM! | O7: #NUM! | P7: #NUM! | Q7: #NUM! | R7: #NUM! | S7: #NUM! | T7: #NUM! | U7: #NUM! | V7: #NUM! | W7: #NUM! | X7: #NUM! | Y7: #NUM! | Z7: #NUM! | AA7: #NUM! | AB7: #NUM! | AC7: #NUM! | AD7: #NUM! | AE7: #NUM! | AF7: #NUM! | AG7: #NUM! | AH7: #NUM! | AI7: #NUM! | AJ7: #NUM! | AK7: #NUM! | AL7: #NUM! | AM7: #NUM! | AN7: #NUM! | AO7: #NUM! | AP7: #NUM! | AQ7: #NUM! | AR7: #NUM! | AS7: #NUM! | AT7: #NUM! | AU7: #NUM! | AV7: #NUM! | AW7: #NUM! | AX7: 0.0076100744 | AY7: #NUM! | AZ7: #NUM! | BA7: #NUM! | BB7: -0.022535424 | BC7: #NUM! | BD7: #NUM! | BE7: #NUM! | BF7: #NUM! | BG7: #NUM! | BH7: #NUM! | BI7: #NUM! | BJ7: #NUM! | BK7: #NUM! | BL7: #NUM! | BM7: #NUM! | BN7: #NUM! | BO7: #NUM! | BP7: #NUM! | BQ7: #NUM! | BR7: #NUM! | BS7: #NUM! | BT7: #NUM! | BU7: #NUM! | BV7: #NUM! | BW7: #NUM! | BX7: #NUM! | BY7: #NUM! | BZ7: #NUM! | CA7: #NUM! | CB7: #NUM! | CC7: #NUM! | CD7: #NUM! | CE7: #NUM! | CF7: #NUM! | CG7: #NUM! | CH7: #NUM! | CI7: #NUM! | CJ7: #NUM! | CK7: #NUM! | CL7: #NUM! | CM7: #NUM! | CN7: #NUM! | CO7: #NUM! | CP7: #NUM! | CQ7: #NUM! | CR7: #NUM! | CS7: #NUM! | CT7: #NUM! | CU7: #NUM! | CV7: #NUM! | CW7: #NUM! | CX7: #NUM! | CY7: #NUM! | CZ7: #NUM! | DA7: #NUM! | DB7: -0.00016146723 | DC7: #NUM! | DD7: #NUM! | DE7: #NUM! | DF7: #NUM! | DG7: #NUM! | DH7: #NUM! | DI7: #NUM! | DJ7: #NUM! | DK7: #NUM! | DL7: #NUM! | DM7: #NUM! | DN7: #NUM! | DO7: #NUM! | DP7: #NUM! | DQ7: #NUM! | DR7: #NUM! | DS7: #NUM! | DT7: #NUM! | DU7: #NUM! | DV7: #NUM! | DW7: #NUM! | DX7: #NUM! | DY7: #NUM! | DZ7: #NUM! | EA7: #NUM! | EB7: #NUM! | EC7: 0.003708139 | ED7: #NUM! | EE7: #NUM! | EF7: #NUM! | EG7: #NUM! | EH7: #NUM! | EI7: #NUM! | EJ7: #NUM! | EK7: #NUM! | EL7: #NUM! | EM7: #NUM! | EN7: #NUM! | EO7: #NUM! | EP7: #NUM! | EQ7: #NUM! | ER7: #NUM! | ES7: #NUM! | ET7: #NUM! | EU7: #NUM! | EV7: 0.027652072 | EW7: #NUM! | EX7: #NUM! | EY7: #NUM! | EZ7: #NUM! | FA7: #NUM! | FB7: #NUM! | FC7: #NUM! | FD7: #NUM! | FE7: #NUM! | FF7: #NUM! | FG7: #NUM! | FH7: #NUM! | FI7: #NUM! | FJ7: #NUM! | FK7: #NUM! | FL7: #NUM! | FM7: #NUM! | FN7: #NUM! | FO7: #NUM! | FP7: #NUM! | FQ7: #NUM! | FR7: #NUM! | FS7: #NUM! | FT7: #NUM! | FU7: #NUM! | FV7: #NUM! | FW7: #NUM! | FX7: #NUM! | FY7: #NUM! | FZ7: #NUM! | GA7: #NUM! | GB7: #NUM! | GC7: #NUM! | GD7: #NUM! | GE7: #NUM!
A8: 33390 | B8: #NUM! | C8: #NUM! | D8: #NUM! | E8: #NUM! | F8: #NUM! | G8: #NUM! | H8: #NUM! | I8: #NUM! | J8: #NUM! | K8: #NUM! | L8: #NUM! | M8: #NUM! | N8: #NUM! | O8: #NUM! | P8: #NUM! | Q8: #NUM! | R8: #NUM! | S8: #NUM! | T8: #NUM! | U8: #NUM! | V8: #NUM! | W8: #NUM! | X8: #NUM! | Y8: #NUM! | Z8: #NUM! | AA8: #NUM! | AB8: #NUM! | AC8: #NUM! | AD8: #NUM! | AE8: #NUM! | AF8: #NUM! | AG8: #NUM! | AH8: #NUM! | AI8: #NUM! | AJ8: #NUM! | AK8: #NUM! | AL8: #NUM! | AM8: #NUM! | AN8: #NUM! | AO8: #NUM! | AP8: #NUM! | AQ8: #NUM! | AR8: #NUM! | AS8: #NUM! | AT8: #NUM! | AU8: #NUM! | AV8: #NUM! | AW8: #NUM! | AX8: -0.00098885656 | AY8: #NUM! | AZ8: #NUM! | BA8: #NUM! | BB8: 0.02381998 | BC8: #NUM! | BD8: #NUM! | BE8: #NUM! | BF8: #NUM! | BG8: #NUM! | BH8: #NUM! | BI8: #NUM! | BJ8: #NUM! | BK8: #NUM! | BL8: #NUM! | BM8: #NUM! | BN8: #NUM! | BO8: #NUM! | BP8: #NUM! | BQ8: #NUM! | BR8: #NUM! | BS8: #NUM! | BT8: #NUM! | BU8: #NUM! | BV8: #NUM! | BW8: #NUM! | BX8: #NUM! | BY8: #NUM! | BZ8: #NUM! | CA8: #NUM! | CB8: #NUM! | CC8: #NUM! | CD8: #NUM! | CE8: #NUM! | CF8: #NUM! | CG8: #NUM! | CH8: #NUM! | CI8: #NUM! | CJ8: #NUM! | CK8: #NUM! | CL8: #NUM! | CM8: #NUM! | CN8: #NUM! | CO8: #NUM! | CP8: #NUM! | CQ8: #NUM! | CR8: #NUM! | CS8: #NUM! | CT8: #NUM! | CU8: #NUM! | CV8: #NUM! | CW8: #NUM! | CX8: #NUM! | CY8: #NUM! | CZ8: #NUM! | DA8: #NUM! | DB8: 0.012406599 | DC8: #NUM! | DD8: #NUM! | DE8: #NUM! | DF8: #NUM! | DG8: #NUM! | DH8: #NUM! | DI8: #NUM! | DJ8: #NUM! | DK8: #NUM! | DL8: #NUM! | DM8: #NUM! | DN8: #NUM! | DO8: #NUM! | DP8: #NUM! | DQ8: #NUM! | DR8: #NUM! | DS8: #NUM! | DT8: #NUM! | DU8: #NUM! | DV8: #NUM! | DW8: #NUM! | DX8: #NUM! | DY8: #NUM! | DZ8: #NUM! | EA8: #NUM! | EB8: #NUM! | EC8: 0.012211066 | ED8: #NUM! | EE8: #NUM! | EF8: #NUM! | EG8: #NUM! | EH8: #NUM! | EI8: #NUM! | EJ8: #NUM! | EK8: #NUM! | EL8: #NUM! | EM8: #NUM! | EN8: #NUM! | EO8: #NUM! | EP8: #NUM! | EQ8: #NUM! | ER8: #NUM! | ES8: #NUM! | ET8: #NUM! | EU8: #NUM! | EV8: -0.0032378737 | EW8: #NUM! | EX8: #NUM! | EY8: #NUM! | EZ8: #NUM! | FA8: #NUM! | FB8: #NUM! | FC8: #NUM! | FD8: #NUM! | FE8: #NUM! | FF8: #NUM! | FG8: #NUM! | FH8: #NUM! | FI8: #NUM! | FJ8: #NUM! | FK8: #NUM! | FL8: #NUM! | FM8: #NUM! | FN8: #NUM! | FO8: #NUM! | FP8: #NUM! | FQ8: #NUM! | FR8: #NUM! | FS8: #NUM! | FT8: #NUM! | FU8: #NUM! | FV8: #NUM! | FW8: #NUM! | FX8: #NUM! | FY8: #NUM! | FZ8: #NUM! | GA8: #NUM! | GB8: #NUM! | GC8: #NUM! | GD8: #NUM! | GE8: #NUM!
A9: 33420 | B9: #NUM! | C9: #NUM! | D9: #NUM! | E9: #NUM! | F9: #NUM! | G9: #NUM! | H9: #NUM! | I9: #NUM! | J9: #NUM! | K9: #NUM! | L9: #NUM! | M9: #NUM! | N9: #NUM! | O9: #NUM! | P9: #NUM! | Q9: #NUM! | R9: #NUM! | S9: #NUM! | T9: #NUM! | U9: #NUM! | V9: #NUM! | W9: #NUM! | X9: #NUM! | Y9: #NUM! | Z9: #NUM! | AA9: #NUM! | AB9: #NUM! | AC9: #NUM! | AD9: #NUM! | AE9: #NUM! | AF9: #NUM! | AG9: #NUM! | AH9: #NUM! | AI9: #NUM! | AJ9: #NUM! | AK9: #NUM! | AL9: #NUM! | AM9: #NUM! | AN9: #NUM! | AO9: #NUM! | AP9: #NUM! | AQ9: #NUM! | AR9: #NUM! | AS9: #NUM! | AT9: #NUM! | AU9: #NUM! | AV9: #NUM! | AW9: #NUM! | AX9: 0.0012536002 | AY9: #NUM! | AZ9: #NUM! | BA9: #NUM! | BB9: -0.018958915 | BC9: #NUM! | BD9: #NUM! | BE9: #NUM! | BF9: #NUM! | BG9: #NUM! | BH9: #NUM! | BI9: #NUM! | BJ9: #NUM! | BK9: #NUM! | BL9: #NUM! | BM9: #NUM! | BN9: #NUM! | BO9: #NUM! | BP9: #NUM! | BQ9: #NUM! | BR9: #NUM! | BS9: #NUM! | BT9: #NUM! | BU9: #NUM! | BV9: #NUM! | BW9: #NUM! | BX9: #NUM! | BY9: #NUM! | BZ9: #NUM! | CA9: #NUM! | CB9: #NUM! | CC9: #NUM! | CD9: #NUM! | CE9: #NUM! | CF9: #NUM! | CG9: #NUM! | CH9: #NUM! | CI9: #NUM! | CJ9: #NUM! | CK9: #NUM! | CL9: #NUM! | CM9: #NUM! | CN9: #NUM! | CO9: #NUM! | CP9: #NUM! | CQ9: #NUM! | CR9: #NUM! | CS9: #NUM! | CT9: #NUM! | CU9: #NUM! | CV9: #NUM! | CW9: #NUM! | CX9: #NUM! | CY9: #NUM! | CZ9: #NUM! | DA9: #NUM! | DB9: -0.038333051 | DC9: #NUM! | DD9: #NUM! | DE9: #NUM! | DF9: #NUM! | DG9: #NUM! | DH9: #NUM! | DI9: #NUM! | DJ9: #NUM! | DK9: #NUM! | DL9: #NUM! | DM9: #NUM! | DN9: #NUM! | DO9: #NUM! | DP9: #NUM! | DQ9: #NUM! | DR9: #NUM! | DS9: #NUM! | DT9: #NUM! | DU9: #NUM! | DV9: #NUM! | DW9: #NUM! | DX9: #NUM! | DY9: #NUM! | DZ9: #NUM! | EA9: #NUM! | EB9: #NUM! | EC9: 0.0058745763 | ED9: #NUM! | EE9: #NUM! | EF9: #NUM! | EG9: #NUM! | EH9: #NUM! | EI9: #NUM! | EJ9: #NUM! | EK9: #NUM! | EL9: #NUM! | EM9: #NUM! | EN9: #NUM! | EO9: #NUM! | EP9: #NUM! | EQ9: #NUM! | ER9: #NUM! | ES9: #NUM! | ET9: #NUM! | EU9: #NUM! | EV9: -0.012564024 | EW9: #NUM! | EX9: #NUM! | EY9: #NUM! | EZ9: #NUM! | FA9: #NUM! | FB9: #NUM! | FC9: #NUM! | FD9: #NUM! | FE9: #NUM! | FF9: #NUM! | FG9: #NUM! | FH9: #NUM! | FI9: #NUM! | FJ9: #NUM! | FK9: #NUM! | FL9: #NUM! | FM9: #NUM! | FN9: #NUM! | FO9: #NUM! | FP9: #NUM! | FQ9: #NUM! | FR9: #NUM! | FS9: #NUM! | FT9: #NUM! | FU9: #NUM! | FV9: #NUM! | FW9: #NUM! | FX9: #NUM! | FY9: #NUM! | FZ9: #NUM! | GA9: #NUM! | GB9: #NUM! | GC9: #NUM! | GD9: #NUM! | GE9: #NUM!
A10: 33451 | B10: #NUM! | C10: #NUM! | D10: #NUM! | E10: #NUM! | F10: #NUM! | G10: #NUM! | H10: #NUM! | I10: #NUM! | J10: #NUM! | K10: #NUM! | L10: #NUM! | M10: #NUM! | N10: #NUM! | O10: #NUM! | P10: #NUM! | Q10: #NUM! | R10: #NUM! | S10: #NUM! | T10: #NUM! | U10: #NUM! | V10: #NUM! | W10: #NUM! | X10: #NUM! | Y10: #NUM! | Z10: #NUM! | AA10: #NUM! | AB10: #NUM! | AC10: #NUM! | AD10: #NUM! | AE10: #NUM! | AF10: #NUM! | AG10: #NUM! | AH10: #NUM! | AI10: #NUM! | AJ10: #NUM! | AK10: #NUM! | AL10: #NUM! | AM10: #NUM! | AN10: #NUM! | AO10: #NUM! | AP10: #NUM! | AQ10: #NUM! | AR10: #NUM! | AS10: #NUM! | AT10: #NUM! | AU10: #NUM! | AV10: #NUM! | AW10: #NUM! | AX10: -0.022286781 | AY10: #NUM! | AZ10: #NUM! | BA10: #NUM! | BB10: -0.011705574 | BC10: #NUM! | BD10: #NUM! | BE10: #NUM! | BF10: #NUM! | BG10: #NUM! | BH10: #NUM! | BI10: #NUM! | BJ10: #NUM! | BK10: #NUM! | BL10: #NUM! | BM10: #NUM! | BN10: #NUM! | BO10: #NUM! | BP10: #NUM! | BQ10: #NUM! | BR10: #NUM! | BS10: #NUM! | BT10: #NUM! | BU10: #NUM! | BV10: #NUM! | BW10: #NUM! | BX10: #NUM! | BY10: #NUM! | BZ10: #NUM! | CA10: #NUM! | CB10: #NUM! | CC10: #NUM! | CD10: #NUM! | CE10: #NUM! | CF10: #NUM! | CG10: #NUM! | CH10: #NUM! | CI10: #NUM! | CJ10: #NUM! | CK10: #NUM! | CL10: #NUM! | CM10: #NUM! | CN10: #NUM! | CO10: #NUM! | CP10: #NUM! | CQ10: #NUM! | CR10: #NUM! | CS10: #NUM! | CT10: #NUM! | CU10: #NUM! | CV10: #NUM! | CW10: #NUM! | CX10: #NUM! | CY10: #NUM! | CZ10: #NUM! | DA10: #NUM! | DB10: 0.029789646 | DC10: #NUM! | DD10: #NUM! | DE10: #NUM! | DF10: #NUM! | DG10: #NUM! | DH10: #NUM! | DI10: #NUM! | DJ10: #NUM! | DK10: #NUM! | DL10: #NUM! | DM10: #NUM! | DN10: #NUM! | DO10: #NUM! | DP10: #NUM! | DQ10: #NUM! | DR10: #NUM! | DS10: #NUM! | DT10: #NUM! | DU10: #NUM! | DV10: #NUM! | DW10: #NUM! | DX10: #NUM! | DY10: #NUM! | DZ10: #NUM! | EA10: #NUM! | EB10: #NUM! | EC10: -0.033032699 | ED10: #NUM! | EE10: #NUM! | EF10: #NUM! | EG10: #NUM! | EH10: #NUM! | EI10: #NUM! | EJ10: #NUM! | EK10: #NUM! | EL10: #NUM! | EM10: #NUM! | EN10: #NUM! | EO10: #NUM! | EP10: #NUM! | EQ10: #NUM! | ER10: #NUM! | ES10: #NUM! | ET10: #NUM! | EU10: #NUM! | EV10: 0.0031222036 | EW10: #NUM! | EX10: #NUM! | EY10: #NUM! | EZ10: #NUM! | FA10: #NUM! | FB10: #NUM! | FC10: #NUM! | FD10: #NUM! | FE10: #NUM! | FF10: #NUM! | FG10: #NUM! | FH10: #NUM! | FI10: #NUM! | FJ10: #NUM! | FK10: #NUM! | FL10: #NUM! | FM10: #NUM! | FN10: #NUM! | FO10: #NUM! | FP10: #NUM! | FQ10: #NUM! | FR10: #NUM! | FS10: #NUM! | FT10: #NUM! | FU10: #NUM! | FV10: #NUM! | FW10: #NUM! | FX10: #NUM! | FY10: #NUM! | FZ10: #NUM! | GA10: #NUM! | GB10: #NUM! | GC10: #NUM! | GD10: #NUM! | GE10: #NUM!
A11: 33482 | B11: #NUM! | C11: #NUM! | D11: #NUM! | E11: #NUM! | F11: #NUM! | G11: #NUM! | H11: #NUM! | I11: #NUM! | J11: #NUM! | K11: #NUM! | L11: #NUM! | M11: #NUM! | N11: #NUM! | O11: #NUM! | P11: #NUM! | Q11: #NUM! | R11: #NUM! | S11: #NUM! | T11: #NUM! | U11: #NUM! | V11: #NUM! | W11: #NUM! | X11: #NUM! | Y11: #NUM! | Z11: #NUM! | AA11: #NUM! | AB11: #NUM! | AC11: #NUM! | AD11: #NUM! | AE11: #NUM! | AF11: #NUM! | AG11: #NUM! | AH11: #NUM! | AI11: #NUM! | AJ11: #NUM! | AK11: #NUM! | AL11: #NUM! | AM11: #NUM! | AN11: #NUM! | AO11: #NUM! | AP11: #NUM! | AQ11: #NUM! | AR11: #NUM! | AS11: #NUM! | AT11: #NUM! | AU11: #NUM! | AV11: #NUM! | AW11: #NUM! | AX11: -0.015948104 | AY11: #NUM! | AZ11: #NUM! | BA11: #NUM! | BB11: 0.02183201 | BC11: #NUM! | BD11: #NUM! | BE11: #NUM! | BF11: #NUM! | BG11: #NUM! | BH11: #NUM! | BI11: #NUM! | BJ11: #NUM! | BK11: #NUM! | BL11: #NUM! | BM11: #NUM! | BN11: #NUM! | BO11: #NUM! | BP11: #NUM! | BQ11: #NUM! | BR11: #NUM! | BS11: #NUM! | BT11: #NUM! | BU11: #NUM! | BV11: #NUM! | BW11: #NUM! | BX11: #NUM! | BY11: #NUM! | BZ11: #NUM! | CA11: #NUM! | CB11: #NUM! | CC11: #NUM! | CD11: #NUM! | CE11: #NUM! | CF11: #NUM! | CG11: #NUM! | CH11: #NUM! | CI11: #NUM! | CJ11: #NUM! | CK11: #NUM! | CL11: #NUM! | CM11: #NUM! | CN11: #NUM! | CO11: #NUM! | CP11: #NUM! | CQ11: #NUM! | CR11: #NUM! | CS11: #NUM! | CT11: #NUM! | CU11: #NUM! | CV11: #NUM! | CW11: #NUM! | CX11: #NUM! | CY11: #NUM! | CZ11: #NUM! | DA11: #NUM! | DB11: 0.018118484 | DC11: #NUM! | DD11: #NUM! | DE11: #NUM! | DF11: #NUM! | DG11: #NUM! | DH11: #NUM! | DI11: #NUM! | DJ11: #NUM! | DK11: #NUM! | DL11: #NUM! | DM11: #NUM! | DN11: #NUM! | DO11: #NUM! | DP11: #NUM! | DQ11: #NUM! | DR11: #NUM! | DS11: #NUM! | DT11: #NUM! | DU11: #NUM! | DV11: #NUM! | DW11: #NUM! | DX11: #NUM! | DY11: #NUM! | DZ11: #NUM! | EA11: #NUM! | EB11: #NUM! | EC11: -0.0014489928 | ED11: #NUM! | EE11: #NUM! | EF11: #NUM! | EG11: #NUM! | EH11: #NUM! | EI11: #NUM! | EJ11: #NUM! | EK11: #NUM! | EL11: #NUM! | EM11: #NUM! | EN11: #NUM! | EO11: #NUM! | EP11: #NUM! | EQ11: #NUM! | ER11: #NUM! | ES11: #NUM! | ET11: #NUM! | EU11: #NUM! | EV11: 0.0071276714 | EW11: #NUM! | EX11: #NUM! | EY11: #NUM! | EZ11: #NUM! | FA11: #NUM! | FB11: #NUM! | FC11: #NUM! | FD11: #NUM! | FE11: #NUM! | FF11: #NUM! | FG11: #NUM! | FH11: #NUM! | FI11: #NUM! | FJ11: #NUM! | FK11: #NUM! | FL11: #NUM! | FM11: #NUM! | FN11: #NUM! | FO11: #NUM! | FP11: #NUM! | FQ11: #NUM! | FR11: #NUM! | FS11: #NUM! | FT11: #NUM! | FU11: #NUM! | FV11: #NUM! | FW11: #NUM! | FX11: #NUM! | FY11: #NUM! | FZ11: #NUM! | GA11: #NUM! | GB11: #NUM! | GC11: #NUM! | GD11: #NUM! | GE11: #NUM!
A12: 33512 | B12: #NUM! | C12: #NUM! | D12: #NUM! | E12: #NUM! | F12: #NUM! | G12: #NUM! | H12: #NUM! | I12: #NUM! | J12: #NUM! | K12: #NUM! | L12: #NUM! | M12: #NUM! | N12: #NUM! | O12: #NUM! | P12: #NUM! | Q12: #NUM! | R12: #NUM! | S12: #NUM! | T12: #NUM! | U12: #NUM! | V12: #NUM! | W12: #NUM! | X12: #NUM! | Y12: #NUM! | Z12: #NUM! | AA12: #NUM! | AB12: #NUM! | AC12: #NUM! | AD12: #NUM! | AE12: #NUM! | AF12: #NUM! | AG12: #NUM! | AH12: #NUM! | AI12: #NUM! | AJ12: #NUM! | AK12: #NUM! | AL12: #NUM! | AM12: #NUM! | AN12: #NUM! | AO12: #NUM! | AP12: #NUM! | AQ12: #NUM! | AR12: #NUM! | AS12: #NUM! | AT12: #NUM! | AU12: #NUM! | AV12: #NUM! | AW12: #NUM! | AX12: -0.036741193 | AY12: #NUM! | AZ12: #NUM! | BA12: #NUM! | BB12: 0.011759996 | BC12: #NUM! | BD12: #NUM! | BE12: #NUM! | BF12: #NUM! | BG12: #NUM! | BH12: #NUM! | BI12: #NUM! | BJ12: #NUM! | BK12: #NUM! | BL12: #NUM! | BM12: #NUM! | BN12: #NUM! | BO12: #NUM! | BP12: #NUM! | BQ12: #NUM! | BR12: #NUM! | BS12: #NUM! | BT12: #NUM! | BU12: #NUM! | BV12: #NUM! | BW12: #NUM! | BX12: #NUM! | BY12: -0.00069820272 | BZ12: #NUM! | CA12: #NUM! | CB12: #NUM! | CC12: #NUM! | CD12: #NUM! | CE12: #NUM! | CF12: #NUM! | CG12: #NUM! | CH12: #NUM! | CI12: #NUM! | CJ12: #NUM! | CK12: #NUM! | CL12: #NUM! | CM12: #NUM! | CN12: #NUM! | CO12: #NUM! | CP12: #NUM! | CQ12: #NUM! | CR12: #NUM! | CS12: #NUM! | CT12: #NUM! | CU12: #NUM! | CV12: #NUM! | CW12: #NUM! | CX12: #NUM! | CY12: #NUM! | CZ12: #NUM! | DA12: #NUM! | DB12: 0.011384913 | DC12: #NUM! | DD12: #NUM! | DE12: #NUM! | DF12: #NUM! | DG12: #NUM! | DH12: #NUM! | DI12: #NUM! | DJ12: #NUM! | DK12: #NUM! | DL12: #NUM! | DM12: #NUM! | DN12: #NUM! | DO12: #NUM! | DP12: #NUM! | DQ12: #NUM! | DR12: #NUM! | DS12: #NUM! | DT12: #NUM! | DU12: #NUM! | DV12: #NUM! | DW12: #NUM! | DX12: #NUM! | DY12: #NUM! | DZ12: #NUM! | EA12: #NUM! | EB12: #NUM! | EC12: -0.027023115 | ED12: #NUM! | EE12: #NUM! | EF12: #NUM! | EG12: #NUM! | EH12: #NUM! | EI12: #NUM! | EJ12: #NUM! | EK12: #NUM! | EL12: #NUM! | EM12: #NUM! | EN12: #NUM! | EO12: #NUM! | EP12: #NUM! | EQ12: #NUM! | ER12: #NUM! | ES12: #NUM! | ET12: #NUM! | EU12: #NUM! | EV12: 0.0029092438 | EW12: #NUM! | EX12: #NUM! | EY12: #NUM! | EZ12: #NUM! | FA12: #NUM! | FB12: #NUM! | FC12: #NUM! | FD12: #NUM! | FE12: #NUM! | FF12: #NUM! | FG12: #NUM! | FH12: #NUM! | FI12: #NUM! | FJ12: #NUM! | FK12: #NUM! | FL12: #NUM! | FM12: #NUM! | FN12: #NUM! | FO12: #NUM! | FP12: #NUM! | FQ12: #NUM! | FR12: #NUM! | FS12: #NUM! | FT12: #NUM! | FU12: #NUM! | FV12: #NUM! | FW12: #NUM! | FX12: #NUM! | FY12: #NUM! | FZ12: #NUM! | GA12: #NUM! | GB12: #NUM! | GC12: #NUM! | GD12: #NUM! | GE12: #NUM!
A13: 33543 | B13: #NUM! | C13: #NUM! | D13: #NUM! | E13: #NUM! | F13: #NUM! | G13: #NUM! | H13: #NUM! | I13: #NUM! | J13: #NUM! | K13: #NUM! | L13: #NUM! | M13: #NUM! | N13: #NUM! | O13: #NUM! | P13: #NUM! | Q13: #NUM! | R13: #NUM! | S13: #NUM! | T13: #NUM! | U13: #NUM! | V13: #NUM! | W13: #NUM! | X13: #NUM! | Y13: #NUM! | Z13: #NUM! | AA13: #NUM! | AB13: #NUM! | AC13: #NUM! | AD13: #NUM! | AE13: #NUM! | AF13: #NUM! | AG13: #NUM! | AH13: #NUM! | AI13: #NUM! | AJ13: #NUM! | AK13: #NUM! | AL13: #NUM! | AM13: #NUM! | AN13: #NUM! | AO13: #NUM! | AP13: #NUM! | AQ13: #NUM! | AR13: #NUM! | AS13: #NUM! | AT13: #NUM! | AU13: #NUM! | AV13: #NUM! | AW13: #NUM! | AX13: -0.003682126 | AY13: #NUM! | AZ13: #NUM! | BA13: #NUM! | BB13: -0.015156289 | BC13: #NUM! | BD13: #NUM! | BE13: #NUM! | BF13: #NUM! | BG13: #NUM! | BH13: #NUM! | BI13: #NUM! | BJ13: #NUM! | BK13: #NUM! | BL13: #NUM! | BM13: #NUM! | BN13: #NUM! | BO13: #NUM! | BP13: #NUM! | BQ13: #NUM! | BR13: #NUM! | BS13: #NUM! | BT13: #NUM! | BU13: #NUM! | BV13: #NUM! | BW13: #NUM! | BX13: #NUM! | BY13: -0.00081114374 | BZ13: #NUM! | CA13: #NUM! | CB13: #NUM! | CC13: #NUM! | CD13: #NUM! | CE13: #NUM! | CF13: #NUM! | CG13: #NUM! | CH13: #NUM! | CI13: #NUM! | CJ13: #NUM! | CK13: #NUM! | CL13: #NUM! | CM13: #NUM! | CN13: #NUM! | CO13: #NUM! | CP13: #NUM! | CQ13: #NUM! | CR13: #NUM! | CS13: #NUM! | CT13: #NUM! | CU13: #NUM! | CV13: #NUM! | CW13: #NUM! | CX13: #NUM! | CY13: #NUM! | CZ13: #NUM! | DA13: #NUM! | DB13: -0.013511057 | DC13: #NUM! | DD13: #NUM! | DE13: #NUM! | DF13: #NUM! | DG13: #NUM! | DH13: #NUM! | DI13: #NUM! | DJ13: #NUM! | DK13: #NUM! | DL13: #NUM! | DM13: #NUM! | DN13: #NUM! | DO13: #NUM! | DP13: #NUM! | DQ13: #NUM! | DR13: #NUM! | DS13: #NUM! | DT13: #NUM! | DU13: #NUM! | DV13: #NUM! | DW13: #NUM! | DX13: #NUM! | DY13: #NUM! | DZ13: #NUM! | EA13: #NUM! | EB13: #NUM! | EC13: -0.0072421905 | ED13: #NUM! | EE13: #NUM! | EF13: #NUM! | EG13: #NUM! | EH13: #NUM! | EI13: #NUM! | EJ13: #NUM! | EK13: #NUM! | EL13: #NUM! | EM13: #NUM! | EN13: #NUM! | EO13: #NUM! | EP13: #NUM! | EQ13: #NUM! | ER13: #NUM! | ES13: #NUM! | ET13: #NUM! | EU13: #NUM! | EV13: 0.0043986202 | EW13: #NUM! | EX13: #NUM! | EY13: #NUM! | EZ13: #NUM! | FA13: #NUM! | FB13: #NUM! | FC13: #NUM! | FD13: #NUM! | FE13: #NUM! | FF13: #NUM! | FG13: #NUM! | FH13: #NUM! | FI13: #NUM! | FJ13: #NUM! | FK13: #NUM! | FL13: #NUM! | FM13: #NUM! | FN13: #NUM! | FO13: #NUM! | FP13: #NUM! | FQ13: #NUM! | FR13: #NUM! | FS13: #NUM! | FT13: #NUM! | FU13: #NUM! | FV13: #NUM! | FW13: #NUM! | FX13: #NUM! | FY13: #NUM! | FZ13: #NUM! | GA13: #NUM! | GB13: #NUM! | GC13: #NUM! | GD13: #NUM! | GE13: #NUM!
A14: 33573 | B14: #NUM! | C14: #NUM! | D14: #NUM! | E14: #NUM! | F14: #NUM! | G14: #NUM! | H14: #NUM! | I14: #NUM! | J14: #NUM! | K14: #NUM! | L14: #NUM! | M14: #NUM! | N14: #NUM! | O14: #NUM! | P14: #NUM! | Q14: #NUM! | R14: #NUM! | S14: #NUM! | T14: #NUM! | U14: #NUM! | V14: #NUM! | W14: #NUM! | X14: #NUM! | Y14: #NUM! | Z14: #NUM! | AA14: #NUM! | AB14: #NUM! | AC14: #NUM! | AD14: #NUM! | AE14: #NUM! | AF14: #NUM! | AG14: #NUM! | AH14: #NUM! | AI14: #NUM! | AJ14: #NUM! | AK14: #NUM! | AL14: #NUM! | AM14: #NUM! | AN14: #NUM! | AO14: #NUM! | AP14: #NUM! | AQ14: #NUM! | AR14: #NUM! | AS14: #NUM! | AT14: #NUM! | AU14: #NUM! | AV14: #NUM! | AW14: #NUM! | AX14: -0.061594853 | AY14: #NUM! | AZ14: #NUM! | BA14: #NUM! | BB14: -0.035403421 | BC14: #NUM! | BD14: #NUM! | BE14: #NUM! | BF14: #NUM! | BG14: #NUM! | BH14: #NUM! | BI14: #NUM! | BJ14: #NUM! | BK14: #NUM! | BL14: #NUM! | BM14: #NUM! | BN14: #NUM! | BO14: #NUM! | BP14: #NUM! | BQ14: #NUM! | BR14: #NUM! | BS14: #NUM! | BT14: #NUM! | BU14: #NUM! | BV14: #NUM! | BW14: #NUM! | BX14: #NUM! | BY14: -0.014167332 | BZ14: #NUM! | CA14: #NUM! | CB14: #NUM! | CC14: #NUM! | CD14: #NUM! | CE14: #NUM! | CF14: #NUM! | CG14: #NUM! | CH14: #NUM! | CI14: #NUM! | CJ14: #NUM! | CK14: #NUM! | CL14: #NUM! | CM14: #NUM! | CN14: #NUM! | CO14: #NUM! | CP14: #NUM! | CQ14: #NUM! | CR14: #NUM! | CS14: #NUM! | CT14: #NUM! | CU14: #NUM! | CV14: #NUM! | CW14: #NUM! | CX14: #NUM! | CY14: #NUM! | CZ14: #NUM! | DA14: #NUM! | DB14: -0.05197732 | DC14: #NUM! | DD14: #NUM! | DE14: #NUM! | DF14: #NUM! | DG14: #NUM! | DH14: #NUM! | DI14: #NUM! | DJ14: #NUM! | DK14: #NUM! | DL14: #NUM! | DM14: #NUM! | DN14: #NUM! | DO14: #NUM! | DP14: #NUM! | DQ14: #NUM! | DR14: #NUM! | DS14: #NUM! | DT14: #NUM! | DU14: #NUM! | DV14: #NUM! | DW14: #NUM! | DX14: #NUM! | DY14: #NUM! | DZ14: #NUM! | EA14: #NUM! | EB14: #NUM! | EC14: -0.096416194 | ED14: #NUM! | EE14: #NUM! | EF14: #NUM! | EG14: #NUM! | EH14: #NUM! | EI14: #NUM! | EJ14: #NUM! | EK14: #NUM! | EL14: #NUM! | EM14: #NUM! | EN14: #NUM! | EO14: #NUM! | EP14: #NUM! | EQ14: #NUM! | ER14: #NUM! | ES14: #NUM! | ET14: #NUM! | EU14: #NUM! | EV14: -0.055181068 | EW14: #NUM! | EX14: #NUM! | EY14: #NUM! | EZ14: #NUM! | FA14: #NUM! | FB14: #NUM! | FC14: #NUM! | FD14: #NUM! | FE14: #NUM! | FF14: #NUM! | FG14: #NUM! | FH14: #NUM! | FI14: #NUM! | FJ14: #NUM! | FK14: #NUM! | FL14: #NUM! | FM14: #NUM! | FN14: #NUM! | FO14: #NUM! | FP14: #NUM! | FQ14: #NUM! | FR14: #NUM! | FS14: #NUM! | FT14: #NUM! | FU14: #NUM! | FV14: #NUM! | FW14: #NUM! | FX14: #NUM! | FY14: #NUM! | FZ14: #NUM! | GA14: #NUM! | GB14: #NUM! | GC14: #NUM! | GD14: #NUM! | GE14: #NUM!
A15: 33604 | B15: #NUM! | C15: #NUM! | D15: #NUM! | E15: #NUM! | F15: #NUM! | G15: #NUM! | H15: #NUM! | I15: #NUM! | J15: #NUM! | K15: #NUM! | L15: #NUM! | M15: #NUM! | N15: #NUM! | O15: #NUM! | P15: #NUM! | Q15: #NUM! | R15: #NUM! | S15: #NUM! | T15: #NUM! | U15: #NUM! | V15: #NUM! | W15: #NUM! | X15: #NUM! | Y15: #NUM! | Z15: #NUM! | AA15: #NUM! | AB15: #NUM! | AC15: #NUM! | AD15: #NUM! | AE15: #NUM! | AF15: #NUM! | AG15: #NUM! | AH15: #NUM! | AI15: #NUM! | AJ15: #NUM! | AK15: #NUM! | AL15: #NUM! | AM15: #NUM! | AN15: #NUM! | AO15: #NUM! | AP15: #NUM! | AQ15: #NUM! | AR15: #NUM! | AS15: #NUM! | AT15: #NUM! | AU15: #NUM! | AV15: #NUM! | AW15: #NUM! | AX15: -0.045914913 | AY15: #NUM! | AZ15: #NUM! | BA15: #NUM! | BB15: -0.031407965 | BC15: #NUM! | BD15: #NUM! | BE15: #NUM! | BF15: #NUM! | BG15: #NUM! | BH15: #NUM! | BI15: #NUM! | BJ15: #NUM! | BK15: #NUM! | BL15: #NUM! | BM15: #NUM! | BN15: #NUM! | BO15: #NUM! | BP15: #NUM! | BQ15: #NUM! | BR15: #NUM! | BS15: #NUM! | BT15: #NUM! | BU15: #NUM! | BV15: #NUM! | BW15: #NUM! | BX15: #NUM! | BY15: 1.0248779e-05 | BZ15: #NUM! | CA15: #NUM! | CB15: #NUM! | CC15: #NUM! | CD15: #NUM! | CE15: #NUM! | CF15: #NUM! | CG15: #NUM! | CH15: #NUM! | CI15: #NUM! | CJ15: #NUM! | CK15: #NUM! | CL15: #NUM! | CM15: #NUM! | CN15: #NUM! | CO15: #NUM! | CP15: #NUM! | CQ15: #NUM! | CR15: #NUM! | CS15: #NUM! | CT15: #NUM! | CU15: #NUM! | CV15: #NUM! | CW15: #NUM! | CX15: #NUM! | CY15: #NUM! | CZ15: #NUM! | DA15: #NUM! | DB15: -0.027682363 | DC15: #NUM! | DD15: #NUM! | DE15: #NUM! | DF15: #NUM! | DG15: #NUM! | DH15: #NUM! | DI15: #NUM! | DJ15: #NUM! | DK15: #NUM! | DL15: #NUM! | DM15: #NUM! | DN15: #NUM! | DO15: #NUM! | DP15: #NUM! | DQ15: #NUM! | DR15: #NUM! | DS15: #NUM! | DT15: #NUM! | DU15: #NUM! | DV15: #NUM! | DW15: #NUM! | DX15: #NUM! | DY15: #NUM! | DZ15: #NUM! | EA15: #NUM! | EB15: #NUM! | EC15: -0.020873544 | ED15: #NUM! | EE15: #NUM! | EF15: #NUM! | EG15: #NUM! | EH15: #NUM! | EI15: #NUM! | EJ15: #NUM! | EK15: #NUM! | EL15: #NUM! | EM15: #NUM! | EN15: #NUM! | EO15: #NUM! | EP15: #NUM! | EQ15: #NUM! | ER15: #NUM! | ES15: #NUM! | ET15: #NUM! | EU15: #NUM! | EV15: -0.018848958 | EW15: #NUM! | EX15: #NUM! | EY15: #NUM! | EZ15: #NUM! | FA15: #NUM! | FB15: #NUM! | FC15: #NUM! | FD15: #NUM! | FE15: #NUM! | FF15: #NUM! | FG15: #NUM! | FH15: #NUM! | FI15: #NUM! | FJ15: #NUM! | FK15: #NUM! | FL15: #NUM! | FM15: #NUM! | FN15: #NUM! | FO15: #NUM! | FP15: #NUM! | FQ15: #NUM! | FR15: #NUM! | FS15: #NUM! | FT15: #NUM! | FU15: #NUM! | FV15: #NUM! | FW15: #NUM! | FX15: #NUM! | FY15: #NUM! | FZ15: #NUM! | GA15: #NUM! | GB15: #NUM! | GC15: #NUM! | GD15: #NUM! | GE15: #NUM!
A16: 33635 | B16: #NUM! | C16: #NUM! | D16: #NUM! | E16: #NUM! | F16: #NUM! | G16: #NUM! | H16: #NUM! | I16: #NUM! | J16: #NUM! | K16: #NUM! | L16: #NUM! | M16: #NUM! | N16: #NUM! | O16: #NUM! | P16: #NUM! | Q16: #NUM! | R16: #NUM! | S16: #NUM! | T16: #NUM! | U16: #NUM! | V16: #NUM! | W16: #NUM! | X16: #NUM! | Y16: #NUM! | Z16: #NUM! | AA16: #NUM! | AB16: #NUM! | AC16: #NUM! | AD16: #NUM! | AE16: #NUM! | AF16: #NUM! | AG16: #NUM! | AH16: #NUM! | AI16: #NUM! | AJ16: #NUM! | AK16: #NUM! | AL16: #NUM! | AM16: #NUM! | AN16: #NUM! | AO16: #NUM! | AP16: #NUM! | AQ16: #NUM! | AR16: #NUM! | AS16: #NUM! | AT16: #NUM! | AU16: #NUM! | AV16: #NUM! | AW16: #NUM! | AX16: 0.079492362 | AY16: #NUM! | AZ16: #NUM! | BA16: #NUM! | BB16: 0.032791576 | BC16: #NUM! | BD16: #NUM! | BE16: #NUM! | BF16: #NUM! | BG16: #NUM! | BH16: #NUM! | BI16: #NUM! | BJ16: #NUM! | BK16: #NUM! | BL16: #NUM! | BM16: #NUM! | BN16: #NUM! | BO16: #NUM! | BP16: #NUM! | BQ16: #NUM! | BR16: #NUM! | BS16: #NUM! | BT16: #NUM! | BU16: #NUM! | BV16: #NUM! | BW16: #NUM! | BX16: #NUM! | BY16: 0.028070362 | BZ16: #NUM! | CA16: #NUM! | CB16: #NUM! | CC16: #NUM! | CD16: #NUM! | CE16: #NUM! | CF16: #NUM! | CG16: #NUM! | CH16: #NUM! | CI16: #NUM! | CJ16: #NUM! | CK16: #NUM! | CL16: #NUM! | CM16: #NUM! | CN16: #NUM! | CO16: #NUM! | CP16: #NUM! | CQ16: #NUM! | CR16: #NUM! | CS16: #NUM! | CT16: #NUM! | CU16: #NUM! | CV16: #NUM! | CW16: #NUM! | CX16: #NUM! | CY16: #NUM! | CZ16: #NUM! | DA16: #NUM! | DB16: 0.073574572 | DC16: #NUM! | DD16: #NUM! | DE16: #NUM! | DF16: #NUM! | DG16: #NUM! | DH16: #NUM! | DI16: #NUM! | DJ16: #NUM! | DK16: #NUM! | DL16: #NUM! | DM16: #NUM! | DN16: #NUM! | DO16: #NUM! | DP16: #NUM! | DQ16: #NUM! | DR16: #NUM! | DS16: #NUM! | DT16: #NUM! | DU16: #NUM! | DV16: #NUM! | DW16: #NUM! | DX16: #NUM! | DY16: #NUM! | DZ16: #NUM! | EA16: #NUM! | EB16: #NUM! | EC16: 0.088033875 | ED16: #NUM! | EE16: #NUM! | EF16: #NUM! | EG16: #NUM! | EH16: #NUM! | EI16: #NUM! | EJ16: #NUM! | EK16: #NUM! | EL16: #NUM! | EM16: #NUM! | EN16: #NUM! | EO16: #NUM! | EP16: #NUM! | EQ16: #NUM! | ER16: #NUM! | ES16: #NUM! | ET16: #NUM! | EU16: #NUM! | EV16: 0.061097175 | EW16: #NUM! | EX16: #NUM! | EY16: #NUM! | EZ16: #NUM! | FA16: #NUM! | FB16: #NUM! | FC16: #NUM! | FD16: #NUM! | FE16: #NUM! | FF16: #NUM! | FG16: #NUM! | FH16: #NUM! | FI16: #NUM! | FJ16: #NUM! | FK16: #NUM! | FL16: #NUM! | FM16: #NUM! | FN16: #NUM! | FO16: #NUM! | FP16: #NUM! | FQ16: #NUM! | FR16: #NUM! | FS16: #NUM! | FT16: #NUM! | FU16: #NUM! | FV16: #NUM! | FW16: #NUM! | FX16: #NUM! | FY16: #NUM! | FZ16: #NUM! | GA16: #NUM! | GB16: #NUM! | GC16: #NUM! | GD16: #NUM! | GE16: #NUM!
A17: 33664 | B17: #NUM! | C17: #NUM! | D17: #NUM! | E17: #NUM! | F17: #NUM! | G17: #NUM! | H17: #NUM! | I17: #NUM! | J17: #NUM! | K17: #NUM! | L17: #NUM! | M17: #NUM! | N17: #NUM! | O17: #NUM! | P17: #NUM! | Q17: #NUM! | R17: #NUM! | S17: #NUM! | T17: #NUM! | U17: #NUM! | V17: #NUM! | W17: #NUM! | X17: #NUM! | Y17: #NUM! | Z17: #NUM! | AA17: #NUM! | AB17: #NUM! | AC17: #NUM! | AD17: #NUM! | AE17: #NUM! | AF17: #NUM! | AG17: #NUM! | AH17: #NUM! | AI17: #NUM! | AJ17: #NUM! | AK17: #NUM! | AL17: #NUM! | AM17: #NUM! | AN17: #NUM! | AO17: #NUM! | AP17: #NUM! | AQ17: #NUM! | AR17: #NUM! | AS17: #NUM! | AT17: #NUM! | AU17: #NUM! | AV17: #NUM! | AW17: #NUM! | AX17: 0.0033964155 | AY17: #NUM! | AZ17: #NUM! | BA17: #NUM! | BB17: 0.02082956 | BC17: #NUM! | BD17: #NUM! | BE17: #NUM! | BF17: #NUM! | BG17: #NUM! | BH17: #NUM! | BI17: #NUM! | BJ17: #NUM! | BK17: #NUM! | BL17: #NUM! | BM17: #NUM! | BN17: #NUM! | BO17: #NUM! | BP17: #NUM! | BQ17: #NUM! | BR17: #NUM! | BS17: #NUM! | BT17: #NUM! | BU17: #NUM! | BV17: #NUM! | BW17: #NUM! | BX17: #NUM! | BY17: 0.0024172862 | BZ17: #NUM! | CA17: #NUM! | CB17: #NUM! | CC17: #NUM! | CD17: #NUM! | CE17: #NUM! | CF17: #NUM! | CG17: #NUM! | CH17: #NUM! | CI17: #NUM! | CJ17: #NUM! | CK17: #NUM! | CL17: #NUM! | CM17: #NUM! | CN17: #NUM! | CO17: #NUM! | CP17: #NUM! | CQ17: #NUM! | CR17: #NUM! | CS17: #NUM! | CT17: #NUM! | CU17: #NUM! | CV17: #NUM! | CW17: #NUM! | CX17: #NUM! | CY17: #NUM! | CZ17: #NUM! | DA17: #NUM! | DB17: 0.0050021026 | DC17: #NUM! | DD17: #NUM! | DE17: #NUM! | DF17: #NUM! | DG17: #NUM! | DH17: #NUM! | DI17: #NUM! | DJ17: #NUM! | DK17: #NUM! | DL17: #NUM! | DM17: #NUM! | DN17: #NUM! | DO17: #NUM! | DP17: #NUM! | DQ17: #NUM! | DR17: #NUM! | DS17: #NUM! | DT17: #NUM! | DU17: #NUM! | DV17: #NUM! | DW17: #NUM! | DX17: #NUM! | DY17: #NUM! | DZ17: #NUM! | EA17: #NUM! | EB17: #NUM! | EC17: 0.040786587 | ED17: #NUM! | EE17: #NUM! | EF17: #NUM! | EG17: #NUM! | EH17: #NUM! | EI17: #NUM! | EJ17: #NUM! | EK17: #NUM! | EL17: #NUM! | EM17: #NUM! | EN17: #NUM! | EO17: #NUM! | EP17: #NUM! | EQ17: #NUM! | ER17: #NUM! | ES17: #NUM! | ET17: #NUM! | EU17: #NUM! | EV17: 0.02859643 | EW17: #NUM! | EX17: #NUM! | EY17: #NUM! | EZ17: #NUM! | FA17: #NUM! | FB17: #NUM! | FC17: #NUM! | FD17: #NUM! | FE17: #NUM! | FF17: #NUM! | FG17: #NUM! | FH17: #NUM! | FI17: #NUM! | FJ17: #NUM! | FK17: #NUM! | FL17: #NUM! | FM17: #NUM! | FN17: #NUM! | FO17: #NUM! | FP17: #NUM! | FQ17: #NUM! | FR17: #NUM! | FS17: #NUM! | FT17: #NUM! | FU17: #NUM! | FV17: #NUM! | FW17: #NUM! | FX17: #NUM! | FY17: #NUM! | FZ17: #NUM! | GA17: #NUM! | GB17: #NUM! | GC17: #NUM! | GD17: #NUM! | GE17: #NUM!
A18: 33695 | B18: #NUM! | C18: #NUM! | D18: #NUM! | E18: #NUM! | F18: #NUM! | G18: #NUM! | H18: #NUM! | I18: #NUM! | J18: #NUM! | K18: #NUM! | L18: #NUM! | M18: #NUM! | N18: #NUM! | O18: #NUM! | P18: #NUM! | Q18: #NUM! | R18: #NUM! | S18: #NUM! | T18: #NUM! | U18: #NUM! | V18: #NUM! | W18: #NUM! | X18: #NUM! | Y18: #NUM! | Z18: #NUM! | AA18: #NUM! | AB18: #NUM! | AC18: #NUM! | AD18: #NUM! | AE18: #NUM! | AF18: #NUM! | AG18: #NUM! | AH18: #NUM! | AI18: #NUM! | AJ18: #NUM! | AK18: #NUM! | AL18: #NUM! | AM18: #NUM! | AN18: #NUM! | AO18: #NUM! | AP18: #NUM! | AQ18: #NUM! | AR18: #NUM! | AS18: #NUM! | AT18: #NUM! | AU18: #NUM! | AV18: #NUM! | AW18: #NUM! | AX18: -0.093317252 | AY18: #NUM! | AZ18: #NUM! | BA18: #NUM! | BB18: -0.039785135 | BC18: #NUM! | BD18: #NUM! | BE18: #NUM! | BF18: #NUM! | BG18: #NUM! | BH18: #NUM! | BI18: #NUM! | BJ18: #NUM! | BK18: #NUM! | BL18: #NUM! | BM18: #NUM! | BN18: #NUM! | BO18: #NUM! | BP18: #NUM! | BQ18: #NUM! | BR18: #NUM! | BS18: #NUM! | BT18: #NUM! | BU18: #NUM! | BV18: #NUM! | BW18: #NUM! | BX18: #NUM! | BY18: -0.021663131 | BZ18: #NUM! | CA18: #NUM! | CB18: #NUM! | CC18: #NUM! | CD18: #NUM! | CE18: #NUM! | CF18: #NUM! | CG18: #NUM! | CH18: #NUM! | CI18: #NUM! | CJ18: #NUM! | CK18: #NUM! | CL18: #NUM! | CM18: #NUM! | CN18: #NUM! | CO18: #NUM! | CP18: #NUM! | CQ18: #NUM! | CR18: #NUM! | CS18: #NUM! | CT18: #NUM! | CU18: #NUM! | CV18: #NUM! | CW18: #NUM! | CX18: #NUM! | CY18: #NUM! | CZ18: #NUM! | DA18: #NUM! | DB18: -0.033105194 | DC18: #NUM! | DD18: #NUM! | DE18: #NUM! | DF18: #NUM! | DG18: #NUM! | DH18: #NUM! | DI18: #NUM! | DJ18: #NUM! | DK18: #NUM! | DL18: #NUM! | DM18: #NUM! | DN18: #NUM! | DO18: #NUM! | DP18: #NUM! | DQ18: #NUM! | DR18: #NUM! | DS18: #NUM! | DT18: #NUM! | DU18: #NUM! | DV18: #NUM! | DW18: #NUM! | DX18: #NUM! | DY18: #NUM! | DZ18: #NUM! | EA18: #NUM! | EB18: #NUM! | EC18: -0.085883225 | ED18: #NUM! | EE18: #NUM! | EF18: #NUM! | EG18: #NUM! | EH18: #NUM! | EI18: #NUM! | EJ18: #NUM! | EK18: #NUM! | EL18: #NUM! | EM18: #NUM! | EN18: #NUM! | EO18: #NUM! | EP18: #NUM! | EQ18: #NUM! | ER18: #NUM! | ES18: #NUM! | ET18: #NUM! | EU18: #NUM! | EV18: -0.032492564 | EW18: #NUM! | EX18: #NUM! | EY18: #NUM! | EZ18: #NUM! | FA18: #NUM! | FB18: #NUM! | FC18: #NUM! | FD18: #NUM! | FE18: #NUM! | FF18: #NUM! | FG18: #NUM! | FH18: #NUM! | FI18: #NUM! | FJ18: #NUM! | FK18: #NUM! | FL18: #NUM! | FM18: #NUM! | FN18: #NUM! | FO18: #NUM! | FP18: #NUM! | FQ18: #NUM! | FR18: #NUM! | FS18: #NUM! | FT18: #NUM! | FU18: #NUM! | FV18: #NUM! | FW18: #NUM! | FX18: #NUM! | FY18: #NUM! | FZ18: #NUM! | GA18: #NUM! | GB18: #NUM! | GC18: #NUM! | GD18: #NUM! | GE18: #NUM!
A19: 33725 | B19: #NUM! | C19: #NUM! | D19: #NUM! | E19: #NUM! | F19: #NUM! | G19: #NUM! | H19: #NUM! | I19: #NUM! | J19: #NUM! | K19: #NUM! | L19: #NUM! | M19: #NUM! | N19: #NUM! | O19: #NUM! | P19: #NUM! | Q19: #NUM! | R19: #NUM! | S19: #NUM! | T19: #NUM! | U19: #NUM! | V19: #NUM! | W19: #NUM! | X19: #NUM! | Y19: #NUM! | Z19: #NUM! | AA19: #NUM! | AB19: #NUM! | AC19: #NUM! | AD19: #NUM! | AE19: #NUM! | AF19: #NUM! | AG19: #NUM! | AH19: #NUM! | AI19: #NUM! | AJ19: #NUM! | AK19: #NUM! | AL19: #NUM! | AM19: #NUM! | AN19: #NUM! | AO19: #NUM! | AP19: #NUM! | AQ19: #NUM! | AR19: #NUM! | AS19: #NUM! | AT19: #NUM! | AU19: #NUM! | AV19: #NUM! | AW19: #NUM! | AX19: -0.0034763564 | AY19: #NUM! | AZ19: #NUM! | BA19: #NUM! | BB19: 0.090332224 | BC19: #NUM! | BD19: #NUM! | BE19: #NUM! | BF19: #NUM! | BG19: #NUM! | BH19: #NUM! | BI19: #NUM! | BJ19: #NUM! | BK19: #NUM! | BL19: #NUM! | BM19: #NUM! | BN19: #NUM! | BO19: #NUM! | BP19: #NUM! | BQ19: #NUM! | BR19: #NUM! | BS19: #NUM! | BT19: #NUM! | BU19: #NUM! | BV19: #NUM! | BW19: #NUM! | BX19: #NUM! | BY19: 0.018342612 | BZ19: #NUM! | CA19: #NUM! | CB19: #NUM! | CC19: #NUM! | CD19: #NUM! | CE19: #NUM! | CF19: #NUM! | CG19: #NUM! | CH19: #NUM! | CI19: #NUM! | CJ19: #NUM! | CK19: #NUM! | CL19: #NUM! | CM19: #NUM! | CN19: #NUM! | CO19: #NUM! | CP19: #NUM! | CQ19: #NUM! | CR19: #NUM! | CS19: #NUM! | CT19: #NUM! | CU19: #NUM! | CV19: #NUM! | CW19: #NUM! | CX19: #NUM! | CY19: #NUM! | CZ19: #NUM! | DA19: #NUM! | DB19: 0.10584248 | DC19: #NUM! | DD19: #NUM! | DE19: #NUM! | DF19: #NUM! | DG19: #NUM! | DH19: #NUM! | DI19: #NUM! | DJ19: #NUM! | DK19: #NUM! | DL19: #NUM! | DM19: #NUM! | DN19: #NUM! | DO19: #NUM! | DP19: #NUM! | DQ19: #NUM! | DR19: #NUM! | DS19: #NUM! | DT19: #NUM! | DU19: #NUM! | DV19: #NUM! | DW19: #NUM! | DX19: #NUM! | DY19: #NUM! | DZ19: #NUM! | EA19: #NUM! | EB19: #NUM! | EC19: 0.0059577154 | ED19: #NUM! | EE19: #NUM! | EF19: #NUM! | EG19: #NUM! | EH19: #NUM! | EI19: #NUM! | EJ19: #NUM! | EK19: #NUM! | EL19: #NUM! | EM19: #NUM! | EN19: #NUM! | EO19: #NUM! | EP19: #NUM! | EQ19: #NUM! | ER19: #NUM! | ES19: #NUM! | ET19: #NUM! | EU19: #NUM! | EV19: -0.0002027211 | EW19: #NUM! | EX19: #NUM! | EY19: #NUM! | EZ19: #NUM! | FA19: #NUM! | FB19: #NUM! | FC19: #NUM! | FD19: #NUM! | FE19: #NUM! | FF19: #NUM! | FG19: #NUM! | FH19: #NUM! | FI19: #NUM! | FJ19: #NUM! | FK19: #NUM! | FL19: #NUM! | FM19: #NUM! | FN19: #NUM! | FO19: #NUM! | FP19: #NUM! | FQ19: #NUM! | FR19: #NUM! | FS19: #NUM! | FT19: #NUM! | FU19: #NUM! | FV19: #NUM! | FW19: #NUM! | FX19: #NUM! | FY19: #NUM! | FZ19: #NUM! | GA19: #NUM! | GB19: #NUM! | GC19: #NUM! | GD19: #NUM! | GE19: #NUM!
A20: 33756 | B20: #NUM! | C20: #NUM! | D20: #NUM! | E20: #NUM! | F20: #NUM! | G20: #NUM! | H20: #NUM! | I20: #NUM! | J20: #NUM! | K20: #NUM! | L20: #NUM! | M20: #NUM! | N20: #NUM! | O20: #NUM! | P20: #NUM! | Q20: #NUM! | R20: #NUM! | S20: #NUM! | T20: #NUM! | U20: #NUM! | V20: #NUM! | W20: #NUM! | X20: #NUM! | Y20: #NUM! | Z20: #NUM! | AA20: #NUM! | AB20: #NUM! | AC20: #NUM! | AD20: #NUM! | AE20: #NUM! | AF20: #NUM! | AG20: #NUM! | AH20: #NUM! | AI20: #NUM! | AJ20: #NUM! | AK20: #NUM! | AL20: #NUM! | AM20: #NUM! | AN20: #NUM! | AO20: #NUM! | AP20: #NUM! | AQ20: #NUM! | AR20: #NUM! | AS20: #NUM! | AT20: #NUM! | AU20: #NUM! | AV20: #NUM! | AW20: #NUM! | AX20: 0.024052406 | AY20: #NUM! | AZ20: #NUM! | BA20: #NUM! | BB20: 0.0036531208 | BC20: #NUM! | BD20: #NUM! | BE20: #NUM! | BF20: #NUM! | BG20: #NUM! | BH20: #NUM! | BI20: #NUM! | BJ20: #NUM! | BK20: #NUM! | BL20: #NUM! | BM20: #NUM! | BN20: #NUM! | BO20: #NUM! | BP20: #NUM! | BQ20: #NUM! | BR20: #NUM! | BS20: #NUM! | BT20: #NUM! | BU20: #NUM! | BV20: #NUM! | BW20: #NUM! | BX20: #NUM! | BY20: 0.006090312 | BZ20: #NUM! | CA20: #NUM! | CB20: #NUM! | CC20: #NUM! | CD20: #NUM! | CE20: #NUM! | CF20: #NUM! | CG20: #NUM! | CH20: #NUM! | CI20: #NUM! | CJ20: #NUM! | CK20: #NUM! | CL20: #NUM! | CM20: #NUM! | CN20: #NUM! | CO20: #NUM! | CP20: #NUM! | CQ20: #NUM! | CR20: #NUM! | CS20: #NUM! | CT20: #NUM! | CU20: #NUM! | CV20: #NUM! | CW20: #NUM! | CX20: #NUM! | CY20: #NUM! | CZ20: #NUM! | DA20: #NUM! | DB20: 0.020010119 | DC20: #NUM! | DD20: #NUM! | DE20: #NUM! | DF20: #NUM! | DG20: #NUM! | DH20: #NUM! | DI20: #NUM! | DJ20: #NUM! | DK20: #NUM! | DL20: #NUM! | DM20: #NUM! | DN20: #NUM! | DO20: #NUM! | DP20: #NUM! | DQ20: #NUM! | DR20: #NUM! | DS20: #NUM! | DT20: #NUM! | DU20: #NUM! | DV20: #NUM! | DW20: #NUM! | DX20: #NUM! | DY20: #NUM! | DZ20: #NUM! | EA20: #NUM! | EB20: #NUM! | EC20: 0.023594622 | ED20: #NUM! | EE20: #NUM! | EF20: #NUM! | EG20: #NUM! | EH20: #NUM! | EI20: #NUM! | EJ20: #NUM! | EK20: #NUM! | EL20: #NUM! | EM20: #NUM! | EN20: #NUM! | EO20: #NUM! | EP20: #NUM! | EQ20: #NUM! | ER20: #NUM! | ES20: #NUM! | ET20: #NUM! | EU20: #NUM! | EV20: 0.0088233157 | EW20: #NUM! | EX20: #NUM! | EY20: #NUM! | EZ20: #NUM! | FA20: #NUM! | FB20: #NUM! | FC20: #NUM! | FD20: #NUM! | FE20: #NUM! | FF20: #NUM! | FG20: #NUM! | FH20: #NUM! | FI20: #NUM! | FJ20: #NUM! | FK20: #NUM! | FL20: #NUM! | FM20: #NUM! | FN20: #NUM! | FO20: #NUM! | FP20: #NUM! | FQ20: #NUM! | FR20: #NUM! | FS20: #NUM! | FT20: #NUM! | FU20: #NUM! | FV20: #NUM! | FW20: #NUM! | FX20: #NUM! | FY20: #NUM! | FZ20: #NUM! | GA20: #NUM! | GB20: #NUM! | GC20: #NUM! | GD20: #NUM! | GE20: #NUM!
A21: 33786 | B21: #NUM! | C21: #NUM! | D21: #NUM! | E21: #NUM! | F21: #NUM! | G21: #NUM! | H21: #NUM! | I21: #NUM! | J21: #NUM! | K21: #NUM! | L21: #NUM! | M21: #NUM! | N21: #NUM! | O21: #NUM! | P21: #NUM! | Q21: #NUM! | R21: #NUM! | S21: #NUM! | T21: #NUM! | U21: #NUM! | V21: #NUM! | W21: #NUM! | X21: #NUM! | Y21: #NUM! | Z21: #NUM! | AA21: #NUM! | AB21: #NUM! | AC21: #NUM! | AD21: #NUM! | AE21: #NUM! | AF21: #NUM! | AG21: #NUM! | AH21: #NUM! | AI21: #NUM! | AJ21: #NUM! | AK21: #NUM! | AL21: #NUM! | AM21: #NUM! | AN21: #NUM! | AO21: #NUM! | AP21: #NUM! | AQ21: #NUM! | AR21: #NUM! | AS21: #NUM! | AT21: #NUM! | AU21: #NUM! | AV21: #NUM! | AW21: #NUM! | AX21: -0.067422873 | AY21: #NUM! | AZ21: #NUM! | BA21: #NUM! | BB21: -0.053172346 | BC21: #NUM! | BD21: #NUM! | BE21: #NUM! | BF21: #NUM! | BG21: -0.040253181 | BH21: #NUM! | BI21: #NUM! | BJ21: #NUM! | BK21: #NUM! | BL21: #NUM! | BM21: #NUM! | BN21: #NUM! | BO21: #NUM! | BP21: #NUM! | BQ21: #NUM! | BR21: #NUM! | BS21: #NUM! | BT21: #NUM! | BU21: #NUM! | BV21: #NUM! | BW21: #NUM! | BX21: #NUM! | BY21: -0.022501066 | BZ21: #NUM! | CA21: #NUM! | CB21: #NUM! | CC21: #NUM! | CD21: #NUM! | CE21: #NUM! | CF21: #NUM! | CG21: #NUM! | CH21: #NUM! | CI21: #NUM! | CJ21: #NUM! | CK21: #NUM! | CL21: #NUM! | CM21: #NUM! | CN21: #NUM! | CO21: #NUM! | CP21: #NUM! | CQ21: #NUM! | CR21: #NUM! | CS21: #NUM! | CT21: #NUM! | CU21: #NUM! | CV21: #NUM! | CW21: #NUM! | CX21: #NUM! | CY21: #NUM! | CZ21: #NUM! | DA21: #NUM! | DB21: -0.063953564 | DC21: #NUM! | DD21: #NUM! | DE21: #NUM! | DF21: #NUM! | DG21: #NUM! | DH21: #NUM! | DI21: #NUM! | DJ21: #NUM! | DK21: #NUM! | DL21: #NUM! | DM21: #NUM! | DN21: #NUM! | DO21: #NUM! | DP21: #NUM! | DQ21: #NUM! | DR21: #NUM! | DS21: #NUM! | DT21: #NUM! | DU21: #NUM! | DV21: #NUM! | DW21: #NUM! | DX21: #NUM! | DY21: #NUM! | DZ21: #NUM! | EA21: #NUM! | EB21: #NUM! | EC21: -0.086694392 | ED21: #NUM! | EE21: #NUM! | EF21: #NUM! | EG21: #NUM! | EH21: #NUM! | EI21: #NUM! | EJ21: #NUM! | EK21: #NUM! | EL21: #NUM! | EM21: #NUM! | EN21: #NUM! | EO21: #NUM! | EP21: #NUM! | EQ21: #NUM! | ER21: #NUM! | ES21: #NUM! | ET21: #NUM! | EU21: #NUM! | EV21: -0.08111183 | EW21: #NUM! | EX21: #NUM! | EY21: #NUM! | EZ21: #NUM! | FA21: #NUM! | FB21: #NUM! | FC21: #NUM! | FD21: #NUM! | FE21: #NUM! | FF21: #NUM! | FG21: #NUM! | FH21: #NUM! | FI21: #NUM! | FJ21: #NUM! | FK21: #NUM! | FL21: #NUM! | FM21: #NUM! | FN21: #NUM! | FO21: #NUM! | FP21: #NUM! | FQ21: #NUM! | FR21: #NUM! | FS21: #NUM! | FT21: #NUM! | FU21: #NUM! | FV21: #NUM! | FW21: #NUM! | FX21: #NUM! | FY21: #NUM! | FZ21: #NUM! | GA21: #NUM! | GB21: #NUM! | GC21: #NUM! | GD21: #NUM! | GE21: #NUM!
A22: 33817 | B22: #NUM! | C22: #NUM! | D22: #NUM! | E22: #NUM! | F22: #NUM! | G22: #NUM! | H22: #NUM! | I22: #NUM! | J22: #NUM! | K22: #NUM! | L22: #NUM! | M22: #NUM! | N22: #NUM! | O22: #NUM! | P22: #NUM! | Q22: #NUM! | R22: #NUM! | S22: #NUM! | T22: #NUM! | U22: #NUM! | V22: #NUM! | W22: #NUM! | X22: #NUM! | Y22: #NUM! | Z22: #NUM! | AA22: #NUM! | AB22: #NUM! | AC22: #NUM! | AD22: #NUM! | AE22: #NUM! | AF22: #NUM! | AG22: #NUM! | AH22: #NUM! | AI22: #NUM! | AJ22: #NUM! | AK22: #NUM! | AL22: #NUM! | AM22: #NUM! | AN22: #NUM! | AO22: #NUM! | AP22: #NUM! | AQ22: #NUM! | AR22: #NUM! | AS22: #NUM! | AT22: #NUM! | AU22: #NUM! | AV22: #NUM! | AW22: #NUM! | AX22: -0.061870768 | AY22: #NUM! | AZ22: #NUM! | BA22: #NUM! | BB22: -0.069508923 | BC22: #NUM! | BD22: #NUM! | BE22: #NUM! | BF22: #NUM! | BG22: -0.044936092 | BH22: #NUM! | BI22: #NUM! | BJ22: #NUM! | BK22: #NUM! | BL22: #NUM! | BM22: #NUM! | BN22: #NUM! | BO22: #NUM! | BP22: #NUM! | BQ22: #NUM! | BR22: #NUM! | BS22: #NUM! | BT22: #NUM! | BU22: #NUM! | BV22: #NUM! | BW22: #NUM! | BX22: #NUM! | BY22: -0.033621403 | BZ22: #NUM! | CA22: #NUM! | CB22: #NUM! | CC22: #NUM! | CD22: #NUM! | CE22: #NUM! | CF22: #NUM! | CG22: #NUM! | CH22: #NUM! | CI22: #NUM! | CJ22: #NUM! | CK22: #NUM! | CL22: #NUM! | CM22: #NUM! | CN22: #NUM! | CO22: #NUM! | CP22: #NUM! | CQ22: #NUM! | CR22: #NUM! | CS22: #NUM! | CT22: #NUM! | CU22: #NUM! | CV22: #NUM! | CW22: #NUM! | CX22: #NUM! | CY22: #NUM! | CZ22: #NUM! | DA22: #NUM! | DB22: -0.088567883 | DC22: #NUM! | DD22: #NUM! | DE22: #NUM! | DF22: #NUM! | DG22: #NUM! | DH22: #NUM! | DI22: #NUM! | DJ22: #NUM! | DK22: #NUM! | DL22: #NUM! | DM22: #NUM! | DN22: #NUM! | DO22: #NUM! | DP22: #NUM! | DQ22: #NUM! | DR22: #NUM! | DS22: #NUM! | DT22: #NUM! | DU22: #NUM! | DV22: #NUM! | DW22: #NUM! | DX22: #NUM! | DY22: #NUM! | DZ22: #NUM! | EA22: #NUM! | EB22: #NUM! | EC22: -0.053467542 | ED22: #NUM! | EE22: #NUM! | EF22: #NUM! | EG22: #NUM! | EH22: #NUM! | EI22: #NUM! | EJ22: #NUM! | EK22: #NUM! | EL22: #NUM! | EM22: #NUM! | EN22: #NUM! | EO22: #NUM! | EP22: #NUM! | EQ22: #NUM! | ER22: #NUM! | ES22: #NUM! | ET22: #NUM! | EU22: #NUM! | EV22: -0.035152901 | EW22: #NUM! | EX22: #NUM! | EY22: #NUM! | EZ22: #NUM! | FA22: #NUM! | FB22: #NUM! | FC22: #NUM! | FD22: #NUM! | FE22: #NUM! | FF22: #NUM! | FG22: #NUM! | FH22: #NUM! | FI22: #NUM! | FJ22: #NUM! | FK22: #NUM! | FL22: #NUM! | FM22: #NUM! | FN22: #NUM! | FO22: #NUM! | FP22: #NUM! | FQ22: #NUM! | FR22: #NUM! | FS22: #NUM! | FT22: #NUM! | FU22: #NUM! | FV22: #NUM! | FW22: #NUM! | FX22: #NUM! | FY22: #NUM! | FZ22: #NUM! | GA22: #NUM! | GB22: #NUM! | GC22: #NUM! | GD22: #NUM! | GE22: #NUM!
A23: 33848 | B23: #NUM! | C23: #NUM! | D23: #NUM! | E23: #NUM! | F23: #NUM! | G23: #NUM! | H23: #NUM! | I23: #NUM! | J23: #NUM! | K23: #NUM! | L23: #NUM! | M23: #NUM! | N23: #NUM! | O23: #NUM! | P23: #NUM! | Q23: #NUM! | R23: #NUM! | S23: #NUM! | T23: #NUM! | U23: #NUM! | V23: #NUM! | W23: #NUM! | X23: #NUM! | Y23: #NUM! | Z23: #NUM! | AA23: #NUM! | AB23: #NUM! | AC23: #NUM! | AD23: #NUM! | AE23: #NUM! | AF23: #NUM! | AG23: #NUM! | AH23: #NUM! | AI23: #NUM! | AJ23: #NUM! | AK23: #NUM! | AL23: #NUM! | AM23: #NUM! | AN23: #NUM! | AO23: #NUM! | AP23: #NUM! | AQ23: #NUM! | AR23: #NUM! | AS23: #NUM! | AT23: #NUM! | AU23: #NUM! | AV23: #NUM! | AW23: #NUM! | AX23: -0.07543395 | AY23: #NUM! | AZ23: #NUM! | BA23: #NUM! | BB23: -0.043503883 | BC23: #NUM! | BD23: #NUM! | BE23: #NUM! | BF23: #NUM! | BG23: -0.059723144 | BH23: #NUM! | BI23: #NUM! | BJ23: #NUM! | BK23: #NUM! | BL23: #NUM! | BM23: #NUM! | BN23: #NUM! | BO23: #NUM! | BP23: #NUM! | BQ23: #NUM! | BR23: #NUM! | BS23: #NUM! | BT23: #NUM! | BU23: #NUM! | BV23: #NUM! | BW23: #NUM! | BX23: #NUM! | BY23: -0.038738392 | BZ23: #NUM! | CA23: #NUM! | CB23: #NUM! | CC23: #NUM! | CD23: #NUM! | CE23: #NUM! | CF23: #NUM! | CG23: #NUM! | CH23: #NUM! | CI23: #NUM! | CJ23: #NUM! | CK23: #NUM! | CL23: #NUM! | CM23: #NUM! | CN23: #NUM! | CO23: #NUM! | CP23: #NUM! | CQ23: #NUM! | CR23: #NUM! | CS23: #NUM! | CT23: #NUM! | CU23: #NUM! | CV23: #NUM! | CW23: #NUM! | CX23: #NUM! | CY23: #NUM! | CZ23: #NUM! | DA23: #NUM! | DB23: -0.073772354 | DC23: #NUM! | DD23: #NUM! | DE23: #NUM! | DF23: #NUM! | DG23: #NUM! | DH23: #NUM! | DI23: #NUM! | DJ23: #NUM! | DK23: #NUM! | DL23: #NUM! | DM23: #NUM! | DN23: #NUM! | DO23: #NUM! | DP23: #NUM! | DQ23: #NUM! | DR23: #NUM! | DS23: #NUM! | DT23: #NUM! | DU23: #NUM! | DV23: #NUM! | DW23: #NUM! | DX23: #NUM! | DY23: #NUM! | DZ23: #NUM! | EA23: #NUM! | EB23: #NUM! | EC23: -0.048535327 | ED23: #NUM! | EE23: #NUM! | EF23: #NUM! | EG23: #NUM! | EH23: #NUM! | EI23: #NUM! | EJ23: #NUM! | EK23: #NUM! | EL23: #NUM! | EM23: #NUM! | EN23: #NUM! | EO23: #NUM! | EP23: #NUM! | EQ23: #NUM! | ER23: #NUM! | ES23: #NUM! | ET23: #NUM! | EU23: #NUM! | EV23: -0.050965122 | EW23: #NUM! | EX23: #NUM! | EY23: #NUM! | EZ23: #NUM! | FA23: #NUM! | FB23: #NUM! | FC23: #NUM! | FD23: #NUM! | FE23: #NUM! | FF23: #NUM! | FG23: #NUM! | FH23: #NUM! | FI23: #NUM! | FJ23: #NUM! | FK23: #NUM! | FL23: #NUM! | FM23: #NUM! | FN23: #NUM! | FO23: #NUM! | FP23: #NUM! | FQ23: #NUM! | FR23: #NUM! | FS23: #NUM! | FT23: #NUM! | FU23: #NUM! | FV23: #NUM! | FW23: #NUM! | FX23: #NUM! | FY23: #NUM! | FZ23: #NUM! | GA23: #NUM! | GB23: #NUM! | GC23: #NUM! | GD23: #NUM! | GE23: #NUM!
A24: 33878 | B24: #NUM! | C24: #NUM! | D24: #NUM! | E24: #NUM! | F24: #NUM! | G24: #NUM! | H24: #NUM! | I24: #NUM! | J24: #NUM! | K24: #NUM! | L24: #NUM! | M24: #NUM! | N24: #NUM! | O24: #NUM! | P24: #NUM! | Q24: #NUM! | R24: #NUM! | S24: #NUM! | T24: #NUM! | U24: #NUM! | V24: #NUM! | W24: #NUM! | X24: #NUM! | Y24: #NUM! | Z24: #NUM! | AA24: #NUM! | AB24: #NUM! | AC24: #NUM! | AD24: #NUM! | AE24: #NUM! | AF24: #NUM! | AG24: #NUM! | AH24: #NUM! | AI24: #NUM! | AJ24: #NUM! | AK24: #NUM! | AL24: #NUM! | AM24: #NUM! | AN24: #NUM! | AO24: #NUM! | AP24: #NUM! | AQ24: #NUM! | AR24: #NUM! | AS24: #NUM! | AT24: #NUM! | AU24: #NUM! | AV24: #NUM! | AW24: #NUM! | AX24: -0.0043759857 | AY24: #NUM! | AZ24: #NUM! | BA24: #NUM! | BB24: 0.0051476047 | BC24: #NUM! | BD24: #NUM! | BE24: #NUM! | BF24: #NUM! | BG24: -0.01833587 | BH24: #NUM! | BI24: #NUM! | BJ24: #NUM! | BK24: #NUM! | BL24: #NUM! | BM24: #NUM! | BN24: #NUM! | BO24: #NUM! | BP24: #NUM! | BQ24: #NUM! | BR24: #NUM! | BS24: #NUM! | BT24: #NUM! | BU24: #NUM! | BV24: #NUM! | BW24: #NUM! | BX24: #NUM! | BY24: -0.014590304 | BZ24: #NUM! | CA24: #NUM! | CB24: #NUM! | CC24: #NUM! | CD24: #NUM! | CE24: #NUM! | CF24: #NUM! | CG24: #NUM! | CH24: #NUM! | CI24: #NUM! | CJ24: #NUM! | CK24: #NUM! | CL24: #NUM! | CM24: #NUM! | CN24: #NUM! | CO24: #NUM! | CP24: #NUM! | CQ24: #NUM! | CR24: #NUM! | CS24: #NUM! | CT24: #NUM! | CU24: #NUM! | CV24: #NUM! | CW24: #NUM! | CX24: #NUM! | CY24: #NUM! | CZ24: #NUM! | DA24: #NUM! | DB24: 0.0045101124 | DC24: #NUM! | DD24: #NUM! | DE24: #NUM! | DF24: #NUM! | DG24: #NUM! | DH24: #NUM! | DI24: #NUM! | DJ24: #NUM! | DK24: #NUM! | DL24: #NUM! | DM24: #NUM! | DN24: #NUM! | DO24: #NUM! | DP24: #NUM! | DQ24: #NUM! | DR24: #NUM! | DS24: #NUM! | DT24: #NUM! | DU24: #NUM! | DV24: #NUM! | DW24: #NUM! | DX24: #NUM! | DY24: #NUM! | DZ24: #NUM! | EA24: #NUM! | EB24: #NUM! | EC24: 0.034378482 | ED24: #NUM! | EE24: #NUM! | EF24: #NUM! | EG24: #NUM! | EH24: #NUM! | EI24: #NUM! | EJ24: #NUM! | EK24: #NUM! | EL24: #NUM! | EM24: #NUM! | EN24: #NUM! | EO24: #NUM! | EP24: #NUM! | EQ24: #NUM! | ER24: #NUM! | ES24: #NUM! | ET24: #NUM! | EU24: #NUM! | EV24: 0.015354643 | EW24: #NUM! | EX24: #NUM! | EY24: #NUM! | EZ24: #NUM! | FA24: #NUM! | FB24: #NUM! | FC24: #NUM! | FD24: #NUM! | FE24: #NUM! | FF24: #NUM! | FG24: #NUM! | FH24: #NUM! | FI24: #NUM! | FJ24: #NUM! | FK24: #NUM! | FL24: #NUM! | FM24: #NUM! | FN24: #NUM! | FO24: #NUM! | FP24: #NUM! | FQ24: #NUM! | FR24: #NUM! | FS24: #NUM! | FT24: #NUM! | FU24: #NUM! | FV24: #NUM! | FW24: #NUM! | FX24: #NUM! | FY24: #NUM! | FZ24: #NUM! | GA24: #NUM! | GB24: #NUM! | GC24: #NUM! | GD24: #NUM! | GE24: #NUM!
A25: 33909 | B25: #NUM! | C25: #NUM! | D25: #NUM! | E25: #NUM! | F25: #NUM! | G25: #NUM! | H25: #NUM! | I25: #NUM! | J25: #NUM! | K25: #NUM! | L25: #NUM! | M25: #NUM! | N25: #NUM! | O25: #NUM! | P25: #NUM! | Q25: #NUM! | R25: #NUM! | S25: #NUM! | T25: #NUM! | U25: #NUM! | V25: #NUM! | W25: #NUM! | X25: #NUM! | Y25: #NUM! | Z25: #NUM! | AA25: #NUM! | AB25: #NUM! | AC25: #NUM! | AD25: #NUM! | AE25: #NUM! | AF25: #NUM! | AG25: #NUM! | AH25: #NUM! | AI25: #NUM! | AJ25: #NUM! | AK25: #NUM! | AL25: #NUM! | AM25: #NUM! | AN25: #NUM! | AO25: #NUM! | AP25: #NUM! | AQ25: #NUM! | AR25: #NUM! | AS25: #NUM! | AT25: #NUM! | AU25: #NUM! | AV25: #NUM! | AW25: #NUM! | AX25: 0.072525915 | AY25: #NUM! | AZ25: #NUM! | BA25: #NUM! | BB25: 0.035848419 | BC25: #NUM! | BD25: #NUM! | BE25: #NUM! | BF25: #NUM! | BG25: 0.045753779 | BH25: #NUM! | BI25: #NUM! | BJ25: #NUM! | BK25: #NUM! | BL25: #NUM! | BM25: #NUM! | BN25: #NUM! | BO25: #NUM! | BP25: #NUM! | BQ25: #NUM! | BR25: #NUM! | BS25: #NUM! | BT25: #NUM! | BU25: #NUM! | BV25: #NUM! | BW25: #NUM! | BX25: #NUM! | BY25: 0.012181306 | BZ25: #NUM! | CA25: #NUM! | CB25: #NUM! | CC25: #NUM! | CD25: #NUM! | CE25: #NUM! | CF25: #NUM! | CG25: #NUM! | CH25: #NUM! | CI25: #NUM! | CJ25: #NUM! | CK25: #NUM! | CL25: #NUM! | CM25: #NUM! | CN25: #NUM! | CO25: #NUM! | CP25: #NUM! | CQ25: #NUM! | CR25: #NUM! | CS25: #NUM! | CT25: #NUM! | CU25: #NUM! | CV25: #NUM! | CW25: #NUM! | CX25: #NUM! | CY25: #NUM! | CZ25: #NUM! | DA25: #NUM! | DB25: -0.019977776 | DC25: 0.042648453 | DD25: #NUM! | DE25: #NUM! | DF25: #NUM! | DG25: #NUM! | DH25: #NUM! | DI25: #NUM! | DJ25: #NUM! | DK25: #NUM! | DL25: #NUM! | DM25: #NUM! | DN25: #NUM! | DO25: #NUM! | DP25: #NUM! | DQ25: #NUM! | DR25: #NUM! | DS25: #NUM! | DT25: #NUM! | DU25: #NUM! | DV25: #NUM! | DW25: #NUM! | DX25: #NUM! | DY25: #NUM! | DZ25: #NUM! | EA25: #NUM! | EB25: #NUM! | EC25: 0.068582966 | ED25: #NUM! | EE25: #NUM! | EF25: #NUM! | EG25: #NUM! | EH25: #NUM! | EI25: #NUM! | EJ25: #NUM! | EK25: #NUM! | EL25: #NUM! | EM25: #NUM! | EN25: #NUM! | EO25: #NUM! | EP25: #NUM! | EQ25: #NUM! | ER25: #NUM! | ES25: #NUM! | ET25: #NUM! | EU25: #NUM! | EV25: 0.055754653 | EW25: #NUM! | EX25: #NUM! | EY25: #NUM! | EZ25: #NUM! | FA25: #NUM! | FB25: #NUM! | FC25: #NUM! | FD25: #NUM! | FE25: #NUM! | FF25: #NUM! | FG25: #NUM! | FH25: #NUM! | FI25: #NUM! | FJ25: #NUM! | FK25: #NUM! | FL25: #NUM! | FM25: #NUM! | FN25: #NUM! | FO25: #NUM! | FP25: #NUM! | FQ25: #NUM! | FR25: #NUM! | FS25: #NUM! | FT25: #NUM! | FU25: #NUM! | FV25: #NUM! | FW25: #NUM! | FX25: #NUM! | FY25: #NUM! | FZ25: #NUM! | GA25: #NUM! | GB25: #NUM! | GC25: #NUM! | GD25: #NUM! | GE25: #NUM!
A26: 33939 | B26: #NUM! | C26: #NUM! | D26: #NUM! | E26: #NUM! | F26: #NUM! | G26: #NUM! | H26: #NUM! | I26: #NUM! | J26: #NUM! | K26: #NUM! | L26: #NUM! | M26: #NUM! | N26: #NUM! | O26: #NUM! | P26: #NUM! | Q26: #NUM! | R26: #NUM! | S26: #NUM! | T26: #NUM! | U26: #NUM! | V26: #NUM! | W26: #NUM! | X26: #NUM! | Y26: #NUM! | Z26: #NUM! | AA26: #NUM! | AB26: #NUM! | AC26: #NUM! | AD26: #NUM! | AE26: #NUM! | AF26: #NUM! | AG26: #NUM! | AH26: #NUM! | AI26: #NUM! | AJ26: #NUM! | AK26: #NUM! | AL26: #NUM! | AM26: #NUM! | AN26: #NUM! | AO26: #NUM! | AP26: #NUM! | AQ26: #NUM! | AR26: #NUM! | AS26: #NUM! | AT26: #NUM! | AU26: #NUM! | AV26: #NUM! | AW26: #NUM! | AX26: 0.033114447 | AY26: #NUM! | AZ26: #NUM! | BA26: #NUM! | BB26: 0.061046515 | BC26: #NUM! | BD26: #NUM! | BE26: #NUM! | BF26: #NUM! | BG26: 0.035232954 | BH26: #NUM! | BI26: #NUM! | BJ26: #NUM! | BK26: #NUM! | BL26: #NUM! | BM26: #NUM! | BN26: #NUM! | BO26: #NUM! | BP26: #NUM! | BQ26: #NUM! | BR26: #NUM! | BS26: #NUM! | BT26: #NUM! | BU26: #NUM! | BV26: #NUM! | BW26: #NUM! | BX26: #NUM! | BY26: 0.019389252 | BZ26: #NUM! | CA26: #NUM! | CB26: #NUM! | CC26: #NUM! | CD26: #NUM! | CE26: #NUM! | CF26: #NUM! | CG26: #NUM! | CH26: #NUM! | CI26: #NUM! | CJ26: #NUM! | CK26: #NUM! | CL26: #NUM! | CM26: #NUM! | CN26: #NUM! | CO26: #NUM! | CP26: #NUM! | CQ26: #NUM! | CR26: #NUM! | CS26: #NUM! | CT26: #NUM! | CU26: #NUM! | CV26: #NUM! | CW26: #NUM! | CX26: #NUM! | CY26: #NUM! | CZ26: #NUM! | DA26: #NUM! | DB26: 0.039691774 | DC26: 0.0099490695 | DD26: #NUM! | DE26: #NUM! | DF26: #NUM! | DG26: #NUM! | DH26: #NUM! | DI26: #NUM! | DJ26: #NUM! | DK26: #NUM! | DL26: #NUM! | DM26: #NUM! | DN26: #NUM! | DO26: #NUM! | DP26: #NUM! | DQ26: #NUM! | DR26: #NUM! | DS26: #NUM! | DT26: #NUM! | DU26: #NUM! | DV26: #NUM! | DW26: #NUM! | DX26: #NUM! | DY26: #NUM! | DZ26: #NUM! | EA26: #NUM! | EB26: #NUM! | EC26: 0.097209931 | ED26: #NUM! | EE26: #NUM! | EF26: #NUM! | EG26: #NUM! | EH26: #NUM! | EI26: #NUM! | EJ26: #NUM! | EK26: #NUM! | EL26: #NUM! | EM26: #NUM! | EN26: #NUM! | EO26: #NUM! | EP26: #NUM! | EQ26: #NUM! | ER26: #NUM! | ES26: #NUM! | ET26: #NUM! | EU26: #NUM! | EV26: 0.055599567 | EW26: #NUM! | EX26: #NUM! | EY26: #NUM! | EZ26: #NUM! | FA26: #NUM! | FB26: #NUM! | FC26: #NUM! | FD26: #NUM! | FE26: #NUM! | FF26: #NUM! | FG26: #NUM! | FH26: #NUM! | FI26: #NUM! | FJ26: #NUM! | FK26: #NUM! | FL26: #NUM! | FM26: #NUM! | FN26: #NUM! | FO26: #NUM! | FP26: #NUM! | FQ26: #NUM! | FR26: #NUM! | FS26: #NUM! | FT26: #NUM! | FU26: #NUM! | FV26: #NUM! | FW26: #NUM! | FX26: #NUM! | FY26: #NUM! | FZ26: #NUM! | GA26: #NUM! | GB26: #NUM! | GC26: #NUM! | GD26: #NUM! | GE26: #NUM!
A27: 33970 | B27: #NUM! | C27: #NUM! | D27: #NUM! | E27: #NUM! | F27: #NUM! | G27: #NUM! | H27: #NUM! | I27: #NUM! | J27: #NUM! | K27: #NUM! | L27: #NUM! | M27: #NUM! | N27: #NUM! | O27: #NUM! | P27: #NUM! | Q27: #NUM! | R27: #NUM! | S27: #NUM! | T27: #NUM! | U27: #NUM! | V27: #NUM! | W27: #NUM! | X27: #NUM! | Y27: #NUM! | Z27: #NUM! | AA27: #NUM! | AB27: #NUM! | AC27: #NUM! | AD27: #NUM! | AE27: #NUM! | AF27: #NUM! | AG27: #NUM! | AH27: #NUM! | AI27: #NUM! | AJ27: #NUM! | AK27: #NUM! | AL27: #NUM! | AM27: #NUM! | AN27: #NUM! | AO27: #NUM! | AP27: #NUM! | AQ27: #NUM! | AR27: #NUM! | AS27: #NUM! | AT27: #NUM! | AU27: #NUM! | AV27: #NUM! | AW27: #NUM! | AX27: -0.024870259 | AY27: #NUM! | AZ27: #NUM! | BA27: #NUM! | BB27: 0.033954904 | BC27: #NUM! | BD27: #NUM! | BE27: #NUM! | BF27: #NUM! | BG27: 0.011555937 | BH27: #NUM! | BI27: #NUM! | BJ27: #NUM! | BK27: #NUM! | BL27: #NUM! | BM27: #NUM! | BN27: #NUM! | BO27: #NUM! | BP27: #NUM! | BQ27: #NUM! | BR27: #NUM! | BS27: #NUM! | BT27: #NUM! | BU27: #NUM! | BV27: #NUM! | BW27: #NUM! | BX27: #NUM! | BY27: 0.011072088 | BZ27: #NUM! | CA27: #NUM! | CB27: #NUM! | CC27: #NUM! | CD27: #NUM! | CE27: #NUM! | CF27: #NUM! | CG27: #NUM! | CH27: #NUM! | CI27: #NUM! | CJ27: #NUM! | CK27: #NUM! | CL27: #NUM! | CM27: #NUM! | CN27: #NUM! | CO27: #NUM! | CP27: #NUM! | CQ27: #NUM! | CR27: #NUM! | CS27: #NUM! | CT27: #NUM! | CU27: #NUM! | CV27: #NUM! | CW27: #NUM! | CX27: #NUM! | CY27: #NUM! | CZ27: #NUM! | DA27: #NUM! | DB27: 0.083947638 | DC27: -0.0023169995 | DD27: #NUM! | DE27: #NUM! | DF27: #NUM! | DG27: #NUM! | DH27: #NUM! | DI27: #NUM! | DJ27: #NUM! | DK27: #NUM! | DL27: #NUM! | DM27: #NUM! | DN27: #NUM! | DO27: #NUM! | DP27: #NUM! | DQ27: #NUM! | DR27: #NUM! | DS27: #NUM! | DT27: #NUM! | DU27: #NUM! | DV27: #NUM! | DW27: #NUM! | DX27: #NUM! | DY27: #NUM! | DZ27: #NUM! | EA27: #NUM! | EB27: #NUM! | EC27: 0.038387124 | ED27: #NUM! | EE27: #NUM! | EF27: #NUM! | EG27: #NUM! | EH27: #NUM! | EI27: #NUM! | EJ27: #NUM! | EK27: #NUM! | EL27: #NUM! | EM27: #NUM! | EN27: #NUM! | EO27: #NUM! | EP27: #NUM! | EQ27: #NUM! | ER27: #NUM! | ES27: #NUM! | ET27: #NUM! | EU27: #NUM! | EV27: 0.033819476 | EW27: #NUM! | EX27: #NUM! | EY27: #NUM! | EZ27: #NUM! | FA27: #NUM! | FB27: #NUM! | FC27: #NUM! | FD27: #NUM! | FE27: #NUM! | FF27: #NUM! | FG27: #NUM! | FH27: #NUM! | FI27: #NUM! | FJ27: #NUM! | FK27: #NUM! | FL27: #NUM! | FM27: #NUM! | FN27: #NUM! | FO27: #NUM! | FP27: #NUM! | FQ27: #NUM! | FR27: #NUM! | FS27: #NUM! | FT27: #NUM! | FU27: #NUM! | FV27: #NUM! | FW27: #NUM! | FX27: #NUM! | FY27: #NUM! | FZ27: #NUM! | GA27: #NUM! | GB27: #NUM! | GC27: #NUM! | GD27: #NUM! | GE27: #NUM!
A28: 34001 | B28: #NUM! | C28: #NUM! | D28: #NUM! | E28: #NUM! | F28: #NUM! | G28: #NUM! | H28: #NUM! | I28: #NUM! | J28: #NUM! | K28: #NUM! | L28: #NUM! | M28: #NUM! | N28: #NUM! | O28: #NUM! | P28: #NUM! | Q28: #NUM! | R28: #NUM! | S28: #NUM! | T28: #NUM! | U28: #NUM! | V28: #NUM! | W28: #NUM! | X28: #NUM! | Y28: #NUM! | Z28: #NUM! | AA28: #NUM! | AB28: #NUM! | AC28: #NUM! | AD28: #NUM! | AE28: #NUM! | AF28: #NUM! | AG28: #NUM! | AH28: #NUM! | AI28: #NUM! | AJ28: #NUM! | AK28: #NUM! | AL28: #NUM! | AM28: #NUM! | AN28: #NUM! | AO28: #NUM! | AP28: #NUM! | AQ28: #NUM! | AR28: #NUM! | AS28: #NUM! | AT28: #NUM! | AU28: #NUM! | AV28: #NUM! | AW28: #NUM! | AX28: 0.020075841 | AY28: #NUM! | AZ28: #NUM! | BA28: #NUM! | BB28: 0.0032137852 | BC28: #NUM! | BD28: #NUM! | BE28: #NUM! | BF28: #NUM! | BG28: 0.024776348 | BH28: #NUM! | BI28: #NUM! | BJ28: #NUM! | BK28: #NUM! | BL28: #NUM! | BM28: #NUM! | BN28: #NUM! | BO28: #NUM! | BP28: #NUM! | BQ28: #NUM! | BR28: #NUM! | BS28: #NUM! | BT28: #NUM! | BU28: #NUM! | BV28: #NUM! | BW28: #NUM! | BX28: #NUM! | BY28: 0.0030773926 | BZ28: #NUM! | CA28: #NUM! | CB28: #NUM! | CC28: #NUM! | CD28: #NUM! | CE28: #NUM! | CF28: #NUM! | CG28: #NUM! | CH28: #NUM! | CI28: #NUM! | CJ28: #NUM! | CK28: #NUM! | CL28: #NUM! | CM28: #NUM! | CN28: #NUM! | CO28: #NUM! | CP28: #NUM! | CQ28: #NUM! | CR28: #NUM! | CS28: #NUM! | CT28: #NUM! | CU28: #NUM! | CV28: #NUM! | CW28: #NUM! | CX28: #NUM! | CY28: #NUM! | CZ28: #NUM! | DA28: #NUM! | DB28: 0.0062437089 | DC28: 0.058287817 | DD28: #NUM! | DE28: #NUM! | DF28: #NUM! | DG28: #NUM! | DH28: #NUM! | DI28: #NUM! | DJ28: #NUM! | DK28: #NUM! | DL28: #NUM! | DM28: #NUM! | DN28: #NUM! | DO28: #NUM! | DP28: #NUM! | DQ28: #NUM! | DR28: #NUM! | DS28: #NUM! | DT28: #NUM! | DU28: #NUM! | DV28: #NUM! | DW28: #NUM! | DX28: #NUM! | DY28: #NUM! | DZ28: #NUM! | EA28: #NUM! | EB28: #NUM! | EC28: 0.042184418 | ED28: #NUM! | EE28: #NUM! | EF28: #NUM! | EG28: #NUM! | EH28: #NUM! | EI28: #NUM! | EJ28: #NUM! | EK28: #NUM! | EL28: #NUM! | EM28: #NUM! | EN28: #NUM! | EO28: #NUM! | EP28: #NUM! | EQ28: #NUM! | ER28: #NUM! | ES28: #NUM! | ET28: #NUM! | EU28: #NUM! | EV28: 0.0043733233 | EW28: #NUM! | EX28: #NUM! | EY28: #NUM! | EZ28: #NUM! | FA28: #NUM! | FB28: #NUM! | FC28: #NUM! | FD28: #NUM! | FE28: #NUM! | FF28: #NUM! | FG28: #NUM! | FH28: #NUM! | FI28: #NUM! | FJ28: #NUM! | FK28: #NUM! | FL28: #NUM! | FM28: #NUM! | FN28: #NUM! | FO28: #NUM! | FP28: #NUM! | FQ28: #NUM! | FR28: #NUM! | FS28: #NUM! | FT28: #NUM! | FU28: #NUM! | FV28: #NUM! | FW28: #NUM! | FX28: #NUM! | FY28: #NUM! | FZ28: #NUM! | GA28: #NUM! | GB28: #NUM! | GC28: #NUM! | GD28: #NUM! | GE28: #NUM!
A29: 34029 | B29: #NUM! | C29: #NUM! | D29: #NUM! | E29: #NUM! | F29: #NUM! | G29: #NUM! | H29: #NUM! | I29: #NUM! | J29: #NUM! | K29: #NUM! | L29: #NUM! | M29: #NUM! | N29: #NUM! | O29: #NUM! | P29: #NUM! | Q29: #NUM! | R29: #NUM! | S29: #NUM! | T29: #NUM! | U29: #NUM! | V29: #NUM! | W29: #NUM! | X29: #NUM! | Y29: #NUM! | Z29: #NUM! | AA29: #NUM! | AB29: #NUM! | AC29: #NUM! | AD29: #NUM! | AE29: #NUM! | AF29: #NUM! | AG29: #NUM! | AH29: #NUM! | AI29: #NUM! | AJ29: #NUM! | AK29: #NUM! | AL29: #NUM! | AM29: #NUM! | AN29: #NUM! | AO29: #NUM! | AP29: #NUM! | AQ29: #NUM! | AR29: #NUM! | AS29: #NUM! | AT29: #NUM! | AU29: #NUM! | AV29: #NUM! | AW29: #NUM! | AX29: 0.0031696891 | AY29: #NUM! | AZ29: #NUM! | BA29: #NUM! | BB29: 0.032642874 | BC29: #NUM! | BD29: #NUM! | BE29: #NUM! | BF29: #NUM! | BG29: 0.025961879 | BH29: #NUM! | BI29: #NUM! | BJ29: #NUM! | BK29: #NUM! | BL29: #NUM! | BM29: #NUM! | BN29: #NUM! | BO29: #NUM! | BP29: #NUM! | BQ29: #NUM! | BR29: #NUM! | BS29: #NUM! | BT29: #NUM! | BU29: #NUM! | BV29: #NUM! | BW29: #NUM! | BX29: #NUM! | BY29: 0.017947548 | BZ29: #NUM! | CA29: #NUM! | CB29: #NUM! | CC29: #NUM! | CD29: #NUM! | CE29: #NUM! | CF29: #NUM! | CG29: #NUM! | CH29: #NUM! | CI29: #NUM! | CJ29: #NUM! | CK29: #NUM! | CL29: #NUM! | CM29: #NUM! | CN29: #NUM! | CO29: #NUM! | CP29: #NUM! | CQ29: #NUM! | CR29: #NUM! | CS29: #NUM! | CT29: #NUM! | CU29: #NUM! | CV29: #NUM! | CW29: #NUM! | CX29: #NUM! | CY29: #NUM! | CZ29: #NUM! | DA29: #NUM! | DB29: 0.0054526924 | DC29: 0.0025696843 | DD29: #NUM! | DE29: #NUM! | DF29: #NUM! | DG29: #NUM! | DH29: #NUM! | DI29: #NUM! | DJ29: #NUM! | DK29: #NUM! | DL29: #NUM! | DM29: #NUM! | DN29: #NUM! | DO29: #NUM! | DP29: #NUM! | DQ29: #NUM! | DR29: #NUM! | DS29: #NUM! | DT29: #NUM! | DU29: #NUM! | DV29: #NUM! | DW29: #NUM! | DX29: #NUM! | DY29: #NUM! | DZ29: #NUM! | EA29: #NUM! | EB29: #NUM! | EC29: 0.031987616 | ED29: #NUM! | EE29: #NUM! | EF29: #NUM! | EG29: #NUM! | EH29: #NUM! | EI29: #NUM! | EJ29: #NUM! | EK29: #NUM! | EL29: #NUM! | EM29: #NUM! | EN29: #NUM! | EO29: #NUM! | EP29: #NUM! | EQ29: #NUM! | ER29: #NUM! | ES29: #NUM! | ET29: #NUM! | EU29: #NUM! | EV29: 0.030504249 | EW29: #NUM! | EX29: #NUM! | EY29: #NUM! | EZ29: #NUM! | FA29: #NUM! | FB29: #NUM! | FC29: #NUM! | FD29: #NUM! | FE29: #NUM! | FF29: #NUM! | FG29: #NUM! | FH29: #NUM! | FI29: #NUM! | FJ29: #NUM! | FK29: #NUM! | FL29: #NUM! | FM29: #NUM! | FN29: #NUM! | FO29: #NUM! | FP29: #NUM! | FQ29: #NUM! | FR29: #NUM! | FS29: #NUM! | FT29: #NUM! | FU29: #NUM! | FV29: #NUM! | FW29: #NUM! | FX29: #NUM! | FY29: #NUM! | FZ29: #NUM! | GA29: #NUM! | GB29: #NUM! | GC29: #NUM! | GD29: #NUM! | GE29: #NUM!
A30: 34060 | B30: #NUM! | C30: #NUM! | D30: #NUM! | E30: #NUM! | F30: #NUM! | G30: #NUM! | H30: #NUM! | I30: #NUM! | J30: #NUM! | K30: #NUM! | L30: #NUM! | M30: #NUM! | N30: #NUM! | O30: #NUM! | P30: #NUM! | Q30: #NUM! | R30: #NUM! | S30: #NUM! | T30: #NUM! | U30: #NUM! | V30: #NUM! | W30: #NUM! | X30: #NUM! | Y30: #NUM! | Z30: #NUM! | AA30: #NUM! | AB30: #NUM! | AC30: #NUM! | AD30: #NUM! | AE30: #NUM! | AF30: #NUM! | AG30: #NUM! | AH30: #NUM! | AI30: #NUM! | AJ30: #NUM! | AK30: #NUM! | AL30: #NUM! | AM30: #NUM! | AN30: #NUM! | AO30: #NUM! | AP30: #NUM! | AQ30: #NUM! | AR30: #NUM! | AS30: #NUM! | AT30: #NUM! | AU30: #NUM! | AV30: #NUM! | AW30: #NUM! | AX30: -0.011858566 | AY30: #NUM! | AZ30: #NUM! | BA30: #NUM! | BB30: 0.045011355 | BC30: #NUM! | BD30: #NUM! | BE30: #NUM! | BF30: #NUM! | BG30: -0.0054977827 | BH30: #NUM! | BI30: #NUM! | BJ30: #NUM! | BK30: #NUM! | BL30: #NUM! | BM30: #NUM! | BN30: #NUM! | BO30: #NUM! | BP30: #NUM! | BQ30: #NUM! | BR30: #NUM! | BS30: #NUM! | BT30: #NUM! | BU30: #NUM! | BV30: #NUM! | BW30: #NUM! | BX30: #NUM! | BY30: 0.016296137 | BZ30: #NUM! | CA30: #NUM! | CB30: #NUM! | CC30: #NUM! | CD30: #NUM! | CE30: #NUM! | CF30: #NUM! | CG30: #NUM! | CH30: #NUM! | CI30: #NUM! | CJ30: #NUM! | CK30: #NUM! | CL30: #NUM! | CM30: #NUM! | CN30: #NUM! | CO30: #NUM! | CP30: #NUM! | CQ30: #NUM! | CR30: #NUM! | CS30: #NUM! | CT30: #NUM! | CU30: #NUM! | CV30: #NUM! | CW30: #NUM! | CX30: #NUM! | CY30: #NUM! | CZ30: #NUM! | DA30: #NUM! | DB30: 0.049595994 | DC30: -0.0053725112 | DD30: #NUM! | DE30: #NUM! | DF30: #NUM! | DG30: #NUM! | DH30: #NUM! | DI30: #NUM! | DJ30: #NUM! | DK30: #NUM! | DL30: #NUM! | DM30: #NUM! | DN30: #NUM! | DO30: #NUM! | DP30: #NUM! | DQ30: #NUM! | DR30: #NUM! | DS30: #NUM! | DT30: #NUM! | DU30: #NUM! | DV30: #NUM! | DW30: #NUM! | DX30: #NUM! | DY30: #NUM! | DZ30: #NUM! | EA30: #NUM! | EB30: #NUM! | EC30: 0.034870487 | ED30: #NUM! | EE30: #NUM! | EF30: #NUM! | EG30: #NUM! | EH30: #NUM! | EI30: #NUM! | EJ30: #NUM! | EK30: #NUM! | EL30: #NUM! | EM30: #NUM! | EN30: #NUM! | EO30: #NUM! | EP30: #NUM! | EQ30: #NUM! | ER30: #NUM! | ES30: #NUM! | ET30: #NUM! | EU30: #NUM! | EV30: 0.042191578 | EW30: #NUM! | EX30: #NUM! | EY30: #NUM! | EZ30: #NUM! | FA30: #NUM! | FB30: #NUM! | FC30: #NUM! | FD30: #NUM! | FE30: #NUM! | FF30: #NUM! | FG30: #NUM! | FH30: #NUM! | FI30: #NUM! | FJ30: #NUM! | FK30: #NUM! | FL30: #NUM! | FM30: #NUM! | FN30: #NUM! | FO30: #NUM! | FP30: #NUM! | FQ30: #NUM! | FR30: #NUM! | FS30: #NUM! | FT30: #NUM! | FU30: #NUM! | FV30: #NUM! | FW30: #NUM! | FX30: #NUM! | FY30: #NUM! | FZ30: #NUM! | GA30: #NUM! | GB30: #NUM! | GC30: #NUM! | GD30: #NUM! | GE30: #NUM!
A31: 34090 | B31: #NUM! | C31: #NUM! | D31: #NUM! | E31: #NUM! | F31: #NUM! | G31: #NUM! | H31: #NUM! | I31: #NUM! | J31: #NUM! | K31: #NUM! | L31: #NUM! | M31: #NUM! | N31: #NUM! | O31: #NUM! | P31: #NUM! | Q31: #NUM! | R31: #NUM! | S31: #NUM! | T31: #NUM! | U31: #NUM! | V31: #NUM! | W31: #NUM! | X31: #NUM! | Y31: #NUM! | Z31: #NUM! | AA31: #NUM! | AB31: #NUM! | AC31: #NUM! | AD31: #NUM! | AE31: #NUM! | AF31: #NUM! | AG31: #NUM! | AH31: #NUM! | AI31: #NUM! | AJ31: #NUM! | AK31: #NUM! | AL31: #NUM! | AM31: #NUM! | AN31: #NUM! | AO31: #NUM! | AP31: #NUM! | AQ31: #NUM! | AR31: #NUM! | AS31: #NUM! | AT31: #NUM! | AU31: #NUM! | AV31: #NUM! | AW31: #NUM! | AX31: -0.035043538 | AY31: #NUM! | AZ31: #NUM! | BA31: #NUM! | BB31: -0.016791615 | BC31: #NUM! | BD31: #NUM! | BE31: #NUM! | BF31: #NUM! | BG31: -0.025093134 | BH31: #NUM! | BI31: #NUM! | BJ31: #NUM! | BK31: #NUM! | BL31: #NUM! | BM31: #NUM! | BN31: #NUM! | BO31: #NUM! | BP31: #NUM! | BQ31: #NUM! | BR31: #NUM! | BS31: #NUM! | BT31: #NUM! | BU31: #NUM! | BV31: #NUM! | BW31: #NUM! | BX31: #NUM! | BY31: -0.02851332 | BZ31: #NUM! | CA31: #NUM! | CB31: #NUM! | CC31: #NUM! | CD31: #NUM! | CE31: #NUM! | CF31: #NUM! | CG31: #NUM! | CH31: #NUM! | CI31: #NUM! | CJ31: #NUM! | CK31: #NUM! | CL31: #NUM! | CM31: #NUM! | CN31: #NUM! | CO31: #NUM! | CP31: #NUM! | CQ31: #NUM! | CR31: #NUM! | CS31: #NUM! | CT31: #NUM! | CU31: #NUM! | CV31: #NUM! | CW31: #NUM! | CX31: #NUM! | CY31: #NUM! | CZ31: #NUM! | DA31: #NUM! | DB31: 0.00023005628 | DC31: -0.039244846 | DD31: #NUM! | DE31: #NUM! | DF31: #NUM! | DG31: #NUM! | DH31: #NUM! | DI31: #NUM! | DJ31: #NUM! | DK31: #NUM! | DL31: #NUM! | DM31: #NUM! | DN31: #NUM! | DO31: #NUM! | DP31: #NUM! | DQ31: #NUM! | DR31: #NUM! | DS31: #NUM! | DT31: #NUM! | DU31: #NUM! | DV31: #NUM! | DW31: #NUM! | DX31: #NUM! | DY31: #NUM! | DZ31: #NUM! | EA31: #NUM! | EB31: #NUM! | EC31: -0.0019191294 | ED31: #NUM! | EE31: #NUM! | EF31: #NUM! | EG31: #NUM! | EH31: #NUM! | EI31: #NUM! | EJ31: #NUM! | EK31: #NUM! | EL31: #NUM! | EM31: #NUM! | EN31: #NUM! | EO31: #NUM! | EP31: #NUM! | EQ31: #NUM! | ER31: #NUM! | ES31: #NUM! | ET31: #NUM! | EU31: #NUM! | EV31: -0.013024554 | EW31: #NUM! | EX31: #NUM! | EY31: #NUM! | EZ31: #NUM! | FA31: #NUM! | FB31: #NUM! | FC31: #NUM! | FD31: #NUM! | FE31: #NUM! | FF31: #NUM! | FG31: #NUM! | FH31: #NUM! | FI31: #NUM! | FJ31: #NUM! | FK31: #NUM! | FL31: #NUM! | FM31: #NUM! | FN31: #NUM! | FO31: #NUM! | FP31: #NUM! | FQ31: #NUM! | FR31: #NUM! | FS31: #NUM! | FT31: #NUM! | FU31: #NUM! | FV31: #NUM! | FW31: #NUM! | FX31: #NUM! | FY31: #NUM! | FZ31: #NUM! | GA31: #NUM! | GB31: #NUM! | GC31: #NUM! | GD31: #NUM! | GE31: #NUM!
A32: 34121 | B32: #NUM! | C32: #NUM! | D32: #NUM! | E32: #NUM! | F32: #NUM! | G32: #NUM! | H32: #NUM! | I32: #NUM! | J32: #NUM! | K32: #NUM! | L32: #NUM! | M32: #NUM! | N32: #NUM! | O32: #NUM! | P32: #NUM! | Q32: #NUM! | R32: #NUM! | S32: #NUM! | T32: #NUM! | U32: #NUM! | V32: #NUM! | W32: #NUM! | X32: #NUM! | Y32: #NUM! | Z32: #NUM! | AA32: #NUM! | AB32: #NUM! | AC32: #NUM! | AD32: #NUM! | AE32: #NUM! | AF32: #NUM! | AG32: #NUM! | AH32: #NUM! | AI32: #NUM! | AJ32: #NUM! | AK32: #NUM! | AL32: #NUM! | AM32: #NUM! | AN32: #NUM! | AO32: #NUM! | AP32: #NUM! | AQ32: #NUM! | AR32: #NUM! | AS32: #NUM! | AT32: #NUM! | AU32: #NUM! | AV32: #NUM! | AW32: #NUM! | AX32: 0.01968468 | AY32: #NUM! | AZ32: #NUM! | BA32: #NUM! | BB32: 0.011700555 | BC32: #NUM! | BD32: #NUM! | BE32: #NUM! | BF32: #NUM! | BG32: 0.018292027 | BH32: #NUM! | BI32: #NUM! | BJ32: #NUM! | BK32: #NUM! | BL32: #NUM! | BM32: #NUM! | BN32: #NUM! | BO32: #NUM! | BP32: #NUM! | BQ32: #NUM! | BR32: #NUM! | BS32: #NUM! | BT32: #NUM! | BU32: #NUM! | BV32: #NUM! | BW32: #NUM! | BX32: #NUM! | BY32: 0.015385074 | BZ32: #NUM! | CA32: #NUM! | CB32: #NUM! | CC32: #NUM! | CD32: #NUM! | CE32: #NUM! | CF32: #NUM! | CG32: #NUM! | CH32: #NUM! | CI32: #NUM! | CJ32: #NUM! | CK32: #NUM! | CL32: #NUM! | CM32: #NUM! | CN32: #NUM! | CO32: #NUM! | CP32: #NUM! | CQ32: #NUM! | CR32: #NUM! | CS32: #NUM! | CT32: #NUM! | CU32: #NUM! | CV32: #NUM! | CW32: #NUM! | CX32: #NUM! | CY32: #NUM! | CZ32: #NUM! | DA32: #NUM! | DB32: -0.00035075093 | DC32: 0.0065409679 | DD32: #NUM! | DE32: #NUM! | DF32: #NUM! | DG32: #NUM! | DH32: #NUM! | DI32: #NUM! | DJ32: #NUM! | DK32: #NUM! | DL32: #NUM! | DM32: #NUM! | DN32: #NUM! | DO32: #NUM! | DP32: #NUM! | DQ32: #NUM! | DR32: #NUM! | DS32: #NUM! | DT32: #NUM! | DU32: #NUM! | DV32: #NUM! | DW32: #NUM! | DX32: #NUM! | DY32: #NUM! | DZ32: #NUM! | EA32: #NUM! | EB32: #NUM! | EC32: 0.01800922 | ED32: #NUM! | EE32: #NUM! | EF32: #NUM! | EG32: #NUM! | EH32: #NUM! | EI32: #NUM! | EJ32: #NUM! | EK32: #NUM! | EL32: #NUM! | EM32: #NUM! | EN32: #NUM! | EO32: #NUM! | EP32: #NUM! | EQ32: #NUM! | ER32: #NUM! | ES32: #NUM! | ET32: #NUM! | EU32: #NUM! | EV32: 0.051886423 | EW32: #NUM! | EX32: #NUM! | EY32: #NUM! | EZ32: #NUM! | FA32: #NUM! | FB32: #NUM! | FC32: #NUM! | FD32: #NUM! | FE32: #NUM! | FF32: #NUM! | FG32: #NUM! | FH32: #NUM! | FI32: #NUM! | FJ32: #NUM! | FK32: #NUM! | FL32: #NUM! | FM32: #NUM! | FN32: #NUM! | FO32: #NUM! | FP32: #NUM! | FQ32: #NUM! | FR32: #NUM! | FS32: #NUM! | FT32: #NUM! | FU32: #NUM! | FV32: #NUM! | FW32: #NUM! | FX32: #NUM! | FY32: #NUM! | FZ32: #NUM! | GA32: #NUM! | GB32: #NUM! | GC32: #NUM! | GD32: #NUM! | GE32: #NUM!
A33: 34151 | B33: #NUM! | C33: #NUM! | D33: #NUM! | E33: #NUM! | F33: #NUM! | G33: #NUM! | H33: #NUM! | I33: #NUM! | J33: #NUM! | K33: #NUM! | L33: #NUM! | M33: #NUM! | N33: #NUM! | O33: #NUM! | P33: #NUM! | Q33: #NUM! | R33: #NUM! | S33: #NUM! | T33: #NUM! | U33: #NUM! | V33: #NUM! | W33: #NUM! | X33: #NUM! | Y33: #NUM! | Z33: #NUM! | AA33: #NUM! | AB33: #NUM! | AC33: #NUM! | AD33: #NUM! | AE33: #NUM! | AF33: #NUM! | AG33: #NUM! | AH33: #NUM! | AI33: #NUM! | AJ33: #NUM! | AK33: #NUM! | AL33: #NUM! | AM33: #NUM! | AN33: #NUM! | AO33: #NUM! | AP33: #NUM! | AQ33: #NUM! | AR33: #NUM! | AS33: #NUM! | AT33: #NUM! | AU33: #NUM! | AV33: #NUM! | AW33: #NUM! | AX33: -0.001081881 | AY33: #NUM! | AZ33: #NUM! | BA33: #NUM! | BB33: 0.04088365 | BC33: #NUM! | BD33: #NUM! | BE33: #NUM! | BF33: #NUM! | BG33: 0.0047060321 | BH33: #NUM! | BI33: #NUM! | BJ33: #NUM! | BK33: #NUM! | BL33: #NUM! | BM33: #NUM! | BN33: #NUM! | BO33: #NUM! | BP33: #NUM! | BQ33: #NUM! | BR33: #NUM! | BS33: #NUM! | BT33: #NUM! | BU33: #NUM! | BV33: #NUM! | BW33: #NUM! | BX33: #NUM! | BY33: -0.0045210748 | BZ33: #NUM! | CA33: #NUM! | CB33: #NUM! | CC33: #NUM! | CD33: #NUM! | CE33: #NUM! | CF33: #NUM! | CG33: #NUM! | CH33: #NUM! | CI33: #NUM! | CJ33: #NUM! | CK33: #NUM! | CL33: #NUM! | CM33: #NUM! | CN33: #NUM! | CO33: #NUM! | CP33: #NUM! | CQ33: #NUM! | CR33: #NUM! | CS33: #NUM! | CT33: #NUM! | CU33: #NUM! | CV33: #NUM! | CW33: #NUM! | CX33: #NUM! | CY33: #NUM! | CZ33: #NUM! | DA33: #NUM! | DB33: 0.043281563 | DC33: 0.0093724223 | DD33: #NUM! | DE33: #NUM! | DF33: #NUM! | DG33: #NUM! | DH33: #NUM! | DI33: #NUM! | DJ33: #NUM! | DK33: #NUM! | DL33: #NUM! | DM33: #NUM! | DN33: #NUM! | DO33: #NUM! | DP33: #NUM! | DQ33: #NUM! | DR33: #NUM! | DS33: #NUM! | DT33: #NUM! | DU33: #NUM! | DV33: #NUM! | DW33: #NUM! | DX33: #NUM! | DY33: #NUM! | DZ33: #NUM! | EA33: #NUM! | EB33: #NUM! | EC33: 0.023651853 | ED33: #NUM! | EE33: #NUM! | EF33: #NUM! | EG33: #NUM! | EH33: #NUM! | EI33: #NUM! | EJ33: #NUM! | EK33: #NUM! | EL33: #NUM! | EM33: #NUM! | EN33: #NUM! | EO33: #NUM! | EP33: #NUM! | EQ33: #NUM! | ER33: #NUM! | ES33: #NUM! | ET33: #NUM! | EU33: #NUM! | EV33: 0.030197911 | EW33: #NUM! | EX33: #NUM! | EY33: #NUM! | EZ33: #NUM! | FA33: #NUM! | FB33: #NUM! | FC33: #NUM! | FD33: #NUM! | FE33: #NUM! | FF33: #NUM! | FG33: #NUM! | FH33: #NUM! | FI33: #NUM! | FJ33: #NUM! | FK33: #NUM! | FL33: #NUM! | FM33: #NUM! | FN33: #NUM! | FO33: #NUM! | FP33: #NUM! | FQ33: #NUM! | FR33: #NUM! | FS33: #NUM! | FT33: #NUM! | FU33: #NUM! | FV33: #NUM! | FW33: #NUM! | FX33: #NUM! | FY33: #NUM! | FZ33: #NUM! | GA33: #NUM! | GB33: #NUM! | GC33: #NUM! | GD33: #NUM! | GE33: #NUM!
A34: 34182 | B34: #NUM! | C34: #NUM! | D34: #NUM! | E34: #NUM! | F34: #NUM! | G34: #NUM! | H34: #NUM! | I34: #NUM! | J34: #NUM! | K34: #NUM! | L34: #NUM! | M34: #NUM! | N34: #NUM! | O34: #NUM! | P34: #NUM! | Q34: #NUM! | R34: #NUM! | S34: #NUM! | T34: #NUM! | U34: #NUM! | V34: #NUM! | W34: #NUM! | X34: #NUM! | Y34: #NUM! | Z34: #NUM! | AA34: #NUM! | AB34: #NUM! | AC34: #NUM! | AD34: #NUM! | AE34: #NUM! | AF34: #NUM! | AG34: #NUM! | AH34: #NUM! | AI34: #NUM! | AJ34: #NUM! | AK34: #NUM! | AL34: #NUM! | AM34: #NUM! | AN34: #NUM! | AO34: #NUM! | AP34: #NUM! | AQ34: #NUM! | AR34: #NUM! | AS34: #NUM! | AT34: #NUM! | AU34: #NUM! | AV34: #NUM! | AW34: #NUM! | AX34: 0.010348294 | AY34: #NUM! | AZ34: #NUM! | BA34: #NUM! | BB34: 0.036485267 | BC34: #NUM! | BD34: #NUM! | BE34: #NUM! | BF34: #NUM! | BG34: 0.061973171 | BH34: #NUM! | BI34: #NUM! | BJ34: #NUM! | BK34: #NUM! | BL34: #NUM! | BM34: #NUM! | BN34: #NUM! | BO34: #NUM! | BP34: #NUM! | BQ34: #NUM! | BR34: #NUM! | BS34: #NUM! | BT34: #NUM! | BU34: #NUM! | BV34: #NUM! | BW34: #NUM! | BX34: #NUM! | BY34: 0.012447758 | BZ34: #NUM! | CA34: #NUM! | CB34: #NUM! | CC34: #NUM! | CD34: #NUM! | CE34: #NUM! | CF34: #NUM! | CG34: #NUM! | CH34: #NUM! | CI34: #NUM! | CJ34: #NUM! | CK34: #NUM! | CL34: #NUM! | CM34: #NUM! | CN34: #NUM! | CO34: #NUM! | CP34: #NUM! | CQ34: #NUM! | CR34: #NUM! | CS34: #NUM! | CT34: #NUM! | CU34: #NUM! | CV34: #NUM! | CW34: #NUM! | CX34: #NUM! | CY34: #NUM! | CZ34: #NUM! | DA34: #NUM! | DB34: 0.029276946 | DC34: 0.018242696 | DD34: #NUM! | DE34: #NUM! | DF34: #NUM! | DG34: #NUM! | DH34: #NUM! | DI34: #NUM! | DJ34: #NUM! | DK34: #NUM! | DL34: #NUM! | DM34: #NUM! | DN34: #NUM! | DO34: #NUM! | DP34: #NUM! | DQ34: #NUM! | DR34: #NUM! | DS34: #NUM! | DT34: #NUM! | DU34: #NUM! | DV34: #NUM! | DW34: #NUM! | DX34: #NUM! | DY34: #NUM! | DZ34: #NUM! | EA34: #NUM! | EB34: #NUM! | EC34: 0.031311052 | ED34: #NUM! | EE34: #NUM! | EF34: #NUM! | EG34: #NUM! | EH34: #NUM! | EI34: #NUM! | EJ34: #NUM! | EK34: #NUM! | EL34: #NUM! | EM34: #NUM! | EN34: #NUM! | EO34: #NUM! | EP34: #NUM! | EQ34: #NUM! | ER34: #NUM! | ES34: #NUM! | ET34: #NUM! | EU34: #NUM! | EV34: 0.032797545 | EW34: #NUM! | EX34: #NUM! | EY34: #NUM! | EZ34: #NUM! | FA34: #NUM! | FB34: #NUM! | FC34: #NUM! | FD34: #NUM! | FE34: #NUM! | FF34: #NUM! | FG34: #NUM! | FH34: #NUM! | FI34: #NUM! | FJ34: #NUM! | FK34: #NUM! | FL34: #NUM! | FM34: #NUM! | FN34: #NUM! | FO34: #NUM! | FP34: #NUM! | FQ34: #NUM! | FR34: #NUM! | FS34: #NUM! | FT34: #NUM! | FU34: #NUM! | FV34: #NUM! | FW34: #NUM! | FX34: #NUM! | FY34: #NUM! | FZ34: #NUM! | GA34: #NUM! | GB34: #NUM! | GC34: #NUM! | GD34: #NUM! | GE34: #NUM!
A35: 34213 | B35: #NUM! | C35: #NUM! | D35: #NUM! | E35: #NUM! | F35: #NUM! | G35: #NUM! | H35: #NUM! | I35: #NUM! | J35: #NUM! | K35: #NUM! | L35: #NUM! | M35: #NUM! | N35: #NUM! | O35: #NUM! | P35: #NUM! | Q35: #NUM! | R35: #NUM! | S35: #NUM! | T35: #NUM! | U35: #NUM! | V35: #NUM! | W35: #NUM! | X35: #NUM! | Y35: #NUM! | Z35: #NUM! | AA35: #NUM! | AB35: #NUM! | AC35: #NUM! | AD35: #NUM! | AE35: #NUM! | AF35: #NUM! | AG35: #NUM! | AH35: #NUM! | AI35: #NUM! | AJ35: #NUM! | AK35: #NUM! | AL35: #NUM! | AM35: #NUM! | AN35: #NUM! | AO35: #NUM! | AP35: #NUM! | AQ35: #NUM! | AR35: #NUM! | AS35: #NUM! | AT35: #NUM! | AU35: #NUM! | AV35: #NUM! | AW35: #NUM! | AX35: -0.021320729 | AY35: #NUM! | AZ35: #NUM! | BA35: #NUM! | BB35: 0.033387249 | BC35: #NUM! | BD35: #NUM! | BE35: #NUM! | BF35: #NUM! | BG35: -0.001282551 | BH35: #NUM! | BI35: #NUM! | BJ35: #NUM! | BK35: #NUM! | BL35: #NUM! | BM35: #NUM! | BN35: #NUM! | BO35: #NUM! | BP35: #NUM! | BQ35: #NUM! | BR35: #NUM! | BS35: #NUM! | BT35: #NUM! | BU35: #NUM! | BV35: #NUM! | BW35: #NUM! | BX35: #NUM! | BY35: 0.016524409 | BZ35: #NUM! | CA35: #NUM! | CB35: #NUM! | CC35: #NUM! | CD35: #NUM! | CE35: #NUM! | CF35: #NUM! | CG35: #NUM! | CH35: #NUM! | CI35: #NUM! | CJ35: #NUM! | CK35: #NUM! | CL35: #NUM! | CM35: #NUM! | CN35: #NUM! | CO35: #NUM! | CP35: #NUM! | CQ35: #NUM! | CR35: #NUM! | CS35: #NUM! | CT35: #NUM! | CU35: #NUM! | CV35: #NUM! | CW35: #NUM! | CX35: #NUM! | CY35: #NUM! | CZ35: #NUM! | DA35: #NUM! | DB35: 0.019567044 | DC35: 0.012619894 | DD35: #NUM! | DE35: #NUM! | DF35: #NUM! | DG35: #NUM! | DH35: #NUM! | DI35: #NUM! | DJ35: #NUM! | DK35: #NUM! | DL35: #NUM! | DM35: #NUM! | DN35: #NUM! | DO35: #NUM! | DP35: #NUM! | DQ35: #NUM! | DR35: #NUM! | DS35: #NUM! | DT35: #NUM! | DU35: #NUM! | DV35: #NUM! | DW35: #NUM! | DX35: #NUM! | DY35: #NUM! | DZ35: #NUM! | EA35: #NUM! | EB35: #NUM! | EC35: 0.012886114 | ED35: #NUM! | EE35: #NUM! | EF35: #NUM! | EG35: #NUM! | EH35: #NUM! | EI35: #NUM! | EJ35: #NUM! | EK35: #NUM! | EL35: #NUM! | EM35: #NUM! | EN35: #NUM! | EO35: #NUM! | EP35: #NUM! | EQ35: #NUM! | ER35: #NUM! | ES35: #NUM! | ET35: #NUM! | EU35: #NUM! | EV35: 0.038502952 | EW35: #NUM! | EX35: #NUM! | EY35: #NUM! | EZ35: #NUM! | FA35: #NUM! | FB35: #NUM! | FC35: #NUM! | FD35: #NUM! | FE35: #NUM! | FF35: #NUM! | FG35: #NUM! | FH35: #NUM! | FI35: #NUM! | FJ35: #NUM! | FK35: #NUM! | FL35: #NUM! | FM35: #NUM! | FN35: #NUM! | FO35: #NUM! | FP35: #NUM! | FQ35: #NUM! | FR35: #NUM! | FS35: #NUM! | FT35: #NUM! | FU35: #NUM! | FV35: #NUM! | FW35: #NUM! | FX35: #NUM! | FY35: #NUM! | FZ35: #NUM! | GA35: #NUM! | GB35: #NUM! | GC35: #NUM! | GD35: #NUM! | GE35: #NUM!
A36: 34243 | B36: #NUM! | C36: #NUM! | D36: #NUM! | E36: #NUM! | F36: #NUM! | G36: #NUM! | H36: #NUM! | I36: #NUM! | J36: #NUM! | K36: #NUM! | L36: #NUM! | M36: #NUM! | N36: #NUM! | O36: #NUM! | P36: #NUM! | Q36: #NUM! | R36: #NUM! | S36: #NUM! | T36: #NUM! | U36: #NUM! | V36: #NUM! | W36: #NUM! | X36: #NUM! | Y36: #NUM! | Z36: #NUM! | AA36: #NUM! | AB36: #NUM! | AC36: #NUM! | AD36: #NUM! | AE36: #NUM! | AF36: #NUM! | AG36: #NUM! | AH36: #NUM! | AI36: #NUM! | AJ36: #NUM! | AK36: #NUM! | AL36: #NUM! | AM36: #NUM! | AN36: #NUM! | AO36: #NUM! | AP36: #NUM! | AQ36: #NUM! | AR36: #NUM! | AS36: #NUM! | AT36: #NUM! | AU36: #NUM! | AV36: #NUM! | AW36: #NUM! | AX36: -0.065612072 | AY36: #NUM! | AZ36: #NUM! | BA36: #NUM! | BB36: -0.01226025 | BC36: #NUM! | BD36: #NUM! | BE36: #NUM! | BF36: #NUM! | BG36: -0.025733783 | BH36: #NUM! | BI36: #NUM! | BJ36: #NUM! | BK36: #NUM! | BL36: #NUM! | BM36: #NUM! | BN36: #NUM! | BO36: #NUM! | BP36: #NUM! | BQ36: #NUM! | BR36: #NUM! | BS36: #NUM! | BT36: #NUM! | BU36: #NUM! | BV36: #NUM! | BW36: #NUM! | BX36: #NUM! | BY36: -0.031074024 | BZ36: #NUM! | CA36: #NUM! | CB36: #NUM! | CC36: #NUM! | CD36: #NUM! | CE36: #NUM! | CF36: #NUM! | CG36: #NUM! | CH36: #NUM! | CI36: #NUM! | CJ36: #NUM! | CK36: #NUM! | CL36: #NUM! | CM36: #NUM! | CN36: #NUM! | CO36: #NUM! | CP36: #NUM! | CQ36: #NUM! | CR36: #NUM! | CS36: #NUM! | CT36: #NUM! | CU36: #NUM! | CV36: #NUM! | CW36: #NUM! | CX36: #NUM! | CY36: #NUM! | CZ36: #NUM! | DA36: #NUM! | DB36: -0.029409055 | DC36: -0.032698334 | DD36: #NUM! | DE36: #NUM! | DF36: #NUM! | DG36: #NUM! | DH36: #NUM! | DI36: #NUM! | DJ36: #NUM! | DK36: #NUM! | DL36: #NUM! | DM36: #NUM! | DN36: #NUM! | DO36: #NUM! | DP36: #NUM! | DQ36: #NUM! | DR36: #NUM! | DS36: #NUM! | DT36: #NUM! | DU36: #NUM! | DV36: #NUM! | DW36: #NUM! | DX36: #NUM! | DY36: #NUM! | DZ36: #NUM! | EA36: #NUM! | EB36: #NUM! | EC36: -0.022020795 | ED36: #NUM! | EE36: #NUM! | EF36: #NUM! | EG36: #NUM! | EH36: #NUM! | EI36: #NUM! | EJ36: #NUM! | EK36: #NUM! | EL36: #NUM! | EM36: #NUM! | EN36: #NUM! | EO36: #NUM! | EP36: #NUM! | EQ36: #NUM! | ER36: #NUM! | ES36: #NUM! | ET36: #NUM! | EU36: #NUM! | EV36: -0.038036391 | EW36: #NUM! | EX36: #NUM! | EY36: #NUM! | EZ36: #NUM! | FA36: #NUM! | FB36: #NUM! | FC36: #NUM! | FD36: #NUM! | FE36: #NUM! | FF36: #NUM! | FG36: #NUM! | FH36: #NUM! | FI36: #NUM! | FJ36: #NUM! | FK36: #NUM! | FL36: #NUM! | FM36: #NUM! | FN36: #NUM! | FO36: #NUM! | FP36: #NUM! | FQ36: #NUM! | FR36: #NUM! | FS36: #NUM! | FT36: #NUM! | FU36: #NUM! | FV36: #NUM! | FW36: #NUM! | FX36: #NUM! | FY36: #NUM! | FZ36: #NUM! | GA36: #NUM! | GB36: #NUM! | GC36: #NUM! | GD36: #NUM! | GE36: #NUM!
... A46: 34547 | B46: #NUM! | C46: #NUM! | D46: #NUM! | E46: #NUM! | F46: #NUM! | G46: #NUM! | H46: #NUM! | I46: #NUM! | J46: #NUM! | K46: #NUM! | L46: #NUM! | M46: #NUM! | N46: #NUM! | O46: #NUM! | P46: #NUM! | Q46: #NUM! | R46: #NUM! | S46: #NUM! | T46: #NUM! | U46: #NUM! | V46: #NUM! | W46: #NUM! | X46: #NUM! | Y46: #NUM! | Z46: #NUM! | AA46: #NUM! | AB46: #NUM! | AC46: #NUM! | AD46: #NUM! | AE46: #NUM! | AF46: #NUM! | AG46: #NUM! | AH46: #NUM! | AI46: #NUM! | AJ46: #NUM! | AK46: #NUM! | AL46: #NUM! | AM46: #NUM! | AN46: #NUM! | AO46: #NUM! | AP46: #NUM! | AQ46: #NUM! | AR46: #NUM! | AS46: #NUM! | AT46: #NUM! | AU46: #NUM! | AV46: #NUM! | AW46: #NUM! | AX46: 0.0043936726 | AY46: #NUM! | AZ46: #NUM! | BA46: #NUM! | BB46: 0.0019291307 | BC46: #NUM! | BD46: #NUM! | BE46: #NUM! | BF46: #NUM! | BG46: -0.0085243746 | BH46: #NUM! | BI46: #NUM! | BJ46: #NUM! | BK46: #NUM! | BL46: #NUM! | BM46: #NUM! | BN46: #NUM! | BO46: #NUM! | BP46: #NUM! | BQ46: #NUM! | BR46: #NUM! | BS46: #NUM! | BT46: #NUM! | BU46: #NUM! | BV46: #NUM! | BW46: #NUM! | BX46: #NUM! | BY46: 0.023483938 | BZ46: #NUM! | CA46: #NUM! | CB46: #NUM! | CC46: #NUM! | CD46: #NUM! | CE46: #NUM! | CF46: #NUM! | CG46: #NUM! | CH46: #NUM! | CI46: #NUM! | CJ46: #NUM! | CK46: #NUM! | CL46: #NUM! | CM46: #NUM! | CN46: #NUM! | CO46: #NUM! | CP46: #NUM! | CQ46: #NUM! | CR46: #NUM! | CS46: #NUM! | CT46: #NUM! | CU46: #NUM! | CV46: #NUM! | CW46: #NUM! | CX46: #NUM! | CY46: #NUM! | CZ46: #NUM! | DA46: #NUM! | DB46: 0.021250217 | DC46: 0.00493603 | DD46: #NUM! | DE46: #NUM! | DF46: #NUM! | DG46: #NUM! | DH46: #NUM! | DI46: #NUM! | DJ46: #NUM! | DK46: #NUM! | DL46: #NUM! | DM46: #NUM! | DN46: #NUM! | DO46: #NUM! | DP46: #NUM! | DQ46: #NUM! | DR46: #NUM! | DS46: #NUM! | DT46: #NUM! | DU46: #NUM! | DV46: #NUM! | DW46: #NUM! | DX46: #NUM! | DY46: #NUM! | DZ46: #NUM! | EA46: #NUM! | EB46: #NUM! | EC46: -0.00011538348 | ED46: #NUM! | EE46: #NUM! | EF46: #NUM! | EG46: #NUM! | EH46: #NUM! | EI46: #NUM! | EJ46: #NUM! | EK46: #NUM! | EL46: #NUM! | EM46: #NUM! | EN46: #NUM! | EO46: #NUM! | EP46: #NUM! | EQ46: #NUM! | ER46: #NUM! | ES46: #NUM! | ET46: #NUM! | EU46: #NUM! | EV46: 0.026392233 | EW46: #NUM! | EX46: #NUM! | EY46: #NUM! | EZ46: #NUM! | FA46: #NUM! | FB46: #NUM! | FC46: #NUM! | FD46: #NUM! | FE46: #NUM! | FF46: #NUM! | FG46: #NUM! | FH46: #NUM! | FI46: #NUM! | FJ46: #NUM! | FK46: #NUM! | FL46: #NUM! | FM46: #NUM! | FN46: #NUM! | FO46: #NUM! | FP46: #NUM! | FQ46: #NUM! | FR46: #NUM! | FS46: #NUM! | FT46: #NUM! | FU46: #NUM! | FV46: #NUM! | FW46: #NUM! | FX46: #NUM! | FY46: #NUM! | FZ46: #NUM! | GA46: #NUM! | GB46: #NUM! | GC46: #NUM! | GD46: #NUM! | GE46: #NUM!
A47: 34578 | B47: #NUM! | C47: #NUM! | D47: #NUM! | E47: #NUM! | F47: #NUM! | G47: #NUM! | H47: #NUM! | I47: #NUM! | J47: #NUM! | K47: #NUM! | L47: #NUM! | M47: #NUM! | N47: #NUM! | O47: #NUM! | P47: #NUM! | Q47: #NUM! | R47: #NUM! | S47: #NUM! | T47: #NUM! | U47: #NUM! | V47: #NUM! | W47: #NUM! | X47: #NUM! | Y47: #NUM! | Z47: #NUM! | AA47: #NUM! | AB47: #NUM! | AC47: #NUM! | AD47: #NUM! | AE47: #NUM! | AF47: #NUM! | AG47: #NUM! | AH47: #NUM! | AI47: #NUM! | AJ47: #NUM! | AK47: #NUM! | AL47: #NUM! | AM47: #NUM! | AN47: #NUM! | AO47: #NUM! | AP47: #NUM! | AQ47: #NUM! | AR47: #NUM! | AS47: #NUM! | AT47: #NUM! | AU47: #NUM! | AV47: #NUM! | AW47: #NUM! | AX47: 0.019128346 | AY47: #NUM! | AZ47: #NUM! | BA47: #NUM! | BB47: 0.052875197 | BC47: #NUM! | BD47: #NUM! | BE47: #NUM! | BF47: #NUM! | BG47: 0.0070076731 | BH47: #NUM! | BI47: #NUM! | BJ47: #NUM! | BK47: #NUM! | BL47: #NUM! | BM47: #NUM! | BN47: #NUM! | BO47: #NUM! | BP47: #NUM! | BQ47: #NUM! | BR47: #NUM! | BS47: #NUM! | BT47: #NUM! | BU47: #NUM! | BV47: #NUM! | BW47: #NUM! | BX47: #NUM! | BY47: 0.0097157064 | BZ47: #NUM! | CA47: #NUM! | CB47: #NUM! | CC47: #NUM! | CD47: #NUM! | CE47: #NUM! | CF47: #NUM! | CG47: #NUM! | CH47: #NUM! | CI47: #NUM! | CJ47: #NUM! | CK47: #NUM! | CL47: #NUM! | CM47: #NUM! | CN47: #NUM! | CO47: #NUM! | CP47: #NUM! | CQ47: #NUM! | CR47: #NUM! | CS47: #NUM! | CT47: #NUM! | CU47: #NUM! | CV47: #NUM! | CW47: #NUM! | CX47: #NUM! | CY47: #NUM! | CZ47: #NUM! | DA47: #NUM! | DB47: 0.058397714 | DC47: 0.015971157 | DD47: #NUM! | DE47: #NUM! | DF47: #NUM! | DG47: #NUM! | DH47: #NUM! | DI47: #NUM! | DJ47: #NUM! | DK47: #NUM! | DL47: #NUM! | DM47: #NUM! | DN47: #NUM! | DO47: #NUM! | DP47: #NUM! | DQ47: #NUM! | DR47: #NUM! | DS47: #NUM! | DT47: #NUM! | DU47: #NUM! | DV47: #NUM! | DW47: #NUM! | DX47: #NUM! | DY47: #NUM! | DZ47: #NUM! | EA47: #NUM! | EB47: #NUM! | EC47: 0.010698364 | ED47: #NUM! | EE47: #NUM! | EF47: #NUM! | EG47: #NUM! | EH47: #NUM! | EI47: #NUM! | EJ47: #NUM! | EK47: #NUM! | EL47: #NUM! | EM47: #NUM! | EN47: #NUM! | EO47: #NUM! | EP47: #NUM! | EQ47: #NUM! | ER47: #NUM! | ES47: #NUM! | ET47: #NUM! | EU47: #NUM! | EV47: 0.013775426 | EW47: #NUM! | EX47: #NUM! | EY47: #NUM! | EZ47: #NUM! | FA47: #NUM! | FB47: #NUM! | FC47: #NUM! | FD47: #NUM! | FE47: #NUM! | FF47: #NUM! | FG47: #NUM! | FH47: #NUM! | FI47: #NUM! | FJ47: #NUM! | FK47: #NUM! | FL47: 0.01705446 | FM47: #NUM! | FN47: #NUM! | FO47: #NUM! | FP47: #NUM! | FQ47: #NUM! | FR47: #NUM! | FS47: #NUM! | FT47: #NUM! | FU47: #NUM! | FV47: #NUM! | FW47: #NUM! | FX47: #NUM! | FY47: #NUM! | FZ47: #NUM! | GA47: #NUM! | GB47: #NUM! | GC47: #NUM! | GD47: #NUM! | GE47: #NUM!
A48: 34608 | B48: #NUM! | C48: #NUM! | D48: #NUM! | E48: #NUM! | F48: #NUM! | G48: #NUM! | H48: #NUM! | I48: #NUM! | J48: #NUM! | K48: #NUM! | L48: #NUM! | M48: #NUM! | N48: #NUM! | O48: #NUM! | P48: #NUM! | Q48: #NUM! | R48: #NUM! | S48: #NUM! | T48: #NUM! | U48: #NUM! | V48: #NUM! | W48: #NUM! | X48: #NUM! | Y48: #NUM! | Z48: #NUM! | AA48: #NUM! | AB48: #NUM! | AC48: #NUM! | AD48: #NUM! | AE48: #NUM! | AF48: #NUM! | AG48: #NUM! | AH48: #NUM! | AI48: #NUM! | AJ48: #NUM! | AK48: #NUM! | AL48: #NUM! | AM48: #NUM! | AN48: #NUM! | AO48: #NUM! | AP48: #NUM! | AQ48: #NUM! | AR48: #NUM! | AS48: #NUM! | AT48: #NUM! | AU48: #NUM! | AV48: #NUM! | AW48: #NUM! | AX48: -0.042562718 | AY48: #NUM! | AZ48: #NUM! | BA48: #NUM! | BB48: -0.055997142 | BC48: #NUM! | BD48: #NUM! | BE48: #NUM! | BF48: #NUM! | BG48: -0.038710682 | BH48: #NUM! | BI48: #NUM! | BJ48: #NUM! | BK48: #NUM! | BL48: #NUM! | BM48: #NUM! | BN48: #NUM! | BO48: #NUM! | BP48: #NUM! | BQ48: #NUM! | BR48: #NUM! | BS48: #NUM! | BT48: #NUM! | BU48: #NUM! | BV48: #NUM! | BW48: #NUM! | BX48: #NUM! | BY48: -0.038050836 | BZ48: #NUM! | CA48: #NUM! | CB48: #NUM! | CC48: #NUM! | CD48: #NUM! | CE48: #NUM! | CF48: #NUM! | CG48: #NUM! | CH48: #NUM! | CI48: #NUM! | CJ48: #NUM! | CK48: #NUM! | CL48: #NUM! | CM48: #NUM! | CN48: #NUM! | CO48: #NUM! | CP48: #NUM! | CQ48: #NUM! | CR48: #NUM! | CS48: #NUM! | CT48: #NUM! | CU48: #NUM! | CV48: #NUM! | CW48: #NUM! | CX48: #NUM! | CY48: #NUM! | CZ48: #NUM! | DA48: #NUM! | DB48: -0.060464468 | DC48: -0.039353352 | DD48: #NUM! | DE48: #NUM! | DF48: #NUM! | DG48: #NUM! | DH48: #NUM! | DI48: #NUM! | DJ48: #NUM! | DK48: #NUM! | DL48: #NUM! | DM48: #NUM! | DN48: #NUM! | DO48: #NUM! | DP48: #NUM! | DQ48: #NUM! | DR48: #NUM! | DS48: #NUM! | DT48: #NUM! | DU48: #NUM! | DV48: #NUM! | DW48: #NUM! | DX48: #NUM! | DY48: #NUM! | DZ48: #NUM! | EA48: #NUM! | EB48: #NUM! | EC48: -0.039600849 | ED48: #NUM! | EE48: #NUM! | EF48: #NUM! | EG48: #NUM! | EH48: #NUM! | EI48: #NUM! | EJ48: #NUM! | EK48: #NUM! | EL48: #NUM! | EM48: #NUM! | EN48: #NUM! | EO48: #NUM! | EP48: #NUM! | EQ48: #NUM! | ER48: #NUM! | ES48: #NUM! | ET48: #NUM! | EU48: #NUM! | EV48: -0.04462925 | EW48: #NUM! | EX48: #NUM! | EY48: #NUM! | EZ48: #NUM! | FA48: #NUM! | FB48: #NUM! | FC48: #NUM! | FD48: #NUM! | FE48: #NUM! | FF48: #NUM! | FG48: #NUM! | FH48: #NUM! | FI48: #NUM! | FJ48: #NUM! | FK48: #NUM! | FL48: -0.006238699 | FM48: #NUM! | FN48: #NUM! | FO48: #NUM! | FP48: #NUM! | FQ48: #NUM! | FR48: #NUM! | FS48: #NUM! | FT48: #NUM! | FU48: #NUM! | FV48: #NUM! | FW48: #NUM! | FX48: #NUM! | FY48: #NUM! | FZ48: #NUM! | GA48: #NUM! | GB48: #NUM! | GC48: #NUM! | GD48: #NUM! | GE48: #NUM!
A49: 34639 | B49: #NUM! | C49: #NUM! | D49: #NUM! | E49: #NUM! | F49: #NUM! | G49: #NUM! | H49: #NUM! | I49: #NUM! | J49: #NUM! | K49: #NUM! | L49: #NUM! | M49: #NUM! | N49: #NUM! | O49: #NUM! | P49: #NUM! | Q49: #NUM! | R49: #NUM! | S49: #NUM! | T49: #NUM! | U49: #NUM! | V49: #NUM! | W49: #NUM! | X49: #NUM! | Y49: #NUM! | Z49: #NUM! | AA49: #NUM! | AB49: #NUM! | AC49: #NUM! | AD49: #NUM! | AE49: #NUM! | AF49: #NUM! | AG49: #NUM! | AH49: #NUM! | AI49: #NUM! | AJ49: #NUM! | AK49: #NUM! | AL49: #NUM! | AM49: #NUM! | AN49: #NUM! | AO49: #NUM! | AP49: #NUM! | AQ49: #NUM! | AR49: #NUM! | AS49: #NUM! | AT49: #NUM! | AU49: #NUM! | AV49: #NUM! | AW49: #NUM! | AX49: -0.034059038 | AY49: #NUM! | AZ49: #NUM! | BA49: #NUM! | BB49: -0.005505165 | BC49: #NUM! | BD49: #NUM! | BE49: #NUM! | BF49: #NUM! | BG49: -0.036757437 | BH49: #NUM! | BI49: #NUM! | BJ49: #NUM! | BK49: #NUM! | BL49: #NUM! | BM49: #NUM! | BN49: #NUM! | BO49: #NUM! | BP49: #NUM! | BQ49: #NUM! | BR49: #NUM! | BS49: #NUM! | BT49: #NUM! | BU49: #NUM! | BV49: #NUM! | BW49: #NUM! | BX49: #NUM! | BY49: -0.02047309 | BZ49: #NUM! | CA49: #NUM! | CB49: #NUM! | CC49: #NUM! | CD49: #NUM! | CE49: #NUM! | CF49: #NUM! | CG49: #NUM! | CH49: #NUM! | CI49: #NUM! | CJ49: #NUM! | CK49: #NUM! | CL49: #NUM! | CM49: #NUM! | CN49: #NUM! | CO49: #NUM! | CP49: #NUM! | CQ49: #NUM! | CR49: #NUM! | CS49: #NUM! | CT49: #NUM! | CU49: #NUM! | CV49: #NUM! | CW49: #NUM! | CX49: #NUM! | CY49: #NUM! | CZ49: #NUM! | DA49: #NUM! | DB49: -0.0087891822 | DC49: -0.035404626 | DD49: #NUM! | DE49: #NUM! | DF49: #NUM! | DG49: #NUM! | DH49: #NUM! | DI49: #NUM! | DJ49: #NUM! | DK49: #NUM! | DL49: #NUM! | DM49: #NUM! | DN49: #NUM! | DO49: #NUM! | DP49: #NUM! | DQ49: #NUM! | DR49: #NUM! | DS49: #NUM! | DT49: #NUM! | DU49: #NUM! | DV49: #NUM! | DW49: #NUM! | DX49: #NUM! | DY49: #NUM! | DZ49: #NUM! | EA49: #NUM! | EB49: #NUM! | EC49: -0.031801665 | ED49: #NUM! | EE49: #NUM! | EF49: #NUM! | EG49: #NUM! | EH49: #NUM! | EI49: #NUM! | EJ49: #NUM! | EK49: #NUM! | EL49: #NUM! | EM49: #NUM! | EN49: #NUM! | EO49: #NUM! | EP49: #NUM! | EQ49: #NUM! | ER49: #NUM! | ES49: #NUM! | ET49: #NUM! | EU49: #NUM! | EV49: -0.016999996 | EW49: #NUM! | EX49: #NUM! | EY49: #NUM! | EZ49: #NUM! | FA49: #NUM! | FB49: #NUM! | FC49: #NUM! | FD49: #NUM! | FE49: #NUM! | FF49: #NUM! | FG49: #NUM! | FH49: #NUM! | FI49: #NUM! | FJ49: #NUM! | FK49: #NUM! | FL49: -0.010875956 | FM49: #NUM! | FN49: #NUM! | FO49: #NUM! | FP49: #NUM! | FQ49: #NUM! | FR49: #NUM! | FS49: #NUM! | FT49: #NUM! | FU49: #NUM! | FV49: #NUM! | FW49: #NUM! | FX49: #NUM! | FY49: #NUM! | FZ49: #NUM! | GA49: #NUM! | GB49: #NUM! | GC49: #NUM! | GD49: #NUM! | GE49: #NUM!
A50: 34669 | B50: #NUM! | C50: #NUM! | D50: #NUM! | E50: #NUM! | F50: #NUM! | G50: #NUM! | H50: #NUM! | I50: #NUM! | J50: #NUM! | K50: #NUM! | L50: #NUM! | M50: #NUM! | N50: #NUM! | O50: #NUM! | P50: #NUM! | Q50: #NUM! | R50: #NUM! | S50: #NUM! | T50: #NUM! | U50: #NUM! | V50: #NUM! | W50: #NUM! | X50: #NUM! | Y50: #NUM! | Z50: #NUM! | AA50: #NUM! | AB50: #NUM! | AC50: #NUM! | AD50: #NUM! | AE50: #NUM! | AF50: #NUM! | AG50: #NUM! | AH50: #NUM! | AI50: #NUM! | AJ50: #NUM! | AK50: #NUM! | AL50: #NUM! | AM50: #NUM! | AN50: #NUM! | AO50: #NUM! | AP50: #NUM! | AQ50: #NUM! | AR50: #NUM! | AS50: #NUM! | AT50: #NUM! | AU50: #NUM! | AV50: #NUM! | AW50: #NUM! | AX50: -0.0077509409 | AY50: #NUM! | AZ50: #NUM! | BA50: #NUM! | BB50: -0.011058957 | BC50: #NUM! | BD50: #NUM! | BE50: #NUM! | BF50: #NUM! | BG50: -0.017952074 | BH50: #NUM! | BI50: #NUM! | BJ50: #NUM! | BK50: #NUM! | BL50: #NUM! | BM50: #NUM! | BN50: #NUM! | BO50: #NUM! | BP50: #NUM! | BQ50: #NUM! | BR50: #NUM! | BS50: #NUM! | BT50: #NUM! | BU50: #NUM! | BV50: #NUM! | BW50: #NUM! | BX50: #NUM! | BY50: -0.011735033 | BZ50: #NUM! | CA50: #NUM! | CB50: #NUM! | CC50: #NUM! | CD50: #NUM! | CE50: #NUM! | CF50: #NUM! | CG50: #NUM! | CH50: #NUM! | CI50: #NUM! | CJ50: #NUM! | CK50: #NUM! | CL50: #NUM! | CM50: #NUM! | CN50: #NUM! | CO50: #NUM! | CP50: #NUM! | CQ50: #NUM! | CR50: #NUM! | CS50: #NUM! | CT50: #NUM! | CU50: #NUM! | CV50: #NUM! | CW50: #NUM! | CX50: #NUM! | CY50: #NUM! | CZ50: #NUM! | DA50: #NUM! | DB50: -0.0029932499 | DC50: -0.0080823523 | DD50: #NUM! | DE50: #NUM! | DF50: #NUM! | DG50: #NUM! | DH50: #NUM! | DI50: #NUM! | DJ50: #NUM! | DK50: #NUM! | DL50: #NUM! | DM50: #NUM! | DN50: #NUM! | DO50: #NUM! | DP50: #NUM! | DQ50: #NUM! | DR50: #NUM! | DS50: #NUM! | DT50: #NUM! | DU50: #NUM! | DV50: #NUM! | DW50: #NUM! | DX50: #NUM! | DY50: #NUM! | DZ50: #NUM! | EA50: #NUM! | EB50: #NUM! | EC50: -0.015703255 | ED50: #NUM! | EE50: #NUM! | EF50: #NUM! | EG50: #NUM! | EH50: #NUM! | EI50: #NUM! | EJ50: #NUM! | EK50: #NUM! | EL50: #NUM! | EM50: #NUM! | EN50: #NUM! | EO50: #NUM! | EP50: #NUM! | EQ50: #NUM! | ER50: #NUM! | ES50: #NUM! | ET50: #NUM! | EU50: #NUM! | EV50: -0.012328616 | EW50: #NUM! | EX50: #NUM! | EY50: #NUM! | EZ50: #NUM! | FA50: #NUM! | FB50: #NUM! | FC50: #NUM! | FD50: #NUM! | FE50: #NUM! | FF50: #NUM! | FG50: #NUM! | FH50: #NUM! | FI50: #NUM! | FJ50: #NUM! | FK50: #NUM! | FL50: -0.0085425059 | FM50: #NUM! | FN50: #NUM! | FO50: #NUM! | FP50: #NUM! | FQ50: #NUM! | FR50: #NUM! | FS50: #NUM! | FT50: #NUM! | FU50: #NUM! | FV50: #NUM! | FW50: #NUM! | FX50: #NUM! | FY50: #NUM! | FZ50: #NUM! | GA50: #NUM! | GB50: #NUM! | GC50: #NUM! | GD50: #NUM! | GE50: #NUM!
A51: 34700 | B51: #NUM! | C51: #NUM! | D51: #NUM! | E51: #NUM! | F51: #NUM! | G51: #NUM! | H51: #NUM! | I51: #NUM! | J51: #NUM! | K51: #NUM! | L51: #NUM! | M51: #NUM! | N51: #NUM! | O51: #NUM! | P51: #NUM! | Q51: #NUM! | R51: #NUM! | S51: #NUM! | T51: #NUM! | U51: #NUM! | V51: #NUM! | W51: #NUM! | X51: #NUM! | Y51: #NUM! | Z51: #NUM! | AA51: #NUM! | AB51: #NUM! | AC51: #NUM! | AD51: #NUM! | AE51: #NUM! | AF51: #NUM! | AG51: #NUM! | AH51: #NUM! | AI51: #NUM! | AJ51: #NUM! | AK51: #NUM! | AL51: #NUM! | AM51: #NUM! | AN51: #NUM! | AO51: #NUM! | AP51: #NUM! | AQ51: #NUM! | AR51: #NUM! | AS51: #NUM! | AT51: #NUM! | AU51: #NUM! | AV51: #NUM! | AW51: #NUM! | AX51: -0.023222387 | AY51: #NUM! | AZ51: #NUM! | BA51: #NUM! | BB51: -0.0054090617 | BC51: #NUM! | BD51: #NUM! | BE51: #NUM! | BF51: #NUM! | BG51: -0.011483774 | BH51: #NUM! | BI51: #NUM! | BJ51: #NUM! | BK51: #NUM! | BL51: #NUM! | BM51: #NUM! | BN51: #NUM! | BO51: #NUM! | BP51: #NUM! | BQ51: #NUM! | BR51: #NUM! | BS51: #NUM! | BT51: #NUM! | BU51: #NUM! | BV51: #NUM! | BW51: #NUM! | BX51: #NUM! | BY51: -0.0042894249 | BZ51: #NUM! | CA51: #NUM! | CB51: #NUM! | CC51: #NUM! | CD51: #NUM! | CE51: #NUM! | CF51: #NUM! | CG51: #NUM! | CH51: #NUM! | CI51: #NUM! | CJ51: #NUM! | CK51: #NUM! | CL51: #NUM! | CM51: #NUM! | CN51: #NUM! | CO51: #NUM! | CP51: #NUM! | CQ51: #NUM! | CR51: #NUM! | CS51: #NUM! | CT51: #NUM! | CU51: #NUM! | CV51: #NUM! | CW51: #NUM! | CX51: #NUM! | CY51: #NUM! | CZ51: #NUM! | DA51: #NUM! | DB51: 0.008497186 | DC51: -0.021943309 | DD51: #NUM! | DE51: #NUM! | DF51: #NUM! | DG51: #NUM! | DH51: #NUM! | DI51: #NUM! | DJ51: #NUM! | DK51: #NUM! | DL51: #NUM! | DM51: #NUM! | DN51: #NUM! | DO51: #NUM! | DP51: #NUM! | DQ51: #NUM! | DR51: #NUM! | DS51: #NUM! | DT51: #NUM! | DU51: #NUM! | DV51: #NUM! | DW51: #NUM! | DX51: #NUM! | DY51: #NUM! | DZ51: #NUM! | EA51: #NUM! | EB51: #NUM! | EC51: -0.0061278474 | ED51: #NUM! | EE51: #NUM! | EF51: #NUM! | EG51: #NUM! | EH51: #NUM! | EI51: #NUM! | EJ51: #NUM! | EK51: #NUM! | EL51: #NUM! | EM51: #NUM! | EN51: #NUM! | EO51: #NUM! | EP51: #NUM! | EQ51: #NUM! | ER51: #NUM! | ES51: #NUM! | ET51: #NUM! | EU51: #NUM! | EV51: -0.01604609 | EW51: #NUM! | EX51: #NUM! | EY51: #NUM! | EZ51: #NUM! | FA51: #NUM! | FB51: #NUM! | FC51: #NUM! | FD51: #NUM! | FE51: #NUM! | FF51: #NUM! | FG51: #NUM! | FH51: #NUM! | FI51: #NUM! | FJ51: #NUM! | FK51: #NUM! | FL51: 0.0027271195 | FM51: #NUM! | FN51: #NUM! | FO51: #NUM! | FP51: #NUM! | FQ51: #NUM! | FR51: #NUM! | FS51: #NUM! | FT51: #NUM! | FU51: #NUM! | FV51: #NUM! | FW51: #NUM! | FX51: #NUM! | FY51: #NUM! | FZ51: #NUM! | GA51: #NUM! | GB51: #NUM! | GC51: #NUM! | GD51: #NUM! | GE51: #NUM!
A52: 34731 | B52: #NUM! | C52: #NUM! | D52: #NUM! | E52: #NUM! | F52: #NUM! | G52: #NUM! | H52: #NUM! | I52: #NUM! | J52: #NUM! | K52: #NUM! | L52: #NUM! | M52: #NUM! | N52: #NUM! | O52: #NUM! | P52: #NUM! | Q52: #NUM! | R52: #NUM! | S52: #NUM! | T52: #NUM! | U52: #NUM! | V52: #NUM! | W52: #NUM! | X52: #NUM! | Y52: #NUM! | Z52: #NUM! | AA52: #NUM! | AB52: #NUM! | AC52: #NUM! | AD52: #NUM! | AE52: #NUM! | AF52: #NUM! | AG52: #NUM! | AH52: #NUM! | AI52: #NUM! | AJ52: #NUM! | AK52: #NUM! | AL52: #NUM! | AM52: #NUM! | AN52: #NUM! | AO52: #NUM! | AP52: #NUM! | AQ52: #NUM! | AR52: #NUM! | AS52: #NUM! | AT52: #NUM! | AU52: #NUM! | AV52: #NUM! | AW52: #NUM! | AX52: -0.033623278 | AY52: #NUM! | AZ52: #NUM! | BA52: #NUM! | BB52: -0.020723461 | BC52: #NUM! | BD52: #NUM! | BE52: #NUM! | BF52: #NUM! | BG52: -0.015897879 | BH52: #NUM! | BI52: #NUM! | BJ52: #NUM! | BK52: #NUM! | BL52: #NUM! | BM52: #NUM! | BN52: #NUM! | BO52: #NUM! | BP52: #NUM! | BQ52: #NUM! | BR52: #NUM! | BS52: #NUM! | BT52: #NUM! | BU52: #NUM! | BV52: #NUM! | BW52: #NUM! | BX52: #NUM! | BY52: -0.024787365 | BZ52: #NUM! | CA52: #NUM! | CB52: #NUM! | CC52: #NUM! | CD52: #NUM! | CE52: #NUM! | CF52: #NUM! | CG52: #NUM! | CH52: #NUM! | CI52: #NUM! | CJ52: #NUM! | CK52: #NUM! | CL52: #NUM! | CM52: #NUM! | CN52: #NUM! | CO52: #NUM! | CP52: #NUM! | CQ52: #NUM! | CR52: #NUM! | CS52: #NUM! | CT52: #NUM! | CU52: #NUM! | CV52: #NUM! | CW52: #NUM! | CX52: #NUM! | CY52: #NUM! | CZ52: #NUM! | DA52: #NUM! | DB52: -0.037962683 | DC52: -0.025100692 | DD52: #NUM! | DE52: #NUM! | DF52: #NUM! | DG52: #NUM! | DH52: #NUM! | DI52: #NUM! | DJ52: #NUM! | DK52: #NUM! | DL52: #NUM! | DM52: #NUM! | DN52: #NUM! | DO52: #NUM! | DP52: #NUM! | DQ52: #NUM! | DR52: #NUM! | DS52: #NUM! | DT52: #NUM! | DU52: #NUM! | DV52: #NUM! | DW52: #NUM! | DX52: #NUM! | DY52: #NUM! | DZ52: #NUM! | EA52: #NUM! | EB52: #NUM! | EC52: -0.029837249 | ED52: #NUM! | EE52: #NUM! | EF52: #NUM! | EG52: #NUM! | EH52: #NUM! | EI52: #NUM! | EJ52: #NUM! | EK52: #NUM! | EL52: #NUM! | EM52: #NUM! | EN52: #NUM! | EO52: #NUM! | EP52: #NUM! | EQ52: #NUM! | ER52: #NUM! | ES52: #NUM! | ET52: #NUM! | EU52: #NUM! | EV52: -0.03382522 | EW52: #NUM! | EX52: #NUM! | EY52: #NUM! | EZ52: #NUM! | FA52: #NUM! | FB52: #NUM! | FC52: #NUM! | FD52: #NUM! | FE52: #NUM! | FF52: #NUM! | FG52: #NUM! | FH52: #NUM! | FI52: #NUM! | FJ52: #NUM! | FK52: #NUM! | FL52: 0.0043420236 | FM52: #NUM! | FN52: #NUM! | FO52: #NUM! | FP52: #NUM! | FQ52: #NUM! | FR52: #NUM! | FS52: #NUM! | FT52: #NUM! | FU52: #NUM! | FV52: #NUM! | FW52: #NUM! | FX52: #NUM! | FY52: #NUM! | FZ52: #NUM! | GA52: #NUM! | GB52: #NUM! | GC52: #NUM! | GD52: #NUM! | GE52: #NUM!
A53: 34759 | B53: #NUM! | C53: #NUM! | D53: #NUM! | E53: #NUM! | F53: #NUM! | G53: #NUM! | H53: #NUM! | I53: #NUM! | J53: #NUM! | K53: #NUM! | L53: #NUM! | M53: #NUM! | N53: #NUM! | O53: #NUM! | P53: #NUM! | Q53: #NUM! | R53: #NUM! | S53: #NUM! | T53: #NUM! | U53: #NUM! | V53: #NUM! | W53: #NUM! | X53: #NUM! | Y53: #NUM! | Z53: #NUM! | AA53: #NUM! | AB53: #NUM! | AC53: #NUM! | AD53: #NUM! | AE53: #NUM! | AF53: #NUM! | AG53: #NUM! | AH53: #NUM! | AI53: #NUM! | AJ53: #NUM! | AK53: #NUM! | AL53: #NUM! | AM53: #NUM! | AN53: #NUM! | AO53: #NUM! | AP53: #NUM! | AQ53: #NUM! | AR53: #NUM! | AS53: #NUM! | AT53: #NUM! | AU53: #NUM! | AV53: #NUM! | AW53: #NUM! | AX53: -0.058142914 | AY53: #NUM! | AZ53: #NUM! | BA53: #NUM! | BB53: -0.018056951 | BC53: #NUM! | BD53: #NUM! | BE53: #NUM! | BF53: #NUM! | BG53: -0.037826557 | BH53: #NUM! | BI53: #NUM! | BJ53: #NUM! | BK53: #NUM! | BL53: #NUM! | BM53: #NUM! | BN53: #NUM! | BO53: #NUM! | BP53: #NUM! | BQ53: #NUM! | BR53: #NUM! | BS53: #NUM! | BT53: #NUM! | BU53: #NUM! | BV53: #NUM! | BW53: #NUM! | BX53: #NUM! | BY53: -0.00049551421 | BZ53: #NUM! | CA53: #NUM! | CB53: #NUM! | CC53: #NUM! | CD53: #NUM! | CE53: #NUM! | CF53: #NUM! | CG53: #NUM! | CH53: #NUM! | CI53: #NUM! | CJ53: #NUM! | CK53: #NUM! | CL53: #NUM! | CM53: #NUM! | CN53: #NUM! | CO53: #NUM! | CP53: #NUM! | CQ53: #NUM! | CR53: #NUM! | CS53: #NUM! | CT53: #NUM! | CU53: #NUM! | CV53: #NUM! | CW53: #NUM! | CX53: #NUM! | CY53: #NUM! | CZ53: #NUM! | DA53: #NUM! | DB53: -0.027175825 | DC53: -0.012971673 | DD53: #NUM! | DE53: #NUM! | DF53: #NUM! | DG53: #NUM! | DH53: #NUM! | DI53: #NUM! | DJ53: #NUM! | DK53: #NUM! | DL53: #NUM! | DM53: #NUM! | DN53: #NUM! | DO53: #NUM! | DP53: #NUM! | DQ53: #NUM! | DR53: #NUM! | DS53: #NUM! | DT53: #NUM! | DU53: #NUM! | DV53: #NUM! | DW53: #NUM! | DX53: #NUM! | DY53: #NUM! | DZ53: #NUM! | EA53: #NUM! | EB53: #NUM! | EC53: -0.03126611 | ED53: #NUM! | EE53: #NUM! | EF53: #NUM! | EG53: #NUM! | EH53: #NUM! | EI53: #NUM! | EJ53: #NUM! | EK53: #NUM! | EL53: #NUM! | EM53: #NUM! | EN53: #NUM! | EO53: #NUM! | EP53: #NUM! | EQ53: #NUM! | ER53: #NUM! | ES53: #NUM! | ET53: #NUM! | EU53: #NUM! | EV53: -0.041209577 | EW53: #NUM! | EX53: #NUM! | EY53: #NUM! | EZ53: #NUM! | FA53: #NUM! | FB53: #NUM! | FC53: #NUM! | FD53: #NUM! | FE53: #NUM! | FF53: #NUM! | FG53: #NUM! | FH53: #NUM! | FI53: #NUM! | FJ53: #NUM! | FK53: #NUM! | FL53: 0.021655354 | FM53: #NUM! | FN53: #NUM! | FO53: #NUM! | FP53: #NUM! | FQ53: #NUM! | FR53: #NUM! | FS53: #NUM! | FT53: #NUM! | FU53: #NUM! | FV53: #NUM! | FW53: #NUM! | FX53: #NUM! | FY53: #NUM! | FZ53: #NUM! | GA53: #NUM! | GB53: #NUM! | GC53: #NUM! | GD53: #NUM! | GE53: #NUM!
A54: 34790 | B54: #NUM! | C54: #NUM! | D54: #NUM! | E54: #NUM! | F54: #NUM! | G54: #NUM! | H54: #NUM! | I54: #NUM! | J54: #NUM! | K54: #NUM! | L54: #NUM! | M54: #NUM! | N54: #NUM! | O54: #NUM! | P54: #NUM! | Q54: #NUM! | R54: #NUM! | S54: #NUM! | T54: #NUM! | U54: #NUM! | V54: #NUM! | W54: #NUM! | X54: #NUM! | Y54: #NUM! | Z54: #NUM! | AA54: #NUM! | AB54: #NUM! | AC54: #NUM! | AD54: #NUM! | AE54: #NUM! | AF54: #NUM! | AG54: #NUM! | AH54: #NUM! | AI54: #NUM! | AJ54: #NUM! | AK54: #NUM! | AL54: #NUM! | AM54: #NUM! | AN54: #NUM! | AO54: #NUM! | AP54: #NUM! | AQ54: #NUM! | AR54: #NUM! | AS54: #NUM! | AT54: #NUM! | AU54: #NUM! | AV54: #NUM! | AW54: #NUM! | AX54: -0.041978246 | AY54: #NUM! | AZ54: #NUM! | BA54: #NUM! | BB54: -0.0053665064 | BC54: #NUM! | BD54: #NUM! | BE54: #NUM! | BF54: #NUM! | BG54: -0.0388744 | BH54: #NUM! | BI54: #NUM! | BJ54: #NUM! | BK54: #NUM! | BL54: #NUM! | BM54: #NUM! | BN54: #NUM! | BO54: #NUM! | BP54: #NUM! | BQ54: #NUM! | BR54: #NUM! | BS54: #NUM! | BT54: #NUM! | BU54: #NUM! | BV54: #NUM! | BW54: #NUM! | BX54: #NUM! | BY54: -0.024915777 | BZ54: #NUM! | CA54: #NUM! | CB54: #NUM! | CC54: #NUM! | CD54: #NUM! | CE54: #NUM! | CF54: #NUM! | CG54: #NUM! | CH54: #NUM! | CI54: #NUM! | CJ54: #NUM! | CK54: #NUM! | CL54: #NUM! | CM54: #NUM! | CN54: #NUM! | CO54: #NUM! | CP54: #NUM! | CQ54: #NUM! | CR54: #NUM! | CS54: #NUM! | CT54: #NUM! | CU54: #NUM! | CV54: #NUM! | CW54: #NUM! | CX54: #NUM! | CY54: #NUM! | CZ54: #NUM! | DA54: #NUM! | DB54: -0.00043587654 | DC54: -0.042081443 | DD54: #NUM! | DE54: #NUM! | DF54: #NUM! | DG54: #NUM! | DH54: #NUM! | DI54: #NUM! | DJ54: #NUM! | DK54: #NUM! | DL54: #NUM! | DM54: #NUM! | DN54: #NUM! | DO54: #NUM! | DP54: #NUM! | DQ54: #NUM! | DR54: #NUM! | DS54: #NUM! | DT54: #NUM! | DU54: #NUM! | DV54: #NUM! | DW54: #NUM! | DX54: #NUM! | DY54: #NUM! | DZ54: #NUM! | EA54: #NUM! | EB54: #NUM! | EC54: -0.065521235 | ED54: #NUM! | EE54: #NUM! | EF54: #NUM! | EG54: #NUM! | EH54: #NUM! | EI54: #NUM! | EJ54: #NUM! | EK54: #NUM! | EL54: #NUM! | EM54: #NUM! | EN54: #NUM! | EO54: #NUM! | EP54: #NUM! | EQ54: #NUM! | ER54: #NUM! | ES54: #NUM! | ET54: #NUM! | EU54: #NUM! | EV54: -0.032082593 | EW54: #NUM! | EX54: #NUM! | EY54: #NUM! | EZ54: #NUM! | FA54: #NUM! | FB54: #NUM! | FC54: #NUM! | FD54: #NUM! | FE54: #NUM! | FF54: #NUM! | FG54: #NUM! | FH54: #NUM! | FI54: #NUM! | FJ54: #NUM! | FK54: #NUM! | FL54: 0.04589914 | FM54: #NUM! | FN54: #NUM! | FO54: #NUM! | FP54: #NUM! | FQ54: #NUM! | FR54: #NUM! | FS54: #NUM! | FT54: #NUM! | FU54: #NUM! | FV54: #NUM! | FW54: #NUM! | FX54: #NUM! | FY54: #NUM! | FZ54: #NUM! | GA54: #NUM! | GB54: #NUM! | GC54: #NUM! | GD54: #NUM! | GE54: #NUM!
A55: 34820 | B55: #NUM! | C55: #NUM! | D55: #NUM! | E55: #NUM! | F55: #NUM! | G55: #NUM! | H55: #NUM! | I55: #NUM! | J55: #NUM! | K55: #NUM! | L55: #NUM! | M55: #NUM! | N55: #NUM! | O55: #NUM! | P55: #NUM! | Q55: #NUM! | R55: #NUM! | S55: #NUM! | T55: #NUM! | U55: #NUM! | V55: #NUM! | W55: #NUM! | X55: #NUM! | Y55: #NUM! | Z55: #NUM! | AA55: #NUM! | AB55: #NUM! | AC55: #NUM! | AD55: #NUM! | AE55: #NUM! | AF55: #NUM! | AG55: #NUM! | AH55: #NUM! | AI55: #NUM! | AJ55: #NUM! | AK55: #NUM! | AL55: #NUM! | AM55: #NUM! | AN55: #NUM! | AO55: #NUM! | AP55: #NUM! | AQ55: #NUM! | AR55: #NUM! | AS55: #NUM! | AT55: #NUM! | AU55: #NUM! | AV55: #NUM! | AW55: #NUM! | AX55: 0.036305108 | AY55: #NUM! | AZ55: #NUM! | BA55: #NUM! | BB55: 0.040627869 | BC55: #NUM! | BD55: #NUM! | BE55: #NUM! | BF55: #NUM! | BG55: 0.021701239 | BH55: #NUM! | BI55: #NUM! | BJ55: #NUM! | BK55: #NUM! | BL55: #NUM! | BM55: #NUM! | BN55: #NUM! | BO55: #NUM! | BP55: #NUM! | BQ55: #NUM! | BR55: #NUM! | BS55: #NUM! | BT55: #NUM! | BU55: #NUM! | BV55: #NUM! | BW55: #NUM! | BX55: #NUM! | BY55: 0.0096540958 | BZ55: #NUM! | CA55: #NUM! | CB55: #NUM! | CC55: #NUM! | CD55: #NUM! | CE55: #NUM! | CF55: #NUM! | CG55: #NUM! | CH55: #NUM! | CI55: #NUM! | CJ55: #NUM! | CK55: #NUM! | CL55: #NUM! | CM55: #NUM! | CN55: #NUM! | CO55: #NUM! | CP55: #NUM! | CQ55: #NUM! | CR55: #NUM! | CS55: #NUM! | CT55: #NUM! | CU55: #NUM! | CV55: #NUM! | CW55: #NUM! | CX55: #NUM! | CY55: #NUM! | CZ55: #NUM! | DA55: #NUM! | DB55: 0.02388477 | DC55: 0.014896754 | DD55: #NUM! | DE55: #NUM! | DF55: #NUM! | DG55: #NUM! | DH55: #NUM! | DI55: #NUM! | DJ55: #NUM! | DK55: #NUM! | DL55: #NUM! | DM55: #NUM! | DN55: #NUM! | DO55: #NUM! | DP55: #NUM! | DQ55: #NUM! | DR55: #NUM! | DS55: #NUM! | DT55: #NUM! | DU55: #NUM! | DV55: #NUM! | DW55: #NUM! | DX55: #NUM! | DY55: #NUM! | DZ55: #NUM! | EA55: #NUM! | EB55: #NUM! | EC55: 0.037512985 | ED55: #NUM! | EE55: #NUM! | EF55: #NUM! | EG55: #NUM! | EH55: #NUM! | EI55: #NUM! | EJ55: #NUM! | EK55: #NUM! | EL55: #NUM! | EM55: #NUM! | EN55: #NUM! | EO55: #NUM! | EP55: #NUM! | EQ55: #NUM! | ER55: #NUM! | ES55: #NUM! | ET55: #NUM! | EU55: #NUM! | EV55: 0.02357568 | EW55: #NUM! | EX55: #NUM! | EY55: #NUM! | EZ55: #NUM! | FA55: #NUM! | FB55: #NUM! | FC55: #NUM! | FD55: #NUM! | FE55: #NUM! | FF55: #NUM! | FG55: #NUM! | FH55: #NUM! | FI55: #NUM! | FJ55: #NUM! | FK55: #NUM! | FL55: -0.018150988 | FM55: #NUM! | FN55: #NUM! | FO55: #NUM! | FP55: #NUM! | FQ55: #NUM! | FR55: #NUM! | FS55: #NUM! | FT55: #NUM! | FU55: #NUM! | FV55: #NUM! | FW55: #NUM! | FX55: #NUM! | FY55: #NUM! | FZ55: #NUM! | GA55: #NUM! | GB55: #NUM! | GC55: #NUM! | GD55: #NUM! | GE55: #NUM!
A56: 34851 | B56: #NUM! | C56: #NUM! | D56: #NUM! | E56: #NUM! | F56: #NUM! | G56: #NUM! | H56: #NUM! | I56: #NUM! | J56: #NUM! | K56: #NUM! | L56: #NUM! | M56: #NUM! | N56: #NUM! | O56: #NUM! | P56: #NUM! | Q56: #NUM! | R56: #NUM! | S56: #NUM! | T56: #NUM! | U56: #NUM! | V56: #NUM! | W56: #NUM! | X56: #NUM! | Y56: #NUM! | Z56: #NUM! | AA56: #NUM! | AB56: #NUM! | AC56: #NUM! | AD56: #NUM! | AE56: #NUM! | AF56: #NUM! | AG56: #NUM! | AH56: #NUM! | AI56: #NUM! | AJ56: #NUM! | AK56: #NUM! | AL56: #NUM! | AM56: #NUM! | AN56: #NUM! | AO56: #NUM! | AP56: #NUM! | AQ56: #NUM! | AR56: #NUM! | AS56: #NUM! | AT56: #NUM! | AU56: #NUM! | AV56: #NUM! | AW56: #NUM! | AX56: 0.014357602 | AY56: #NUM! | AZ56: #NUM! | BA56: #NUM! | BB56: 0.016449928 | BC56: #NUM! | BD56: #NUM! | BE56: #NUM! | BF56: #NUM! | BG56: 0.004698248 | BH56: #NUM! | BI56: #NUM! | BJ56: #NUM! | BK56: #NUM! | BL56: #NUM! | BM56: #NUM! | BN56: #NUM! | BO56: #NUM! | BP56: #NUM! | BQ56: #NUM! | BR56: #NUM! | BS56: #NUM! | BT56: #NUM! | BU56: #NUM! | BV56: #NUM! | BW56: #NUM! | BX56: #NUM! | BY56: 0.011414759 | BZ56: #NUM! | CA56: #NUM! | CB56: #NUM! | CC56: #NUM! | CD56: #NUM! | CE56: #NUM! | CF56: #NUM! | CG56: #NUM! | CH56: #NUM! | CI56: #NUM! | CJ56: #NUM! | CK56: #NUM! | CL56: #NUM! | CM56: #NUM! | CN56: #NUM! | CO56: #NUM! | CP56: #NUM! | CQ56: #NUM! | CR56: #NUM! | CS56: #NUM! | CT56: #NUM! | CU56: #NUM! | CV56: #NUM! | CW56: #NUM! | CX56: #NUM! | CY56: #NUM! | CZ56: #NUM! | DA56: #NUM! | DB56: 0.028238339 | DC56: 0.026157699 | DD56: #NUM! | DE56: #NUM! | DF56: #NUM! | DG56: #NUM! | DH56: #NUM! | DI56: #NUM! | DJ56: #NUM! | DK56: #NUM! | DL56: #NUM! | DM56: #NUM! | DN56: #NUM! | DO56: #NUM! | DP56: #NUM! | DQ56: #NUM! | DR56: #NUM! | DS56: #NUM! | DT56: #NUM! | DU56: #NUM! | DV56: #NUM! | DW56: #NUM! | DX56: #NUM! | DY56: #NUM! | DZ56: #NUM! | EA56: #NUM! | EB56: #NUM! | EC56: 0.036554151 | ED56: #NUM! | EE56: #NUM! | EF56: #NUM! | EG56: #NUM! | EH56: #NUM! | EI56: #NUM! | EJ56: #NUM! | EK56: #NUM! | EL56: #NUM! | EM56: #NUM! | EN56: #NUM! | EO56: #NUM! | EP56: #NUM! | EQ56: #NUM! | ER56: #NUM! | ES56: #NUM! | ET56: #NUM! | EU56: #NUM! | EV56: 0.033407833 | EW56: #NUM! | EX56: #NUM! | EY56: #NUM! | EZ56: #NUM! | FA56: #NUM! | FB56: #NUM! | FC56: #NUM! | FD56: #NUM! | FE56: #NUM! | FF56: #NUM! | FG56: #NUM! | FH56: #NUM! | FI56: #NUM! | FJ56: #NUM! | FK56: #NUM! | FL56: -0.0017217935 | FM56: #NUM! | FN56: #NUM! | FO56: #NUM! | FP56: #NUM! | FQ56: #NUM! | FR56: #NUM! | FS56: #NUM! | FT56: #NUM! | FU56: #NUM! | FV56: #NUM! | FW56: #NUM! | FX56: #NUM! | FY56: #NUM! | FZ56: #NUM! | GA56: #NUM! | GB56: #NUM! | GC56: #NUM! | GD56: #NUM! | GE56: #NUM!
A57: 34881 | B57: #NUM! | C57: #NUM! | D57: #NUM! | E57: #NUM! | F57: #NUM! | G57: #NUM! | H57: #NUM! | I57: #NUM! | J57: #NUM! | K57: #NUM! | L57: #NUM! | M57: #NUM! | N57: #NUM! | O57: #NUM! | P57: #NUM! | Q57: #NUM! | R57: #NUM! | S57: #NUM! | T57: #NUM! | U57: #NUM! | V57: #NUM! | W57: #NUM! | X57: #NUM! | Y57: #NUM! | Z57: #NUM! | AA57: #NUM! | AB57: #NUM! | AC57: #NUM! | AD57: #NUM! | AE57: #NUM! | AF57: #NUM! | AG57: #NUM! | AH57: #NUM! | AI57: #NUM! | AJ57: #NUM! | AK57: #NUM! | AL57: #NUM! | AM57: #NUM! | AN57: #NUM! | AO57: #NUM! | AP57: #NUM! | AQ57: #NUM! | AR57: #NUM! | AS57: #NUM! | AT57: #NUM! | AU57: #NUM! | AV57: #NUM! | AW57: #NUM! | AX57: -0.020346929 | AY57: #NUM! | AZ57: #NUM! | BA57: #NUM! | BB57: -0.017299714 | BC57: #NUM! | BD57: #NUM! | BE57: #NUM! | BF57: #NUM! | BG57: -0.017757965 | BH57: #NUM! | BI57: #NUM! | BJ57: #NUM! | BK57: #NUM! | BL57: #NUM! | BM57: #NUM! | BN57: #NUM! | BO57: #NUM! | BP57: #NUM! | BQ57: #NUM! | BR57: #NUM! | BS57: #NUM! | BT57: #NUM! | BU57: #NUM! | BV57: #NUM! | BW57: #NUM! | BX57: #NUM! | BY57: -0.0074355453 | BZ57: #NUM! | CA57: #NUM! | CB57: #NUM! | CC57: #NUM! | CD57: #NUM! | CE57: #NUM! | CF57: #NUM! | CG57: #NUM! | CH57: #NUM! | CI57: #NUM! | CJ57: #NUM! | CK57: #NUM! | CL57: #NUM! | CM57: #NUM! | CN57: #NUM! | CO57: #NUM! | CP57: #NUM! | CQ57: #NUM! | CR57: #NUM! | CS57: #NUM! | CT57: #NUM! | CU57: #NUM! | CV57: #NUM! | CW57: #NUM! | CX57: #NUM! | CY57: #NUM! | CZ57: #NUM! | DA57: #NUM! | DB57: -0.035051042 | DC57: 0.012259719 | DD57: #NUM! | DE57: #NUM! | DF57: #NUM! | DG57: #NUM! | DH57: #NUM! | DI57: #NUM! | DJ57: #NUM! | DK57: #NUM! | DL57: #NUM! | DM57: #NUM! | DN57: #NUM! | DO57: #NUM! | DP57: #NUM! | DQ57: #NUM! | DR57: #NUM! | DS57: #NUM! | DT57: #NUM! | DU57: #NUM! | DV57: #NUM! | DW57: #NUM! | DX57: #NUM! | DY57: #NUM! | DZ57: #NUM! | EA57: #NUM! | EB57: #NUM! | EC57: -0.045358677 | ED57: #NUM! | EE57: #NUM! | EF57: #NUM! | EG57: #NUM! | EH57: #NUM! | EI57: #NUM! | EJ57: #NUM! | EK57: #NUM! | EL57: #NUM! | EM57: #NUM! | EN57: #NUM! | EO57: #NUM! | EP57: #NUM! | EQ57: #NUM! | ER57: #NUM! | ES57: #NUM! | ET57: #NUM! | EU57: #NUM! | EV57: -0.01397934 | EW57: #NUM! | EX57: #NUM! | EY57: #NUM! | EZ57: #NUM! | FA57: #NUM! | FB57: #NUM! | FC57: #NUM! | FD57: #NUM! | FE57: #NUM! | FF57: #NUM! | FG57: #NUM! | FH57: #NUM! | FI57: #NUM! | FJ57: #NUM! | FK57: #NUM! | FL57: 0.020231043 | FM57: #NUM! | FN57: #NUM! | FO57: #NUM! | FP57: #NUM! | FQ57: #NUM! | FR57: #NUM! | FS57: #NUM! | FT57: #NUM! | FU57: #NUM! | FV57: #NUM! | FW57: #NUM! | FX57: #NUM! | FY57: #NUM! | FZ57: #NUM! | GA57: #NUM! | GB57: #NUM! | GC57: #NUM! | GD57: #NUM! | GE57: #NUM!
A58: 34912 | B58: #NUM! | C58: #NUM! | D58: #NUM! | E58: #NUM! | F58: #NUM! | G58: #NUM! | H58: #NUM! | I58: #NUM! | J58: #NUM! | K58: #NUM! | L58: #NUM! | M58: #NUM! | N58: #NUM! | O58: #NUM! | P58: #NUM! | Q58: #NUM! | R58: #NUM! | S58: #NUM! | T58: #NUM! | U58: #NUM! | V58: #NUM! | W58: #NUM! | X58: #NUM! | Y58: #NUM! | Z58: #NUM! | AA58: #NUM! | AB58: #NUM! | AC58: #NUM! | AD58: #NUM! | AE58: #NUM! | AF58: #NUM! | AG58: #NUM! | AH58: #NUM! | AI58: #NUM! | AJ58: #NUM! | AK58: #NUM! | AL58: #NUM! | AM58: #NUM! | AN58: #NUM! | AO58: #NUM! | AP58: #NUM! | AQ58: #NUM! | AR58: #NUM! | AS58: #NUM! | AT58: #NUM! | AU58: #NUM! | AV58: #NUM! | AW58: #NUM! | AX58: 0.072919143 | AY58: #NUM! | AZ58: #NUM! | BA58: #NUM! | BB58: 0.035375291 | BC58: #NUM! | BD58: #NUM! | BE58: #NUM! | BF58: #NUM! | BG58: 0.026245514 | BH58: #NUM! | BI58: #NUM! | BJ58: #NUM! | BK58: #NUM! | BL58: #NUM! | BM58: #NUM! | BN58: #NUM! | BO58: #NUM! | BP58: #NUM! | BQ58: #NUM! | BR58: #NUM! | BS58: #NUM! | BT58: #NUM! | BU58: #NUM! | BV58: #NUM! | BW58: #NUM! | BX58: #NUM! | BY58: 0.039062391 | BZ58: #NUM! | CA58: #NUM! | CB58: #NUM! | CC58: #NUM! | CD58: #NUM! | CE58: #NUM! | CF58: #NUM! | CG58: #NUM! | CH58: #NUM! | CI58: #NUM! | CJ58: #NUM! | CK58: #NUM! | CL58: #NUM! | CM58: #NUM! | CN58: #NUM! | CO58: #NUM! | CP58: #NUM! | CQ58: #NUM! | CR58: #NUM! | CS58: #NUM! | CT58: #NUM! | CU58: #NUM! | CV58: #NUM! | CW58: #NUM! | CX58: #NUM! | CY58: #NUM! | CZ58: #NUM! | DA58: #NUM! | DB58: 0.042528321 | DC58: 0.034899082 | DD58: #NUM! | DE58: #NUM! | DF58: #NUM! | DG58: #NUM! | DH58: #NUM! | DI58: #NUM! | DJ58: #NUM! | DK58: #NUM! | DL58: #NUM! | DM58: #NUM! | DN58: #NUM! | DO58: #NUM! | DP58: #NUM! | DQ58: #NUM! | DR58: #NUM! | DS58: #NUM! | DT58: #NUM! | DU58: #NUM! | DV58: #NUM! | DW58: #NUM! | DX58: #NUM! | DY58: #NUM! | DZ58: #NUM! | EA58: #NUM! | EB58: #NUM! | EC58: 0.021667416 | ED58: #NUM! | EE58: #NUM! | EF58: #NUM! | EG58: #NUM! | EH58: #NUM! | EI58: #NUM! | EJ58: #NUM! | EK58: #NUM! | EL58: #NUM! | EM58: #NUM! | EN58: #NUM! | EO58: #NUM! | EP58: #NUM! | EQ58: #NUM! | ER58: #NUM! | ES58: #NUM! | ET58: #NUM! | EU58: #NUM! | EV58: 0.057722065 | EW58: #NUM! | EX58: #NUM! | EY58: #NUM! | EZ58: #NUM! | FA58: #NUM! | FB58: #NUM! | FC58: #NUM! | FD58: #NUM! | FE58: #NUM! | FF58: #NUM! | FG58: #NUM! | FH58: #NUM! | FI58: #NUM! | FJ58: #NUM! | FK58: #NUM! | FL58: 0.018953488 | FM58: #NUM! | FN58: #NUM! | FO58: #NUM! | FP58: #NUM! | FQ58: #NUM! | FR58: #NUM! | FS58: #NUM! | FT58: #NUM! | FU58: #NUM! | FV58: #NUM! | FW58: #NUM! | FX58: #NUM! | FY58: #NUM! | FZ58: #NUM! | GA58: #NUM! | GB58: #NUM! | GC58: #NUM! | GD58: #NUM! | GE58: #NUM!
... A64: 35096 | B64: #NUM! | C64: #NUM! | D64: #NUM! | E64: #NUM! | F64: #NUM! | G64: #NUM! | H64: #NUM! | I64: #NUM! | J64: #NUM! | K64: #NUM! | L64: #NUM! | M64: #NUM! | N64: #NUM! | O64: #NUM! | P64: #NUM! | Q64: #NUM! | R64: #NUM! | S64: #NUM! | T64: #NUM! | U64: #NUM! | V64: #NUM! | W64: #NUM! | X64: #NUM! | Y64: #NUM! | Z64: #NUM! | AA64: #NUM! | AB64: #NUM! | AC64: #NUM! | AD64: #NUM! | AE64: #NUM! | AF64: #NUM! | AG64: #NUM! | AH64: #NUM! | AI64: #NUM! | AJ64: #NUM! | AK64: #NUM! | AL64: #NUM! | AM64: #NUM! | AN64: #NUM! | AO64: #NUM! | AP64: #NUM! | AQ64: #NUM! | AR64: #NUM! | AS64: #NUM! | AT64: #NUM! | AU64: #NUM! | AV64: #NUM! | AW64: #NUM! | AX64: 0.036648986 | AY64: #NUM! | AZ64: #NUM! | BA64: #NUM! | BB64: 0.060807623 | BC64: #NUM! | BD64: #NUM! | BE64: #NUM! | BF64: #NUM! | BG64: 0.057954615 | BH64: #NUM! | BI64: #NUM! | BJ64: #NUM! | BK64: #NUM! | BL64: #NUM! | BM64: #NUM! | BN64: #NUM! | BO64: #NUM! | BP64: #NUM! | BQ64: #NUM! | BR64: #NUM! | BS64: #NUM! | BT64: #NUM! | BU64: #NUM! | BV64: #NUM! | BW64: #NUM! | BX64: #NUM! | BY64: 0.015511846 | BZ64: #NUM! | CA64: #NUM! | CB64: #NUM! | CC64: #NUM! | CD64: #NUM! | CE64: #NUM! | CF64: #NUM! | CG64: #NUM! | CH64: #NUM! | CI64: #NUM! | CJ64: #NUM! | CK64: #NUM! | CL64: #NUM! | CM64: #NUM! | CN64: #NUM! | CO64: #NUM! | CP64: #NUM! | CQ64: #NUM! | CR64: #NUM! | CS64: #NUM! | CT64: #NUM! | CU64: #NUM! | CV64: #NUM! | CW64: #NUM! | CX64: #NUM! | CY64: #NUM! | CZ64: #NUM! | DA64: #NUM! | DB64: 0.0070235255 | DC64: 0.060707787 | DD64: #NUM! | DE64: #NUM! | DF64: #NUM! | DG64: #NUM! | DH64: #NUM! | DI64: #NUM! | DJ64: #NUM! | DK64: #NUM! | DL64: #NUM! | DM64: #NUM! | DN64: #NUM! | DO64: #NUM! | DP64: #NUM! | DQ64: #NUM! | DR64: #NUM! | DS64: #NUM! | DT64: #NUM! | DU64: #NUM! | DV64: #NUM! | DW64: #NUM! | DX64: #NUM! | DY64: #NUM! | DZ64: #NUM! | EA64: #NUM! | EB64: #NUM! | EC64: 0.028546749 | ED64: #NUM! | EE64: #NUM! | EF64: #NUM! | EG64: #NUM! | EH64: #NUM! | EI64: #NUM! | EJ64: #NUM! | EK64: #NUM! | EL64: #NUM! | EM64: #NUM! | EN64: #NUM! | EO64: #NUM! | EP64: #NUM! | EQ64: #NUM! | ER64: #NUM! | ES64: #NUM! | ET64: #NUM! | EU64: #NUM! | EV64: 0.037104785 | EW64: #NUM! | EX64: #NUM! | EY64: #NUM! | EZ64: #NUM! | FA64: #NUM! | FB64: #NUM! | FC64: #NUM! | FD64: #NUM! | FE64: #NUM! | FF64: #NUM! | FG64: #NUM! | FH64: #NUM! | FI64: #NUM! | FJ64: #NUM! | FK64: #NUM! | FL64: 0.028173817 | FM64: #NUM! | FN64: #NUM! | FO64: #NUM! | FP64: #NUM! | FQ64: #NUM! | FR64: #NUM! | FS64: #NUM! | FT64: #NUM! | FU64: #NUM! | FV64: #NUM! | FW64: #NUM! | FX64: #NUM! | FY64: #NUM! | FZ64: #NUM! | GA64: #NUM! | GB64: #NUM! | GC64: #NUM! | GD64: #NUM! | GE64: #NUM!
A65: 35125 | B65: #NUM! | C65: #NUM! | D65: 0.077411036 | E65: #NUM! | F65: #NUM! | G65: #NUM! | H65: #NUM! | I65: #NUM! | J65: #NUM! | K65: #NUM! | L65: #NUM! | M65: #NUM! | N65: #NUM! | O65: #NUM! | P65: #NUM! | Q65: #NUM! | R65: #NUM! | S65: #NUM! | T65: #NUM! | U65: #NUM! | V65: #NUM! | W65: #NUM! | X65: #NUM! | Y65: #NUM! | Z65: #NUM! | AA65: #NUM! | AB65: #NUM! | AC65: #NUM! | AD65: #NUM! | AE65: #NUM! | AF65: #NUM! | AG65: #NUM! | AH65: #NUM! | AI65: #NUM! | AJ65: #NUM! | AK65: #NUM! | AL65: #NUM! | AM65: #NUM! | AN65: #NUM! | AO65: #NUM! | AP65: #NUM! | AQ65: #NUM! | AR65: #NUM! | AS65: #NUM! | AT65: #NUM! | AU65: #NUM! | AV65: #NUM! | AW65: #NUM! | AX65: 0.023133359 | AY65: #NUM! | AZ65: #NUM! | BA65: #NUM! | BB65: 0.010611502 | BC65: #NUM! | BD65: #NUM! | BE65: #NUM! | BF65: #NUM! | BG65: -0.015740226 | BH65: #NUM! | BI65: #NUM! | BJ65: #NUM! | BK65: #NUM! | BL65: #NUM! | BM65: #NUM! | BN65: #NUM! | BO65: #NUM! | BP65: #NUM! | BQ65: #NUM! | BR65: #NUM! | BS65: #NUM! | BT65: #NUM! | BU65: #NUM! | BV65: #NUM! | BW65: #NUM! | BX65: #NUM! | BY65: -0.023893081 | BZ65: #NUM! | CA65: #NUM! | CB65: #NUM! | CC65: #NUM! | CD65: #NUM! | CE65: #NUM! | CF65: #NUM! | CG65: #NUM! | CH65: #NUM! | CI65: #NUM! | CJ65: #NUM! | CK65: #NUM! | CL65: #NUM! | CM65: #NUM! | CN65: #NUM! | CO65: #NUM! | CP65: #NUM! | CQ65: #NUM! | CR65: #NUM! | CS65: #NUM! | CT65: #NUM! | CU65: #NUM! | CV65: #NUM! | CW65: #NUM! | CX65: #NUM! | CY65: #NUM! | CZ65: #NUM! | DA65: #NUM! | DB65: 0.0043908914 | DC65: -7.7214442e-05 | DD65: #NUM! | DE65: #NUM! | DF65: #NUM! | DG65: #NUM! | DH65: #NUM! | DI65: #NUM! | DJ65: #NUM! | DK65: #NUM! | DL65: #NUM! | DM65: #NUM! | DN65: #NUM! | DO65: #NUM! | DP65: #NUM! | DQ65: #NUM! | DR65: #NUM! | DS65: #NUM! | DT65: #NUM! | DU65: #NUM! | DV65: #NUM! | DW65: #NUM! | DX65: #NUM! | DY65: #NUM! | DZ65: #NUM! | EA65: #NUM! | EB65: #NUM! | EC65: -0.010456541 | ED65: #NUM! | EE65: #NUM! | EF65: #NUM! | EG65: #NUM! | EH65: #NUM! | EI65: #NUM! | EJ65: #NUM! | EK65: #NUM! | EL65: #NUM! | EM65: #NUM! | EN65: #NUM! | EO65: #NUM! | EP65: #NUM! | EQ65: #NUM! | ER65: #NUM! | ES65: #NUM! | ET65: #NUM! | EU65: #NUM! | EV65: 0.0044897525 | EW65: #NUM! | EX65: #NUM! | EY65: #NUM! | EZ65: #NUM! | FA65: #NUM! | FB65: #NUM! | FC65: #NUM! | FD65: #NUM! | FE65: #NUM! | FF65: #NUM! | FG65: #NUM! | FH65: #NUM! | FI65: #NUM! | FJ65: #NUM! | FK65: #NUM! | FL65: -0.039907172 | FM65: #NUM! | FN65: #NUM! | FO65: #NUM! | FP65: #NUM! | FQ65: #NUM! | FR65: #NUM! | FS65: #NUM! | FT65: #NUM! | FU65: #NUM! | FV65: #NUM! | FW65: #NUM! | FX65: #NUM! | FY65: #NUM! | FZ65: #NUM! | GA65: #NUM! | GB65: #NUM! | GC65: #NUM! | GD65: #NUM! | GE65: #NUM!
A66: 35156 | B66: #NUM! | C66: #NUM! | D66: -0.0038924147 | E66: #NUM! | F66: #NUM! | G66: #NUM! | H66: #NUM! | I66: #NUM! | J66: #NUM! | K66: #NUM! | L66: #NUM! | M66: #NUM! | N66: #NUM! | O66: #NUM! | P66: #NUM! | Q66: #NUM! | R66: #NUM! | S66: #NUM! | T66: #NUM! | U66: #NUM! | V66: #NUM! | W66: #NUM! | X66: #NUM! | Y66: #NUM! | Z66: #NUM! | AA66: #NUM! | AB66: #NUM! | AC66: #NUM! | AD66: #NUM! | AE66: #NUM! | AF66: #NUM! | AG66: #NUM! | AH66: #NUM! | AI66: #NUM! | AJ66: #NUM! | AK66: #NUM! | AL66: #NUM! | AM66: #NUM! | AN66: #NUM! | AO66: #NUM! | AP66: #NUM! | AQ66: #NUM! | AR66: #NUM! | AS66: #NUM! | AT66: #NUM! | AU66: #NUM! | AV66: #NUM! | AW66: #NUM! | AX66: 0.018808492 | AY66: #NUM! | AZ66: #NUM! | BA66: #NUM! | BB66: 0.037104543 | BC66: #NUM! | BD66: #NUM! | BE66: #NUM! | BF66: #NUM! | BG66: 0.0041343086 | BH66: #NUM! | BI66: #NUM! | BJ66: #NUM! | BK66: #NUM! | BL66: #NUM! | BM66: #NUM! | BN66: #NUM! | BO66: #NUM! | BP66: #NUM! | BQ66: #NUM! | BR66: #NUM! | BS66: #NUM! | BT66: #NUM! | BU66: #NUM! | BV66: #NUM! | BW66: #NUM! | BX66: #NUM! | BY66: 0.012120502 | BZ66: #NUM! | CA66: #NUM! | CB66: #NUM! | CC66: #NUM! | CD66: #NUM! | CE66: #NUM! | CF66: #NUM! | CG66: #NUM! | CH66: #NUM! | CI66: #NUM! | CJ66: #NUM! | CK66: #NUM! | CL66: #NUM! | CM66: #NUM! | CN66: #NUM! | CO66: #NUM! | CP66: #NUM! | CQ66: #NUM! | CR66: #NUM! | CS66: #NUM! | CT66: #NUM! | CU66: #NUM! | CV66: #NUM! | CW66: #NUM! | CX66: #NUM! | CY66: #NUM! | CZ66: #NUM! | DA66: #NUM! | DB66: 0.0097937791 | DC66: 0.0097596745 | DD66: #NUM! | DE66: #NUM! | DF66: #NUM! | DG66: #NUM! | DH66: #NUM! | DI66: #NUM! | DJ66: #NUM! | DK66: #NUM! | DL66: #NUM! | DM66: #NUM! | DN66: #NUM! | DO66: #NUM! | DP66: #NUM! | DQ66: #NUM! | DR66: #NUM! | DS66: #NUM! | DT66: #NUM! | DU66: #NUM! | DV66: #NUM! | DW66: #NUM! | DX66: #NUM! | DY66: #NUM! | DZ66: #NUM! | EA66: #NUM! | EB66: #NUM! | EC66: 0.013786702 | ED66: #NUM! | EE66: #NUM! | EF66: #NUM! | EG66: #NUM! | EH66: #NUM! | EI66: #NUM! | EJ66: #NUM! | EK66: #NUM! | EL66: #NUM! | EM66: #NUM! | EN66: #NUM! | EO66: #NUM! | EP66: #NUM! | EQ66: #NUM! | ER66: #NUM! | ES66: #NUM! | ET66: #NUM! | EU66: #NUM! | EV66: 0.0021838209 | EW66: #NUM! | EX66: #NUM! | EY66: #NUM! | EZ66: #NUM! | FA66: #NUM! | FB66: #NUM! | FC66: #NUM! | FD66: #NUM! | FE66: #NUM! | FF66: #NUM! | FG66: #NUM! | FH66: #NUM! | FI66: #NUM! | FJ66: #NUM! | FK66: #NUM! | FL66: 0.017067139 | FM66: #NUM! | FN66: #NUM! | FO66: #NUM! | FP66: #NUM! | FQ66: #NUM! | FR66: #NUM! | FS66: #NUM! | FT66: #NUM! | FU66: #NUM! | FV66: #NUM! | FW66: #NUM! | FX66: #NUM! | FY66: #NUM! | FZ66: #NUM! | GA66: #NUM! | GB66: #NUM! | GC66: #NUM! | GD66: #NUM! | GE66: #NUM!
A67: 35186 | B67: #NUM! | C67: #NUM! | D67: 0.043730864 | E67: #NUM! | F67: #NUM! | G67: #NUM! | H67: #NUM! | I67: #NUM! | J67: #NUM! | K67: #NUM! | L67: #NUM! | M67: #NUM! | N67: #NUM! | O67: #NUM! | P67: #NUM! | Q67: #NUM! | R67: #NUM! | S67: #NUM! | T67: #NUM! | U67: #NUM! | V67: #NUM! | W67: #NUM! | X67: #NUM! | Y67: #NUM! | Z67: #NUM! | AA67: #NUM! | AB67: #NUM! | AC67: #NUM! | AD67: #NUM! | AE67: #NUM! | AF67: #NUM! | AG67: #NUM! | AH67: #NUM! | AI67: #NUM! | AJ67: #NUM! | AK67: #NUM! | AL67: #NUM! | AM67: #NUM! | AN67: #NUM! | AO67: #NUM! | AP67: #NUM! | AQ67: #NUM! | AR67: #NUM! | AS67: #NUM! | AT67: #NUM! | AU67: #NUM! | AV67: #NUM! | AW67: #NUM! | AX67: 0.056594773 | AY67: #NUM! | AZ67: #NUM! | BA67: #NUM! | BB67: 0.0505453 | BC67: #NUM! | BD67: #NUM! | BE67: #NUM! | BF67: #NUM! | BG67: 0.051035176 | BH67: #NUM! | BI67: #NUM! | BJ67: #NUM! | BK67: #NUM! | BL67: #NUM! | BM67: #NUM! | BN67: #NUM! | BO67: #NUM! | BP67: #NUM! | BQ67: #NUM! | BR67: #NUM! | BS67: #NUM! | BT67: #NUM! | BU67: #NUM! | BV67: #NUM! | BW67: #NUM! | BX67: #NUM! | BY67: 0.037303988 | BZ67: #NUM! | CA67: #NUM! | CB67: #NUM! | CC67: #NUM! | CD67: #NUM! | CE67: #NUM! | CF67: #NUM! | CG67: #NUM! | CH67: #NUM! | CI67: #NUM! | CJ67: #NUM! | CK67: #NUM! | CL67: #NUM! | CM67: #NUM! | CN67: #NUM! | CO67: #NUM! | CP67: #NUM! | CQ67: #NUM! | CR67: #NUM! | CS67: #NUM! | CT67: #NUM! | CU67: #NUM! | CV67: #NUM! | CW67: #NUM! | CX67: #NUM! | CY67: #NUM! | CZ67: #NUM! | DA67: #NUM! | DB67: 0.044422421 | DC67: 0.047358689 | DD67: #NUM! | DE67: #NUM! | DF67: #NUM! | DG67: #NUM! | DH67: #NUM! | DI67: #NUM! | DJ67: #NUM! | DK67: #NUM! | DL67: #NUM! | DM67: #NUM! | DN67: #NUM! | DO67: #NUM! | DP67: #NUM! | DQ67: #NUM! | DR67: #NUM! | DS67: #NUM! | DT67: #NUM! | DU67: #NUM! | DV67: #NUM! | DW67: #NUM! | DX67: #NUM! | DY67: #NUM! | DZ67: #NUM! | EA67: #NUM! | EB67: #NUM! | EC67: 0.054618786 | ED67: #NUM! | EE67: #NUM! | EF67: #NUM! | EG67: #NUM! | EH67: #NUM! | EI67: #NUM! | EJ67: #NUM! | EK67: #NUM! | EL67: #NUM! | EM67: #NUM! | EN67: #NUM! | EO67: #NUM! | EP67: #NUM! | EQ67: #NUM! | ER67: #NUM! | ES67: #NUM! | ET67: #NUM! | EU67: #NUM! | EV67: 0.058375764 | EW67: #NUM! | EX67: #NUM! | EY67: #NUM! | EZ67: #NUM! | FA67: #NUM! | FB67: #NUM! | FC67: #NUM! | FD67: #NUM! | FE67: #NUM! | FF67: #NUM! | FG67: #NUM! | FH67: #NUM! | FI67: #NUM! | FJ67: #NUM! | FK67: #NUM! | FL67: -0.0028109868 | FM67: #NUM! | FN67: #NUM! | FO67: #NUM! | FP67: #NUM! | FQ67: #NUM! | FR67: #NUM! | FS67: #NUM! | FT67: #NUM! | FU67: #NUM! | FV67: #NUM! | FW67: #NUM! | FX67: #NUM! | FY67: #NUM! | FZ67: #NUM! | GA67: #NUM! | GB67: #NUM! | GC67: #NUM! | GD67: #NUM! | GE67: #NUM!
A68: 35217 | B68: #NUM! | C68: #NUM! | D68: 0.038708742 | E68: #NUM! | F68: #NUM! | G68: #NUM! | H68: #NUM! | I68: #NUM! | J68: #NUM! | K68: #NUM! | L68: #NUM! | M68: #NUM! | N68: #NUM! | O68: #NUM! | P68: #NUM! | Q68: #NUM! | R68: #NUM! | S68: #NUM! | T68: #NUM! | U68: #NUM! | V68: #NUM! | W68: #NUM! | X68: #NUM! | Y68: #NUM! | Z68: #NUM! | AA68: #NUM! | AB68: #NUM! | AC68: #NUM! | AD68: #NUM! | AE68: #NUM! | AF68: #NUM! | AG68: #NUM! | AH68: #NUM! | AI68: #NUM! | AJ68: #NUM! | AK68: #NUM! | AL68: #NUM! | AM68: #NUM! | AN68: #NUM! | AO68: #NUM! | AP68: #NUM! | AQ68: #NUM! | AR68: #NUM! | AS68: #NUM! | AT68: #NUM! | AU68: #NUM! | AV68: #NUM! | AW68: #NUM! | AX68: 0.0049129745 | AY68: #NUM! | AZ68: #NUM! | BA68: #NUM! | BB68: 0.026042481 | BC68: #NUM! | BD68: #NUM! | BE68: #NUM! | BF68: #NUM! | BG68: 0.025401721 | BH68: #NUM! | BI68: #NUM! | BJ68: #NUM! | BK68: #NUM! | BL68: #NUM! | BM68: #NUM! | BN68: #NUM! | BO68: #NUM! | BP68: #NUM! | BQ68: #NUM! | BR68: #NUM! | BS68: #NUM! | BT68: #NUM! | BU68: #NUM! | BV68: #NUM! | BW68: #NUM! | BX68: #NUM! | BY68: 0.019087142 | BZ68: #NUM! | CA68: #NUM! | CB68: #NUM! | CC68: #NUM! | CD68: #NUM! | CE68: #NUM! | CF68: #NUM! | CG68: #NUM! | CH68: #NUM! | CI68: #NUM! | CJ68: #NUM! | CK68: #NUM! | CL68: #NUM! | CM68: #NUM! | CN68: #NUM! | CO68: #NUM! | CP68: #NUM! | CQ68: #NUM! | CR68: #NUM! | CS68: #NUM! | CT68: #NUM! | CU68: #NUM! | CV68: #NUM! | CW68: #NUM! | CX68: #NUM! | CY68: #NUM! | CZ68: #NUM! | DA68: #NUM! | DB68: 0.030361008 | DC68: 0.037962424 | DD68: #NUM! | DE68: #NUM! | DF68: #NUM! | DG68: #NUM! | DH68: #NUM! | DI68: #NUM! | DJ68: #NUM! | DK68: #NUM! | DL68: #NUM! | DM68: #NUM! | DN68: #NUM! | DO68: #NUM! | DP68: #NUM! | DQ68: #NUM! | DR68: #NUM! | DS68: #NUM! | DT68: #NUM! | DU68: #NUM! | DV68: #NUM! | DW68: #NUM! | DX68: #NUM! | DY68: #NUM! | DZ68: #NUM! | EA68: #NUM! | EB68: #NUM! | EC68: 0.053327116 | ED68: #NUM! | EE68: #NUM! | EF68: #NUM! | EG68: #NUM! | EH68: #NUM! | EI68: #NUM! | EJ68: #NUM! | EK68: #NUM! | EL68: #NUM! | EM68: #NUM! | EN68: #NUM! | EO68: #NUM! | EP68: #NUM! | EQ68: #NUM! | ER68: #NUM! | ES68: #NUM! | ET68: #NUM! | EU68: #NUM! | EV68: 0.010964784 | EW68: #NUM! | EX68: #NUM! | EY68: #NUM! | EZ68: #NUM! | FA68: #NUM! | FB68: #NUM! | FC68: #NUM! | FD68: #NUM! | FE68: #NUM! | FF68: #NUM! | FG68: #NUM! | FH68: #NUM! | FI68: #NUM! | FJ68: #NUM! | FK68: #NUM! | FL68: -0.0065115707 | FM68: #NUM! | FN68: #NUM! | FO68: #NUM! | FP68: #NUM! | FQ68: #NUM! | FR68: #NUM! | FS68: #NUM! | FT68: #NUM! | FU68: #NUM! | FV68: #NUM! | FW68: #NUM! | FX68: #NUM! | FY68: #NUM! | FZ68: #NUM! | GA68: #NUM! | GB68: #NUM! | GC68: #NUM! | GD68: #NUM! | GE68: #NUM!
A69: 35247 | B69: #NUM! | C69: #NUM! | D69: -0.0052551261 | E69: #NUM! | F69: #NUM! | G69: #NUM! | H69: #NUM! | I69: #NUM! | J69: #NUM! | K69: #NUM! | L69: #NUM! | M69: #NUM! | N69: #NUM! | O69: #NUM! | P69: #NUM! | Q69: #NUM! | R69: #NUM! | S69: #NUM! | T69: #NUM! | U69: #NUM! | V69: #NUM! | W69: #NUM! | X69: #NUM! | Y69: #NUM! | Z69: #NUM! | AA69: #NUM! | AB69: #NUM! | AC69: #NUM! | AD69: #NUM! | AE69: #NUM! | AF69: #NUM! | AG69: #NUM! | AH69: #NUM! | AI69: #NUM! | AJ69: #NUM! | AK69: #NUM! | AL69: #NUM! | AM69: #NUM! | AN69: #NUM! | AO69: #NUM! | AP69: #NUM! | AQ69: #NUM! | AR69: #NUM! | AS69: #NUM! | AT69: #NUM! | AU69: #NUM! | AV69: #NUM! | AW69: #NUM! | AX69: -0.0045706692 | AY69: #NUM! | AZ69: #NUM! | BA69: #NUM! | BB69: -0.028348969 | BC69: #NUM! | BD69: #NUM! | BE69: #NUM! | BF69: #NUM! | BG69: -0.0012040593 | BH69: #NUM! | BI69: #NUM! | BJ69: #NUM! | BK69: #NUM! | BL69: #NUM! | BM69: #NUM! | BN69: #NUM! | BO69: #NUM! | BP69: #NUM! | BQ69: #NUM! | BR69: #NUM! | BS69: #NUM! | BT69: #NUM! | BU69: #NUM! | BV69: #NUM! | BW69: #NUM! | BX69: #NUM! | BY69: -0.0048141268 | BZ69: #NUM! | CA69: #NUM! | CB69: #NUM! | CC69: #NUM! | CD69: #NUM! | CE69: #NUM! | CF69: #NUM! | CG69: #NUM! | CH69: #NUM! | CI69: #NUM! | CJ69: #NUM! | CK69: #NUM! | CL69: #NUM! | CM69: #NUM! | CN69: #NUM! | CO69: #NUM! | CP69: #NUM! | CQ69: #NUM! | CR69: #NUM! | CS69: #NUM! | CT69: #NUM! | CU69: #NUM! | CV69: #NUM! | CW69: #NUM! | CX69: #NUM! | CY69: #NUM! | CZ69: #NUM! | DA69: #NUM! | DB69: -0.0069382972 | DC69: -0.014301823 | DD69: #NUM! | DE69: #NUM! | DF69: #NUM! | DG69: #NUM! | DH69: #NUM! | DI69: #NUM! | DJ69: #NUM! | DK69: #NUM! | DL69: #NUM! | DM69: #NUM! | DN69: #NUM! | DO69: #NUM! | DP69: #NUM! | DQ69: #NUM! | DR69: #NUM! | DS69: #NUM! | DT69: #NUM! | DU69: #NUM! | DV69: #NUM! | DW69: #NUM! | DX69: #NUM! | DY69: #NUM! | DZ69: #NUM! | EA69: #NUM! | EB69: #NUM! | EC69: 0.0019278095 | ED69: #NUM! | EE69: #NUM! | EF69: #NUM! | EG69: #NUM! | EH69: #NUM! | EI69: #NUM! | EJ69: #NUM! | EK69: #NUM! | EL69: #NUM! | EM69: #NUM! | EN69: #NUM! | EO69: #NUM! | EP69: #NUM! | EQ69: #NUM! | ER69: #NUM! | ES69: #NUM! | ET69: #NUM! | EU69: #NUM! | EV69: -0.0072859123 | EW69: #NUM! | EX69: #NUM! | EY69: #NUM! | EZ69: #NUM! | FA69: #NUM! | FB69: #NUM! | FC69: #NUM! | FD69: #NUM! | FE69: #NUM! | FF69: #NUM! | FG69: #NUM! | FH69: #NUM! | FI69: #NUM! | FJ69: #NUM! | FK69: #NUM! | FL69: -0.040744048 | FM69: #NUM! | FN69: #NUM! | FO69: #NUM! | FP69: #NUM! | FQ69: #NUM! | FR69: #NUM! | FS69: #NUM! | FT69: #NUM! | FU69: #NUM! | FV69: #NUM! | FW69: #NUM! | FX69: #NUM! | FY69: #NUM! | FZ69: #NUM! | GA69: #NUM! | GB69: #NUM! | GC69: #NUM! | GD69: #NUM! | GE69: #NUM!
A70: 35278 | B70: #NUM! | C70: #NUM! | D70: -0.028451828 | E70: #NUM! | F70: #NUM! | G70: #NUM! | H70: #NUM! | I70: #NUM! | J70: #NUM! | K70: #NUM! | L70: #NUM! | M70: #NUM! | N70: #NUM! | O70: #NUM! | P70: #NUM! | Q70: #NUM! | R70: #NUM! | S70: #NUM! | T70: #NUM! | U70: #NUM! | V70: #NUM! | W70: #NUM! | X70: #NUM! | Y70: #NUM! | Z70: #NUM! | AA70: #NUM! | AB70: #NUM! | AC70: #NUM! | AD70: #NUM! | AE70: #NUM! | AF70: #NUM! | AG70: #NUM! | AH70: #NUM! | AI70: #NUM! | AJ70: #NUM! | AK70: #NUM! | AL70: #NUM! | AM70: #NUM! | AN70: #NUM! | AO70: #NUM! | AP70: #NUM! | AQ70: #NUM! | AR70: #NUM! | AS70: #NUM! | AT70: #NUM! | AU70: #NUM! | AV70: #NUM! | AW70: #NUM! | AX70: -0.052508613 | AY70: #NUM! | AZ70: #NUM! | BA70: #NUM! | BB70: -0.079028444 | BC70: #NUM! | BD70: #NUM! | BE70: #NUM! | BF70: #NUM! | BG70: -0.040498624 | BH70: #NUM! | BI70: #NUM! | BJ70: #NUM! | BK70: #NUM! | BL70: #NUM! | BM70: #NUM! | BN70: #NUM! | BO70: #NUM! | BP70: #NUM! | BQ70: #NUM! | BR70: #NUM! | BS70: #NUM! | BT70: #NUM! | BU70: #NUM! | BV70: #NUM! | BW70: #NUM! | BX70: #NUM! | BY70: -0.065045992 | BZ70: #NUM! | CA70: #NUM! | CB70: #NUM! | CC70: #NUM! | CD70: #NUM! | CE70: #NUM! | CF70: #NUM! | CG70: #NUM! | CH70: #NUM! | CI70: #NUM! | CJ70: #NUM! | CK70: #NUM! | CL70: #NUM! | CM70: #NUM! | CN70: #NUM! | CO70: #NUM! | CP70: #NUM! | CQ70: #NUM! | CR70: #NUM! | CS70: #NUM! | CT70: #NUM! | CU70: #NUM! | CV70: #NUM! | CW70: #NUM! | CX70: #NUM! | CY70: #NUM! | CZ70: #NUM! | DA70: #NUM! | DB70: -0.053214984 | DC70: -0.074090787 | DD70: #NUM! | DE70: #NUM! | DF70: #NUM! | DG70: #NUM! | DH70: #NUM! | DI70: #NUM! | DJ70: #NUM! | DK70: #NUM! | DL70: #NUM! | DM70: #NUM! | DN70: #NUM! | DO70: #NUM! | DP70: #NUM! | DQ70: #NUM! | DR70: #NUM! | DS70: #NUM! | DT70: #NUM! | DU70: #NUM! | DV70: #NUM! | DW70: #NUM! | DX70: #NUM! | DY70: #NUM! | DZ70: #NUM! | EA70: #NUM! | EB70: #NUM! | EC70: -0.076733064 | ED70: #NUM! | EE70: #NUM! | EF70: #NUM! | EG70: #NUM! | EH70: #NUM! | EI70: #NUM! | EJ70: #NUM! | EK70: #NUM! | EL70: #NUM! | EM70: #NUM! | EN70: #NUM! | EO70: #NUM! | EP70: #NUM! | EQ70: #NUM! | ER70: #NUM! | ES70: #NUM! | ET70: #NUM! | EU70: #NUM! | EV70: -0.079975894 | EW70: #NUM! | EX70: #NUM! | EY70: #NUM! | EZ70: #NUM! | FA70: #NUM! | FB70: #NUM! | FC70: #NUM! | FD70: #NUM! | FE70: #NUM! | FF70: #NUM! | FG70: #NUM! | FH70: #NUM! | FI70: #NUM! | FJ70: #NUM! | FK70: #NUM! | FL70: -0.065179801 | FM70: #NUM! | FN70: #NUM! | FO70: #NUM! | FP70: #NUM! | FQ70: #NUM! | FR70: #NUM! | FS70: #NUM! | FT70: #NUM! | FU70: #NUM! | FV70: #NUM! | FW70: #NUM! | FX70: #NUM! | FY70: #NUM! | FZ70: #NUM! | GA70: #NUM! | GB70: #NUM! | GC70: #NUM! | GD70: #NUM! | GE70: #NUM!
A71: 35309 | B71: #NUM! | C71: #NUM! | D71: -0.0086762027 | E71: #NUM! | F71: #NUM! | G71: #NUM! | H71: #NUM! | I71: #NUM! | J71: #NUM! | K71: #NUM! | L71: #NUM! | M71: #NUM! | N71: #NUM! | O71: #NUM! | P71: #NUM! | Q71: #NUM! | R71: #NUM! | S71: #NUM! | T71: #NUM! | U71: #NUM! | V71: #NUM! | W71: #NUM! | X71: #NUM! | Y71: #NUM! | Z71: #NUM! | AA71: #NUM! | AB71: #NUM! | AC71: #NUM! | AD71: #NUM! | AE71: #NUM! | AF71: #NUM! | AG71: #NUM! | AH71: #NUM! | AI71: #NUM! | AJ71: #NUM! | AK71: #NUM! | AL71: #NUM! | AM71: #NUM! | AN71: #NUM! | AO71: #NUM! | AP71: #NUM! | AQ71: #NUM! | AR71: #NUM! | AS71: #NUM! | AT71: #NUM! | AU71: #NUM! | AV71: #NUM! | AW71: #NUM! | AX71: 0.0031694063 | AY71: #NUM! | AZ71: #NUM! | BA71: #NUM! | BB71: 0.038402973 | BC71: #NUM! | BD71: #NUM! | BE71: #NUM! | BF71: #NUM! | BG71: -0.006981948 | BH71: #NUM! | BI71: #NUM! | BJ71: #NUM! | BK71: #NUM! | BL71: #NUM! | BM71: #NUM! | BN71: #NUM! | BO71: #NUM! | BP71: #NUM! | BQ71: #NUM! | BR71: #NUM! | BS71: #NUM! | BT71: #NUM! | BU71: #NUM! | BV71: #NUM! | BW71: #NUM! | BX71: #NUM! | BY71: 0.016662394 | BZ71: #NUM! | CA71: #NUM! | CB71: #NUM! | CC71: #NUM! | CD71: #NUM! | CE71: #NUM! | CF71: #NUM! | CG71: #NUM! | CH71: #NUM! | CI71: #NUM! | CJ71: #NUM! | CK71: #NUM! | CL71: #NUM! | CM71: #NUM! | CN71: #NUM! | CO71: #NUM! | CP71: #NUM! | CQ71: #NUM! | CR71: #NUM! | CS71: #NUM! | CT71: #NUM! | CU71: #NUM! | CV71: #NUM! | CW71: #NUM! | CX71: #NUM! | CY71: #NUM! | CZ71: #NUM! | DA71: #NUM! | DB71: 0.064354407 | DC71: 0.034100239 | DD71: #NUM! | DE71: #NUM! | DF71: #NUM! | DG71: #NUM! | DH71: #NUM! | DI71: #NUM! | DJ71: #NUM! | DK71: #NUM! | DL71: #NUM! | DM71: #NUM! | DN71: #NUM! | DO71: #NUM! | DP71: #NUM! | DQ71: #NUM! | DR71: #NUM! | DS71: #NUM! | DT71: #NUM! | DU71: #NUM! | DV71: #NUM! | DW71: #NUM! | DX71: #NUM! | DY71: #NUM! | DZ71: #NUM! | EA71: #NUM! | EB71: #NUM! | EC71: 0.013756358 | ED71: #NUM! | EE71: #NUM! | EF71: #NUM! | EG71: #NUM! | EH71: #NUM! | EI71: #NUM! | EJ71: #NUM! | EK71: #NUM! | EL71: #NUM! | EM71: #NUM! | EN71: #NUM! | EO71: #NUM! | EP71: #NUM! | EQ71: #NUM! | ER71: #NUM! | ES71: #NUM! | ET71: #NUM! | EU71: #NUM! | EV71: 0.014642 | EW71: #NUM! | EX71: #NUM! | EY71: #NUM! | EZ71: #NUM! | FA71: #NUM! | FB71: #NUM! | FC71: #NUM! | FD71: #NUM! | FE71: #NUM! | FF71: #NUM! | FG71: #NUM! | FH71: #NUM! | FI71: #NUM! | FJ71: #NUM! | FK71: #NUM! | FL71: 0.023438849 | FM71: #NUM! | FN71: #NUM! | FO71: #NUM! | FP71: #NUM! | FQ71: #NUM! | FR71: #NUM! | FS71: #NUM! | FT71: #NUM! | FU71: #NUM! | FV71: #NUM! | FW71: #NUM! | FX71: #NUM! | FY71: #NUM! | FZ71: #NUM! | GA71: #NUM! | GB71: #NUM! | GC71: #NUM! | GD71: #NUM! | GE71: #NUM!
A72: 35339 | B72: #NUM! | C72: #NUM! | D72: 0.043102601 | E72: #NUM! | F72: #NUM! | G72: #NUM! | H72: #NUM! | I72: #NUM! | J72: #NUM! | K72: #NUM! | L72: #NUM! | M72: #NUM! | N72: #NUM! | O72: #NUM! | P72: #NUM! | Q72: #NUM! | R72: #NUM! | S72: #NUM! | T72: #NUM! | U72: #NUM! | V72: #NUM! | W72: #NUM! | X72: #NUM! | Y72: #NUM! | Z72: #NUM! | AA72: #NUM! | AB72: #NUM! | AC72: #NUM! | AD72: #NUM! | AE72: #NUM! | AF72: #NUM! | AG72: #NUM! | AH72: #NUM! | AI72: #NUM! | AJ72: #NUM! | AK72: #NUM! | AL72: #NUM! | AM72: #NUM! | AN72: #NUM! | AO72: #NUM! | AP72: #NUM! | AQ72: #NUM! | AR72: #NUM! | AS72: #NUM! | AT72: #NUM! | AU72: #NUM! | AV72: #NUM! | AW72: #NUM! | AX72: 0.028717078 | AY72: #NUM! | AZ72: #NUM! | BA72: #NUM! | BB72: 0.036404453 | BC72: #NUM! | BD72: #NUM! | BE72: #NUM! | BF72: #NUM! | BG72: 0.029028668 | BH72: #NUM! | BI72: #NUM! | BJ72: #NUM! | BK72: #NUM! | BL72: #NUM! | BM72: #NUM! | BN72: #NUM! | BO72: #NUM! | BP72: #NUM! | BQ72: #NUM! | BR72: #NUM! | BS72: #NUM! | BT72: #NUM! | BU72: #NUM! | BV72: #NUM! | BW72: #NUM! | BX72: #NUM! | BY72: 0.020868025 | BZ72: #NUM! | CA72: #NUM! | CB72: #NUM! | CC72: #NUM! | CD72: #NUM! | CE72: #NUM! | CF72: #NUM! | CG72: #NUM! | CH72: #NUM! | CI72: #NUM! | CJ72: #NUM! | CK72: #NUM! | CL72: #NUM! | CM72: #NUM! | CN72: #NUM! | CO72: #NUM! | CP72: #NUM! | CQ72: #NUM! | CR72: #NUM! | CS72: #NUM! | CT72: #NUM! | CU72: #NUM! | CV72: #NUM! | CW72: #NUM! | CX72: #NUM! | CY72: #NUM! | CZ72: #NUM! | DA72: #NUM! | DB72: 0.040166844 | DC72: 0.017707623 | DD72: #NUM! | DE72: #NUM! | DF72: #NUM! | DG72: #NUM! | DH72: #NUM! | DI72: #NUM! | DJ72: #NUM! | DK72: #NUM! | DL72: #NUM! | DM72: #NUM! | DN72: #NUM! | DO72: #NUM! | DP72: #NUM! | DQ72: #NUM! | DR72: #NUM! | DS72: #NUM! | DT72: #NUM! | DU72: #NUM! | DV72: #NUM! | DW72: #NUM! | DX72: #NUM! | DY72: #NUM! | DZ72: #NUM! | EA72: #NUM! | EB72: #NUM! | EC72: 0.019618766 | ED72: #NUM! | EE72: #NUM! | EF72: #NUM! | EG72: #NUM! | EH72: #NUM! | EI72: #NUM! | EJ72: #NUM! | EK72: #NUM! | EL72: #NUM! | EM72: #NUM! | EN72: #NUM! | EO72: #NUM! | EP72: #NUM! | EQ72: #NUM! | ER72: #NUM! | ES72: #NUM! | ET72: #NUM! | EU72: #NUM! | EV72: 0.058574736 | EW72: #NUM! | EX72: #NUM! | EY72: #NUM! | EZ72: #NUM! | FA72: #NUM! | FB72: #NUM! | FC72: #NUM! | FD72: #NUM! | FE72: #NUM! | FF72: #NUM! | FG72: #NUM! | FH72: #NUM! | FI72: #NUM! | FJ72: #NUM! | FK72: #NUM! | FL72: 0.037248453 | FM72: #NUM! | FN72: #NUM! | FO72: #NUM! | FP72: #NUM! | FQ72: #NUM! | FR72: #NUM! | FS72: #NUM! | FT72: #NUM! | FU72: #NUM! | FV72: #NUM! | FW72: #NUM! | FX72: #NUM! | FY72: #NUM! | FZ72: #NUM! | GA72: #NUM! | GB72: #NUM! | GC72: #NUM! | GD72: #NUM! | GE72: #NUM!
A73: 35370 | B73: #NUM! | C73: #NUM! | D73: 0.017077491 | E73: #NUM! | F73: #NUM! | G73: #NUM! | H73: #NUM! | I73: #NUM! | J73: #NUM! | K73: #NUM! | L73: #NUM! | M73: #NUM! | N73: #NUM! | O73: #NUM! | P73: #NUM! | Q73: #NUM! | R73: #NUM! | S73: #NUM! | T73: #NUM! | U73: #NUM! | V73: #NUM! | W73: #NUM! | X73: #NUM! | Y73: #NUM! | Z73: #NUM! | AA73: #NUM! | AB73: #NUM! | AC73: #NUM! | AD73: #NUM! | AE73: #NUM! | AF73: #NUM! | AG73: #NUM! | AH73: #NUM! | AI73: #NUM! | AJ73: #NUM! | AK73: #NUM! | AL73: #NUM! | AM73: #NUM! | AN73: #NUM! | AO73: #NUM! | AP73: #NUM! | AQ73: #NUM! | AR73: #NUM! | AS73: #NUM! | AT73: #NUM! | AU73: #NUM! | AV73: #NUM! | AW73: #NUM! | AX73: 0.021243249 | AY73: #NUM! | AZ73: #NUM! | BA73: #NUM! | BB73: 0.01545465 | BC73: #NUM! | BD73: #NUM! | BE73: #NUM! | BF73: #NUM! | BG73: 0.012159615 | BH73: #NUM! | BI73: #NUM! | BJ73: #NUM! | BK73: #NUM! | BL73: #NUM! | BM73: #NUM! | BN73: #NUM! | BO73: #NUM! | BP73: #NUM! | BQ73: #NUM! | BR73: #NUM! | BS73: #NUM! | BT73: #NUM! | BU73: #NUM! | BV73: #NUM! | BW73: #NUM! | BX73: #NUM! | BY73: -0.028879181 | BZ73: #NUM! | CA73: #NUM! | CB73: #NUM! | CC73: #NUM! | CD73: #NUM! | CE73: #NUM! | CF73: #NUM! | CG73: #NUM! | CH73: #NUM! | CI73: #NUM! | CJ73: #NUM! | CK73: #NUM! | CL73: #NUM! | CM73: #NUM! | CN73: #NUM! | CO73: #NUM! | CP73: #NUM! | CQ73: #NUM! | CR73: #NUM! | CS73: #NUM! | CT73: #NUM! | CU73: #NUM! | CV73: #NUM! | CW73: #NUM! | CX73: #NUM! | CY73: #NUM! | CZ73: #NUM! | DA73: #NUM! | DB73: 0.03091134 | DC73: -0.034319946 | DD73: #NUM! | DE73: #NUM! | DF73: #NUM! | DG73: #NUM! | DH73: #NUM! | DI73: #NUM! | DJ73: #NUM! | DK73: #NUM! | DL73: #NUM! | DM73: #NUM! | DN73: #NUM! | DO73: #NUM! | DP73: #NUM! | DQ73: #NUM! | DR73: #NUM! | DS73: #NUM! | DT73: #NUM! | DU73: #NUM! | DV73: #NUM! | DW73: #NUM! | DX73: #NUM! | DY73: #NUM! | DZ73: #NUM! | EA73: #NUM! | EB73: #NUM! | EC73: 0.0095423405 | ED73: #NUM! | EE73: #NUM! | EF73: #NUM! | EG73: #NUM! | EH73: #NUM! | EI73: #NUM! | EJ73: #NUM! | EK73: #NUM! | EL73: #NUM! | EM73: #NUM! | EN73: #NUM! | EO73: #NUM! | EP73: #NUM! | EQ73: #NUM! | ER73: #NUM! | ES73: #NUM! | ET73: #NUM! | EU73: #NUM! | EV73: -0.024432327 | EW73: #NUM! | EX73: #NUM! | EY73: #NUM! | EZ73: #NUM! | FA73: #NUM! | FB73: #NUM! | FC73: #NUM! | FD73: #NUM! | FE73: #NUM! | FF73: #NUM! | FG73: #NUM! | FH73: #NUM! | FI73: #NUM! | FJ73: #NUM! | FK73: #NUM! | FL73: -0.03164771 | FM73: #NUM! | FN73: #NUM! | FO73: #NUM! | FP73: #NUM! | FQ73: #NUM! | FR73: #NUM! | FS73: #NUM! | FT73: #NUM! | FU73: #NUM! | FV73: #NUM! | FW73: #NUM! | FX73: #NUM! | FY73: #NUM! | FZ73: #NUM! | GA73: #NUM! | GB73: #NUM! | GC73: #NUM! | GD73: #NUM! | GE73: #NUM!
A74: 35400 | B74: #NUM! | C74: #NUM! | D74: 0.058801479 | E74: #NUM! | F74: #NUM! | G74: #NUM! | H74: #NUM! | I74: #NUM! | J74: #NUM! | K74: #NUM! | L74: #NUM! | M74: #NUM! | N74: #NUM! | O74: #NUM! | P74: #NUM! | Q74: #NUM! | R74: #NUM! | S74: #NUM! | T74: #NUM! | U74: #NUM! | V74: #NUM! | W74: #NUM! | X74: #NUM! | Y74: #NUM! | Z74: #NUM! | AA74: #NUM! | AB74: #NUM! | AC74: #NUM! | AD74: #NUM! | AE74: #NUM! | AF74: #NUM! | AG74: #NUM! | AH74: #NUM! | AI74: #NUM! | AJ74: #NUM! | AK74: #NUM! | AL74: #NUM! | AM74: #NUM! | AN74: #NUM! | AO74: #NUM! | AP74: #NUM! | AQ74: #NUM! | AR74: #NUM! | AS74: #NUM! | AT74: #NUM! | AU74: #NUM! | AV74: #NUM! | AW74: #NUM! | AX74: 0.031287235 | AY74: #NUM! | AZ74: #NUM! | BA74: #NUM! | BB74: 0.039086413 | BC74: #NUM! | BD74: #NUM! | BE74: #NUM! | BF74: #NUM! | BG74: 0.070948484 | BH74: #NUM! | BI74: #NUM! | BJ74: #NUM! | BK74: #NUM! | BL74: #NUM! | BM74: #NUM! | BN74: #NUM! | BO74: #NUM! | BP74: #NUM! | BQ74: #NUM! | BR74: #NUM! | BS74: #NUM! | BT74: #NUM! | BU74: #NUM! | BV74: #NUM! | BW74: #NUM! | BX74: #NUM! | BY74: 0.023466598 | BZ74: #NUM! | CA74: #NUM! | CB74: #NUM! | CC74: #NUM! | CD74: #NUM! | CE74: #NUM! | CF74: #NUM! | CG74: #NUM! | CH74: #NUM! | CI74: #NUM! | CJ74: #NUM! | CK74: #NUM! | CL74: #NUM! | CM74: #NUM! | CN74: #NUM! | CO74: #NUM! | CP74: #NUM! | CQ74: #NUM! | CR74: #NUM! | CS74: #NUM! | CT74: #NUM! | CU74: #NUM! | CV74: #NUM! | CW74: #NUM! | CX74: #NUM! | CY74: #NUM! | CZ74: #NUM! | DA74: #NUM! | DB74: 0.053426858 | DC74: 0.021519749 | DD74: #NUM! | DE74: #NUM! | DF74: #NUM! | DG74: #NUM! | DH74: #NUM! | DI74: #NUM! | DJ74: #NUM! | DK74: #NUM! | DL74: #NUM! | DM74: #NUM! | DN74: #NUM! | DO74: #NUM! | DP74: #NUM! | DQ74: #NUM! | DR74: #NUM! | DS74: #NUM! | DT74: #NUM! | DU74: #NUM! | DV74: #NUM! | DW74: #NUM! | DX74: #NUM! | DY74: #NUM! | DZ74: #NUM! | EA74: #NUM! | EB74: #NUM! | EC74: 0.031459478 | ED74: #NUM! | EE74: #NUM! | EF74: #NUM! | EG74: #NUM! | EH74: #NUM! | EI74: #NUM! | EJ74: #NUM! | EK74: #NUM! | EL74: #NUM! | EM74: #NUM! | EN74: #NUM! | EO74: #NUM! | EP74: #NUM! | EQ74: #NUM! | ER74: #NUM! | ES74: #NUM! | ET74: #NUM! | EU74: #NUM! | EV74: 0.043638735 | EW74: #NUM! | EX74: #NUM! | EY74: #NUM! | EZ74: #NUM! | FA74: #NUM! | FB74: #NUM! | FC74: #NUM! | FD74: #NUM! | FE74: #NUM! | FF74: #NUM! | FG74: #NUM! | FH74: #NUM! | FI74: #NUM! | FJ74: #NUM! | FK74: #NUM! | FL74: 0.020972351 | FM74: #NUM! | FN74: #NUM! | FO74: #NUM! | FP74: #NUM! | FQ74: #NUM! | FR74: #NUM! | FS74: #NUM! | FT74: #NUM! | FU74: #NUM! | FV74: #NUM! | FW74: #NUM! | FX74: #NUM! | FY74: #NUM! | FZ74: #NUM! | GA74: #NUM! | GB74: #NUM! | GC74: #NUM! | GD74: #NUM! | GE74: #NUM!
A75: 35431 | B75: #NUM! | C75: #NUM! | D75: 0.004263846 | E75: #NUM! | F75: #NUM! | G75: #NUM! | H75: #NUM! | I75: #NUM! | J75: #NUM! | K75: #NUM! | L75: #NUM! | M75: #NUM! | N75: #NUM! | O75: #NUM! | P75: #NUM! | Q75: #NUM! | R75: #NUM! | S75: #NUM! | T75: #NUM! | U75: #NUM! | V75: #NUM! | W75: #NUM! | X75: #NUM! | Y75: #NUM! | Z75: #NUM! | AA75: #NUM! | AB75: #NUM! | AC75: #NUM! | AD75: #NUM! | AE75: #NUM! | AF75: #NUM! | AG75: #NUM! | AH75: #NUM! | AI75: #NUM! | AJ75: #NUM! | AK75: #NUM! | AL75: #NUM! | AM75: #NUM! | AN75: #NUM! | AO75: #NUM! | AP75: #NUM! | AQ75: #NUM! | AR75: #NUM! | AS75: #NUM! | AT75: #NUM! | AU75: #NUM! | AV75: #NUM! | AW75: #NUM! | AX75: -0.020819982 | AY75: #NUM! | AZ75: #NUM! | BA75: #NUM! | BB75: 0.00017974044 | BC75: #NUM! | BD75: #NUM! | BE75: #NUM! | BF75: #NUM! | BG75: -0.010663883 | BH75: #NUM! | BI75: #NUM! | BJ75: #NUM! | BK75: #NUM! | BL75: #NUM! | BM75: #NUM! | BN75: #NUM! | BO75: #NUM! | BP75: #NUM! | BQ75: #NUM! | BR75: #NUM! | BS75: #NUM! | BT75: #NUM! | BU75: #NUM! | BV75: #NUM! | BW75: #NUM! | BX75: #NUM! | BY75: -0.012758826 | BZ75: #NUM! | CA75: #NUM! | CB75: #NUM! | CC75: #NUM! | CD75: #NUM! | CE75: #NUM! | CF75: #NUM! | CG75: #NUM! | CH75: #NUM! | CI75: #NUM! | CJ75: #NUM! | CK75: #NUM! | CL75: #NUM! | CM75: #NUM! | CN75: #NUM! | CO75: #NUM! | CP75: #NUM! | CQ75: #NUM! | CR75: #NUM! | CS75: #NUM! | CT75: #NUM! | CU75: #NUM! | CV75: #NUM! | CW75: #NUM! | CX75: #NUM! | CY75: #NUM! | CZ75: #NUM! | DA75: #NUM! | DB75: 0.05488033 | DC75: -0.0071555302 | DD75: #NUM! | DE75: #NUM! | DF75: #NUM! | DG75: #NUM! | DH75: #NUM! | DI75: #NUM! | DJ75: #NUM! | DK75: #NUM! | DL75: #NUM! | DM75: #NUM! | DN75: #NUM! | DO75: #NUM! | DP75: #NUM! | DQ75: #NUM! | DR75: #NUM! | DS75: #NUM! | DT75: #NUM! | DU75: #NUM! | DV75: #NUM! | DW75: #NUM! | DX75: #NUM! | DY75: #NUM! | DZ75: #NUM! | EA75: #NUM! | EB75: #NUM! | EC75: -0.00056083792 | ED75: #NUM! | EE75: #NUM! | EF75: #NUM! | EG75: #NUM! | EH75: #NUM! | EI75: #NUM! | EJ75: #NUM! | EK75: #NUM! | EL75: #NUM! | EM75: #NUM! | EN75: #NUM! | EO75: #NUM! | EP75: #NUM! | EQ75: #NUM! | ER75: #NUM! | ES75: #NUM! | ET75: #NUM! | EU75: #NUM! | EV75: -0.014921472 | EW75: #NUM! | EX75: #NUM! | EY75: #NUM! | EZ75: #NUM! | FA75: #NUM! | FB75: #NUM! | FC75: #NUM! | FD75: #NUM! | FE75: #NUM! | FF75: #NUM! | FG75: #NUM! | FH75: #NUM! | FI75: #NUM! | FJ75: #NUM! | FK75: #NUM! | FL75: -0.031456257 | FM75: #NUM! | FN75: #NUM! | FO75: #NUM! | FP75: #NUM! | FQ75: #NUM! | FR75: #NUM! | FS75: #NUM! | FT75: #NUM! | FU75: #NUM! | FV75: #NUM! | FW75: #NUM! | FX75: #NUM! | FY75: #NUM! | FZ75: #NUM! | GA75: #NUM! | GB75: #NUM! | GC75: #NUM! | GD75: #NUM! | GE75: #NUM!
A76: 35462 | B76: #NUM! | C76: #NUM! | D76: 0.071080653 | E76: #NUM! | F76: #NUM! | G76: #NUM! | H76: #NUM! | I76: #NUM! | J76: #NUM! | K76: #NUM! | L76: #NUM! | M76: #NUM! | N76: #NUM! | O76: #NUM! | P76: #NUM! | Q76: #NUM! | R76: #NUM! | S76: #NUM! | T76: #NUM! | U76: #NUM! | V76: #NUM! | W76: #NUM! | X76: #NUM! | Y76: #NUM! | Z76: #NUM! | AA76: #NUM! | AB76: #NUM! | AC76: #NUM! | AD76: #NUM! | AE76: #NUM! | AF76: #NUM! | AG76: #NUM! | AH76: #NUM! | AI76: #NUM! | AJ76: #NUM! | AK76: #NUM! | AL76: #NUM! | AM76: #NUM! | AN76: #NUM! | AO76: #NUM! | AP76: #NUM! | AQ76: #NUM! | AR76: #NUM! | AS76: #NUM! | AT76: #NUM! | AU76: #NUM! | AV76: #NUM! | AW76: #NUM! | AX76: 0.099856709 | AY76: #NUM! | AZ76: #NUM! | BA76: #NUM! | BB76: 0.098916769 | BC76: #NUM! | BD76: #NUM! | BE76: #NUM! | BF76: #NUM! | BG76: 0.070678325 | BH76: #NUM! | BI76: #NUM! | BJ76: #NUM! | BK76: #NUM! | BL76: #NUM! | BM76: #NUM! | BN76: #NUM! | BO76: #NUM! | BP76: #NUM! | BQ76: #NUM! | BR76: #NUM! | BS76: #NUM! | BT76: #NUM! | BU76: #NUM! | BV76: #NUM! | BW76: #NUM! | BX76: #NUM! | BY76: 0.074691995 | BZ76: #NUM! | CA76: #NUM! | CB76: #NUM! | CC76: #NUM! | CD76: #NUM! | CE76: #NUM! | CF76: #NUM! | CG76: #NUM! | CH76: #NUM! | CI76: #NUM! | CJ76: #NUM! | CK76: #NUM! | CL76: #NUM! | CM76: #NUM! | CN76: #NUM! | CO76: #NUM! | CP76: #NUM! | CQ76: #NUM! | CR76: #NUM! | CS76: #NUM! | CT76: #NUM! | CU76: #NUM! | CV76: #NUM! | CW76: #NUM! | CX76: #NUM! | CY76: #NUM! | CZ76: #NUM! | DA76: #NUM! | DB76: 0.038202216 | DC76: 0.07729056 | DD76: #NUM! | DE76: #NUM! | DF76: #NUM! | DG76: #NUM! | DH76: #NUM! | DI76: #NUM! | DJ76: #NUM! | DK76: #NUM! | DL76: #NUM! | DM76: #NUM! | DN76: #NUM! | DO76: #NUM! | DP76: #NUM! | DQ76: #NUM! | DR76: #NUM! | DS76: #NUM! | DT76: #NUM! | DU76: #NUM! | DV76: #NUM! | DW76: #NUM! | DX76: #NUM! | DY76: #NUM! | DZ76: #NUM! | EA76: #NUM! | EB76: #NUM! | EC76: 0.058510608 | ED76: #NUM! | EE76: #NUM! | EF76: #NUM! | EG76: #NUM! | EH76: #NUM! | EI76: #NUM! | EJ76: #NUM! | EK76: #NUM! | EL76: #NUM! | EM76: #NUM! | EN76: #NUM! | EO76: #NUM! | EP76: #NUM! | EQ76: #NUM! | ER76: #NUM! | ES76: #NUM! | ET76: #NUM! | EU76: #NUM! | EV76: 0.049646425 | EW76: #NUM! | EX76: #NUM! | EY76: #NUM! | EZ76: #NUM! | FA76: #NUM! | FB76: #NUM! | FC76: #NUM! | FD76: #NUM! | FE76: #NUM! | FF76: #NUM! | FG76: #NUM! | FH76: #NUM! | FI76: #NUM! | FJ76: #NUM! | FK76: #NUM! | FL76: 0.11635057 | FM76: #NUM! | FN76: #NUM! | FO76: #NUM! | FP76: #NUM! | FQ76: #NUM! | FR76: #NUM! | FS76: #NUM! | FT76: #NUM! | FU76: #NUM! | FV76: #NUM! | FW76: #NUM! | FX76: #NUM! | FY76: #NUM! | FZ76: #NUM! | GA76: #NUM! | GB76: #NUM! | GC76: #NUM! | GD76: #NUM! | GE76: #NUM!
