Workbook

Sheet Sheet1
A1: Label | B1: 10Y treasury yield | C1: 3-Month / Fed Funds Spread | D1: 2Y UST / 3-month spread | E1: 10Y UST/ 3-month spread | F1: LIBOR/OIS spread | G1: USD 3M TED Spread | H1: 1M Commercial Paper / Fed Funds Rate | I1: CBOE VIX | J1: 30Y Conventional Mortgage / 10Y UST spread | K1: HY Corporate / BBB spread | L1: Spread Jumbo / 30y Conventional Mortgage | M1: S&P 500 Transformed | N1: BBB / 10Y UST Spread | O1: US Real foreign exchange value of the dollar | P1: U.S Commercial Bank Credit | Q1: U.S. Commercial Paper Outstanding | R1: US Money Supply Zero maturity (Liquid Money Supply) | S1: U.S PPI (Petroleum and Coal Products) | T1: SLOOS' banks tightening loans to large and medium firms | U1: SLOOS' banks tightening loans to small firms | V1: SLOOS' Banks Willingness to Lend to Consumers | W1: SLOOS' Tightening Standards for Commercial Real Estate | X1: Domestic Non-fin. Sector Credit Liabilities
A2: 37926 | B2: 0.32308401 | C2: 0.49442822 | D2: 1.0946733 | E2: 1.1619388 | F2: -0.42663794 | G2: -0.53798951 | H2: 0.30541302 | I2: -0.46838959 | J2: -0.47420092 | K2: -0.41222272 | L2: -0.80844578 | M2: 0.27652561 | N2: -0.73182652 | O2: -1.8166882 | P2: -1.1723629 | Q2: 0.0067657375 | R2: -1.5247862 | S2: -0.23600835 | T2: -0.3314364 | U2: -0.45885203 | V2: 0.6328896 | W2: -0.57158743 | X2: 0.43177706
A3: 37956 | B3: 0.2882238 | C3: 0.37352275 | D3: 1.1103552 | E3: 1.1667516 | F3: -0.410509 | G3: -0.43845256 | H3: 0.53477868 | I3: -0.51959709 | J3: -0.46092543 | K3: -0.56953131 | L3: -0.90340584 | M3: 0.66097577 | N3: -0.78948841 | O3: -0.24197734 | P3: 0.15945686 | Q3: -0.12978439 | R3: -1.3138166 | S3: -0.69742943 | T3: -0.46752203 | U3: -0.56299214 | V3: 0.59279995 | W3: -0.67707691 | X3: 0.33241756
A4: 37987 | B4: 0.1965191 | C4: 0.31068167 | D4: 0.81383867 | E4: 1.0820475 | F4: -0.46859062 | G4: -0.51601664 | H4: -0.07282102 | I4: -0.59282214 | J4: -0.43183937 | K4: -0.7831816 | L4: -0.96326763 | M4: 1.0663069 | N4: -0.82592014 | O4: -1.0523413 | P4: 0.44243296 | Q4: -0.62596793 | R4: -1.5427204 | S4: 0.11240182 | T4: -0.69266788 | U4: -0.69664967 | V4: 0.51940747 | W4: -0.74103834 | X4: 0.54628046
A5: 38018 | B5: 0.1305953 | C5: 0.40271444 | D5: 0.67591224 | E5: 0.98770393 | F5: -0.48436584 | G5: -0.60966685 | H5: -0.2128105 | I5: -0.62499319 | J5: -0.56524881 | K5: -0.6332109 | L5: -0.90751289 | M5: 0.24079039 | N5: -0.80823146 | O5: -1.1753322 | P5: 0.56562325 | Q5: 0.14249129 | R5: -0.7324553 | S5: 1.341438 | T5: -0.91781373 | U5: -0.8303072 | V5: 0.44601499 | W5: -0.80499978 | X5: 4.8772745
A6: 38047 | B6: -0.076597689 | C6: 0.47204857 | D6: 0.26163919 | E6: 0.77478153 | F6: -0.49960451 | G6: -0.66628585 | H6: -0.18118275 | I6: -0.43264234 | J6: -0.28482259 | K6: -0.57173348 | L6: -0.93540093 | M6: -0.4440072 | N6: -0.76574273 | O6: 0.60835815 | P6: 1.6358475 | Q6: 0.73228623 | R6: -0.14037705 | S6: -0.18738329 | T6: -1.0499772 | U6: -0.95169344 | V6: 0.48184314 | W6: -0.86379678 | X6: 4.314317
A7: 38078 | B7: 0.35068406 | C7: 0.48874634 | D7: 1.3576265 | E7: 1.1834376 | F7: -0.40975353 | G7: -0.60250216 | H7: -0.074498047 | I7: -0.66005128 | J7: -1.457382 | K7: -0.72899418 | L7: -0.48422886 | M7: 0.20745385 | N7: -0.7637585 | O7: 0.84131566 | P7: 1.1362525 | Q7: 0.25684297 | R7: 0.20711585 | S7: 0.24127804 | T7: -1.1129789 | U7: -1.0778113 | V7: 0.62438765 | W7: -0.92561325 | X7: 4.5369122
A8: 38108 | B8: 0.67375756 | C8: 0.74248962 | D8: 2.3338456 | E8: 1.4359781 | F8: -0.15201382 | G8: -0.54090721 | H8: -0.049600649 | I8: -0.43743858 | J8: -1.410091 | K8: -0.55176265 | L8: -0.44412146 | M8: -0.69214434 | N8: -0.75077969 | O8: 0.60031406 | P8: 0.36117018 | Q8: 0.018962262 | R8: 0.19807506 | S8: 0.60038835 | T8: -1.1739483 | U8: -1.1998609 | V8: 0.76233395 | W8: -0.98543563 | X8: 1.0169448
A9: 38139 | B9: 0.70353827 | C9: 1.4942073 | D9: 2.3271637 | E9: 1.2679998 | F9: -0.43436177 | G9: -0.50917482 | H9: 1.181208 | I9: -0.68309154 | J9: -0.85716633 | K9: -0.59689796 | L9: -0.89739214 | M9: 0.5909985 | N9: -0.73888517 | O9: 1.5281285 | P9: -0.35772613 | Q9: -0.010206476 | R9: 0.82131163 | S9: 0.77703142 | T9: -1.1830874 | U9: -1.1311669 | V9: 0.72072383 | W9: -1.0018735 | X9: 1.0969284
A10: 38169 | B10: 0.48101551 | C10: 0.90351987 | D10: 1.8133887 | E10: 0.99557389 | F10: -0.47065614 | G10: -0.38199188 | H10: 0.22517374 | I10: -0.67421178 | J10: -0.3451113 | K10: -0.61715183 | L10: -1.0716381 | M10: -0.59407459 | N10: -0.70849286 | O10: -0.61612817 | P10: 0.87137061 | Q10: 0.14501803 | R10: -0.82597498 | S10: -0.79636727 | T10: -1.1490051 | U10: -0.90943094 | V10: 0.53369138 | W10: -0.98161587 | X10: 0.95465104
A11: 38200 | B11: 0.30596772 | C11: 0.83226258 | D11: 1.1980828 | E11: 0.70511651 | F11: -0.28204998 | G11: -0.47079267 | H11: 0.51542837 | I11: -0.53094697 | J11: -0.34424791 | K11: -0.57925958 | L11: -0.95666218 | M11: -0.43189333 | N11: -0.68181962 | O11: -0.56032114 | P11: -0.19168462 | Q11: 0.44760273 | R11: -1.0096855 | S11: 0.60423101 | T11: -1.1137868 | U11: -0.68030374 | V11: 0.34042451 | W11: -0.96068304 | X11: 0.66423026
A12: 38231 | B12: 0.1943113 | C12: 0.86212705 | D12: 0.84267971 | E12: 0.44388442 | F12: 0.14270119 | G12: -0.50737076 | H12: 0.62133906 | I12: -0.83430981 | J12: -0.40559247 | K12: -0.64888779 | L12: -0.90933697 | M12: 0.62541471 | N12: -0.70728931 | O12: 0.062201146 | P12: -0.19682561 | Q12: 0.098322631 | R12: -0.79150679 | S12: 0.16739302 | T12: -1.1054691 | U12: -0.69361738 | V12: 0.30546444 | W12: -1.006075 | X12: 0.64466947
A13: 38261 | B13: 0.15113297 | C13: 0.68020963 | D13: 0.7232322 | E13: 0.3159519 | F13: -0.47404033 | G13: -0.3325894 | H13: 0.33353547 | I13: -0.73323117 | J13: -0.48331822 | K13: -0.68948026 | L13: -0.85613567 | M13: -0.027090241 | N13: -0.70231248 | O13: -0.15735921 | P13: 1.0182224 | Q13: 0.057682012 | R13: -0.47046788 | S13: 0.16159714 | T13: -1.1188585 | U13: -0.89971814 | V13: 0.39779691 | W13: -1.1028612 | X13: 0.5525052
... A117: 41426 | B117: -1.3823154 | C117: 0.55124703 | D117: -0.54903873 | E117: 0.24232642 | F117: -0.3652876 | G117: -0.56424675 | H117: -0.3784269 | I117: -0.48427942 | J117: -0.77612036 | K117: -0.4366852 | L117: 0.49866034 | M117: -0.33524767 | N117: -0.38528049 | O117: 0.43416943 | P117: -0.82714111 | Q117: 0.91732056 | R117: -0.69532166 | S117: -0.14402592 | T117: -1.0573887 | U117: -1.3169419 | V117: 1.0808205 | W117: -1.3545429 | X117: -1.1050998

Sheet Sheet2
C1: PC1
B2: GLT | C2: =B2 -> GLT | D2: <<reconcile the PC1 from Factor loadings on right and data in sheet 1 | O2: C1
A3: =Sheet1!A2 -> 37926 | B3: -1.5456749 | C3: =1*B3 -> -1.5456749 | D3: {=MMULT(Sheet1!$B$2:$X$117,Sheet2!$O$5:$O$27)} -> -0.8449917 | N3: =+SQRT(SUMPRODUCT($O$5:$O$27,$O$5:$O$27)) -> 1 | O3: Last updated: 11/12/13 - 18:40
A4: =Sheet1!A3 -> 37956 | B4: -1.5175612 | C4: =1*B4 -> -1.5175612 | D4: -0.79272539 | N4: Factor Loadings
A5: =Sheet1!A4 -> 37987 | B5: -2.0825992 | C5: =1*B5 -> -2.0825992 | D5: -1.7451819 | N5: R1 | O5: -0.067218088
A6: =Sheet1!A5 -> 38018 | B6: -2.6048258 | C6: =1*B6 -> -2.6048258 | D6: -0.28683781 | N6: R2 | O6: 0.092269456
A7: =Sheet1!A6 -> 38047 | B7: -2.1672215 | C7: =1*B7 -> -2.1672215 | D7: 0.43853583 | N7: R3 | O7: 0.12775011
A8: =Sheet1!A7 -> 38078 | B8: -2.4412979 | C8: =1*B8 -> -2.4412979 | D8: 0.86599934 | N8: R4 | O8: 0.069609882
A9: =Sheet1!A8 -> 38108 | B9: -1.853452 | C9: =1*B9 -> -1.853452 | D9: 0.48818979 | N9: R5 | O9: 0.25583612
A10: =Sheet1!A9 -> 38139 | B10: -1.8966322 | C10: =1*B10 -> -1.8966322 | D10: 0.98971483 | N10: R6 | O10: -0.086363138
A11: =Sheet1!A10 -> 38169 | B11: -1.8947592 | C11: =1*B11 -> -1.8947592 | D11: -0.62238769 | N11: R7 | O11: 0.2864604
A12: =Sheet1!A11 -> 38200 | B12: -1.8291913 | C12: =1*B12 -> -1.8291913 | D12: -0.43854486 | N12: R8 | O12: 0.29105453
A13: =Sheet1!A12 -> 38231 | B13: -1.8417912 | C13: =1*B13 -> -1.8417912 | D13: -0.40688712 | N13: R9 | O13: -0.093886088
A14: =Sheet1!A13 -> 38261 | B14: -2.0397215 | C14: =1*B14 -> -2.0397215 | D14: -0.89909208 | N14: R10 | O14: 0.30211604
A15: =Sheet1!A14 -> 38292 | B15: -2.892912 | C15: =1*B15 -> -2.892912 | D15: -0.79526957 | N15: R11 | O15: 0.29760958
A16: =Sheet1!A15 -> 38322 | B16: -2.6312959 | C16: =1*B16 -> -2.6312959 | D16: -0.94566392 | N16: R12 | O16: -0.14037809
... A27: =Sheet1!A26 -> 38657 | B27: -1.9762294 | C27: =1*B27 -> -1.9762294 | D27: -0.65617636 | N27: R23 | O27: 0.25606695
A28: =Sheet1!A27 -> 38687 | B28: -1.373216 | C28: =1*B28 -> -1.373216 | D28: -0.1780887
A29: =Sheet1!A28 -> 38718 | B29: -1.9956563 | C29: =1*B29 -> -1.9956563 | D29: -1.398533
A30: =Sheet1!A29 -> 38749 | B30: -2.3206329 | C30: =1*B30 -> -2.3206329 | D30: -1.1690846
A31: =Sheet1!A30 -> 38777 | B31: -2.2081491 | C31: =1*B31 -> -2.2081491 | D31: -0.93093866
A32: =Sheet1!A31 -> 38808 | B32: -2.5682426 | C32: =1*B32 -> -2.5682426 | D32: -1.1802264
A33: =Sheet1!A32 -> 38838 | B33: -2.4581012 | C33: =1*B33 -> -2.4581012 | D33: -1.3226401
A34: =Sheet1!A33 -> 38869 | B34: -2.0262674 | C34: =1*B34 -> -2.0262674 | D34: -1.1846056
A35: =Sheet1!A34 -> 38899 | B35: -1.7980651 | C35: =1*B35 -> -1.7980651 | D35: -0.69140654
A36: =Sheet1!A35 -> 38930 | B36: -1.9278381 | C36: =1*B36 -> -1.9278381 | D36: -1.5049312
A37: =Sheet1!A36 -> 38961 | B37: -1.8404609 | C37: =1*B37 -> -1.8404609 | D37: -1.7321333
A38: =Sheet1!A37 -> 38991 | B38: -1.6786575 | C38: =1*B38 -> -1.6786575 | D38: -1.2908916
A39: =Sheet1!A38 -> 39022 | B39: -1.6093796 | C39: =1*B39 -> -1.6093796 | D39: -2.015295
... A118: =Sheet1!A117 -> 41426 | B118: -1.7652017 | C118: =1*B118 -> -1.7652017 | D118: 0.17001766
