Workbook

Sheet Excel
G1: coluna(G)
F3: obs | G3: SAL | H3: MASC | I3: EXPER
F4: 1 | G4: 605202 | H4: 1 | I4: 10 | K4: =TYPE(G4) -> 1 | L4: =TYPE(G4)
F5: 2 | G5: 398658 | H5: 1 | I5: 1
F6: 3 | G6: 582.66 | H6: 1 | I6: 10 | K6: =TYPE(G6) -> 2 | L6: =TYPE(G6)
F7: 4 | G7: 689.91 | H7: 1 | I7: 20
F8: 5 | G8: 672828 | H8: 1 | I8: 17
F9: 6 | G9: 673062 | H9: 1 | I9: 22
F10: 7 | G10: 589134 | H10: 1 | I10: 8
F11: 8 | G11: 682734 | H11: 1 | I11: 19
F12: 9 | G12: 416.52 | H12: 1 | I12: 5 | K12: =TYPE(G12) -> 2 | L12: =TYPE(G12)
F13: 10 | G13: 4.58406e+15 | H13: 1 | I13: 5
F14: 11 | G14: 5.40228e+15 | H14: 1 | I14: 15 | K14: =REPLACE(G15;4;1;",")
F15: 12 | G15: 412.23 | H15: 1 | I15: 2 | K15: =REPLACE(G15,4,1,",") -> 412,23 | L15: =VALUE(K15) -> 412.23
F16: 13 | G16: 635778 | H16: 1 | I16: 12 | L16: =VALUE(K15)
F17: 14 | G17: 459498 | H17: 1 | I17: 8
F18: 15 | G18: 7.14324e+15 | H18: 1 | I18: 20 | K18: text | L18: num
F19: 16 | G19: 4.17222e+15 | H19: 1 | I19: 3
F20: 17 | G20: 5.39916e+15 | H20: 1 | I20: 5
F21: 18 | G21: 664.95 | H21: 1 | I21: 11
F22: 19 | G22: 415.35 | H22: 1 | I22: 6
F23: 20 | G23: 548496 | H23: 1 | I23: 7
F24: 21 | G24: 4.04508e+15 | H24: 1 | I24: 1
F25: 22 | G25: 592722 | H25: 1 | I25: 7
F26: 23 | G26: 708.63 | H26: 1 | I26: 16
F27: 24 | G27: 568152 | H27: 1 | I27: 6
F28: 25 | G28: 6.49428e+15 | H28: 1 | I28: 15
F29: 26 | G29: 571.35 | H29: 1 | I29: 8
F30: 27 | G30: 498.81 | H30: 1 | I30: 4
F31: 28 | G31: 4.48656e+15 | H31: 1 | I31: 4
F32: 29 | G32: 443.43 | H32: 1 | I32: 7
F33: 30 | G33: 6.07776e+15 | H33: 1 | I33: 10
F34: 31 | G34: 398736 | H34: 1 | I34: 3
F35: 32 | G35: 422.76 | H35: 1 | I35: 4
F36: 33 | G36: 398.19 | H36: 1 | I36: 3
F37: 34 | G37: 703.56 | H37: 1 | I37: 22
F38: 35 | G38: 602316 | H38: 1 | I38: 17
F39: 36 | G39: 5.02554e+15 | H39: 1 | I39: 11
F40: 37 | G40: 608166 | H40: 1 | I40: 15
F41: 38 | G41: 410592 | H41: 1 | I41: 6
F42: 39 | G42: 577.59 | H42: 1 | I42: 10
F43: 40 | G43: 6.20958e+15 | H43: 1 | I43: 13
F44: 41 | G44: 530634 | H44: 1 | I44: 9
F45: 42 | G45: 671346 | H45: 1 | I45: 24
F46: 43 | G46: 731562 | H46: 1 | I46: 21
F47: 44 | G47: 5.2104e+15 | H47: 1 | I47: 5
F48: 45 | G48: 5.5809e+15 | H48: 1 | I48: 10
F49: 46 | G49: 449982 | H49: 1 | I49: 6
F50: 47 | G50: 525.72 | H50: 1 | I50: 7
F51: 48 | G51: 6.71112e+15 | H51: 1 | I51: 15
F52: 49 | G52: 427908 | H52: 1 | I52: 3
F53: 50 | G53: 592332 | H53: 1 | I53: 14
F54: 51 | G54: 349.38 | H54: 0 | I54: 15
F55: 52 | G55: 218052 | H55: 0 | I55: 1
F56: 53 | G56: 387396 | H56: 0 | I56: 12
F57: 54 | G57: 346356 | H57: 0 | I57: 9
F58: 55 | G58: 256014 | H58: 0 | I58: 5
F59: 56 | G59: 251046 | H59: 0 | I59: 3
F60: 57 | G60: 273348 | H60: 0 | I60: 7
F61: 58 | G61: 3.9771e+15 | H61: 0 | I61: 17
F62: 59 | G62: 392202 | H62: 0 | I62: 19
F63: 60 | G63: 394254 | H63: 0 | I63: 15
F64: 61 | G64: 2.85174e+15 | H64: 0 | I64: 6
F65: 62 | G65: 244566 | H65: 0 | I65: 3
F66: 63 | G66: 387612 | H66: 0 | I66: 17
... F68: 65 | G68: 333612 | H68: 0 | I68: 10
F69: 66 | G69: 292.95 | H69: 0 | I69: 4
F70: 67 | G70: 374922 | H70: 0 | I70: 11
F71: 68 | G71: 387.45 | H71: 0 | I71: 10
F72: 69 | G72: 307.53 | H72: 0 | I72: 7
F73: 70 | G73: 268974 | H73: 0 | I73: 3
F74: 71 | G74: 4.06728e+15 | H74: 0 | I74: 20
F75: 72 | G75: 3.63204e+15 | H75: 0 | I75: 16
F76: 73 | G76: 377406 | H76: 0 | I76: 17
F77: 74 | G77: 368874 | H77: 0 | I77: 14
F78: 75 | G78: 401274 | H78: 0 | I78: 12
F79: 76 | G79: 428328 | H79: 0 | I79: 22
F80: 77 | G80: 354942 | H80: 0 | I80: 8
F81: 78 | G81: 4.27194e+15 | H81: 0 | I81: 21
F82: 79 | G82: 318384 | H82: 0 | I82: 14
F83: 80 | G83: 242244 | H83: 0 | I83: 2
F84: 81 | G84: 293.22 | H84: 0 | I84: 8
F85: 82 | G85: 254232 | H85: 0 | I85: 4
F86: 83 | G86: 306.72 | H86: 0 | I86: 11
F87: 84 | G87: 3.48354e+15 | H87: 0 | I87: 10
F88: 85 | G88: 402948 | H88: 0 | I88: 18
F89: 86 | G89: 424.44 | H89: 0 | I89: 25
F90: 87 | G90: 321.57 | H90: 0 | I90: 11
F91: 88 | G91: 374976 | H91: 0 | I91: 17
F92: 89 | G92: 411696 | H92: 0 | I92: 19
F93: 90 | G93: 261576 | H93: 0 | I93: 7

Sheet DataBase
B2: Exercício 1 | F2: Exercício 2 | J2: Exercício 4 | N2: Exercício 5 | R2: Exercício 6 | V2: Exercício 7 | AB2: Exercício 8
B4: Date | C4: Spot | D4: Futures | F4: Advert | G4: Price | H4: Sales | J4: Advert | K4: Price | L4: Sales | N4: EXPER | O4: MASC | P4: SAL | R4: RIQ | S4: REND | T4: CONS | V4: AT | W4: AH | X4: P | Y4: QT | Z4: Col | AB4: obs | AC4: BRENT | AD4: COMB | AE4: FISC
A5: 1 | B5: 37288 | C5: 1106.73 | D5: 1130.2 | F5: 1.3 | G5: 5.69 | H5: 73.2 | J5: 1.3 | K5: 5.69 | L5: 73.2 | N5: 10 | O5: 1 | P5: 605.202 | R5: 810 | S5: 80 | T5: 70 | V5: 5200 | W5: 1374 | X5: 191000 | Y5: 3 | Z5: 0 | AB5: 2005M01 | AC5: 33.745903 | AD5: 0.921274 | AE5: 0.56253917
A6: =A5+1 -> 2 | B6: 37316 | C6: 1147.39 | D6: 1119.5 | F6: 2.9 | G6: 6.49 | H6: 71.8 | J6: 2.9 | K6: 6.49 | L6: 71.8 | N6: 1 | O6: 1 | P6: 398.658 | R6: 1009 | S6: 100 | T6: 65 | V6: 6000 | W6: 1767 | X6: 206000 | Y6: 3 | Z6: 0 | AB6: 2005M02 | AC6: 34.949236 | AD6: 0.93121667 | AE6: 0.56412665
A7: =A6+1 -> 3 | B7: 37347 | C7: 1076.92 | D7: 1144 | F7: 0.8 | G7: 5.63 | H7: 62.4 | J7: 0.8 | K7: 5.63 | L7: 62.4 | N7: 10 | O7: 1 | P7: 582.66 | R7: 1273 | S7: 120 | T7: 90 | V7: 2892 | W7: 1890 | X7: 240000 | Y7: 3 | Z7: 0 | AB7: 2005M03 | AC7: 40.094837 | AD7: 0.950335 | AE7: 0.56717916
A8: =A7+1 -> 4 | B8: 37377 | C8: 1067.14 | D8: 1052.8 | F8: 0.7 | G8: 6.22 | H8: 67.4 | J8: 0.7 | K8: 6.22 | L8: 67.4 | N8: 20 | O8: 1 | P8: 689.91 | R8: 1425 | S8: 140 | T8: 95 | V8: 6460 | W8: 1899 | X8: 212000 | Y8: 3 | Z8: 0 | AB8: 2005M04 | AC8: 40.104566 | AD8: 0.9968275 | AE8: 0.57460233
A9: =A8+1 -> 5 | B9: 37408 | C9: 989.82 | D9: 1056.5 | F9: 1.5 | G9: 5.02 | H9: 89.3 | J9: 1.5 | K9: 5.02 | L9: 89.3 | N9: 17 | O9: 1 | P9: 672.828 | R9: 1633 | S9: 160 | T9: 110 | V9: 5922 | W9: 2000 | X9: 240000 | Y9: 4 | Z9: 0 | AB9: 2005M05 | AC9: 38.250491 | AD9: 1.002125 | AE9: 0.57544815
A10: =A9+1 -> 6 | B10: 37438 | C10: 911.62 | D10: 969.3 | F10: 1.3 | G10: 6.41 | H10: 70.3 | J10: 1.3 | K10: 6.41 | L10: 70.3 | N10: 22 | O10: 1 | P10: 673.062 | R10: 1876 | S10: 180 | T10: 115 | V10: 6003 | W10: 1768 | X10: 225000 | Y10: 3 | Z10: 0 | AB10: 2005M06 | AC10: 44.726822 | AD10: 1.0091812 | AE10: 0.58263478
A11: =A10+1 -> 7 | B11: 37469 | C11: 916.07 | D11: 889 | F11: 1.8 | G11: 5.85 | H11: 73.2 | J11: 1.8 | K11: 5.85 | L11: 73.2 | N11: 8 | O11: 1 | P11: 589.134 | R11: 2052 | S11: 200 | T11: 120 | V11: 5218 | W11: 1732 | X11: 150000 | Y11: 4 | Z11: 0 | AB11: 2005M07 | AC11: 47.874445 | AD11: 1.0826962 | AE11: 0.61158596
A12: =A11+1 -> 8 | B12: 37500 | C12: 815.28 | D12: 908.5 | F12: 2.4 | G12: 5.41 | H12: 86.1 | J12: 2.4 | K12: 5.41 | L12: 86.1 | N12: 19 | O12: 1 | P12: 682.734 | R12: 2201 | S12: 220 | T12: 140 | V12: 6114 | W12: 1932 | X12: 275000 | Y12: 3 | Z12: 0 | AB12: 2005M08 | AC12: 52.158627 | AD12: 1.1013725 | AE12: 0.61482729
A13: =A12+1 -> 9 | B13: 37530 | C13: 885.76 | D13: 847.5 | F13: 0.7 | G13: 6.24 | H13: 81 | J13: 0.7 | K13: 6.24 | L13: 81 | N13: 5 | O13: 1 | P13: 416.52 | R13: 2435 | S13: 240 | T13: 155 | V13: 6710 | W13: 1932 | X13: 230000 | Y13: 3 | Z13: 0 | AB13: 2005M09 | AC13: 51.324539 | AD13: 1.1455462 | AE13: 0.62249381
A14: =A13+1 -> 10 | B14: 37561 | C14: 936.31 | D14: 901.5 | F14: 3 | G14: 6.2 | H14: 76.4 | J14: 3 | K14: 6.2 | L14: 76.4 | N14: 5 | O14: 1 | P14: 458.406 | R14: 2686 | S14: 260 | T14: 150 | V14: 15086 | W14: 2829 | X14: 335000 | Y14: 4 | Z14: 0 | AB14: 2005M10 | AC14: 48.778463 | AD14: 1.1592487 | AE14: 0.62487193
A15: =A14+1 -> 11 | B15: 37591 | C15: 879.82 | D15: 932.2 | F15: 2.8 | G15: 5.48 | H15: 76.6 | J15: 2.8 | K15: 5.48 | L15: 76.6 | N15: 15 | O15: 1 | P15: 540.228 | R15: =AVERAGE(R5:R14) -> 1740 | S15: =AVERAGE(S5:S14) -> 170 | T15: =AVERAGE(T5:T14) -> 111 | V15: 3500 | W15: 1702 | X15: 190000 | Y15: 4 | Z15: 0 | AB15: 2005M11 | AC15: 46.813943 | AD15: 1.115435 | AE15: 0.61726789
A16: =A15+1 -> 12 | B16: 37622 | C16: 855.7 | D16: 879.9 | F16: 2.7 | G16: 6.14 | H16: 82.2 | J16: 2.7 | K16: 6.14 | L16: 82.2 | N16: 2 | O16: 1 | P16: 412.23 | V16: 8880 | W16: 1421 | X16: 225000 | Y16: 2 | Z16: 0 | AB16: 2005M12 | AC16: 47.999622 | AD16: 1.0811375 | AE16: 0.61131543
A17: =A16+1 -> 13 | B17: 37653 | C17: 841.15 | D17: 857 | F17: 2.8 | G17: 5.37 | H17: 82.1 | J17: 2.8 | K17: 5.37 | L17: 82.1 | N17: 12 | O17: 1 | P17: 635.778 | V17: 5305 | W17: 1171 | X17: 230000 | Y17: 3 | Z17: 0 | AB17: 2006M01 | AC17: 52.076471 | AD17: 1.0933333 | AE17: 0.62593207
A18: =A17+1 -> 14 | B18: 37681 | C18: 848.18 | D18: 844.4 | F18: 2.8 | G18: 6.45 | H18: 68.6 | J18: 2.8 | K18: 6.45 | L18: 68.6 | N18: 8 | O18: 1 | P18: 459.498 | V18: 1000 | W18: 2768 | X18: 313000 | Y18: 3 | Z18: 0 | AB18: 2006M02 | AC18: 50.357252 | AD18: 1.1330588 | AE18: 0.64532656
A19: =A18+1 -> 15 | B19: 37712 | C19: 916.92 | D19: 856.2 | F19: 2.3 | G19: 5.35 | H19: 76.5 | J19: 2.3 | K19: 5.35 | L19: 76.5 | N19: 20 | O19: 1 | P19: 714.324 | V19: 8112 | W19: 3733 | X19: 417500 | Y19: 4 | Z19: 0 | AB19: 2006M03 | AC19: 51.648159 | AD19: 1.1326037 | AE19: 0.64524759
A20: =A19+1 -> 16 | B20: 37742 | C20: 963.59 | D20: 915.2 | F20: 1.7 | G20: 5.22 | H20: 80.3 | J20: 1.7 | K20: 5.22 | L20: 80.3 | N20: 3 | O20: 1 | P20: 417.222 | V20: 15267 | W20: 1478 | X20: 255000 | Y20: 2 | Z20: 0 | AB20: 2006M04 | AC20: 57.325867 | AD20: 1.164115 | AE20: 0.65071649
A21: =A20+1 -> 17 | B21: 37773 | C21: 974.5 | D21: 966.5 | F21: 1.5 | G21: 5.89 | H21: 70.7 | J21: 1.5 | K21: 5.89 | L21: 70.7 | N21: 5 | O21: 1 | P21: 539.916 | V21: 5539 | W21: 2343 | X21: 316000 | Y21: 4 | Z21: 0 | AB21: 2006M05 | AC21: 54.876837 | AD21: 1.212525 | AE21: 0.65911822
A22: =A21+1 -> 18 | B22: 37803 | C22: 990.31 | D22: 981 | F22: 0.8 | G22: 5.21 | H22: 75 | J22: 0.8 | K22: 5.21 | L22: 75 | N22: 11 | O22: 1 | P22: 664.95 | V22: 7566 | W22: 1567 | X22: 225000 | Y22: 3 | Z22: 0 | AB22: 2006M06 | AC22: 54.125735 | AD22: 1.2016962 | AE22: 0.65723885
A23: =A22+1 -> 19 | B23: 37834 | C23: 1008.01 | D23: 978.7 | F23: 2.9 | G23: 6 | H23: 73.7 | J23: 2.9 | K23: 6 | L23: 73.7 | N23: 6 | O23: 1 | P23: 415.35 | V23: 10859 | W23: 2709 | X23: 325000 | Y23: 4 | Z23: 0 | AB23: 2006M07 | AC23: 58.074126 | AD23: 1.219664 | AE23: 0.66035722
A24: =A23+1 -> 20 | B24: 37865 | C24: 995.97 | D24: 1012.3 | F24: 0.5 | G24: 6.37 | H24: 71.2 | J24: 0.5 | K24: 6.37 | L24: 71.2 | N24: 7 | O24: 1 | P24: 548.496 | V24: 11554 | W24: 1694 | X24: 215000 | Y24: 3 | Z24: 0 | AB24: 2006M08 | AC24: 57.06611 | AD24: 1.2356463 | AE24: 0.663131
A25: =A24+1 -> 21 | B25: 37895 | C25: 1050.71 | D25: 997.8 | F25: 2.1 | G25: 5.33 | H25: 84.7 | J25: 2.1 | K25: 5.33 | L25: 84.7 | N25: 1 | O25: 1 | P25: 404.508 | V25: 31000 | W25: 3662 | X25: 725000 | Y25: 5 | Z25: 0 | AB25: 2006M09 | AC25: 48.485835 | AD25: 1.194705 | AE25: 0.6560255
A26: =A25+1 -> 22 | B26: 37926 | C26: 1058.2 | D26: 1047.6 | F26: 0.8 | G26: 5.23 | H26: 73.6 | J26: 0.8 | K26: 5.23 | L26: 73.6 | N26: 7 | O26: 1 | P26: 592.722 | V26: 20700 | W26: 2205 | X26: 306000 | Y26: 2 | Z26: 0 | AB26: 2006M10 | AC26: 45.828513 | AD26: 1.118626 | AE26: 0.6428217
A27: =A26+1 -> 23 | B27: 37956 | C27: 1111.92 | D27: 1069.2 | F27: 1.1 | G27: 5.88 | H27: 73.7 | J27: 1.1 | K27: 5.88 | L27: 73.7 | N27: 16 | O27: 1 | P27: 708.63 | V27: 5525 | W27: 1502 | X27: 425000 | Y27: 3 | Z27: 0 | AB27: 2006M11 | AC27: 45.732574 | AD27: 1.1080725 | AE27: 0.6409901
... A44: =A43+1 -> 40 | B44: 38473 | C44: 1191.5 | D44: 1162.7 | F44: 2.3 | G44: 5.2 | H44: 84.3 | J44: 2.3 | K44: 5.2 | L44: 84.3 | N44: 13 | O44: 1 | P44: 620.958 | V44: 7123 | W44: 1774 | X44: 285000 | Y44: 3 | Z44: 1 | AB44: 2008M04 | AC44: 69.062883 | AD44: 1.3332575 | AE44: 0.7050718
A45: =A44+1 -> 41 | B45: 38504 | C45: 1191.33 | D45: 1201.2 | F45: 1.2 | G45: 5.62 | H45: 79.5 | J45: 1.2 | K45: 5.62 | L45: 79.5 | N45: 9 | O45: 1 | P45: 530.634 | V45: 5642 | W45: 1376 | X45: 268000 | Y45: 3 | Z45: 1
A46: =A45+1 -> 42 | B46: 38534 | C46: 1234.18 | D46: 1199.5 | F46: 3.1 | G46: 5.28 | H46: 80.2 | J46: 3.1 | K46: 5.28 | L46: 80.2 | N46: 24 | O46: 1 | P46: 671.346 | V46: 8602 | W46: 1835 | X46: 310000 | Y46: 4 | Z46: 1
A47: =A46+1 -> 43 | B47: 38565 | C47: 1220.33 | D47: 1237.2 | F47: 1 | G47: 5.46 | H47: 67.6 | J47: 1 | K47: 5.46 | L47: 67.6 | N47: 21 | O47: 1 | P47: 731.562 | V47: 5494 | W47: 2048 | X47: 266000 | Y47: 3 | Z47: 1
A48: =A47+1 -> 44 | B48: 38596 | C48: 1228.81 | D48: 1222.8 | F48: 2.5 | G48: 5.11 | H48: 86.5 | J48: 2.5 | K48: 5.11 | L48: 86.5 | N48: 5 | O48: 1 | P48: 521.04 | V48: 7800 | W48: 2124 | X48: 270000 | Y48: 3 | Z48: 1
A49: =A48+1 -> 45 | B49: 38626 | C49: 1207.01 | D49: 1235.5 | F49: 2.1 | G49: 5.04 | H49: 87.6 | J49: 2.1 | K49: 5.04 | L49: 87.6 | N49: 10 | O49: 1 | P49: 558.09 | V49: 9425 | W49: 1440 | X49: 247000 | Y49: 3 | Z49: 1
A50: =A49+1 -> 46 | B50: 38657 | C50: 1249.48 | D50: 1205 | F50: 2.8 | G50: 5.08 | H50: 84.2 | J50: 2.8 | K50: 5.08 | L50: 84.2 | N50: 6 | O50: 1 | P50: 449.982 | V50: 8577 | W50: 2106 | X50: 343000 | Y50: 3 | Z50: 1
A51: =A50+1 -> 47 | B51: 38687 | C51: 1248.29 | D51: 1266.7 | F51: 3.1 | G51: 5.86 | H51: 75.2 | J51: 3.1 | K51: 5.86 | L51: 75.2 | N51: 7 | O51: 1 | P51: 525.72 | V51: 8400 | W51: 3529 | X51: 477500 | Y51: 7 | Z51: 1
A52: =A51+1 -> 48 | B52: 38718 | C52: 1280.08 | D52: 1275.5 | F52: 3.1 | G52: 4.89 | H52: 84.7 | J52: 3.1 | K52: 4.89 | L52: 84.7 | N52: 15 | O52: 1 | P52: 671.112 | V52: 9773 | W52: 2051 | X52: 350000 | Y52: 4 | Z52: 1
A53: =A52+1 -> 49 | B53: 38749 | C53: 1280.66 | D53: 1285.5 | F53: 0.9 | G53: 5.68 | H53: 73.7 | J53: 0.9 | K53: 5.68 | L53: 73.7 | N53: 3 | O53: 1 | P53: 427.908 | V53: 4806 | W53: 1573 | X53: 230000 | Y53: 4 | Z53: 1
A54: =A53+1 -> 50 | B54: 38777 | C54: 1294.87 | D54: 1292.5 | F54: 1.8 | G54: 5.83 | H54: 81.2 | J54: 1.8 | K54: 5.83 | L54: 81.2 | N54: 14 | O54: 1 | P54: 592.332 | V54: 5763 | W54: 1630 | X54: 251000 | Y54: 3 | Z54: 1
A55: =A54+1 -> 51 | B55: 38808 | C55: 1310.61 | D55: 1307.5 | F55: 3.1 | G55: 6.33 | H55: 69 | J55: 3.1 | K55: 6.33 | L55: 69 | N55: 15 | O55: 0 | P55: 349.38 | V55: 6383 | W55: 1840 | X55: 235000 | Y55: 4 | Z55: 1
A56: =A55+1 -> 52 | B56: 38838 | C56: 1270.09 | D56: 1318.4 | F56: 1.9 | G56: 6.47 | H56: 69.7 | J56: 1.9 | K56: 6.47 | L56: 69.7 | N56: 1 | O56: 0 | P56: 218.052 | V56: 9000 | W56: 2066 | X56: 361000 | Y56: 4 | Z56: 1
... A70: =A69+1 -> 66 | B70: 39264 | C70: 1455.27 | D70: 1531.5 | F70: 1.5 | G70: 5.98 | H70: 71.8 | J70: 1.5 | K70: 5.98 | L70: 71.8 | N70: 4 | O70: 0 | P70: 292.95 | V70: 8410 | W70: 1722 | X70: 250000 | Y70: 3 | Z70: 1
F71: 2 | G71: 5.02 | H71: 80.6 | J71: 2 | K71: 5.02 | L71: 80.6 | N71: 11 | O71: 0 | P71: 374.922 | V71: 5625 | W71: 1780 | X71: 250000 | Y71: 4 | Z71: 1
F72: 1.3 | G72: 5.08 | H72: 73.1 | J72: 1.3 | K72: 5.08 | L72: 73.1 | N72: 10 | O72: 0 | P72: 387.45 | V72: 5600 | W72: 1674 | X72: 209000 | Y72: 4 | Z72: 1
F73: 1.1 | G73: 5.23 | H73: 81 | J73: 1.1 | K73: 5.23 | L73: 81 | N73: 7 | O73: 0 | P73: 307.53 | V73: 6525 | W73: 1850 | X73: 258000 | Y73: 4 | Z73: 1
F74: 2.2 | G74: 6.02 | H74: 73.7 | J74: 2.2 | K74: 6.02 | L74: 73.7 | N74: 3 | O74: 0 | P74: 268.974 | V74: 6060 | W74: 1925 | X74: 289000 | Y74: 3 | Z74: 1
F75: 1.7 | G75: 5.73 | H75: 82.2 | J75: 1.7 | K75: 5.73 | L75: 82.2 | N75: 20 | O75: 0 | P75: 406.728 | V75: 5484 | W75: 1664 | X75: 266000 | Y75: 4 | Z75: 1
F76: 0.7 | G76: 5.11 | H76: 74.2 | J76: 0.7 | K76: 5.11 | L76: 74.2 | N76: 16 | O76: 0 | P76: 363.204 | V76: 5348 | W76: 1386 | X76: 310000 | Y76: 6 | Z76: 1
F77: 0.7 | G77: 5.71 | H77: 75.4 | J77: 0.7 | K77: 5.71 | L77: 75.4 | N77: 17 | O77: 0 | P77: 377.406 | V77: 15834 | W77: 2617 | X77: 471250 | Y77: 5 | Z77: 1
F78: 2 | G78: 5.45 | H78: 81.3 | J78: 2 | K78: 5.45 | L78: 81.3 | N78: 14 | O78: 0 | P78: 368.874 | V78: 8022 | W78: 2321 | X78: 335000 | Y78: 4 | Z78: 1
F79: 2.2 | G79: 6.05 | H79: 75 | J79: 2.2 | K79: 6.05 | L79: 75 | N79: 12 | O79: 0 | P79: 401.274 | V79: 11966 | W79: 2638 | X79: 495000 | Y79: 4 | Z79: 1
N80: 22 | O80: 0 | P80: 428.328 | V80: 8460 | W80: 1915 | X80: 279500 | Y80: 4 | Z80: 1
N81: 8 | O81: 0 | P81: 354.942 | V81: 15105 | W81: 2589 | X81: 380000 | Y81: 4 | Z81: 1
N82: 21 | O82: 0 | P82: 427.194 | V82: 6300 | W82: 1587 | X82: 220000 | Y82: 3 | Z82: 1
N83: 14 | O83: 0 | P83: 318.384 | V83: 6000 | W83: 1536 | X83: 240000 | Y83: 3 | Z83: 1
N84: 2 | O84: 0 | P84: 242.244 | V84: 4054 | W84: 1736 | X84: 230000 | Y84: 3 | Z84: 1
N85: 8 | O85: 0 | P85: 293.22 | V85: 92681 | W85: 1696 | X85: 318000 | Y85: 4 | Z85: 1
N86: 4 | O86: 0 | P86: 254.232 | V86: 8178 | W86: 2186 | X86: 330000 | Y86: 3 | Z86: 1
N87: 11 | O87: 0 | P87: 306.72 | V87: 5944 | W87: 1928 | X87: 246000 | Y87: 4 | Z87: 1
N88: 10 | O88: 0 | P88: 348.354 | V88: 4315 | W88: 1535 | X88: 111000 | Y88: 4 | Z88: 1
N89: 18 | O89: 0 | P89: 402.948 | V89: 5167 | W89: 1980 | X89: 268125 | Y89: 3 | Z89: 1
N90: 25 | O90: 0 | P90: 424.44 | V90: 7893 | W90: 2090 | X90: 244000 | Y90: 4 | Z90: 1
N91: 11 | O91: 0 | P91: 321.57 | V91: 6056 | W91: 1837 | X91: 295000 | Y91: 3 | Z91: 1
N92: 17 | O92: 0 | P92: 374.976 | V92: 4950 | W92: 1774 | X92: 242000 | Y92: 4 | Z92: 1
N93: 19 | O93: 0 | P93: 411.696
N94: 7 | O94: 0 | P94: 261.576

Sheet Ex1
B4: Date | C4: Spot | D4: Futures | F4: Spot | G4: n | H4: Futures
A5: 1 | B5: 37288 | C5: 1106.73 | D5: 1130.2 | F5: 1106.73 | G5: 1 | H5: 1130.2
A6: =A5+1 -> 2 | B6: 37316 | C6: 1147.39 | D6: 1119.5 | F6: 1147.39 | G6: 1 | H6: 1119.5
A7: =A6+1 -> 3 | B7: 37347 | C7: 1076.92 | D7: 1144 | F7: 1076.92 | G7: 1 | H7: 1144 | J7: (X'X)= | K7: {=MMULT(TRANSPOSE(G5:H70),G5:H70)} -> 66 | L7: 76472.2
A8: =A7+1 -> 4 | B8: 37377 | C8: 1067.14 | D8: 1052.8 | F8: 1067.14 | G8: 1 | H8: 1052.8 | K8: 76472.2 | L8: 90663191
A9: =A8+1 -> 5 | B9: 37408 | C9: 989.82 | D9: 1056.5 | F9: 989.82 | G9: 1 | H9: 1056.5
A10: =A9+1 -> 6 | B10: 37438 | C10: 911.62 | D10: 969.3 | F10: 911.62 | G10: 1 | H10: 969.3 | J10: (X'X)-1= | K10: {=MINVERSE(K7:L8)} -> 0.66775448 | L10: -0.00056323469
A11: =A10+1 -> 7 | B11: 37469 | C11: 916.07 | D11: 889 | F11: 916.07 | G11: 1 | H11: 889 | K11: -0.00056323469 | L11: 4.8610462e-07
A12: =A11+1 -> 8 | B12: 37500 | C12: 815.28 | D12: 908.5 | F12: 815.28 | G12: 1 | H12: 908.5
A13: =A12+1 -> 9 | B13: 37530 | C13: 885.76 | D13: 847.5 | F13: 885.76 | G13: 1 | H13: 847.5 | J13: (X'Y)= | K13: {=MMULT(TRANSPOSE(G5:H70),F5:F70)} -> 76506.08
A14: =A13+1 -> 10 | B14: 37561 | C14: 936.31 | D14: 901.5 | F14: 936.31 | G14: 1 | H14: 901.5 | K14: 90665877
A15: =A14+1 -> 11 | B15: 37591 | C15: 879.82 | D15: 932.2 | F15: 879.82 | G15: 1 | H15: 932.2
A16: =A15+1 -> 12 | B16: 37622 | C16: 855.7 | D16: 879.9 | F16: 855.7 | G16: 1 | H16: 879.9
A17: =A16+1 -> 13 | B17: 37653 | C17: 841.15 | D17: 857 | F17: 841.15 | G17: 1 | H17: 857 | J17: β= | K17: {=MMULT(K10:L11,K13:K14)} -> 21.11071
A18: =A17+1 -> 14 | B18: 37681 | C18: 848.18 | D18: 844.4 | F18: 848.18 | G18: 1 | H18: 844.4 | K18: 0.98222325
A19: =A18+1 -> 15 | B19: 37712 | C19: 916.92 | D19: 856.2 | F19: 916.92 | G19: 1 | H19: 856.2
A20: =A19+1 -> 16 | B20: 37742 | C20: 963.59 | D20: 915.2 | F20: 963.59 | G20: 1 | H20: 915.2
A21: =A20+1 -> 17 | B21: 37773 | C21: 974.5 | D21: 966.5 | F21: 974.5 | G21: 1 | H21: 966.5
A22: =A21+1 -> 18 | B22: 37803 | C22: 990.31 | D22: 981 | F22: 990.31 | G22: 1 | H22: 981
A23: =A22+1 -> 19 | B23: 37834 | C23: 1008.01 | D23: 978.7 | F23: 1008.01 | G23: 1 | H23: 978.7
A24: =A23+1 -> 20 | B24: 37865 | C24: 995.97 | D24: 1012.3 | F24: 995.97 | G24: 1 | H24: 1012.3
A25: =A24+1 -> 21 | B25: 37895 | C25: 1050.71 | D25: 997.8 | F25: 1050.71 | G25: 1 | H25: 997.8
A26: =A25+1 -> 22 | B26: 37926 | C26: 1058.2 | D26: 1047.6 | F26: 1058.2 | G26: 1 | H26: 1047.6
A27: =A26+1 -> 23 | B27: 37956 | C27: 1111.92 | D27: 1069.2 | F27: 1111.92 | G27: 1 | H27: 1069.2
A28: =A27+1 -> 24 | B28: 37987 | C28: 1131.13 | D28: 1109.2 | F28: 1131.13 | G28: 1 | H28: 1109.2
A29: =A28+1 -> 25 | B29: 38018 | C29: 1144.94 | D29: 1133.9 | F29: 1144.94 | G29: 1 | H29: 1133.9
A30: =A29+1 -> 26 | B30: 38047 | C30: 1126.21 | D30: 1155.7 | F30: 1126.21 | G30: 1 | H30: 1155.7
... A70: =A69+1 -> 66 | B70: 39264 | C70: 1455.27 | D70: 1531.5 | F70: 1455.27 | G70: 1 | H70: 1531.5

Sheet Ex1a
C4: Spot | D4: Futures | E4: Dspot | F4: Dfutures | H4: Dspot | I4: n | J4: Dfutures | K4: Yestimado | L4: erro | M4: erro1 | N4: erro2 | O4: SQE | P4: SQT | Q4: SQR
B5: 1 | C5: 1106.73 | D5: 1130.2 | E5: =100*(LN(C5)-LN(C4)) -> #VALUE! | F5: =100*(LN(D5)-LN(D4)) -> #VALUE!
B6: =B5+1 -> 2 | C6: 1147.39 | D6: 1119.5 | E6: =100*(LN(C6)-LN(C5)) -> 3.6080076 | F6: =100*(LN(D6)-LN(D5)) -> -0.95124512 | H6: =E6 -> 3.6080076 | I6: 1 | J6: =F6 -> -0.95124512 | K6: =X$18+X$19*J6 -> 0.24548103 | L6: =H6-K6 -> 3.3625266 | M6: =L6*J6 -> -3.198587 | N6: =L6*K6 -> 0.82543649 | O6: =(K6-X$21)^2 -> 0.030878092 | P6: =(H6-X$21)^2 -> 10.155726 | Q6: =L6^2 -> 11.306585
B7: =B6+1 -> 3 | C7: 1076.92 | D7: 1144 | E7: =100*(LN(C7)-LN(C6)) -> -6.3384683 | F7: =100*(LN(D7)-LN(D6)) -> 2.1648736 | H7: =E7 -> -6.3384683 | I7: 1 | J7: =F7 -> 2.1648736 | K7: =X$18+X$19*J7 -> 0.63144359 | L7: =H7-K7 -> -6.9699119 | M7: =L7*J7 -> -15.088978 | N7: =L7*K7 -> -4.4011062 | O7: =(K7-X$21)^2 -> 0.04420125 | P7: =(H7-X$21)^2 -> 45.693151 | Q7: =L7^2 -> 48.579671
B8: =B7+1 -> 4 | C8: 1067.14 | D8: 1052.8 | E8: =100*(LN(C8)-LN(C7)) -> -0.91229423 | F8: =100*(LN(D8)-LN(D7)) -> -8.3077611 | H8: =E8 -> -0.91229423 | I8: 1 | J8: =F8 -> -8.3077611 | K8: =X$18+X$19*J8 -> -0.66569728 | L8: =H8-K8 -> -0.24659695 | M8: =L8*J8 -> 2.0486685 | N8: =L8*K8 -> 0.16415892 | O8: =(K8-X$21)^2 -> 1.1813515 | P8: =(H8-X$21)^2 -> 1.778214 | Q8: =L8^2 -> 0.060810055 | W8: (X'X)= | X8: {=MMULT(TRANSPOSE(I6:J70),I6:J70)} -> 65 | Y8: 30.385304
B9: =B8+1 -> 5 | C9: 989.82 | D9: 1056.5 | E9: =100*(LN(C9)-LN(C8)) -> -7.5214343 | F9: =100*(LN(D9)-LN(D8)) -> 0.35082765 | H9: =E9 -> -7.5214343 | I9: 1 | J9: =F9 -> 0.35082765 | K9: =X$18+X$19*J9 -> 0.4067558 | L9: =H9-K9 -> -7.9281901 | M9: =L9*J9 -> -2.7814283 | N9: =L9*K9 -> -3.2248373 | O9: =(K9-X$21)^2 -> 0.00020871166 | P9: =(H9-X$21)^2 -> 63.085482 | Q9: =L9^2 -> 62.856199 | X9: 30.385304 | Y9: 717.05827
B10: =B9+1 -> 6 | C10: 911.62 | D10: 969.3 | E10: =100*(LN(C10)-LN(C9)) -> -8.2299872 | F10: =100*(LN(D10)-LN(D9)) -> -8.6142676 | H10: =E10 -> -8.2299872 | I10: 1 | J10: =F10 -> -8.6142676 | K10: =X$18+X$19*J10 -> -0.70366118 | L10: =H10-K10 -> -7.526326 | M10: =L10*J10 -> 64.833786 | N10: =L10*K10 -> 5.2959834 | O10: =(K10-X$21)^2 -> 1.2653187 | P10: =(H10-X$21)^2 -> 74.843086 | Q10: =L10^2 -> 56.645583
B11: =B10+1 -> 7 | C11: 916.07 | D11: 889 | E11: =100*(LN(C11)-LN(C10)) -> 0.48695444 | F11: =100*(LN(D11)-LN(D10)) -> -8.6476926 | H11: =E11 -> 0.48695444 | I11: 1 | J11: =F11 -> -8.6476926 | K11: =X$18+X$19*J11 -> -0.7078012 | L11: =H11-K11 -> 1.1947556 | M11: =L11*J11 -> -10.33188 | N11: =L11*K11 -> -0.84564948 | O11: =(K11-X$21)^2 -> 1.2746497 | P11: =(H11-X$21)^2 -> 0.0043232965 | Q11: =L11^2 -> 1.427441 | W11: (X'X)-1= | X11: {=MINVERSE(X8:Y9)} -> 0.015695526 | Y11: -0.00066509702
B12: =B11+1 -> 8 | C12: 815.28 | D12: 908.5 | E12: =100*(LN(C12)-LN(C11)) -> -11.656117 | F12: =100*(LN(D12)-LN(D11)) -> 2.1697652 | H12: =E12 -> -11.656117 | I12: 1 | J12: =F12 -> 2.1697652 | K12: =X$18+X$19*J12 -> 0.63204947 | L12: =H12-K12 -> -12.288166 | M12: =L12*J12 -> -26.662436 | N12: =L12*K12 -> -7.766729 | O12: =(K12-X$21)^2 -> 0.044456378 | P12: =(H12-X$21)^2 -> 145.86165 | Q12: =L12^2 -> 150.99903 | X12: -0.00066509702 | Y12: 0.0014227703
B13: =B12+1 -> 9 | C13: 885.76 | D13: 847.5 | E13: =100*(LN(C13)-LN(C12)) -> 8.2914421 | F13: =100*(LN(D13)-LN(D12)) -> -6.9504049 | H13: =E13 -> 8.2914421 | I13: 1 | J13: =F13 -> -6.9504049 | K13: =X$18+X$19*J13 -> -0.49757509 | L13: =H13-K13 -> 8.7890172 | M13: =L13*J13 -> -61.087228 | N13: =L13*K13 -> -4.373196 | O13: =(K13-X$21)^2 -> 0.84415255 | P13: =(H13-X$21)^2 -> 61.940669 | Q13: =L13^2 -> 77.246823
B14: =B13+1 -> 10 | C14: 936.31 | D14: 901.5 | E14: =100*(LN(C14)-LN(C13)) -> 5.5500585 | F14: =100*(LN(D14)-LN(D13)) -> 6.1769203 | H14: =E14 -> 5.5500585 | I14: 1 | J14: =F14 -> 6.1769203 | K14: =X$18+X$19*J14 -> 1.1283758 | L14: =H14-K14 -> 4.4216826 | M14: =L14*J14 -> 27.312381 | N14: =L14*K14 -> 4.9893198 | O14: =(K14-X$21)^2 -> 0.50009389 | P14: =(H14-X$21)^2 -> 26.305162 | Q14: =L14^2 -> 19.551277 | W14: (X'Y)= | X14: {=MMULT(TRANSPOSE(I6:J70),H6:H70)} -> 27.378173
B15: =B14+1 -> 11 | C15: 879.82 | D15: 932.2 | E15: =100*(LN(C15)-LN(C14)) -> -6.2229277 | F15: =100*(LN(D15)-LN(D14)) -> 3.3487341 | H15: =E15 -> -6.2229277 | I15: 1 | J15: =F15 -> 3.3487341 | K15: =X$18+X$19*J15 -> 0.7780766 | L15: =H15-K15 -> -7.0010043 | M15: =L15*J15 -> -23.444502 | N15: =L15*K15 -> -5.4473176 | O15: =(K15-X$21)^2 -> 0.12735901 | P15: =(H15-X$21)^2 -> 44.144468 | Q15: =L15^2 -> 49.014061 | X15: 99.853911
B16: =B15+1 -> 12 | C16: 855.7 | D16: 879.9 | E16: =100*(LN(C16)-LN(C15)) -> -2.7797494 | F16: =100*(LN(D16)-LN(D15)) -> -5.7739119 | H16: =E16 -> -2.7797494 | I16: 1 | J16: =F16 -> -5.7739119 | K16: =X$18+X$19*J16 -> -0.35185464 | L16: =H16-K16 -> -2.4278947 | M16: =L16*J16 -> 14.01845 | N16: =L16*K16 -> 0.85426602 | O16: =(K16-X$21)^2 -> 0.59761759 | P16: =(H16-X$21)^2 -> 10.246094 | Q16: =L16^2 -> 5.8946728
B17: =B16+1 -> 13 | C17: 841.15 | D17: 857 | E17: =100*(LN(C17)-LN(C16)) -> -1.7149844 | F17: =100*(LN(D17)-LN(D16)) -> -2.6370346 | H17: =E17 -> -1.7149844 | I17: 1 | J17: =F17 -> -2.6370346 | K17: =X$18+X$19*J17 -> 0.036679088 | L17: =H17-K17 -> -1.7516635 | M17: =L17*J17 -> 4.6191973 | N17: =L17*K17 -> -0.064249421 | O17: =(K17-X$21)^2 -> 0.14785838 | P17: =(H17-X$21)^2 -> 4.5632953 | Q17: =L17^2 -> 3.0683251
B18: =B17+1 -> 14 | C18: 848.18 | D18: 844.4 | E18: =100*(LN(C18)-LN(C17)) -> 0.83228743 | F18: =100*(LN(D18)-LN(D17)) -> -1.4811603 | H18: =E18 -> 0.83228743 | I18: 1 | J18: =F18 -> -1.4811603 | K18: =X$18+X$19*J18 -> 0.17984572 | L18: =H18-K18 -> 0.6524417 | M18: =L18*J18 -> -0.96637072 | N18: =L18*K18 -> 0.11733885 | O18: =(K18-X$21)^2 -> 0.058253172 | P18: =(H18-X$21)^2 -> 0.16899068 | Q18: =L18^2 -> 0.42568018 | W18: β= | X18: {=MMULT(X11:Y12,X14:X15)} -> 0.36330228
B19: =B18+1 -> 15 | C19: 916.92 | D19: 856.2 | E19: =100*(LN(C19)-LN(C18)) -> 7.792735 | F19: =100*(LN(D19)-LN(D18)) -> 1.3877678 | H19: =E19 -> 7.792735 | I19: 1 | J19: =F19 -> 1.3877678 | K19: =X$18+X$19*J19 -> 0.53519124 | L19: =H19-K19 -> 7.2575438 | M19: =L19*J19 -> 10.071785 | N19: =L19*K19 -> 3.8841738 | O19: =(K19-X$21)^2 -> 0.012993397 | P19: =(H19-X$21)^2 -> 54.339489 | Q19: =L19^2 -> 52.671941 | X19: 0.12386003
B20: =B19+1 -> 16 | C20: 963.59 | D20: 915.2 | E20: =100*(LN(C20)-LN(C19)) -> 4.9645665 | F20: =100*(LN(D20)-LN(D19)) -> 6.6638627 | H20: =E20 -> 4.9645665 | I20: 1 | J20: =F20 -> 6.6638627 | K20: =X$18+X$19*J20 -> 1.1886885 | L20: =H20-K20 -> 3.775878 | M20: =L20*J20 -> 25.161933 | N20: =L20*K20 -> 4.4883429 | O20: =(K20-X$21)^2 -> 0.58903456 | P20: =(H20-X$21)^2 -> 20.642155 | Q20: =L20^2 -> 14.257255
B21: =B20+1 -> 17 | C21: 974.5 | D21: 966.5 | E21: =100*(LN(C21)-LN(C20)) -> 1.1258626 | F21: =100*(LN(D21)-LN(D20)) -> 5.4538678 | H21: =E21 -> 1.1258626 | I21: 1 | J21: =F21 -> 5.4538678 | K21: =X$18+X$19*J21 -> 1.0388185 | L21: =H21-K21 -> 0.08704408 | M21: =L21*J21 -> 0.47472691 | N21: =L21*K21 -> 0.090423003 | O21: =(K21-X$21)^2 -> 0.38144935 | P21: =(H21-X$21)^2 -> 0.49654563 | Q21: =L21^2 -> 0.0075766719 | W21: Dspot(media) | X21: =AVERAGE(H6:H70) -> 0.42120266
B22: =B21+1 -> 18 | C22: 990.31 | D22: 981 | E22: =100*(LN(C22)-LN(C21)) -> 1.6093506 | F22: =100*(LN(D22)-LN(D21)) -> 1.4891161 | H22: =E22 -> 1.6093506 | I22: 1 | J22: =F22 -> 1.4891161 | K22: =X$18+X$19*J22 -> 0.54774425 | L22: =H22-K22 -> 1.0616064 | M22: =L22*J22 -> 1.5808552 | N22: =L22*K22 -> 0.5814888 | O22: =(K22-X$21)^2 -> 0.016012773 | P22: =(H22-X$21)^2 -> 1.4116956 | Q22: =L22^2 -> 1.1270082
B23: =B22+1 -> 19 | C23: 1008.01 | D23: 978.7 | E23: =100*(LN(C23)-LN(C22)) -> 1.7715344 | F23: =100*(LN(D23)-LN(D22)) -> -0.23472991 | H23: =E23 -> 1.7715344 | I23: 1 | J23: =F23 -> -0.23472991 | K23: =X$18+X$19*J23 -> 0.33422862 | L23: =H23-K23 -> 1.4373058 | M23: =L23*J23 -> -0.33737866 | N23: =L23*K23 -> 0.48038873 | O23: =(K23-X$21)^2 -> 0.0075644828 | P23: =(H23-X$21)^2 -> 1.8233958 | Q23: =L23^2 -> 2.0658478
B24: =B23+1 -> 20 | C24: 995.97 | D24: 1012.3 | E24: =100*(LN(C24)-LN(C23)) -> -1.2016233 | F24: =100*(LN(D24)-LN(D23)) -> 3.3755088 | H24: =E24 -> -1.2016233 | I24: 1 | J24: =F24 -> 3.3755088 | K24: =X$18+X$19*J24 -> 0.78139291 | L24: =H24-K24 -> -1.9830162 | M24: =L24*J24 -> -6.6936886 | N24: =L24*K24 -> -1.5495148 | O24: =(K24-X$21)^2 -> 0.12973702 | P24: =(H24-X$21)^2 -> 2.633564 | Q24: =L24^2 -> 3.9323531
B25: =B24+1 -> 21 | C25: 1050.71 | D25: 997.8 | E25: =100*(LN(C25)-LN(C24)) -> 5.3504268 | F25: =100*(LN(D25)-LN(D24)) -> -1.4427393 | H25: =E25 -> 5.3504268 | I25: 1 | J25: =F25 -> -1.4427393 | K25: =X$18+X$19*J25 -> 0.18460454 | L25: =H25-K25 -> 5.1658223 | M25: =L25*J25 -> -7.4529349 | N25: =L25*K25 -> 0.95363426 | O25: =(K25-X$21)^2 -> 0.05597867 | P25: =(H25-X$21)^2 -> 24.297251 | Q25: =L25^2 -> 26.68572
B26: =B25+1 -> 22 | C26: 1058.2 | D26: 1047.6 | E26: =100*(LN(C26)-LN(C25)) -> 0.71032254 | F26: =100*(LN(D26)-LN(D25)) -> 4.8704257 | H26: =E26 -> 0.71032254 | I26: 1 | J26: =F26 -> 4.8704257 | K26: =X$18+X$19*J26 -> 0.96655337 | L26: =H26-K26 -> -0.25623083 | M26: =L26*J26 -> -1.2479532 | N26: =L26*K26 -> -0.24766077 | O26: =(K26-X$21)^2 -> 0.29740739 | P26: =(H26-X$21)^2 -> 0.083590303 | Q26: =L26^2 -> 0.065654238
B27: =B26+1 -> 23 | C27: 1111.92 | D27: 1069.2 | E27: =100*(LN(C27)-LN(C26)) -> 4.9518899 | F27: =100*(LN(D27)-LN(D26)) -> 2.0408872 | H27: =E27 -> 4.9518899 | I27: 1 | J27: =F27 -> 2.0408872 | K27: =X$18+X$19*J27 -> 0.61608663 | L27: =H27-K27 -> 4.3358033 | M27: =L27*J27 -> 8.8488853 | N27: =L27*K27 -> 2.6712304 | O27: =(K27-X$21)^2 -> 0.037979762 | P27: =(H27-X$21)^2 -> 20.527127 | Q27: =L27^2 -> 18.79919
B28: =B27+1 -> 24 | C28: 1131.13 | D28: 1109.2 | E28: =100*(LN(C28)-LN(C27)) -> 1.7128882 | F28: =100*(LN(D28)-LN(D27)) -> 3.6728329 | H28: =E28 -> 1.7128882 | I28: 1 | J28: =F28 -> 3.6728329 | K28: =X$18+X$19*J28 -> 0.81821949 | L28: =H28-K28 -> 0.89466874 | M28: =L28*J28 -> 3.2859688 | N28: =L28*K28 -> 0.7320354 | O28: =(K28-X$21)^2 -> 0.15762236 | P28: =(H28-X$21)^2 -> 1.6684516 | Q28: =L28^2 -> 0.80043215
B29: =B28+1 -> 25 | C29: 1144.94 | D29: 1133.9 | E29: =100*(LN(C29)-LN(C28)) -> 1.2135101 | F29: =100*(LN(D29)-LN(D28)) -> 2.2023983 | H29: =E29 -> 1.2135101 | I29: 1 | J29: =F29 -> 2.2023983 | K29: =X$18+X$19*J29 -> 0.63609141 | L29: =H29-K29 -> 0.57741868 | M29: =L29*J29 -> 1.2717059 | N29: =L29*K29 -> 0.36729106 | O29: =(K29-X$21)^2 -> 0.046177174 | P29: =(H29-X$21)^2 -> 0.62775105 | Q29: =L29^2 -> 0.33341233
B30: =B29+1 -> 26 | C30: 1126.21 | D30: 1155.7 | E30: =100*(LN(C30)-LN(C29)) -> -1.6494221 | F30: =100*(LN(D30)-LN(D29)) -> 1.9043203 | H30: =E30 -> -1.6494221 | I30: 1 | J30: =F30 -> 1.9043203 | K30: =X$18+X$19*J30 -> 0.59917145 | L30: =H30-K30 -> -2.2485935 | M30: =L30*J30 -> -4.2820423 | N30: =L30*K30 -> -1.347293 | O30: =(K30-X$21)^2 -> 0.031672891 | P30: =(H30-X$21)^2 -> 4.2874868 | Q30: =L30^2 -> 5.0561728
B31: =B30+1 -> 27 | C31: 1107.3 | D31: 1130.3 | E31: =100*(LN(C31)-LN(C30)) -> -1.6933393 | F31: =100*(LN(D31)-LN(D30)) -> -2.2223137 | H31: =E31 -> -1.6933393 | I31: 1 | J31: =F31 -> -2.2223137 | K31: =X$18+X$19*J31 -> 0.088046436 | L31: =H31-K31 -> -1.7813858 | M31: =L31*J31 -> 3.958798 | N31: =L31*K31 -> -0.15684467 | O31: =(K31-X$21)^2 -> 0.11099307 | P31: =(H31-X$21)^2 -> 4.4712879 | Q31: =L31^2 -> 3.1733353
B32: =B31+1 -> 28 | C32: 1120.68 | D32: 1105 | E32: =100*(LN(C32)-LN(C31)) -> 1.2011024 | F32: =100*(LN(D32)-LN(D31)) -> -2.2637749 | H32: =E32 -> 1.2011024 | I32: 1 | J32: =F32 -> -2.2637749 | K32: =X$18+X$19*J32 -> 0.082911045 | L32: =H32-K32 -> 1.1181914 | M32: =L32*J32 -> -2.5313336 | N32: =L32*K32 -> 0.092710415 | O32: =(K32-X$21)^2 -> 0.11444122 | P32: =(H32-X$21)^2 -> 0.60824364 | Q32: =L32^2 -> 1.250352
B33: =B32+1 -> 29 | C33: 1140.84 | D33: 1120.9 | E33: =100*(LN(C33)-LN(C32)) -> 1.7829189 | F33: =100*(LN(D33)-LN(D32)) -> 1.4286599 | H33: =E33 -> 1.7829189 | I33: 1 | J33: =F33 -> 1.4286599 | K33: =X$18+X$19*J33 -> 0.54025614 | L33: =H33-K33 -> 1.2426628 | M33: =L33*J33 -> 1.7753425 | N33: =L33*K33 -> 0.6713562 | O33: =(K33-X$21)^2 -> 0.014173732 | P33: =(H33-X$21)^2 -> 1.8542712 | Q33: =L33^2 -> 1.5442108
... B70: =B69+1 -> 66 | C70: 1455.27 | D70: 1531.5 | E70: =100*(LN(C70)-LN(C69)) -> -3.2504501 | F70: =100*(LN(D70)-LN(D69)) -> -0.59892113 | H70: =E70 -> -3.2504501 | I70: 1 | J70: =F70 -> -0.59892113 | K70: =X$18+X$19*J70 -> 0.28911989 | L70: =H70-K70 -> -3.53957 | M70: =L70*J70 -> 2.1199233 | N70: =L70*K70 -> -1.0233601 | O70: =(K70-X$21)^2 -> 0.017445858 | P70: =(H70-X$21)^2 -> 13.481034 | Q70: =L70^2 -> 12.528556
K71: =SUM(K6:K70) -> 27.378173 | L71: =SUM(L6:L70) -> 3.5527137e-15 | M71: =SUM(M6:M70) -> -6.750156e-14 | N71: =SUM(N6:N70) -> -2.220446e-15 | O71: =SUM(O6:O70) -> 10.782702 | P71: =SUM(P6:P70) -> 803.37871 | Q71: =SUM(Q6:Q70) -> 792.59601 | R71: =SUM(R6:R70) -> 0

Sheet Ex2
C4: Sales | D4: n | E4: Advert | G4: log(sales) | H4: n | I4: log(advert) | K4: log(sales) | L4: n | M4: advert | O4: sales | P4: n | Q4: log(advert) | S4: (X'X)= | T4: {=MMULT(TRANSPOSE(D5:E79),D5:E79)} -> 75 | U4: 138.3
C5: 73.2 | D5: 1 | E5: 1.3 | G5: =LN(C5) -> 4.2931954 | H5: 1 | I5: =LN(E5) -> 0.26236426 | K5: =LN(C5) -> 4.2931954 | L5: 1 | M5: =E5 -> 1.3 | O5: =C5 -> 73.2 | P5: 1 | Q5: =LN(E5) -> 0.26236426 | T5: 138.3 | U5: 306.21
C6: 71.8 | D6: 1 | E6: 2.9 | G6: =LN(C6) -> 4.2738845 | H6: 1 | I6: =LN(E6) -> 1.0647107 | K6: =LN(C6) -> 4.2738845 | L6: 1 | M6: =E6 -> 2.9 | O6: =C6 -> 71.8 | P6: 1 | Q6: =LN(E6) -> 1.0647107
C7: 62.4 | D7: 1 | E7: 0.8 | G7: =LN(C7) -> 4.1335653 | H7: 1 | I7: =LN(E7) -> -0.22314355 | K7: =LN(C7) -> 4.1335653 | L7: 1 | M7: =E7 -> 0.8 | O7: =C7 -> 62.4 | P7: 1 | Q7: =LN(E7) -> -0.22314355 | S7: (X'X)-1= | T7: {=MINVERSE(T4:U5)} -> 0.079765868 | U7: -0.03602632
C8: 67.4 | D8: 1 | E8: 0.7 | G8: =LN(C8) -> 4.210645 | H8: 1 | I8: =LN(E8) -> -0.35667494 | K8: =LN(C8) -> 4.210645 | L8: 1 | M8: =E8 -> 0.7 | O8: =C8 -> 67.4 | P8: 1 | Q8: =LN(E8) -> -0.35667494 | T8: -0.03602632 | U8: 0.01953705
C9: 89.3 | D9: 1 | E9: 1.5 | G9: =LN(C9) -> 4.4920015 | H9: 1 | I9: =LN(E9) -> 0.40546511 | K9: =LN(C9) -> 4.4920015 | L9: 1 | M9: =E9 -> 1.5 | O9: =C9 -> 89.3 | P9: 1 | Q9: =LN(E9) -> 0.40546511
C10: 70.3 | D10: 1 | E10: 1.3 | G10: =LN(C10) -> 4.2527718 | H10: 1 | I10: =LN(E10) -> 0.26236426 | K10: =LN(C10) -> 4.2527718 | L10: 1 | M10: =E10 -> 1.3 | O10: =C10 -> 70.3 | P10: 1 | Q10: =LN(E10) -> 0.26236426 | S10: (X'Y)= | T10: {=MMULT(TRANSPOSE(D5:E79),C5:C79)} -> 5803.1
C11: 73.2 | D11: 1 | E11: 1.8 | G11: =LN(C11) -> 4.2931954 | H11: 1 | I11: =LN(E11) -> 0.58778666 | K11: =LN(C11) -> 4.2931954 | L11: 1 | M11: =E11 -> 1.8 | O11: =C11 -> 73.2 | P11: 1 | Q11: =LN(E11) -> 0.58778666 | T11: 10789.6
C12: 86.1 | D12: 1 | E12: 2.4 | G12: =LN(C12) -> 4.4555094 | H12: 1 | I12: =LN(E12) -> 0.87546874 | K12: =LN(C12) -> 4.4555094 | L12: 1 | M12: =E12 -> 2.4 | O12: =C12 -> 86.1 | P12: 1 | Q12: =LN(E12) -> 0.87546874
C13: 81 | D13: 1 | E13: 0.7 | G13: =LN(C13) -> 4.3944492 | H13: 1 | I13: =LN(E13) -> -0.35667494 | K13: =LN(C13) -> 4.3944492 | L13: 1 | M13: =E13 -> 0.7 | O13: =C13 -> 81 | P13: 1 | Q13: =LN(E13) -> -0.35667494
C14: 76.4 | D14: 1 | E14: 3 | G14: =LN(C14) -> 4.3359827 | H14: 1 | I14: =LN(E14) -> 1.0986123 | K14: =LN(C14) -> 4.3359827 | L14: 1 | M14: =E14 -> 3 | O14: =C14 -> 76.4 | P14: 1 | Q14: =LN(E14) -> 1.0986123 | S14: β= | T14: {=MMULT(T7:U8,T10:T11)} -> 74.179723
C15: 76.6 | D15: 1 | E15: 2.8 | G15: =LN(C15) -> 4.3385971 | H15: 1 | I15: =LN(E15) -> 1.0296194 | K15: =LN(C15) -> 4.3385971 | L15: 1 | M15: =E15 -> 2.8 | O15: =C15 -> 76.6 | P15: 1 | Q15: =LN(E15) -> 1.0296194 | T15: 1.7326159
C16: 82.2 | D16: 1 | E16: 2.7 | G16: =LN(C16) -> 4.4091553 | H16: 1 | I16: =LN(E16) -> 0.99325177 | K16: =LN(C16) -> 4.4091553 | L16: 1 | M16: =E16 -> 2.7 | O16: =C16 -> 82.2 | P16: 1 | Q16: =LN(E16) -> 0.99325177
C17: 82.1 | D17: 1 | E17: 2.8 | G17: =LN(C17) -> 4.407938 | H17: 1 | I17: =LN(E17) -> 1.0296194 | K17: =LN(C17) -> 4.407938 | L17: 1 | M17: =E17 -> 2.8 | O17: =C17 -> 82.1 | P17: 1 | Q17: =LN(E17) -> 1.0296194
C18: 68.6 | D18: 1 | E18: 2.8 | G18: =LN(C18) -> 4.2282925 | H18: 1 | I18: =LN(E18) -> 1.0296194 | K18: =LN(C18) -> 4.2282925 | L18: 1 | M18: =E18 -> 2.8 | O18: =C18 -> 68.6 | P18: 1 | Q18: =LN(E18) -> 1.0296194
C19: 76.5 | D19: 1 | E19: 2.3 | G19: =LN(C19) -> 4.3372907 | H19: 1 | I19: =LN(E19) -> 0.83290912 | K19: =LN(C19) -> 4.3372907 | L19: 1 | M19: =E19 -> 2.3 | O19: =C19 -> 76.5 | P19: 1 | Q19: =LN(E19) -> 0.83290912
C20: 80.3 | D20: 1 | E20: 1.7 | G20: =LN(C20) -> 4.3857696 | H20: 1 | I20: =LN(E20) -> 0.53062825 | K20: =LN(C20) -> 4.3857696 | L20: 1 | M20: =E20 -> 1.7 | O20: =C20 -> 80.3 | P20: 1 | Q20: =LN(E20) -> 0.53062825
C21: 70.7 | D21: 1 | E21: 1.5 | G21: =LN(C21) -> 4.2584456 | H21: 1 | I21: =LN(E21) -> 0.40546511 | K21: =LN(C21) -> 4.2584456 | L21: 1 | M21: =E21 -> 1.5 | O21: =C21 -> 70.7 | P21: 1 | Q21: =LN(E21) -> 0.40546511
C22: 75 | D22: 1 | E22: 0.8 | G22: =LN(C22) -> 4.3174881 | H22: 1 | I22: =LN(E22) -> -0.22314355 | K22: =LN(C22) -> 4.3174881 | L22: 1 | M22: =E22 -> 0.8 | O22: =C22 -> 75 | P22: 1 | Q22: =LN(E22) -> -0.22314355
C23: 73.7 | D23: 1 | E23: 2.9 | G23: =LN(C23) -> 4.3000028 | H23: 1 | I23: =LN(E23) -> 1.0647107 | K23: =LN(C23) -> 4.3000028 | L23: 1 | M23: =E23 -> 2.9 | O23: =C23 -> 73.7 | P23: 1 | Q23: =LN(E23) -> 1.0647107 | S23: (X'X)= | T23: {=MMULT(TRANSPOSE(H5:I79),H5:I79)} -> 75 | U23: 36.660367
C24: 71.2 | D24: 1 | E24: 0.5 | G24: =LN(C24) -> 4.2654928 | H24: 1 | I24: =LN(E24) -> -0.69314718 | K24: =LN(C24) -> 4.2654928 | L24: 1 | M24: =E24 -> 0.5 | O24: =C24 -> 71.2 | P24: 1 | Q24: =LN(E24) -> -0.69314718 | T24: 36.660367 | U24: 38.774888
C25: 84.7 | D25: 1 | E25: 2.1 | G25: =LN(C25) -> 4.4391156 | H25: 1 | I25: =LN(E25) -> 0.74193734 | K25: =LN(C25) -> 4.4391156 | L25: 1 | M25: =E25 -> 2.1 | O25: =C25 -> 84.7 | P25: 1 | Q25: =LN(E25) -> 0.74193734
C26: 73.6 | D26: 1 | E26: 0.8 | G26: =LN(C26) -> 4.298645 | H26: 1 | I26: =LN(E26) -> -0.22314355 | K26: =LN(C26) -> 4.298645 | L26: 1 | M26: =E26 -> 0.8 | O26: =C26 -> 73.6 | P26: 1 | Q26: =LN(E26) -> -0.22314355 | S26: (X'X)-1= | T26: {=MINVERSE(T23:U24)} -> 0.024790003 | U26: -0.023438124
C27: 73.7 | D27: 1 | E27: 1.1 | G27: =LN(C27) -> 4.3000028 | H27: 1 | I27: =LN(E27) -> 0.09531018 | K27: =LN(C27) -> 4.3000028 | L27: 1 | M27: =E27 -> 1.1 | O27: =C27 -> 73.7 | P27: 1 | Q27: =LN(E27) -> 0.09531018 | T27: -0.023438124 | U27: 0.047949855
C28: 78.1 | D28: 1 | E28: 1.9 | G28: =LN(C28) -> 4.3579901 | H28: 1 | I28: =LN(E28) -> 0.64185389 | K28: =LN(C28) -> 4.3579901 | L28: 1 | M28: =E28 -> 1.9 | O28: =C28 -> 78.1 | P28: 1 | Q28: =LN(E28) -> 0.64185389
C29: 75.7 | D29: 1 | E29: 2.1 | G29: =LN(C29) -> 4.3267782 | H29: 1 | I29: =LN(E29) -> 0.74193734 | K29: =LN(C29) -> 4.3267782 | L29: 1 | M29: =E29 -> 2.1 | O29: =C29 -> 75.7 | P29: 1 | Q29: =LN(E29) -> 0.74193734 | S29: (X'Y)= | T29: {=MMULT(TRANSPOSE(H5:I79),G5:G79)} -> 325.88702
C30: 74.4 | D30: 1 | E30: 1.3 | G30: =LN(C30) -> 4.3094559 | H30: 1 | I30: =LN(E30) -> 0.26236426 | K30: =LN(C30) -> 4.3094559 | L30: 1 | M30: =E30 -> 1.3 | O30: =C30 -> 74.4 | P30: 1 | Q30: =LN(E30) -> 0.26236426 | T30: 160.2449
C31: 68.7 | D31: 1 | E31: 1.1 | G31: =LN(C31) -> 4.2297492 | H31: 1 | I31: =LN(E31) -> 0.09531018 | K31: =LN(C31) -> 4.2297492 | L31: 1 | M31: =E31 -> 1.1 | O31: =C31 -> 68.7 | P31: 1 | Q31: =LN(E31) -> 0.09531018
C32: 83.9 | D32: 1 | E32: 1.1 | G32: =LN(C32) -> 4.4296256 | H32: 1 | I32: =LN(E32) -> 0.09531018 | K32: =LN(C32) -> 4.4296256 | L32: 1 | M32: =E32 -> 1.1 | O32: =C32 -> 83.9 | P32: 1 | Q32: =LN(E32) -> 0.09531018
C33: 86.1 | D33: 1 | E33: 2.9 | G33: =LN(C33) -> 4.4555094 | H33: 1 | I33: =LN(E33) -> 1.0647107 | K33: =LN(C33) -> 4.4555094 | L33: 1 | M33: =E33 -> 2.9 | O33: =C33 -> 86.1 | P33: 1 | Q33: =LN(E33) -> 1.0647107 | S33: β= | T33: {=MMULT(T26:U27,T29:T30)} -> 4.3229005
C34: 73.7 | D34: 1 | E34: 1.4 | G34: =LN(C34) -> 4.3000028 | H34: 1 | I34: =LN(E34) -> 0.33647224 | K34: =LN(C34) -> 4.3000028 | L34: 1 | M34: =E34 -> 1.4 | O34: =C34 -> 73.7 | P34: 1 | Q34: =LN(E34) -> 0.33647224 | T34: 0.045539089
C35: 75.7 | D35: 1 | E35: 2.5 | G35: =LN(C35) -> 4.3267782 | H35: 1 | I35: =LN(E35) -> 0.91629073 | K35: =LN(C35) -> 4.3267782 | L35: 1 | M35: =E35 -> 2.5 | O35: =C35 -> 75.7 | P35: 1 | Q35: =LN(E35) -> 0.91629073
C36: 78.8 | D36: 1 | E36: 3 | G36: =LN(C36) -> 4.366913 | H36: 1 | I36: =LN(E36) -> 1.0986123 | K36: =LN(C36) -> 4.366913 | L36: 1 | M36: =E36 -> 3 | O36: =C36 -> 78.8 | P36: 1 | Q36: =LN(E36) -> 1.0986123
C37: 73.7 | D37: 1 | E37: 1 | G37: =LN(C37) -> 4.3000028 | H37: 1 | I37: =LN(E37) -> 0 | K37: =LN(C37) -> 4.3000028 | L37: 1 | M37: =E37 -> 1 | O37: =C37 -> 73.7 | P37: 1 | Q37: =LN(E37) -> 0
C38: 80.2 | D38: 1 | E38: 3.1 | G38: =LN(C38) -> 4.3845235 | H38: 1 | I38: =LN(E38) -> 1.1314021 | K38: =LN(C38) -> 4.3845235 | L38: 1 | M38: =E38 -> 3.1 | O38: =C38 -> 80.2 | P38: 1 | Q38: =LN(E38) -> 1.1314021
C39: 69.9 | D39: 1 | E39: 0.5 | G39: =LN(C39) -> 4.2470656 | H39: 1 | I39: =LN(E39) -> -0.69314718 | K39: =LN(C39) -> 4.2470656 | L39: 1 | M39: =E39 -> 0.5 | O39: =C39 -> 69.9 | P39: 1 | Q39: =LN(E39) -> -0.69314718 | S39: (X'X)= | T39: {=MMULT(TRANSPOSE(L5:M79),L5:M79)} -> 75 | U39: 138.3
C40: 69.1 | D40: 1 | E40: 2.7 | G40: =LN(C40) -> 4.2355547 | H40: 1 | I40: =LN(E40) -> 0.99325177 | K40: =LN(C40) -> 4.2355547 | L40: 1 | M40: =E40 -> 2.7 | O40: =C40 -> 69.1 | P40: 1 | Q40: =LN(E40) -> 0.99325177 | T40: 138.3 | U40: 306.21
C41: 83.8 | D41: 1 | E41: 0.9 | G41: =LN(C41) -> 4.428433 | H41: 1 | I41: =LN(E41) -> -0.10536052 | K41: =LN(C41) -> 4.428433 | L41: 1 | M41: =E41 -> 0.9 | O41: =C41 -> 83.8 | P41: 1 | Q41: =LN(E41) -> -0.10536052
C42: 84.3 | D42: 1 | E42: 1.5 | G42: =LN(C42) -> 4.4343819 | H42: 1 | I42: =LN(E42) -> 0.40546511 | K42: =LN(C42) -> 4.4343819 | L42: 1 | M42: =E42 -> 1.5 | O42: =C42 -> 84.3 | P42: 1 | Q42: =LN(E42) -> 0.40546511 | S42: (X'X)-1= | T42: {=MINVERSE(T39:U40)} -> 0.079765868 | U42: -0.03602632
C43: 66 | D43: 1 | E43: 2.8 | G43: =LN(C43) -> 4.1896547 | H43: 1 | I43: =LN(E43) -> 1.0296194 | K43: =LN(C43) -> 4.1896547 | L43: 1 | M43: =E43 -> 2.8 | O43: =C43 -> 66 | P43: 1 | Q43: =LN(E43) -> 1.0296194 | T43: -0.03602632 | U43: 0.01953705
C44: 84.3 | D44: 1 | E44: 2.3 | G44: =LN(C44) -> 4.4343819 | H44: 1 | I44: =LN(E44) -> 0.83290912 | K44: =LN(C44) -> 4.4343819 | L44: 1 | M44: =E44 -> 2.3 | O44: =C44 -> 84.3 | P44: 1 | Q44: =LN(E44) -> 0.83290912
C45: 79.5 | D45: 1 | E45: 1.2 | G45: =LN(C45) -> 4.375757 | H45: 1 | I45: =LN(E45) -> 0.18232156 | K45: =LN(C45) -> 4.375757 | L45: 1 | M45: =E45 -> 1.2 | O45: =C45 -> 79.5 | P45: 1 | Q45: =LN(E45) -> 0.18232156 | S45: (X'Y)= | T45: {=MMULT(TRANSPOSE(L5:M79),K5:K79)} -> 325.88702
C46: 80.2 | D46: 1 | E46: 3.1 | G46: =LN(C46) -> 4.3845235 | H46: 1 | I46: =LN(E46) -> 1.1314021 | K46: =LN(C46) -> 4.3845235 | L46: 1 | M46: =E46 -> 3.1 | O46: =C46 -> 80.2 | P46: 1 | Q46: =LN(E46) -> 1.1314021 | T46: 602.1172
C47: 67.6 | D47: 1 | E47: 1 | G47: =LN(C47) -> 4.213608 | H47: 1 | I47: =LN(E47) -> 0 | K47: =LN(C47) -> 4.213608 | L47: 1 | M47: =E47 -> 1 | O47: =C47 -> 67.6 | P47: 1 | Q47: =LN(E47) -> 0
C48: 86.5 | D48: 1 | E48: 2.5 | G48: =LN(C48) -> 4.4601444 | H48: 1 | I48: =LN(E48) -> 0.91629073 | K48: =LN(C48) -> 4.4601444 | L48: 1 | M48: =E48 -> 2.5 | O48: =C48 -> 86.5 | P48: 1 | Q48: =LN(E48) -> 0.91629073
C49: 87.6 | D49: 1 | E49: 2.1 | G49: =LN(C49) -> 4.472781 | H49: 1 | I49: =LN(E49) -> 0.74193734 | K49: =LN(C49) -> 4.472781 | L49: 1 | M49: =E49 -> 2.1 | O49: =C49 -> 87.6 | P49: 1 | Q49: =LN(E49) -> 0.74193734 | S49: β= | T49: {=MMULT(T42:U43,T45:T46)} -> 4.3025938
C50: 84.2 | D50: 1 | E50: 2.8 | G50: =LN(C50) -> 4.4331949 | H50: 1 | I50: =LN(E50) -> 1.0296194 | K50: =LN(C50) -> 4.4331949 | L50: 1 | M50: =E50 -> 2.8 | O50: =C50 -> 84.2 | P50: 1 | Q50: =LN(E50) -> 1.0296194 | T50: 0.023083766
C51: 75.2 | D51: 1 | E51: 3.1 | G51: =LN(C51) -> 4.3201512 | H51: 1 | I51: =LN(E51) -> 1.1314021 | K51: =LN(C51) -> 4.3201512 | L51: 1 | M51: =E51 -> 3.1 | O51: =C51 -> 75.2 | P51: 1 | Q51: =LN(E51) -> 1.1314021
C52: 84.7 | D52: 1 | E52: 3.1 | G52: =LN(C52) -> 4.4391156 | H52: 1 | I52: =LN(E52) -> 1.1314021 | K52: =LN(C52) -> 4.4391156 | L52: 1 | M52: =E52 -> 3.1 | O52: =C52 -> 84.7 | P52: 1 | Q52: =LN(E52) -> 1.1314021
C53: 73.7 | D53: 1 | E53: 0.9 | G53: =LN(C53) -> 4.3000028 | H53: 1 | I53: =LN(E53) -> -0.10536052 | K53: =LN(C53) -> 4.3000028 | L53: 1 | M53: =E53 -> 0.9 | O53: =C53 -> 73.7 | P53: 1 | Q53: =LN(E53) -> -0.10536052
C54: 81.2 | D54: 1 | E54: 1.8 | G54: =LN(C54) -> 4.3969152 | H54: 1 | I54: =LN(E54) -> 0.58778666 | K54: =LN(C54) -> 4.3969152 | L54: 1 | M54: =E54 -> 1.8 | O54: =C54 -> 81.2 | P54: 1 | Q54: =LN(E54) -> 0.58778666
C55: 69 | D55: 1 | E55: 3.1 | G55: =LN(C55) -> 4.2341065 | H55: 1 | I55: =LN(E55) -> 1.1314021 | K55: =LN(C55) -> 4.2341065 | L55: 1 | M55: =E55 -> 3.1 | O55: =C55 -> 69 | P55: 1 | Q55: =LN(E55) -> 1.1314021
C56: 69.7 | D56: 1 | E56: 1.9 | G56: =LN(C56) -> 4.2442003 | H56: 1 | I56: =LN(E56) -> 0.64185389 | K56: =LN(C56) -> 4.2442003 | L56: 1 | M56: =E56 -> 1.9 | O56: =C56 -> 69.7 | P56: 1 | Q56: =LN(E56) -> 0.64185389
C57: 78.1 | D57: 1 | E57: 0.7 | G57: =LN(C57) -> 4.3579901 | H57: 1 | I57: =LN(E57) -> -0.35667494 | K57: =LN(C57) -> 4.3579901 | L57: 1 | M57: =E57 -> 0.7 | O57: =C57 -> 78.1 | P57: 1 | Q57: =LN(E57) -> -0.35667494
C58: 88 | D58: 1 | E58: 1.6 | G58: =LN(C58) -> 4.4773368 | H58: 1 | I58: =LN(E58) -> 0.47000363 | K58: =LN(C58) -> 4.4773368 | L58: 1 | M58: =E58 -> 1.6 | O58: =C58 -> 88 | P58: 1 | Q58: =LN(E58) -> 0.47000363 | S58: (X'X)= | T58: {=MMULT(TRANSPOSE(P5:Q79),P5:Q79)} -> 75 | U58: 36.660367
C59: 80.4 | D59: 1 | E59: 2.9 | G59: =LN(C59) -> 4.3870142 | H59: 1 | I59: =LN(E59) -> 1.0647107 | K59: =LN(C59) -> 4.3870142 | L59: 1 | M59: =E59 -> 2.9 | O59: =C59 -> 80.4 | P59: 1 | Q59: =LN(E59) -> 1.0647107 | T59: 36.660367 | U59: 38.774888
C60: 79.7 | D60: 1 | E60: 2.3 | G60: =LN(C60) -> 4.3782696 | H60: 1 | I60: =LN(E60) -> 0.83290912 | K60: =LN(C60) -> 4.3782696 | L60: 1 | M60: =E60 -> 2.3 | O60: =C60 -> 79.7 | P60: 1 | Q60: =LN(E60) -> 0.83290912
C61: 73.2 | D61: 1 | E61: 1.7 | G61: =LN(C61) -> 4.2931954 | H61: 1 | I61: =LN(E61) -> 0.53062825 | K61: =LN(C61) -> 4.2931954 | L61: 1 | M61: =E61 -> 1.7 | O61: =C61 -> 73.2 | P61: 1 | Q61: =LN(E61) -> 0.53062825 | S61: (X'X)-1= | T61: {=MINVERSE(T58:U59)} -> 0.024790003 | U61: -0.023438124
C62: 85.9 | D62: 1 | E62: 1.8 | G62: =LN(C62) -> 4.4531838 | H62: 1 | I62: =LN(E62) -> 0.58778666 | K62: =LN(C62) -> 4.4531838 | L62: 1 | M62: =E62 -> 1.8 | O62: =C62 -> 85.9 | P62: 1 | Q62: =LN(E62) -> 0.58778666 | T62: -0.023438124 | U62: 0.047949855
C63: 83.3 | D63: 1 | E63: 0.6 | G63: =LN(C63) -> 4.4224485 | H63: 1 | I63: =LN(E63) -> -0.51082562 | K63: =LN(C63) -> 4.4224485 | L63: 1 | M63: =E63 -> 0.6 | O63: =C63 -> 83.3 | P63: 1 | Q63: =LN(E63) -> -0.51082562
C64: 73.6 | D64: 1 | E64: 3.1 | G64: =LN(C64) -> 4.298645 | H64: 1 | I64: =LN(E64) -> 1.1314021 | K64: =LN(C64) -> 4.298645 | L64: 1 | M64: =E64 -> 3.1 | O64: =C64 -> 73.6 | P64: 1 | Q64: =LN(E64) -> 1.1314021 | S64: (X'Y)= | T64: {=MMULT(TRANSPOSE(P5:Q79),O5:O79)} -> 5803.1
C65: 79.2 | D65: 1 | E65: 1.2 | G65: =LN(C65) -> 4.3719763 | H65: 1 | I65: =LN(E65) -> 0.18232156 | K65: =LN(C65) -> 4.3719763 | L65: 1 | M65: =E65 -> 1.2 | O65: =C65 -> 79.2 | P65: 1 | Q65: =LN(E65) -> 0.18232156 | T65: 2908.1228
C66: 88.1 | D66: 1 | E66: 2.1 | G66: =LN(C66) -> 4.4784725 | H66: 1 | I66: =LN(E66) -> 0.74193734 | K66: =LN(C66) -> 4.4784725 | L66: 1 | M66: =E66 -> 2.1 | O66: =C66 -> 88.1 | P66: 1 | Q66: =LN(E66) -> 0.74193734
C67: 64.5 | D67: 1 | E67: 0.5 | G67: =LN(C67) -> 4.1666652 | H67: 1 | I67: =LN(E67) -> -0.69314718 | K67: =LN(C67) -> 4.1666652 | L67: 1 | M67: =E67 -> 0.5 | O67: =C67 -> 64.5 | P67: 1 | Q67: =LN(E67) -> -0.69314718
C68: 84.1 | D68: 1 | E68: 2.9 | G68: =LN(C68) -> 4.4320066 | H68: 1 | I68: =LN(E68) -> 1.0647107 | K68: =LN(C68) -> 4.4320066 | L68: 1 | M68: =E68 -> 2.9 | O68: =C68 -> 84.1 | P68: 1 | Q68: =LN(E68) -> 1.0647107 | S68: β= | T68: {=MMULT(T61:U62,T64:T65)} -> 75.697924
C69: 91.2 | D69: 1 | E69: 1.6 | G69: =LN(C69) -> 4.5130549 | H69: 1 | I69: =LN(E69) -> 0.47000363 | K69: =LN(C69) -> 4.5130549 | L69: 1 | M69: =E69 -> 1.6 | O69: =C69 -> 91.2 | P69: 1 | Q69: =LN(E69) -> 0.47000363 | T69: 3.4302912
C70: 71.8 | D70: 1 | E70: 1.5 | G70: =LN(C70) -> 4.2738845 | H70: 1 | I70: =LN(E70) -> 0.40546511 | K70: =LN(C70) -> 4.2738845 | L70: 1 | M70: =E70 -> 1.5 | O70: =C70 -> 71.8 | P70: 1 | Q70: =LN(E70) -> 0.40546511
C71: 80.6 | D71: 1 | E71: 2 | G71: =LN(C71) -> 4.3894986 | H71: 1 | I71: =LN(E71) -> 0.69314718 | K71: =LN(C71) -> 4.3894986 | L71: 1 | M71: =E71 -> 2 | O71: =C71 -> 80.6 | P71: 1 | Q71: =LN(E71) -> 0.69314718
C72: 73.1 | D72: 1 | E72: 1.3 | G72: =LN(C72) -> 4.2918284 | H72: 1 | I72: =LN(E72) -> 0.26236426 | K72: =LN(C72) -> 4.2918284 | L72: 1 | M72: =E72 -> 1.3 | O72: =C72 -> 73.1 | P72: 1 | Q72: =LN(E72) -> 0.26236426
C73: 81 | D73: 1 | E73: 1.1 | G73: =LN(C73) -> 4.3944492 | H73: 1 | I73: =LN(E73) -> 0.09531018 | K73: =LN(C73) -> 4.3944492 | L73: 1 | M73: =E73 -> 1.1 | O73: =C73 -> 81 | P73: 1 | Q73: =LN(E73) -> 0.09531018
C74: 73.7 | D74: 1 | E74: 2.2 | G74: =LN(C74) -> 4.3000028 | H74: 1 | I74: =LN(E74) -> 0.78845736 | K74: =LN(C74) -> 4.3000028 | L74: 1 | M74: =E74 -> 2.2 | O74: =C74 -> 73.7 | P74: 1 | Q74: =LN(E74) -> 0.78845736
C75: 82.2 | D75: 1 | E75: 1.7 | G75: =LN(C75) -> 4.4091553 | H75: 1 | I75: =LN(E75) -> 0.53062825 | K75: =LN(C75) -> 4.4091553 | L75: 1 | M75: =E75 -> 1.7 | O75: =C75 -> 82.2 | P75: 1 | Q75: =LN(E75) -> 0.53062825
C76: 74.2 | D76: 1 | E76: 0.7 | G76: =LN(C76) -> 4.3067642 | H76: 1 | I76: =LN(E76) -> -0.35667494 | K76: =LN(C76) -> 4.3067642 | L76: 1 | M76: =E76 -> 0.7 | O76: =C76 -> 74.2 | P76: 1 | Q76: =LN(E76) -> -0.35667494
C77: 75.4 | D77: 1 | E77: 0.7 | G77: =LN(C77) -> 4.3228073 | H77: 1 | I77: =LN(E77) -> -0.35667494 | K77: =LN(C77) -> 4.3228073 | L77: 1 | M77: =E77 -> 0.7 | O77: =C77 -> 75.4 | P77: 1 | Q77: =LN(E77) -> -0.35667494
C78: 81.3 | D78: 1 | E78: 2 | G78: =LN(C78) -> 4.398146 | H78: 1 | I78: =LN(E78) -> 0.69314718 | K78: =LN(C78) -> 4.398146 | L78: 1 | M78: =E78 -> 2 | O78: =C78 -> 81.3 | P78: 1 | Q78: =LN(E78) -> 0.69314718
C79: 75 | D79: 1 | E79: 2.2 | G79: =LN(C79) -> 4.3174881 | H79: 1 | I79: =LN(E79) -> 0.78845736 | K79: =LN(C79) -> 4.3174881 | L79: 1 | M79: =E79 -> 2.2 | O79: =C79 -> 75 | P79: 1 | Q79: =LN(E79) -> 0.78845736

Sheet Ex4
B4: Sales | C4: n | D4: Price | E4: Advert | F4: Advert^2 | G4: e2
B5: 73.2 | C5: 1 | D5: 5.69 | E5: 1.3 | F5: =E5^2 -> 1.69 | G5: =(B5-(J$22+J$23*D5+J$24*E5+J$25*F5))^2 -> 17.357094 | J5: {=MMULT(TRANSPOSE(C5:F79),C5:F79)} -> 75 | K5: 426.54 | L5: 138.3 | M5: 306.21
B6: 71.8 | C6: 1 | D6: 6.49 | E6: 2.9 | F6: =E6^2 -> 8.41 | G6: =(B6-(J$22+J$23*D6+J$24*E6+J$25*F6))^2 -> 0.087290485 | I6: (X'X)= | J6: 426.54 | K6: 2445.7074 | L6: 787.381 | M6: 1746.5291
B7: 62.4 | C7: 1 | D7: 5.63 | E7: 0.8 | F7: =E7^2 -> 0.64 | G7: =(B7-(J$22+J$23*D7+J$24*E7+J$25*F7))^2 -> 150.19306 | J7: 138.3 | K7: 787.381 | L7: 306.21 | M7: 754.989
B8: 67.4 | C8: 1 | D8: 6.22 | E8: 0.7 | F8: =E8^2 -> 0.49 | G8: =(B8-(J$22+J$23*D8+J$24*E8+J$25*F8))^2 -> 3.7939203 | J8: 306.21 | K8: 1746.5291 | L8: 754.989 | M8: 1982.5665
B9: 89.3 | C9: 1 | D9: 5.02 | E9: 1.5 | F9: =E9^2 -> 2.25 | G9: =(B9-(J$22+J$23*D9+J$24*E9+J$25*F9))^2 -> 35.222179
B10: 70.3 | C10: 1 | D10: 6.41 | E10: 1.3 | F10: =E10^2 -> 1.69 | G10: =(B10-(J$22+J$23*D10+J$24*E10+J$25*F10))^2 -> 2.4504287
B11: 73.2 | C11: 1 | D11: 5.85 | E11: 1.8 | F11: =E11^2 -> 3.24 | G11: =(B11-(J$22+J$23*D11+J$24*E11+J$25*F11))^2 -> 22.364005 | J11: {=MINVERSE(J5:M8)} -> 2.1422568 | K11: -0.29779952 | L11: -0.53761277 | M11: 0.13620063
B12: 86.1 | C12: 1 | D12: 5.41 | E12: 2.4 | F12: =E12^2 -> 5.76 | G12: =(B12-(J$22+J$23*D12+J$24*E12+J$25*F12))^2 -> 20.194831 | I12: (X'X)-1= | J12: -0.29779952 | K12: 0.0506977 | L12: 0.013921454 | M12: -0.0039677664
B13: 81 | C13: 1 | D13: 6.24 | E13: 0.7 | F13: =E13^2 -> 0.49 | G13: =(B13-(J$22+J$23*D13+J$24*E13+J$25*F13))^2 -> 139.35805 | J13: -0.53761277 | K13: 0.013921454 | L13: 0.5860561 | M13: -0.15240736
B14: 76.4 | C14: 1 | D14: 6.2 | E14: 3 | F14: =E14^2 -> 9 | G14: =(B14-(J$22+J$23*D14+J$24*E14+J$25*F14))^2 -> 6.284673 | J14: 0.13620063 | K14: -0.0039677664 | L14: -0.15240736 | M14: 0.041002259
B15: 76.6 | C15: 1 | D15: 5.48 | E15: 2.8 | F15: =E15^2 -> 7.84 | G15: =(B15-(J$22+J$23*D15+J$24*E15+J$25*F15))^2 -> 12.7768
B16: 82.2 | C16: 1 | D16: 6.14 | E16: 2.7 | F16: =E16^2 -> 7.29 | G16: =(B16-(J$22+J$23*D16+J$24*E16+J$25*F16))^2 -> 45.706778 | J16: {=MMULT(TRANSPOSE(C5:F79),B5:B79)} -> 5803.1
B17: 82.1 | C17: 1 | D17: 5.37 | E17: 2.8 | F17: =E17^2 -> 7.84 | G17: =(B17-(J$22+J$23*D17+J$24*E17+J$25*F17))^2 -> 1.1775178 | I17: (X'Y)= | J17: 32847.677 | L17: σ= | M17: =(G80/(75-4))^0.5 -> 4.645283
B18: 68.6 | C18: 1 | D18: 6.45 | E18: 2.8 | F18: =E18^2 -> 7.84 | G18: =(B18-(J$22+J$23*D18+J$24*E18+J$25*F18))^2 -> 17.336106 | J18: 10789.6
B19: 76.5 | C19: 1 | D19: 5.35 | E19: 2.3 | F19: =E19^2 -> 5.29 | G19: =(B19-(J$22+J$23*D19+J$24*E19+J$25*F19))^2 -> 31.92649 | J19: 23939.962
B20: 80.3 | C20: 1 | D20: 5.22 | E20: 1.7 | F20: =E20^2 -> 2.89 | G20: =(B20-(J$22+J$23*D20+J$24*E20+J$25*F20))^2 -> 4.8220783
B21: 70.7 | C21: 1 | D21: 5.89 | E21: 1.5 | F21: =E21^2 -> 2.25 | G21: =(B21-(J$22+J$23*D21+J$24*E21+J$25*F21))^2 -> 36.220806
B22: 75 | C22: 1 | D22: 5.21 | E22: 0.8 | F22: =E22^2 -> 0.64 | G22: =(B22-(J$22+J$23*D22+J$24*E22+J$25*F22))^2 -> 8.203229 | J22: {=MMULT(J11:M14,J16:J19)} -> 109.71904
B23: 73.7 | C23: 1 | D23: 6 | E23: 2.9 | F23: =E23^2 -> 8.41 | G23: =(B23-(J$22+J$23*D23+J$24*E23+J$25*F23))^2 -> 4.5755334 | I23: β= | J23: -7.64
B24: 71.2 | C24: 1 | D24: 6.37 | E24: 0.5 | F24: =E24^2 -> 0.25 | G24: =(B24-(J$22+J$23*D24+J$24*E24+J$25*F24))^2 -> 22.697003 | J24: 12.151236
B25: 84.7 | C25: 1 | D25: 5.33 | E25: 2.1 | F25: =E25^2 -> 4.41 | G25: =(B25-(J$22+J$23*D25+J$24*E25+J$25*F25))^2 -> 5.7182512 | J25: -2.7679631
B26: 73.6 | C26: 1 | D26: 5.23 | E26: 0.8 | F26: =E26^2 -> 0.64 | G26: =(B26-(J$22+J$23*D26+J$24*E26+J$25*F26))^2 -> 16.903018
B27: 73.7 | C27: 1 | D27: 5.88 | E27: 1.1 | F27: =E27^2 -> 1.21 | G27: =(B27-(J$22+J$23*D27+J$24*E27+J$25*F27))^2 -> 1.2386792
B28: 78.1 | C28: 1 | D28: 6.24 | E28: 1.9 | F28: =E28^2 -> 3.61 | G28: =(B28-(J$22+J$23*D28+J$24*E28+J$25*F28))^2 -> 8.7590144
B29: 75.7 | C29: 1 | D29: 5.59 | E29: 2.1 | F29: =E29^2 -> 4.41 | G29: =(B29-(J$22+J$23*D29+J$24*E29+J$25*F29))^2 -> 21.365782
B30: 74.4 | C30: 1 | D30: 6.22 | E30: 1.3 | F30: =E30^2 -> 1.69 | G30: =(B30-(J$22+J$23*D30+J$24*E30+J$25*F30))^2 -> 1.1729225
B31: 68.7 | C31: 1 | D31: 6.41 | E31: 1.1 | F31: =E31^2 -> 1.21 | G31: =(B31-(J$22+J$23*D31+J$24*E31+J$25*F31))^2 -> 4.2591039
B32: 83.9 | C32: 1 | D32: 4.96 | E32: 1.1 | F32: =E32^2 -> 1.21 | G32: =(B32-(J$22+J$23*D32+J$24*E32+J$25*F32))^2 -> 4.2363531
B33: 86.1 | C33: 1 | D33: 4.83 | E33: 2.9 | F33: =E33^2 -> 8.41 | G33: =(B33-(J$22+J$23*D33+J$24*E33+J$25*F33))^2 -> 1.7480814
B34: 73.7 | C34: 1 | D34: 6.35 | E34: 1.4 | F34: =E34^2 -> 1.96 | G34: =(B34-(J$22+J$23*D34+J$24*E34+J$25*F34))^2 -> 0.82526678
B35: 75.7 | C35: 1 | D35: 6.47 | E35: 2.5 | F35: =E35^2 -> 6.25 | G35: =(B35-(J$22+J$23*D35+J$24*E35+J$25*F35))^2 -> 5.4449626
B36: 78.8 | C36: 1 | D36: 5.69 | E36: 3 | F36: =E36^2 -> 9 | G36: =(B36-(J$22+J$23*D36+J$24*E36+J$25*F36))^2 -> 1.0211608
B37: 73.7 | C37: 1 | D37: 5.56 | E37: 1 | F37: =E37^2 -> 1 | G37: =(B37-(J$22+J$23*D37+J$24*E37+J$25*F37))^2 -> 8.5492402
... B54: 81.2 | C54: 1 | D54: 5.83 | E54: 1.8 | F54: =E54^2 -> 3.24 | G54: =(B54-(J$22+J$23*D54+J$24*E54+J$25*F54))^2 -> 9.7227997
B55: 69 | C55: 1 | D55: 6.33 | E55: 3.1 | F55: =E55^2 -> 9.61 | G55: =(B55-(J$22+J$23*D55+J$24*E55+J$25*F55))^2 -> 11.741184 | J55: {=M17^2 *(J11:M14)} -> 46.227019 | K55: -6.426113 | L55: -11.60096 | M55: 2.9390263
B56: 69.7 | C56: 1 | D56: 6.47 | E56: 1.9 | F56: =E56^2 -> 3.61 | G56: =(B56-(J$22+J$23*D56+J$24*E56+J$25*F56))^2 -> 13.566233 | I56: VAR(β)= | J56: -6.426113 | K56: 1.0939881 | L56: 0.30040624 | M56: -0.08561906
B57: 78.1 | C57: 1 | D57: 5.7 | E57: 0.7 | F57: =E57^2 -> 0.49 | G57: =(B57-(J$22+J$23*D57+J$24*E57+J$25*F57))^2 -> 22.842675 | J57: -11.60096 | K57: 0.30040624 | L57: 12.646302 | M57: -3.2887457
B58: 88 | C58: 1 | D58: 5.22 | E58: 1.6 | F58: =E58^2 -> 2.56 | G58: =(B58-(J$22+J$23*D58+J$24*E58+J$25*F58))^2 -> 33.706996 | J58: 2.9390263 | K58: -0.08561906 | L58: -3.2887457 | M58: 0.88477357
B59: 80.4 | C59: 1 | D59: 5.05 | E59: 2.9 | F59: =E59^2 -> 8.41 | G59: =(B59-(J$22+J$23*D59+J$24*E59+J$25*F59))^2 -> 7.274077
B60: 79.7 | C60: 1 | D60: 5.76 | E60: 2.3 | F60: =E60^2 -> 5.29 | G60: =(B60-(J$22+J$23*D60+J$24*E60+J$25*F60))^2 -> 0.46518799
B61: 73.2 | C61: 1 | D61: 6.25 | E61: 1.7 | F61: =E61^2 -> 2.89 | G61: =(B61-(J$22+J$23*D61+J$24*E61+J$25*F61))^2 -> 2.0355388 | I61: R= | J61: 0 | K61: 0 | L61: 1 | M61: 3.8
B62: 85.9 | C62: 1 | D62: 5.34 | E62: 1.8 | F62: =E62^2 -> 3.24 | G62: =(B62-(J$22+J$23*D62+J$24*E62+J$25*F62))^2 -> 16.601879 | I62: r= | J62: 1
B63: 83.3 | C63: 1 | D63: 4.98 | E63: 0.6 | F63: =E63^2 -> 0.36 | G63: =(B63-(J$22+J$23*D63+J$24*E63+J$25*F63))^2 -> 28.450377
B64: 73.6 | C64: 1 | D64: 6.39 | E64: 3.1 | F64: =E64^2 -> 9.61 | G64: =(B64-(J$22+J$23*D64+J$24*E64+J$25*F64))^2 -> 2.6629636 | I64: (Rβ-r)= | J64: =MMULT(J61:M61,J22:J25)-J62 -> 0.63297594 | K64: =MMULT(J63:M63;J22:J25)-J64
B65: 79.2 | C65: 1 | D65: 6.22 | E65: 1.2 | F65: =E65^2 -> 1.44 | G65: =(B65-(J$22+J$23*D65+J$24*E65+J$25*F65))^2 -> 41.038736 | I65: (RVAR(β)R')-1= | J65: {=MINVERSE(MMULT(MMULT(J61:M61,J55:M58),TRANSPOSE(J61:M61)))} -> 2.3366414 | K65: =MINVERSE(MMULT(MMULT(J63:M63;J57:M60);TRANSPOSE(J63:M63)))
B66: 88.1 | C66: 1 | D66: 5.1 | E66: 2.1 | F66: =E66^2 -> 4.41 | G66: =(B66-(J$22+J$23*D66+J$24*E66+J$25*F66))^2 -> 16.273854 | I66: (Rβ-r)= | J66: {=MMULT(J61:M61,J22:J25)-J62} -> 0.63297594
B67: 64.5 | C67: 1 | D67: 6.49 | E67: 0.5 | F67: =E67^2 -> 0.25 | G67: =(B67-(J$22+J$23*D67+J$24*E67+J$25*F67))^2 -> 1.038489
B68: 84.1 | C68: 1 | D68: 4.86 | E68: 2.9 | F68: =E68^2 -> 8.41 | G68: =(B68-(J$22+J$23*D68+J$24*E68+J$25*F68))^2 -> 0.20128654 | I68: Estat | J68: =J64*J65*J66 -> 0.93619531
B69: 91.2 | C69: 1 | D69: 5.1 | E69: 1.6 | F69: =E69^2 -> 2.56 | G69: =(B69-(J$22+J$23*D69+J$24*E69+J$25*F69))^2 -> 65.431478
B70: 71.8 | C70: 1 | D70: 5.98 | E70: 1.5 | F70: =E70^2 -> 2.25 | G70: =(B70-(J$22+J$23*D70+J$24*E70+J$25*F70))^2 -> 17.899435
B71: 80.6 | C71: 1 | D71: 5.02 | E71: 2 | F71: =E71^2 -> 4 | G71: =(B71-(J$22+J$23*D71+J$24*E71+J$25*F71))^2 -> 15.974848 | J71: 0 | K71: 1 | L71: 0 | M71: 0
B72: 73.1 | C72: 1 | D72: 5.08 | E72: 1.3 | F72: =E72^2 -> 1.69 | G72: =(B72-(J$22+J$23*D72+J$24*E72+J$25*F72))^2 -> 79.683912 | I72: R= | J72: 0 | K72: 0 | L72: 1 | M72: 0
B73: 81 | C73: 1 | D73: 5.23 | E73: 1.1 | F73: =E73^2 -> 1.21 | G73: =(B73-(J$22+J$23*D73+J$24*E73+J$25*F73))^2 -> 1.4909394 | J73: 0 | K73: 0 | L73: 0 | M73: 1
B74: 73.7 | C74: 1 | D74: 6.02 | E74: 2.2 | F74: =E74^2 -> 4.84 | G74: =(B74-(J$22+J$23*D74+J$24*E74+J$25*F74))^2 -> 11.303131
B75: 82.2 | C75: 1 | D75: 5.73 | E75: 1.7 | F75: =E75^2 -> 2.89 | G75: =(B75-(J$22+J$23*D75+J$24*E75+J$25*F75))^2 -> 12.963434 | J75: 0
B76: 74.2 | C76: 1 | D76: 5.11 | E76: 0.7 | F76: =E76^2 -> 0.49 | G76: =(B76-(J$22+J$23*D76+J$24*E76+J$25*F76))^2 -> 13.163827 | I76: r= | J76: 0
B77: 75.4 | C77: 1 | D77: 5.71 | E77: 0.7 | F77: =E77^2 -> 0.49 | G77: =(B77-(J$22+J$23*D77+J$24*E77+J$25*F77))^2 -> 4.6474786 | J77: 0
B78: 81.3 | C78: 1 | D78: 5.45 | E78: 2 | F78: =E78^2 -> 4 | G78: =(B78-(J$22+J$23*D78+J$24*E78+J$25*F78))^2 -> 0.00013583399
B79: 75 | C79: 1 | D79: 6.05 | E79: 2.2 | F79: =E79^2 -> 4.84 | G79: =(B79-(J$22+J$23*D79+J$24*E79+J$25*F79))^2 -> 3.3592031 | J79: {=MMULT(J71:M73,J22:J25)-J75:J77} -> -7.64 | K79: =MMULT(J71:M73;J22:J25)-J75:J77
G80: =SUM(G5:G79) -> 1532.0845 | I80: (Rβ-r)= | J80: 12.151236
J81: -2.7679631
J83: {=MINVERSE(MMULT(MMULT(J71:M73,J55:M58),TRANSPOSE(J71:M73)))} -> 0.92170307 | K83: 0.038984822 | L83: 0.23410116
I84: (RVAR(β)R')-1= | J84: 0.038984822 | K84: 2.3720107 | L84: 8.8206501
J85: 0.23410116 | K85: 8.8206501 | L85: 33.939666
I87: (Rβ-r)'= | J87: {=TRANSPOSE(J79:J81)} -> -7.64 | K87: 12.151236 | L87: -2.7679631
I90: Estat | J90: {=MMULT(MMULT(J87:L87,J83:L85),J79:J81)} -> 73.377949

Sheet Ex5
B4: EXPER | C4: MASC | D4: SAL
B5: 10 | C5: 1 | D5: 605.202
B6: 1 | C6: 1 | D6: 398.658
B7: 10 | C7: 1 | D7: 582.66
B8: 20 | C8: 1 | D8: 689.91
B9: 17 | C9: 1 | D9: 672.828
B10: 22 | C10: 1 | D10: 673.062
B11: 8 | C11: 1 | D11: 589.134
B12: 19 | C12: 1 | D12: 682.734
B13: 5 | C13: 1 | D13: 416.52
B14: 5 | C14: 1 | D14: 458.406
B15: 15 | C15: 1 | D15: 540.228
B16: 2 | C16: 1 | D16: 412.23
... B94: 7 | C94: 0 | D94: 261.576

Sheet Ex5a
B3: EXPER | C3: Fem | D3: SAL | G3: SAL | H3: n | I3: Fem | J3: e2 | S3: SAL | T3: Masc | U3: Fem | V3: e2
B4: 10 | C4: 0 | D4: 605.202 | G4: 605.202 | H4: 1 | I4: 0 | J4: =(G4-M$56-M$57*I4)^2 -> 2968.9073 | S4: 605.202 | T4: 1 | U4: 0 | V4: =(S4-Y$56*T4-Y$57*U4)^2 -> 2968.9073
B5: 1 | C5: 0 | D5: 398.658 | G5: 398.658 | H5: 1 | I5: 0 | J5: =(G5-M$56-M$57*I5)^2 -> 23121.124 | S5: 398.658 | T5: 1 | U5: 0 | V5: =(S5-Y$56*T5-Y$57*U5)^2 -> 23121.124
B6: 10 | C6: 0 | D6: 582.66 | G6: 582.66 | H6: 1 | I6: 0 | J6: =(G6-M$56-M$57*I6)^2 -> 1020.5265 | S6: 582.66 | T6: 1 | U6: 0 | V6: =(S6-Y$56*T6-Y$57*U6)^2 -> 1020.5265
B7: 20 | C7: 0 | D7: 689.91 | G7: 689.91 | H7: 1 | I7: 0 | J7: =(G7-M$56-M$57*I7)^2 -> 19375.437 | S7: 689.91 | T7: 1 | U7: 0 | V7: =(S7-Y$56*T7-Y$57*U7)^2 -> 19375.437
B8: 17 | C8: 0 | D8: 672.828 | G8: 672.828 | H8: 1 | I8: 0 | J8: =(G8-M$56-M$57*I8)^2 -> 14911.751 | S8: 672.828 | T8: 1 | U8: 0 | V8: =(S8-Y$56*T8-Y$57*U8)^2 -> 14911.751
B9: 22 | C9: 0 | D9: 673.062 | G9: 673.062 | H9: 1 | I9: 0 | J9: =(G9-M$56-M$57*I9)^2 -> 14968.955 | S9: 673.062 | T9: 1 | U9: 0 | V9: =(S9-Y$56*T9-Y$57*U9)^2 -> 14968.955
B10: 8 | C10: 0 | D10: 589.134 | G10: 589.134 | H10: 1 | I10: 0 | J10: =(G10-M$56-M$57*I10)^2 -> 1476.0718 | S10: 589.134 | T10: 1 | U10: 0 | V10: =(S10-Y$56*T10-Y$57*U10)^2 -> 1476.0718
B11: 19 | C11: 0 | D11: 682.734 | G11: 682.734 | H11: 1 | I11: 0 | J11: =(G11-M$56-M$57*I11)^2 -> 17429.196 | S11: 682.734 | T11: 1 | U11: 0 | V11: =(S11-Y$56*T11-Y$57*U11)^2 -> 17429.196
B12: 5 | C12: 0 | D12: 416.52 | G12: 416.52 | H12: 1 | I12: 0 | J12: =(G12-M$56-M$57*I12)^2 -> 18008.116 | S12: 416.52 | T12: 1 | U12: 0 | V12: =(S12-Y$56*T12-Y$57*U12)^2 -> 18008.116
B13: 5 | C13: 0 | D13: 458.406 | G13: 458.406 | H13: 1 | I13: 0 | J13: =(G13-M$56-M$57*I13)^2 -> 8520.8259 | S13: 458.406 | T13: 1 | U13: 0 | V13: =(S13-Y$56*T13-Y$57*U13)^2 -> 8520.8259
B14: 15 | C14: 0 | D14: 540.228 | G14: 540.228 | H14: 1 | I14: 0 | J14: =(G14-M$56-M$57*I14)^2 -> 109.96291 | S14: 540.228 | T14: 1 | U14: 0 | V14: =(S14-Y$56*T14-Y$57*U14)^2 -> 109.96291
B15: 2 | C15: 0 | D15: 412.23 | G15: 412.23 | H15: 1 | I15: 0 | J15: =(G15-M$56-M$57*I15)^2 -> 19177.907 | S15: 412.23 | T15: 1 | U15: 0 | V15: =(S15-Y$56*T15-Y$57*U15)^2 -> 19177.907
... B45: 24 | C45: 0 | D45: 671.346 | G45: 671.346 | H45: 1 | I45: 0 | J45: =(G45-M$56-M$57*I45)^2 -> 14552.002 | S45: 671.346 | T45: 1 | U45: 0 | V45: =(S45-Y$56*T45-Y$57*U45)^2 -> 14552.002
B46: 21 | C46: 0 | D46: 731.562 | G46: 731.562 | H46: 1 | I46: 0 | J46: =(G46-M$56-M$57*I46)^2 -> 32705.883 | L46: (X'X)= | M46: {=MMULT(TRANSPOSE(H4:I93),H4:I93)} -> 90 | N46: 40 | S46: 731.562 | T46: 1 | U46: 0 | V46: =(S46-Y$56*T46-Y$57*U46)^2 -> 32705.883 | X46: (X'X)= | Y46: {=MMULT(TRANSPOSE(T4:U93),T4:U93)} -> 50 | Z46: 0
B47: 5 | C47: 0 | D47: 521.04 | G47: 521.04 | H47: 1 | I47: 0 | J47: =(G47-M$56-M$57*I47)^2 -> 880.56527 | M47: 40 | N47: 40 | S47: 521.04 | T47: 1 | U47: 0 | V47: =(S47-Y$56*T47-Y$57*U47)^2 -> 880.56527 | Y47: 0 | Z47: 40
B48: 10 | C48: 0 | D48: 558.09 | G48: 558.09 | H48: 1 | I48: 0 | J48: =(G48-M$56-M$57*I48)^2 -> 54.400655 | S48: 558.09 | T48: 1 | U48: 0 | V48: =(S48-Y$56*T48-Y$57*U48)^2 -> 54.400655
B49: 6 | C49: 0 | D49: 449.982 | G49: 449.982 | H49: 1 | I49: 0 | J49: =(G49-M$56-M$57*I49)^2 -> 10147 | L49: (X'X)-1= | M49: {=MINVERSE(M46:N47)} -> 0.02 | N49: -0.02 | S49: 449.982 | T49: 1 | U49: 0 | V49: =(S49-Y$56*T49-Y$57*U49)^2 -> 10147 | X49: (X'X)-1= | Y49: {=MINVERSE(Y46:Z47)} -> 0.02 | Z49: 0
B50: 7 | C50: 0 | D50: 525.72 | G50: 525.72 | H50: 1 | I50: 0 | J50: =(G50-M$56-M$57*I50)^2 -> 624.71603 | M50: -0.02 | N50: 0.045 | S50: 525.72 | T50: 1 | U50: 0 | V50: =(S50-Y$56*T50-Y$57*U50)^2 -> 624.71603 | Y50: 0 | Z50: 0.025
B51: 15 | C51: 0 | D51: 671.112 | G51: 671.112 | H51: 1 | I51: 0 | J51: =(G51-M$56-M$57*I51)^2 -> 14495.601 | S51: 671.112 | T51: 1 | U51: 0 | V51: =(S51-Y$56*T51-Y$57*U51)^2 -> 14495.601
B52: 3 | C52: 0 | D52: 427.908 | G52: 427.908 | H52: 1 | I52: 0 | J52: =(G52-M$56-M$57*I52)^2 -> 15081.392 | L52: (X'Y)= | M52: {=MMULT(TRANSPOSE(H4:I93),G4:G93)} -> 41025.888 | S52: 427.908 | T52: 1 | U52: 0 | V52: =(S52-Y$56*T52-Y$57*U52)^2 -> 15081.392 | X52: (X'Y)= | Y52: {=MMULT(TRANSPOSE(T4:U93),S4:S93)} -> 27535.716
B53: 14 | C53: 0 | D53: 592.332 | G53: 592.332 | H53: 1 | I53: 0 | J53: =(G53-M$56-M$57*I53)^2 -> 1732.0313 | M53: 13490.172 | O53: σ= | P53: =(J94/(90-2))^0.5 -> 87.896639 | S53: 592.332 | T53: 1 | U53: 0 | V53: =(S53-Y$56*T53-Y$57*U53)^2 -> 1732.0313 | Y53: 13490.172 | AA53: σ= | AB53: =(V94/(90-2))^0.5 -> 87.896639
B54: 15 | C54: 1 | D54: 349.38 | G54: 349.38 | H54: 1 | I54: 1 | J54: =(G54-M$56-M$57*I54)^2 -> 147.0326 | S54: 349.38 | T54: 0 | U54: 1 | V54: =(S54-Y$56*T54-Y$57*U54)^2 -> 147.0326
B55: 1 | C55: 1 | D55: 218.052 | G55: 218.052 | H55: 1 | I55: 1 | J55: =(G55-M$56-M$57*I55)^2 -> 14209.188 | S55: 218.052 | T55: 0 | U55: 1 | V55: =(S55-Y$56*T55-Y$57*U55)^2 -> 14209.188
B56: 12 | C56: 1 | D56: 387.396 | G56: 387.396 | H56: 1 | I56: 1 | J56: =(G56-M$56-M$57*I56)^2 -> 2514.1901 | L56: β= | M56: {=MMULT(M49:N50,M52:M53)} -> 550.71432 | S56: 387.396 | T56: 0 | U56: 1 | V56: =(S56-Y$56*T56-Y$57*U56)^2 -> 2514.1901 | X56: β= | Y56: {=MMULT(Y49:Z50,Y52:Y53)} -> 550.71432
B57: 9 | C57: 1 | D57: 346.356 | G57: 346.356 | H57: 1 | I57: 1 | J57: =(G57-M$56-M$57*I57)^2 -> 82.840943 | M57: -213.46002 | S57: 346.356 | T57: 0 | U57: 1 | V57: =(S57-Y$56*T57-Y$57*U57)^2 -> 82.840943 | Y57: 337.2543
B58: 5 | C58: 1 | D58: 256.014 | G58: 256.014 | H58: 1 | I58: 1 | J58: =(G58-M$56-M$57*I58)^2 -> 6599.9863 | S58: 256.014 | T58: 0 | U58: 1 | V58: =(S58-Y$56*T58-Y$57*U58)^2 -> 6599.9863
B59: 3 | C59: 1 | D59: 251.046 | G59: 251.046 | H59: 1 | I59: 1 | J59: =(G59-M$56-M$57*I59)^2 -> 7431.871 | M59: {=P53^2*M49:N50} -> 154.51638 | N59: -154.51638 | S59: 251.046 | T59: 0 | U59: 1 | V59: =(S59-Y$56*T59-Y$57*U59)^2 -> 7431.871 | Y59: {=AB53^2*Y49:Z50} -> 154.51638 | Z59: 0
B60: 7 | C60: 1 | D60: 273.348 | G60: 273.348 | H60: 1 | I60: 1 | J60: =(G60-M$56-M$57*I60)^2 -> 4084.0152 | L60: VAR(β)= | M60: -154.51638 | N60: 347.66186 | S60: 273.348 | T60: 0 | U60: 1 | V60: =(S60-Y$56*T60-Y$57*U60)^2 -> 4084.0152 | X60: VAR(β)= | Y60: 0 | Z60: 193.14548
B61: 17 | C61: 1 | D61: 397.71 | G61: 397.71 | H61: 1 | I61: 1 | J61: =(G61-M$56-M$57*I61)^2 -> 3654.8917 | S61: 397.71 | T61: 0 | U61: 1 | V61: =(S61-Y$56*T61-Y$57*U61)^2 -> 3654.8917
B62: 19 | C62: 1 | D62: 392.202 | G62: 392.202 | H62: 1 | I62: 1 | J62: =(G62-M$56-M$57*I62)^2 -> 3019.2497 | L62: R= | M62: 0 | N62: 1 | P62: r= | Q62: 0 | S62: 392.202 | T62: 0 | U62: 1 | V62: =(S62-Y$56*T62-Y$57*U62)^2 -> 3019.2497 | X62: R= | Y62: 1 | Z62: -1 | AB62: r= | AC62: 0
B63: 15 | C63: 1 | D63: 394.254 | G63: 394.254 | H63: 1 | I63: 1 | J63: =(G63-M$56-M$57*I63)^2 -> 3248.9658 | S63: 394.254 | T63: 0 | U63: 1 | V63: =(S63-Y$56*T63-Y$57*U63)^2 -> 3248.9658
B64: 6 | C64: 1 | D64: 285.174 | G64: 285.174 | H64: 1 | I64: 1 | J64: =(G64-M$56-M$57*I64)^2 -> 2712.3576 | S64: 285.174 | T64: 0 | U64: 1 | V64: =(S64-Y$56*T64-Y$57*U64)^2 -> 2712.3576
B65: 3 | C65: 1 | D65: 244.566 | G65: 244.566 | H65: 1 | I65: 1 | J65: =(G65-M$56-M$57*I65)^2 -> 8591.121 | L65: (Rβ-r)= | M65: =MMULT(M62:N62,M56:M57) -> -213.46002 | S65: 244.566 | T65: 0 | U65: 1 | V65: =(S65-Y$56*T65-Y$57*U65)^2 -> 8591.121 | X65: (Rβ-r)= | Y65: =MMULT(Y62:Z62,Y56:Y57) -> 213.46002
B66: 17 | C66: 1 | D66: 387.612 | G66: 387.612 | H66: 1 | I66: 1 | J66: =(G66-M$56-M$57*I66)^2 -> 2535.8979 | L66: (RVAR(β)R')-1= | M66: {=MINVERSE(MMULT(MMULT(M62:N62,M59:N60),TRANSPOSE(M62:N62)))} -> 0.002876358 | S66: 387.612 | T66: 0 | U66: 1 | V66: =(S66-Y$56*T66-Y$57*U66)^2 -> 2535.8979 | X66: (RVAR(β)R')-1= | Y66: {=MINVERSE(MMULT(MMULT(Y62:Z62,Y59:Z60),TRANSPOSE(Y62:Z62)))} -> 0.002876358
B67: 4 | C67: 1 | D67: 253.314 | G67: 253.314 | H67: 1 | I67: 1 | J67: =(G67-M$56-M$57*I67)^2 -> 7045.974 | L67: (Rβ-r)= | M67: =MMULT(M62:N62,M56:M57) -> -213.46002 | S67: 253.314 | T67: 0 | U67: 1 | V67: =(S67-Y$56*T67-Y$57*U67)^2 -> 7045.974 | X67: (Rβ-r)= | Y67: =MMULT(Y62:Z62,Y56:Y57) -> 213.46002
B68: 10 | C68: 1 | D68: 333.612 | G68: 333.612 | H68: 1 | I68: 1 | J68: =(G68-M$56-M$57*I68)^2 -> 13.266349 | S68: 333.612 | T68: 0 | U68: 1 | V68: =(S68-Y$56*T68-Y$57*U68)^2 -> 13.266349
B69: 4 | C69: 1 | D69: 292.95 | G69: 292.95 | H69: 1 | I69: 1 | J69: =(G69-M$56-M$57*I69)^2 -> 1962.871 | L69: Est= | M69: =M65*M66*M67 -> 131.06177 | S69: 292.95 | T69: 0 | U69: 1 | V69: =(S69-Y$56*T69-Y$57*U69)^2 -> 1962.871 | X69: Est= | Y69: =Y65*Y66*Y67 -> 131.06177
B70: 11 | C70: 1 | D70: 374.922 | G70: 374.922 | H70: 1 | I70: 1 | J70: =(G70-M$56-M$57*I70)^2 -> 1418.8556 | S70: 374.922 | T70: 0 | U70: 1 | V70: =(S70-Y$56*T70-Y$57*U70)^2 -> 1418.8556
B71: 10 | C71: 1 | D71: 387.45 | G71: 387.45 | H71: 1 | I71: 1 | J71: =(G71-M$56-M$57*I71)^2 -> 2519.6083 | S71: 387.45 | T71: 0 | U71: 1 | V71: =(S71-Y$56*T71-Y$57*U71)^2 -> 2519.6083
B72: 7 | C72: 1 | D72: 307.53 | G72: 307.53 | H72: 1 | I72: 1 | J72: =(G72-M$56-M$57*I72)^2 -> 883.53401 | S72: 307.53 | T72: 0 | U72: 1 | V72: =(S72-Y$56*T72-Y$57*U72)^2 -> 883.53401
B73: 3 | C73: 1 | D73: 268.974 | G73: 268.974 | H73: 1 | I73: 1 | J73: =(G73-M$56-M$57*I73)^2 -> 4662.1994 | S73: 268.974 | T73: 0 | U73: 1 | V73: =(S73-Y$56*T73-Y$57*U73)^2 -> 4662.1994
B74: 20 | C74: 1 | D74: 406.728 | G74: 406.728 | H74: 1 | I74: 1 | J74: =(G74-M$56-M$57*I74)^2 -> 4826.595 | S74: 406.728 | T74: 0 | U74: 1 | V74: =(S74-Y$56*T74-Y$57*U74)^2 -> 4826.595
B75: 16 | C75: 1 | D75: 363.204 | G75: 363.204 | H75: 1 | I75: 1 | J75: =(G75-M$56-M$57*I75)^2 -> 673.38693 | S75: 363.204 | T75: 0 | U75: 1 | V75: =(S75-Y$56*T75-Y$57*U75)^2 -> 673.38693
B76: 17 | C76: 1 | D76: 377.406 | G76: 377.406 | H76: 1 | I76: 1 | J76: =(G76-M$56-M$57*I76)^2 -> 1612.159 | S76: 377.406 | T76: 0 | U76: 1 | V76: =(S76-Y$56*T76-Y$57*U76)^2 -> 1612.159
B77: 14 | C77: 1 | D77: 368.874 | G77: 368.874 | H77: 1 | I77: 1 | J77: =(G77-M$56-M$57*I77)^2 -> 999.80543 | S77: 368.874 | T77: 0 | U77: 1 | V77: =(S77-Y$56*T77-Y$57*U77)^2 -> 999.80543
B78: 12 | C78: 1 | D78: 401.274 | G78: 401.274 | H78: 1 | I78: 1 | J78: =(G78-M$56-M$57*I78)^2 -> 4098.522 | S78: 401.274 | T78: 0 | U78: 1 | V78: =(S78-Y$56*T78-Y$57*U78)^2 -> 4098.522
B79: 22 | C79: 1 | D79: 428.328 | G79: 428.328 | H79: 1 | I79: 1 | J79: =(G79-M$56-M$57*I79)^2 -> 8294.4188 | S79: 428.328 | T79: 0 | U79: 1 | V79: =(S79-Y$56*T79-Y$57*U79)^2 -> 8294.4188
B80: 8 | C80: 1 | D80: 354.942 | G80: 354.942 | H80: 1 | I80: 1 | J80: =(G80-M$56-M$57*I80)^2 -> 312.85473 | S80: 354.942 | T80: 0 | U80: 1 | V80: =(S80-Y$56*T80-Y$57*U80)^2 -> 312.85473
B81: 21 | C81: 1 | D81: 427.194 | G81: 427.194 | H81: 1 | I81: 1 | J81: =(G81-M$56-M$57*I81)^2 -> 8089.1496 | S81: 427.194 | T81: 0 | U81: 1 | V81: =(S81-Y$56*T81-Y$57*U81)^2 -> 8089.1496
... B93: 7 | C93: 1 | D93: 261.576 | G93: 261.576 | H93: 1 | I93: 1 | J93: =(G93-M$56-M$57*I93)^2 -> 5727.2051 | S93: 261.576 | T93: 0 | U93: 1 | V93: =(S93-Y$56*T93-Y$57*U93)^2 -> 5727.2051
J94: =SUM(J4:J93) -> 679872.09 | V94: =SUM(V4:V93) -> 679872.09

Sheet Ex5b
B2: alínea 4)
B5: EXPER | C5: MASC | D5: SAL
B6: 10 | C6: 1 | D6: 605.202
B7: 1 | C7: 1 | D7: 398.658
B8: 10 | C8: 1 | D8: 582.66
B9: 20 | C9: 1 | D9: 689.91
B10: 17 | C10: 1 | D10: 672.828
B11: 22 | C11: 1 | D11: 673.062
B12: 8 | C12: 1 | D12: 589.134
B13: 19 | C13: 1 | D13: 682.734
B14: 5 | C14: 1 | D14: 416.52
B15: 5 | C15: 1 | D15: 458.406
B16: 15 | C16: 1 | D16: 540.228
B17: 2 | C17: 1 | D17: 412.23
... B95: 7 | C95: 0 | D95: 261.576

Sheet Ex5c
D4: SAL | E4: n | F4: EXPER | G4: MASC | H4: e2 | S4: SAL | T4: n | U4: EXPER | V4: MASC*Exper | W4: e2 | AI4: SAL | AJ4: n | AK4: EXPER | AL4: Masc | AM4: MASC*Exper | AN4: e2
D5: 605.202 | E5: 1 | F5: 10 | G5: 1 | H5: =(D5-K$54-K$55*F5-K$56*G5)^2 -> 3022.0104 | S5: =D5 -> 605.202 | T5: 1 | U5: =F5 -> 10 | V5: =F5*G5 -> 10 | W5: =(S5-Z$54-Z$55*U5-Z$56*V5)^2 -> 5437.6108 | AI5: =S5 -> 605.202 | AJ5: 1 | AK5: =U5 -> 10 | AL5: =G5 -> 1 | AM5: =AK5*AL5 -> 10 | AN5: =(AI5-AQ$55-AQ$56*AK5-AQ$57*AL5-AQ$58*AM5)^2 -> 3033.3412
D6: 398.658 | E6: 1 | F6: 1 | G6: 1 | H6: =(D6-K$54-K$55*F6-K$56*G6)^2 -> 1799.1034 | S6: =D6 -> 398.658 | T6: 1 | U6: =F6 -> 1 | V6: =F6*G6 -> 1 | W6: =(S6-Z$54-Z$55*U6-Z$56*V6)^2 -> 1898.8104 | AI6: =S6 -> 398.658 | AJ6: 1 | AK6: =U6 -> 1 | AL6: =G6 -> 1 | AM6: =AK6*AL6 -> 1 | AN6: =(AI6-AQ$55-AQ$56*AK6-AQ$57*AL6-AQ$58*AM6)^2 -> 366.58225
D7: 582.66 | E7: 1 | F7: 10 | G7: 1 | H7: =(D7-K$54-K$55*F7-K$56*G7)^2 -> 1051.7578 | S7: =D7 -> 582.66 | T7: 1 | U7: =F7 -> 10 | V7: =F7*G7 -> 10 | W7: =(S7-Z$54-Z$55*U7-Z$56*V7)^2 -> 2621.2513 | AI7: =S7 -> 582.66 | AJ7: 1 | AK7: =U7 -> 10 | AL7: =G7 -> 1 | AM7: =AK7*AL7 -> 10 | AN7: =(AI7-AQ$55-AQ$56*AK7-AQ$57*AL7-AQ$58*AM7)^2 -> 1058.4467
D8: 689.91 | E8: 1 | F8: 20 | G8: 1 | H8: =(D8-K$54-K$55*F8-K$56*G8)^2 -> 338.45318 | S8: =D8 -> 689.91 | T8: 1 | U8: =F8 -> 20 | V8: =F8*G8 -> 20 | W8: =(S8-Z$54-Z$55*U8-Z$56*V8)^2 -> 1408.4043 | AI8: =S8 -> 689.91 | AJ8: 1 | AK8: =U8 -> 20 | AL8: =G8 -> 1 | AM8: =AK8*AL8 -> 20 | AN8: =(AI8-AQ$55-AQ$56*AK8-AQ$57*AL8-AQ$58*AM8)^2 -> 52.425409
D9: 672.828 | E9: 1 | F9: 17 | G9: 1 | H9: =(D9-K$54-K$55*F9-K$56*G9)^2 -> 1421.306 | S9: =D9 -> 672.828 | T9: 1 | U9: =F9 -> 17 | V9: =F9*G9 -> 17 | W9: =(S9-Z$54-Z$55*U9-Z$56*V9)^2 -> 17.492035 | AI9: =S9 -> 672.828 | AJ9: 1 | AK9: =U9 -> 17 | AL9: =G9 -> 1 | AM9: =AK9*AL9 -> 17 | AN9: =(AI9-AQ$55-AQ$56*AK9-AQ$57*AL9-AQ$58*AM9)^2 -> 391.43656
D10: 673.062 | E10: 1 | F10: 22 | G10: 1 | H10: =(D10-K$54-K$55*F10-K$56*G10)^2 -> 515.63722 | S10: =D10 -> 673.062 | T10: 1 | U10: =F10 -> 22 | V10: =F10*G10 -> 22 | W10: =(S10-Z$54-Z$55*U10-Z$56*V10)^2 -> 8755.7355 | AI10: =S10 -> 673.062 | AJ10: 1 | AK10: =U10 -> 22 | AL10: =G10 -> 1 | AM10: =AK10*AL10 -> 22 | AN10: =(AI10-AQ$55-AQ$56*AK10-AQ$57*AL10-AQ$58*AM10)^2 -> 2861.5441
D11: 589.134 | E11: 1 | F11: 8 | G11: 1 | H11: =(D11-K$54-K$55*F11-K$56*G11)^2 -> 3989.3825 | S11: =D11 -> 589.134 | T11: 1 | U11: =F11 -> 8 | V11: =F11*G11 -> 8 | W11: =(S11-Z$54-Z$55*U11-Z$56*V11)^2 -> 9383.3187 | AI11: =S11 -> 589.134 | AJ11: 1 | AK11: =U11 -> 8 | AL11: =G11 -> 1 | AM11: =AK11*AL11 -> 8 | AN11: =(AI11-AQ$55-AQ$56*AK11-AQ$57*AL11-AQ$58*AM11)^2 -> 4680.2894
D12: 682.734 | E12: 1 | F12: 19 | G12: 1 | H12: =(D12-K$54-K$55*F12-K$56*G12)^2 -> 545.19769 | S12: =D12 -> 682.734 | T12: 1 | U12: =F12 -> 19 | V12: =F12*G12 -> 19 | W12: =(S12-Z$54-Z$55*U12-Z$56*V12)^2 -> 630.36276 | AI12: =S12 -> 682.734 | AJ12: 1 | AK12: =U12 -> 19 | AL12: =G12 -> 1 | AM12: =AK12*AL12 -> 19 | AN12: =(AI12-AQ$55-AQ$56*AK12-AQ$57*AL12-AQ$58*AM12)^2 -> 0.081734448
D13: 416.52 | E13: 1 | F13: 5 | G13: 1 | H13: =(D13-K$54-K$55*F13-K$56*G13)^2 -> 5338.8342 | S13: =D13 -> 416.52 | T13: 1 | U13: =F13 -> 5 | V13: =F13*G13 -> 5 | W13: =(S13-Z$54-Z$55*U13-Z$56*V13)^2 -> 287.41802 | AI13: =S13 -> 416.52 | AJ13: 1 | AK13: =U13 -> 5 | AL13: =G13 -> 1 | AM13: =AK13*AL13 -> 5 | AN13: =(AI13-AQ$55-AQ$56*AK13-AQ$57*AL13-AQ$58*AM13)^2 -> 3611.2966
D14: 458.406 | E14: 1 | F14: 5 | G14: 1 | H14: =(D14-K$54-K$55*F14-K$56*G14)^2 -> 972.2751 | S14: =D14 -> 458.406 | T14: 1 | U14: =F14 -> 5 | V14: =F14*G14 -> 5 | W14: =(S14-Z$54-Z$55*U14-Z$56*V14)^2 -> 621.63418 | AI14: =S14 -> 458.406 | AJ14: 1 | AK14: =U14 -> 5 | AL14: =G14 -> 1 | AM14: =AK14*AL14 -> 5 | AN14: =(AI14-AQ$55-AQ$56*AK14-AQ$57*AL14-AQ$58*AM14)^2 -> 331.53361
D15: 540.228 | E15: 1 | F15: 15 | G15: 1 | H15: =(D15-K$54-K$55*F15-K$56*G15)^2 -> 4990.4397 | S15: =D15 -> 540.228 | T15: 1 | U15: =F15 -> 15 | V15: =F15*G15 -> 15 | W15: =(S15-Z$54-Z$55*U15-Z$56*V15)^2 -> 7960.6149 | AI15: =S15 -> 540.228 | AJ15: 1 | AK15: =U15 -> 15 | AL15: =G15 -> 1 | AM15: =AK15*AL15 -> 15 | AN15: =(AI15-AQ$55-AQ$56*AK15-AQ$57*AL15-AQ$58*AM15)^2 -> 6957.2917
D16: 412.23 | E16: 1 | F16: 2 | G16: 1 | H16: =(D16-K$54-K$55*F16-K$56*G16)^2 -> 1678.7221 | S16: =D16 -> 412.23 | T16: 1 | U16: =F16 -> 2 | V16: =F16*G16 -> 2 | W16: =(S16-Z$54-Z$55*U16-Z$56*V16)^2 -> 1409.9765 | AI16: =S16 -> 412.23 | AJ16: 1 | AK16: =U16 -> 2 | AL16: =G16 -> 1 | AM16: =AK16*AL16 -> 2 | AN16: =(AI16-AQ$55-AQ$56*AK16-AQ$57*AL16-AQ$58*AM16)^2 -> 411.14738
... D39: 602.316 | E39: 1 | F39: 17 | G39: 1 | H39: =(D39-K$54-K$55*F39-K$56*G39)^2 -> 1076.6134 | S39: =D39 -> 602.316 | T39: 1 | U39: =F39 -> 17 | V39: =F39*G39 -> 17 | W39: =(S39-Z$54-Z$55*U39-Z$56*V39)^2 -> 4399.6227 | AI39: =S39 -> 602.316 | AJ39: 1 | AK39: =U39 -> 17 | AL39: =G39 -> 1 | AM39: =AK39*AL39 -> 17 | AN39: =(AI39-AQ$55-AQ$56*AK39-AQ$57*AL39-AQ$58*AM39)^2 -> 2573.2533
D40: 502.554 | E40: 1 | F40: 11 | G40: 1 | H40: =(D40-K$54-K$55*F40-K$56*G40)^2 -> 3576.4654 | K40: {=MMULT(TRANSPOSE(E5:G94),E5:G94)} -> 90 | L40: 956 | M40: 50 | S40: =D40 -> 502.554 | T40: 1 | U40: =F40 -> 11 | V40: =F40*G40 -> 11 | W40: =(S40-Z$54-Z$55*U40-Z$56*V40)^2 -> 2352.7864 | Z40: {=MMULT(TRANSPOSE(T5:V94),T5:V94)} -> 90 | AA40: 956 | AB40: 502 | AI40: =S40 -> 502.554 | AJ40: 1 | AK40: =U40 -> 11 | AL40: =G40 -> 1 | AM40: =AK40*AL40 -> 11 | AN40: =(AI40-AQ$55-AQ$56*AK40-AQ$57*AL40-AQ$58*AM40)^2 -> 3878.1326 | AQ40: {=MMULT(TRANSPOSE(AJ5:AM94),AJ5:AM94)} -> 90 | AR40: 956 | AS40: 50 | AT40: 502
D41: 608.166 | E41: 1 | F41: 15 | G41: 1 | H41: =(D41-K$54-K$55*F41-K$56*G41)^2 -> 7.3172635 | J41: (X'X)= | K41: 956 | L41: 13632 | M41: 502 | S41: =D41 -> 608.166 | T41: 1 | U41: =F41 -> 15 | V41: =F41*G41 -> 15 | W41: =(S41-Z$54-Z$55*U41-Z$56*V41)^2 -> 453.02048 | Y41: (X'X)= | Z41: 956 | AA41: 13632 | AB41: 6934 | AI41: =S41 -> 608.166 | AJ41: 1 | AK41: =U41 -> 15 | AL41: =G41 -> 1 | AM41: =AK41*AL41 -> 15 | AN41: =(AI41-AQ$55-AQ$56*AK41-AQ$57*AL41-AQ$58*AM41)^2 -> 239.39457 | AP41: (X'X)= | AQ41: 956 | AR41: 13632 | AS41: 502 | AT41: 6934
D42: 410.592 | E42: 1 | F42: 6 | G42: 1 | H42: =(D42-K$54-K$55*F42-K$56*G42)^2 -> 8303.5283 | K42: 50 | L42: 502 | M42: 50 | S42: =D42 -> 410.592 | T42: 1 | U42: =F42 -> 6 | V42: =F42*G42 -> 6 | W42: =(S42-Z$54-Z$55*U42-Z$56*V42)^2 -> 1804.4734 | Z42: 502 | AA42: 6934 | AB42: 6934 | AI42: =S42 -> 410.592 | AJ42: 1 | AK42: =U42 -> 6 | AL42: =G42 -> 1 | AM42: =AK42*AL42 -> 6 | AN42: =(AI42-AQ$55-AQ$56*AK42-AQ$57*AL42-AQ$58*AM42)^2 -> 6516.4443 | AQ42: 50 | AR42: 502 | AS42: 50 | AT42: 502
D43: 577.59 | E43: 1 | F43: 10 | G43: 1 | H43: =(D43-K$54-K$55*F43-K$56*G43)^2 -> 748.61419 | S43: =D43 -> 577.59 | T43: 1 | U43: =F43 -> 10 | V43: =F43*G43 -> 10 | W43: =(S43-Z$54-Z$55*U43-Z$56*V43)^2 -> 2127.8069 | AI43: =S43 -> 577.59 | AJ43: 1 | AK43: =U43 -> 10 | AL43: =G43 -> 1 | AM43: =AK43*AL43 -> 10 | AN43: =(AI43-AQ$55-AQ$56*AK43-AQ$57*AL43-AQ$58*AM43)^2 -> 754.25906 | AQ43: 502 | AR43: 6934 | AS43: 502 | AT43: 6934
D44: 620.958 | E44: 1 | F44: 13 | G44: 1 | H44: =(D44-K$54-K$55*F44-K$56*G44)^2 -> 1179.4897 | S44: =D44 -> 620.958 | T44: 1 | U44: =F44 -> 13 | V44: =F44*G44 -> 13 | W44: =(S44-Z$54-Z$55*U44-Z$56*V44)^2 -> 942.68012 | AI44: =S44 -> 620.958 | AJ44: 1 | AK44: =U44 -> 13 | AL44: =G44 -> 1 | AM44: =AK44*AL44 -> 13 | AN44: =(AI44-AQ$55-AQ$56*AK44-AQ$57*AL44-AQ$58*AM44)^2 -> 714.19795
D45: 530.634 | E45: 1 | F45: 9 | G45: 1 | H45: =(D45-K$54-K$55*F45-K$56*G45)^2 -> 55.753301 | K45: {=MINVERSE(K40:M42)} -> 0.062459073 | L45: -0.0033003588 | M45: -0.02932347 | S45: =D45 -> 530.634 | T45: 1 | U45: =F45 -> 9 | V45: =F45*G45 -> 9 | W45: =(S45-Z$54-Z$55*U45-Z$56*V45)^2 -> 352.30706 | Z45: {=MINVERSE(Z40:AB42)} -> 0.043698662 | AA45: -0.0029619577 | AB45: -0.00020168932 | AI45: =S45 -> 530.634 | AJ45: 1 | AK45: =U45 -> 9 | AL45: =G45 -> 1 | AM45: =AK45*AL45 -> 9 | AN45: =(AI45-AQ$55-AQ$56*AK45-AQ$57*AL45-AQ$58*AM45)^2 -> 22.942099 | AQ45: {=MINVERSE(AQ40:AT43)} -> 0.10837486 | AR45: -0.0073458029 | AS45: -0.10837486 | AT45: 0.0073458029
D46: 671.346 | E46: 1 | F46: 24 | G46: 1 | H46: =(D46-K$54-K$55*F46-K$56*G46)^2 -> 2369.7804 | J46: (X'X)-1= | K46: -0.0033003588 | L46: 0.00029078051 | M46: 0.00038092247 | S46: =D46 -> 671.346 | T46: 1 | U46: =F46 -> 24 | V46: =F46*G46 -> 24 | W46: =(S46-Z$54-Z$55*U46-Z$56*V46)^2 -> 18085.801 | Y46: (X'X)-1= | Z46: -0.0029619577 | AA46: 0.00035006402 | AB46: -0.00013562751 | AI46: =S46 -> 671.346 | AJ46: 1 | AK46: =U46 -> 24 | AL46: =G46 -> 1 | AM46: =AK46*AL46 -> 24 | AN46: =(AI46-AQ$55-AQ$56*AK46-AQ$57*AL46-AQ$58*AM46)^2 -> 7159.574 | AP46: (X'X)-1= | AQ46: -0.0073458029 | AR46: 0.0006472073 | AS46: 0.0073458029 | AT46: -0.0006472073
D47: 731.562 | E47: 1 | F47: 21 | G47: 1 | H47: =(D47-K$54-K$55*F47-K$56*G47)^2 -> 2296.3959 | K47: -0.02932347 | L47: 0.00038092247 | M47: 0.045499008 | S47: =D47 -> 731.562 | T47: 1 | U47: =F47 -> 21 | V47: =F47*G47 -> 21 | W47: =(S47-Z$54-Z$55*U47-Z$56*V47)^2 -> 239.45706 | Z47: -0.00020168932 | AA47: -0.00013562751 | AB47: 0.00029444609 | AI47: =S47 -> 731.562 | AJ47: 1 | AK47: =U47 -> 21 | AL47: =G47 -> 1 | AM47: =AK47*AL47 -> 21 | AN47: =(AI47-AQ$55-AQ$56*AK47-AQ$57*AL47-AQ$58*AM47)^2 -> 388.44583 | AQ47: -0.10837486 | AR47: 0.0073458029 | AS47: 0.18159865 | AT47: -0.012646977
D48: 521.04 | E48: 1 | F48: 5 | G48: 1 | H48: =(D48-K$54-K$55*F48-K$56*G48)^2 -> 989.27069 | S48: =D48 -> 521.04 | T48: 1 | U48: =F48 -> 5 | V48: =F48*G48 -> 5 | W48: =(S48-Z$54-Z$55*U48-Z$56*V48)^2 -> 7667.9082 | AI48: =S48 -> 521.04 | AJ48: 1 | AK48: =U48 -> 5 | AL48: =G48 -> 1 | AM48: =AK48*AL48 -> 5 | AN48: =(AI48-AQ$55-AQ$56*AK48-AQ$57*AL48-AQ$58*AM48)^2 -> 1973.6637 | AQ48: 0.0073458029 | AR48: -0.0006472073 | AS48: -0.012646977 | AT48: 0.0011752127
D49: 558.09 | E49: 1 | F49: 10 | G49: 1 | H49: =(D49-K$54-K$55*F49-K$56*G49)^2 -> 61.79241 | K49: {=MMULT(TRANSPOSE(E5:G94),D5:D94)} -> 41025.888 | S49: =D49 -> 558.09 | T49: 1 | U49: =F49 -> 10 | V49: =F49*G49 -> 10 | W49: =(S49-Z$54-Z$55*U49-Z$56*V49)^2 -> 709.05877 | Z49: {=MMULT(TRANSPOSE(T5:V94),S5:S94)} -> 41025.888 | AI49: =S49 -> 558.09 | AJ49: 1 | AK49: =U49 -> 10 | AL49: =G49 -> 1 | AM49: =AK49*AL49 -> 10 | AN49: =(AI49-AQ$55-AQ$56*AK49-AQ$57*AL49-AQ$58*AM49)^2 -> 63.421748
D50: 449.982 | E50: 1 | F50: 6 | G50: 1 | H50: =(D50-K$54-K$55*F50-K$56*G50)^2 -> 2676.3755 | J50: (X'Y)= | K50: 471281.75 | S50: =D50 -> 449.982 | T50: 1 | U50: =F50 -> 6 | V50: =F50*G50 -> 6 | W50: =(S50-Z$54-Z$55*U50-Z$56*V50)^2 -> 9.5425033 | Y50: (X'Y)= | Z50: 471281.75 | AI50: =S50 -> 449.982 | AJ50: 1 | AK50: =U50 -> 6 | AL50: =G50 -> 1 | AM50: =AK50*AL50 -> 6 | AN50: =(AI50-AQ$55-AQ$56*AK50-AQ$57*AL50-AQ$58*AM50)^2 -> 1708.5406 | AQ50: {=MMULT(TRANSPOSE(AJ5:AM94),AI5:AI94)} -> 41025.888
D51: 525.72 | E51: 1 | F51: 7 | G51: 1 | H51: =(D51-K$54-K$55*F51-K$56*G51)^2 -> 141.03772 | K51: 27535.716 | M51: σ= | N51: =(H95/(90-3))^0.5 -> 44.721511 | S51: =D51 -> 525.72 | T51: 1 | U51: =F51 -> 7 | V51: =F51*G51 -> 7 | W51: =(S51-Z$54-Z$55*U51-Z$56*V51)^2 -> 2814.4318 | Z51: 304303.82 | AB51: σ= | AC51: =(W95/(90-3))^0.5 -> 58.812348 | AI51: =S51 -> 525.72 | AJ51: 1 | AK51: =U51 -> 7 | AL51: =G51 -> 1 | AM51: =AK51*AL51 -> 7 | AN51: =(AI51-AQ$55-AQ$56*AK51-AQ$57*AL51-AQ$58*AM51)^2 -> 388.13225 | AP51: (X'Y)= | AQ51: 471281.75
D52: 671.112 | E52: 1 | F52: 15 | G52: 1 | H52: =(D52-K$54-K$55*F52-K$56*G52)^2 -> 3628.9728 | S52: =D52 -> 671.112 | T52: 1 | U52: =F52 -> 15 | V52: =F52*G52 -> 15 | W52: =(S52-Z$54-Z$55*U52-Z$56*V52)^2 -> 1735.6991 | AI52: =S52 -> 671.112 | AJ52: 1 | AK52: =U52 -> 15 | AL52: =G52 -> 1 | AM52: =AK52*AL52 -> 15 | AN52: =(AI52-AQ$55-AQ$56*AK52-AQ$57*AL52-AQ$58*AM52)^2 -> 2253.7445 | AQ52: 27535.716 | AS52: σ= | AT52: =(AN95/(90-4))^0.5 -> 41.212833
D53: 427.908 | E53: 1 | F53: 3 | G53: 1 | H53: =(D53-K$54-K$55*F53-K$56*G53)^2 -> 1400.4497 | S53: =D53 -> 427.908 | T53: 1 | U53: =F53 -> 3 | V53: =F53*G53 -> 3 | W53: =(S53-Z$54-Z$55*U53-Z$56*V53)^2 -> 1130.9747 | AI53: =S53 -> 427.908 | AJ53: 1 | AK53: =U53 -> 3 | AL53: =G53 -> 1 | AM53: =AK53*AL53 -> 3 | AN53: =(AI53-AQ$55-AQ$56*AK53-AQ$57*AL53-AQ$58*AM53)^2 -> 372.53637 | AQ53: 304303.82
D54: 592.332 | E54: 1 | F54: 14 | G54: 1 | H54: =(D54-K$54-K$55*F54-K$56*G54)^2 -> 41.096719 | K54: {=MMULT(K45:M47,K49:K51)} -> 199.59728 | S54: =D54 -> 592.332 | T54: 1 | U54: =F54 -> 14 | V54: =F54*G54 -> 14 | W54: =(S54-Z$54-Z$55*U54-Z$56*V54)^2 -> 306.9711 | Z54: {=MMULT(Z45:AB47,Z49:Z51)} -> 335.48497 | AI54: =S54 -> 592.332 | AJ54: 1 | AK54: =U54 -> 14 | AL54: =G54 -> 1 | AM54: =AK54*AL54 -> 14 | AN54: =(AI54-AQ$55-AQ$56*AK54-AQ$57*AL54-AQ$58*AM54)^2 -> 275.69113
D55: 349.38 | E55: 1 | F55: 15 | G55: 0 | H55: =(D55-K$54-K$55*F55-K$56*G55)^2 -> 1033.1633 | J55: β= | K55: 12.128372 | S55: =D55 -> 349.38 | T55: 1 | U55: =F55 -> 15 | V55: =F55*G55 -> 0 | W55: =(S55-Z$54-Z$55*U55-Z$56*V55)^2 -> 359.21785 | Y55: β= | Z55: 2.1898714 | AI55: =S55 -> 349.38 | AJ55: 1 | AK55: =U55 -> 15 | AL55: =G55 -> 0 | AM55: =AK55*AL55 -> 0 | AN55: =(AI55-AQ$55-AQ$56*AK55-AQ$57*AL55-AQ$58*AM55)^2 -> 425.45094 | AQ55: {=MMULT(AQ45:AT48,AQ50:AQ53)} -> 235.40854
D56: 218.052 | E56: 1 | F56: 1 | G56: 0 | H56: =(D56-K$54-K$55*F56-K$56*G56)^2 -> 40.02268 | K56: 229.34819 | S56: =D56 -> 218.052 | T56: 1 | U56: =F56 -> 1 | V56: =F56*G56 -> 0 | W56: =(S56-Z$54-Z$55*U56-Z$56*V56)^2 -> 14309.625 | Z56: 17.407816 | AI56: =S56 -> 218.052 | AJ56: 1 | AK56: =U56 -> 1 | AL56: =G56 -> 0 | AM56: =AK56*AL56 -> 0 | AN56: =(AI56-AQ$55-AQ$56*AK56-AQ$57*AL56-AQ$58*AM56)^2 -> 693.2547 | AP56: β= | AQ56: 8.9731951
D57: 387.396 | E57: 1 | F57: 12 | G57: 0 | H57: =(D57-K$54-K$55*F57-K$56*G57)^2 -> 1785.7604 | S57: =D57 -> 387.396 | T57: 1 | U57: =F57 -> 12 | V57: =F57*G57 -> 0 | W57: =(S57-Z$54-Z$55*U57-Z$56*V57)^2 -> 657.0287 | AI57: =S57 -> 387.396 | AJ57: 1 | AK57: =U57 -> 12 | AL57: =G57 -> 0 | AM57: =AK57*AL57 -> 0 | AN57: =(AI57-AQ$55-AQ$56*AK57-AQ$57*AL57-AQ$58*AM57)^2 -> 1963.2984 | AQ57: 167.69337
D58: 346.356 | E58: 1 | F58: 9 | G58: 0 | H58: =(D58-K$54-K$55*F58-K$56*G58)^2 -> 1414.0137 | S58: =D58 -> 346.356 | T58: 1 | U58: =F58 -> 9 | V58: =F58*G58 -> 0 | W58: =(S58-Z$54-Z$55*U58-Z$56*V58)^2 -> 78.106968 | AI58: =S58 -> 346.356 | AJ58: 1 | AK58: =U58 -> 9 | AL58: =G58 -> 0 | AM58: =AK58*AL58 -> 0 | AN58: =(AI58-AQ$55-AQ$56*AK58-AQ$57*AL58-AQ$58*AM58)^2 -> 911.35812 | AQ58: 5.7292365
D59: 256.014 | E59: 1 | F59: 5 | G59: 0 | H59: =(D59-K$54-K$55*F59-K$56*G59)^2 -> 17.851801 | K59: {=N51^2*(K45:M47)} -> 124.91899 | L59: -6.6007625 | M59: -58.647339 | S59: =D59 -> 256.014 | T59: 1 | U59: =F59 -> 5 | V59: =F59*G59 -> 0 | W59: =(S59-Z$54-Z$55*U59-Z$56*V59)^2 -> 8175.8359 | Z59: {=AC51^2*(Z45:AB47)} -> 151.14897 | AA59: -10.245093 | AB59: -0.69762164 | AI59: =S59 -> 256.014 | AJ59: 1 | AK59: =U59 -> 5 | AL59: =G59 -> 0 | AM59: =AK59*AL59 -> 0 | AN59: =(AI59-AQ$55-AQ$56*AK59-AQ$57*AL59-AQ$58*AM59)^2 -> 588.57239
D60: 251.046 | E60: 1 | F60: 3 | G60: 0 | H60: =(D60-K$54-K$55*F60-K$56*G60)^2 -> 226.91218 | J60: VAR(β)= | K60: -6.6007625 | L60: 0.58156498 | M60: 0.76185012 | S60: =D60 -> 251.046 | T60: 1 | U60: =F60 -> 3 | V60: =F60*G60 -> 0 | W60: =(S60-Z$54-Z$55*U60-Z$56*V60)^2 -> 8282.5627 | Y60: VAR(β)= | Z60: -10.245093 | AA60: 1.2108337 | AB60: -0.46912094 | AI60: =S60 -> 251.046 | AJ60: 1 | AK60: =U60 -> 3 | AL60: =G60 -> 0 | AM60: =AK60*AL60 -> 0 | AN60: =(AI60-AQ$55-AQ$56*AK60-AQ$57*AL60-AQ$58*AM60)^2 -> 127.28625 | AQ60: {=AT52^2*(AQ45:AT48)} -> 184.07444 | AR60: -12.476828 | AS60: -184.07444 | AT60: 12.476828
D61: 273.348 | E61: 1 | F61: 7 | G61: 0 | H61: =(D61-K$54-K$55*F61-K$56*G61)^2 -> 124.27529 | K61: -58.647339 | L61: 0.76185012 | M61: 90.998635 | S61: =D61 -> 273.348 | T61: 1 | U61: =F61 -> 7 | V61: =F61*G61 -> 0 | W61: =(S61-Z$54-Z$55*U61-Z$56*V61)^2 -> 6000.9923 | Z61: -0.69762164 | AA61: -0.46912094 | AB61: 1.0184573 | AI61: =S61 -> 273.348 | AJ61: 1 | AK61: =U61 -> 7 | AL61: =G61 -> 0 | AM61: =AK61*AL61 -> 0 | AN61: =(AI61-AQ$55-AQ$56*AK61-AQ$57*AL61-AQ$58*AM61)^2 -> 618.66121 | AP61: VAR(β)= | AQ61: -12.476828 | AR61: 1.09928 | AS61: 12.476828 | AT61: -1.09928
D62: 397.71 | E62: 1 | F62: 17 | G62: 0 | H62: =(D62-K$54-K$55*F62-K$56*G62)^2 -> 65.118454 | S62: =D62 -> 397.71 | T62: 1 | U62: =F62 -> 17 | V62: =F62*G62 -> 0 | W62: =(S62-Z$54-Z$55*U62-Z$56*V62)^2 -> 624.86071 | AI62: =S62 -> 397.71 | AJ62: 1 | AK62: =U62 -> 17 | AL62: =G62 -> 0 | AM62: =AK62*AL62 -> 0 | AN62: =(AI62-AQ$55-AQ$56*AK62-AQ$57*AL62-AQ$58*AM62)^2 -> 95.201927 | AQ62: -184.07444 | AR62: 12.476828 | AS62: 308.44487 | AT62: -21.48086
D63: 392.202 | E63: 1 | F63: 19 | G63: 0 | H63: =(D63-K$54-K$55*F63-K$56*G63)^2 -> 1431.4376 | S63: =D63 -> 392.202 | T63: 1 | U63: =F63 -> 19 | V63: =F63*G63 -> 0 | W63: =(S63-Z$54-Z$55*U63-Z$56*V63)^2 -> 228.29612 | AI63: =S63 -> 392.202 | AJ63: 1 | AK63: =U63 -> 19 | AL63: =G63 -> 0 | AM63: =AK63*AL63 -> 0 | AN63: =(AI63-AQ$55-AQ$56*AK63-AQ$57*AL63-AQ$58*AM63)^2 -> 187.61446 | AQ63: 12.476828 | AR63: -1.09928 | AS63: -21.48086 | AT63: 1.9960959
D64: 394.254 | E64: 1 | F64: 15 | G64: 0 | H64: =(D64-K$54-K$55*F64-K$56*G64)^2 -> 162.082 | J64: R= | K64: 0 | L64: 0 | M64: 1 | O64: r= | P64: 0 | S64: =D64 -> 394.254 | T64: 1 | U64: =F64 -> 15 | V64: =F64*G64 -> 0 | W64: =(S64-Z$54-Z$55*U64-Z$56*V64)^2 -> 671.896 | Y64: R= | Z64: 0 | AA64: 0 | AB64: 1 | AD64: r= | AE64: 0 | AI64: =S64 -> 394.254 | AJ64: 1 | AK64: =U64 -> 15 | AL64: =G64 -> 0 | AM64: =AK64*AL64 -> 0 | AN64: =(AI64-AQ$55-AQ$56*AK64-AQ$57*AL64-AQ$58*AM64)^2 -> 587.94309
D65: 285.174 | E65: 1 | F65: 6 | G65: 0 | H65: =(D65-K$54-K$55*F65-K$56*G65)^2 -> 164.00616 | S65: =D65 -> 285.174 | T65: 1 | U65: =F65 -> 6 | V65: =F65*G65 -> 0 | W65: =(S65-Z$54-Z$55*U65-Z$56*V65)^2 -> 4025.9279 | AI65: =S65 -> 285.174 | AJ65: 1 | AK65: =U65 -> 6 | AL65: =G65 -> 0 | AM65: =AK65*AL65 -> 0 | AN65: =(AI65-AQ$55-AQ$56*AK65-AQ$57*AL65-AQ$58*AM65)^2 -> 16.595081 | AP65: R= | AQ65: 0 | AR65: 0 | AS65: 1 | AT65: 0 | AU65: r= | AV65: 0
D66: 244.566 | E66: 1 | F66: 3 | G66: 0 | H66: =(D66-K$54-K$55*F66-K$56*G66)^2 -> 73.678266 | S66: =D66 -> 244.566 | T66: 1 | U66: =F66 -> 3 | V66: =F66*G66 -> 0 | W66: =(S66-Z$54-Z$55*U66-Z$56*V66)^2 -> 9504.0244 | AI66: =S66 -> 244.566 | AJ66: 1 | AK66: =U66 -> 3 | AL66: =G66 -> 0 | AM66: =AK66*AL66 -> 0 | AN66: =(AI66-AQ$55-AQ$56*AK66-AQ$57*AL66-AQ$58*AM66)^2 -> 315.49293 | AQ66: 0 | AR66: 0 | AS66: 0 | AT66: 1 | AV66: 0
D67: 387.612 | E67: 1 | F67: 17 | G67: 0 | H67: =(D67-K$54-K$55*F67-K$56*G67)^2 -> 330.06171 | J67: (Rβ-r)= | K67: {=MMULT(K64:M64,K54:K56)} -> 229.34819 | S67: =D67 -> 387.612 | T67: 1 | U67: =F67 -> 17 | V67: =F67*G67 -> 0 | W67: =(S67-Z$54-Z$55*U67-Z$56*V67)^2 -> 221.98658 | Y67: (Rβ-r)= | Z67: {=MMULT(Z64:AB64,Z54:Z56)} -> 17.407816 | AI67: =S67 -> 387.612 | AJ67: 1 | AK67: =U67 -> 17 | AL67: =G67 -> 0 | AM67: =AK67*AL67 -> 0 | AN67: =(AI67-AQ$55-AQ$56*AK67-AQ$57*AL67-AQ$58*AM67)^2 -> 0.11618043
D68: 253.314 | E68: 1 | F68: 4 | G68: 0 | H68: =(D68-K$54-K$55*F68-K$56*G68)^2 -> 27.07363 | J68: (RVAR(β)R')-1= | K68: {=MINVERSE(MMULT(MMULT(K64:M64,K59:M61),TRANSPOSE(K64:M64)))} -> 0.010989176 | S68: =D68 -> 253.314 | T68: 1 | U68: =F68 -> 4 | V68: =F68*G68 -> 0 | W68: =(S68-Z$54-Z$55*U68-Z$56*V68)^2 -> 8268.3481 | Y68: (RVAR(β)R')-1= | Z68: {=MINVERSE(MMULT(MMULT(Z64:AB64,Z59:AB61),TRANSPOSE(Z64:AB64)))} -> 0.98187719 | AI68: =S68 -> 253.314 | AJ68: 1 | AK68: =U68 -> 4 | AL68: =G68 -> 0 | AM68: =AK68*AL68 -> 0 | AN68: =(AI68-AQ$55-AQ$56*AK68-AQ$57*AL68-AQ$58*AM68)^2 -> 323.54353 | AP68: (Rβ-r)= | AQ68: {=MMULT(AQ65:AT66,AQ55:AQ58)-AV65:AV66} -> 167.69337
D69: 333.612 | E69: 1 | F69: 10 | G69: 0 | H69: =(D69-K$54-K$55*F69-K$56*G69)^2 -> 162.07841 | J69: (Rβ-r)= | K69: {=MMULT(K64:M64,K54:K56)} -> 229.34819 | S69: =D69 -> 333.612 | T69: 1 | U69: =F69 -> 10 | V69: =F69*G69 -> 0 | W69: =(S69-Z$54-Z$55*U69-Z$56*V69)^2 -> 565.09306 | Y69: (Rβ-r)= | Z69: {=MMULT(Z64:AB64,Z54:Z56)} -> 17.407816 | AI69: =S69 -> 333.612 | AJ69: 1 | AK69: =U69 -> 10 | AL69: =G69 -> 0 | AM69: =AK69*AL69 -> 0 | AN69: =(AI69-AQ$55-AQ$56*AK69-AQ$57*AL69-AQ$58*AM69)^2 -> 71.76654 | AQ69: 5.7292365
D70: 292.95 | E70: 1 | F70: 4 | G70: 0 | H70: =(D70-K$54-K$55*F70-K$56*G70)^2 -> 2010.5568 | S70: =D70 -> 292.95 | T70: 1 | U70: =F70 -> 4 | V70: =F70*G70 -> 0 | W70: =(S70-Z$54-Z$55*U70-Z$56*V70)^2 -> 2631.1214 | AI70: =S70 -> 292.95 | AJ70: 1 | AK70: =U70 -> 4 | AL70: =G70 -> 0 | AM70: =AK70*AL70 -> 0 | AN70: =(AI70-AQ$55-AQ$56*AK70-AQ$57*AL70-AQ$58*AM70)^2 -> 468.66553
D71: 374.922 | E71: 1 | F71: 11 | G71: 0 | H71: =(D71-K$54-K$55*F71-K$56*G71)^2 -> 1756.6686 | J71: Est= | K71: =K67*K68*K69 -> 578.03714 | S71: =D71 -> 374.922 | T71: 1 | U71: =F71 -> 11 | V71: =F71*G71 -> 0 | W71: =(S71-Z$54-Z$55*U71-Z$56*V71)^2 -> 235.57469 | Y71: Est= | Z71: =Z67*Z68*Z69 -> 297.54025 | AI71: =S71 -> 374.922 | AJ71: 1 | AK71: =U71 -> 11 | AL71: =G71 -> 0 | AM71: =AK71*AL71 -> 0 | AN71: =(AI71-AQ$55-AQ$56*AK71-AQ$57*AL71-AQ$58*AM71)^2 -> 1665.3188
D72: 387.45 | E72: 1 | F72: 10 | G72: 0 | H72: =(D72-K$54-K$55*F72-K$56*G72)^2 -> 4431.432 | S72: =D72 -> 387.45 | T72: 1 | U72: =F72 -> 10 | V72: =F72*G72 -> 0 | W72: =(S72-Z$54-Z$55*U72-Z$56*V72)^2 -> 903.98323 | AI72: =S72 -> 387.45 | AJ72: 1 | AK72: =U72 -> 10 | AL72: =G72 -> 0 | AM72: =AK72*AL72 -> 0 | AN72: =(AI72-AQ$55-AQ$56*AK72-AQ$57*AL72-AQ$58*AM72)^2 -> 3882.4755 | AP72: (RVAR(β)R')-1= | AQ72: {=MINVERSE(MMULT(MMULT(AQ65:AT66,AQ60:AT63),TRANSPOSE(AQ65:AT66)))} -> 0.012939966 | AR72: 0.13925263
D73: 307.53 | E73: 1 | F73: 7 | G73: 0 | H73: =(D73-K$54-K$55*F73-K$56*G73)^2 -> 530.57056 | S73: =D73 -> 307.53 | T73: 1 | U73: =F73 -> 7 | V73: =F73*G73 -> 0 | W73: =(S73-Z$54-Z$55*U73-Z$56*V73)^2 -> 1873.5109 | AI73: =S73 -> 307.53 | AJ73: 1 | AK73: =U73 -> 7 | AL73: =G73 -> 0 | AM73: =AK73*AL73 -> 0 | AN73: =(AI73-AQ$55-AQ$56*AK73-AQ$57*AL73-AQ$58*AM73)^2 -> 86.659321 | AQ73: 0.13925263 | AR73: 1.9995362
D74: 268.974 | E74: 1 | F74: 3 | G74: 0 | H74: =(D74-K$54-K$55*F74-K$56*G74)^2 -> 1088.446 | S74: =D74 -> 268.974 | T74: 1 | U74: =F74 -> 3 | V74: =F74*G74 -> 0 | W74: =(S74-Z$54-Z$55*U74-Z$56*V74)^2 -> 5340.7721 | AI74: =S74 -> 268.974 | AJ74: 1 | AK74: =U74 -> 3 | AL74: =G74 -> 0 | AM74: =AK74*AL74 -> 0 | AN74: =(AI74-AQ$55-AQ$56*AK74-AQ$57*AL74-AQ$58*AM74)^2 -> 44.167712
D75: 406.728 | E75: 1 | F75: 20 | G75: 0 | H75: =(D75-K$54-K$55*F75-K$56*G75)^2 -> 1255.7608 | S75: =D75 -> 406.728 | T75: 1 | U75: =F75 -> 20 | V75: =F75*G75 -> 0 | W75: =(S75-Z$54-Z$55*U75-Z$56*V75)^2 -> 753.26094 | AI75: =S75 -> 406.728 | AJ75: 1 | AK75: =U75 -> 20 | AL75: =G75 -> 0 | AM75: =AK75*AL75 -> 0 | AN75: =(AI75-AQ$55-AQ$56*AK75-AQ$57*AL75-AQ$58*AM75)^2 -> 66.331869 | AP75: (Rβ-r)= | AQ75: {=TRANSPOSE(AQ68:AQ69)} -> 167.69337 | AR75: 5.7292365
D76: 363.204 | E76: 1 | F76: 16 | G76: 0 | H76: =(D76-K$54-K$55*F76-K$56*G76)^2 -> 927.03374 | S76: =D76 -> 363.204 | T76: 1 | U76: =F76 -> 16 | V76: =F76*G76 -> 0 | W76: =(S76-Z$54-Z$55*U76-Z$56*V76)^2 -> 53.566511 | AI76: =S76 -> 363.204 | AJ76: 1 | AK76: =U76 -> 16 | AL76: =G76 -> 0 | AM76: =AK76*AL76 -> 0 | AN76: =(AI76-AQ$55-AQ$56*AK76-AQ$57*AL76-AQ$58*AM76)^2 -> 248.87137
D77: 377.406 | E77: 1 | F77: 17 | G77: 0 | H77: =(D77-K$54-K$55*F77-K$56*G77)^2 -> 805.06121 | S77: =D77 -> 377.406 | T77: 1 | U77: =F77 -> 17 | V77: =F77*G77 -> 0 | W77: =(S77-Z$54-Z$55*U77-Z$56*V77)^2 -> 22.026258 | AI77: =S77 -> 377.406 | AJ77: 1 | AK77: =U77 -> 17 | AL77: =G77 -> 0 | AM77: =AK77*AL77 -> 0 | AN77: =(AI77-AQ$55-AQ$56*AK77-AQ$57*AL77-AQ$58*AM77)^2 -> 111.2361 | AP77: Est(Chi)= | AQ77: {=MMULT(MMULT(AQ75:AR75,AQ72:AR73),AQ68:AQ69)} -> 697.09404
D78: 368.874 | E78: 1 | F78: 14 | G78: 0 | H78: =(D78-K$54-K$55*F78-K$56*G78)^2 -> 0.27090489 | S78: =D78 -> 368.874 | T78: 1 | U78: =F78 -> 14 | V78: =F78*G78 -> 0 | W78: =(S78-Z$54-Z$55*U78-Z$56*V78)^2 -> 7.4574229 | AI78: =S78 -> 368.874 | AJ78: 1 | AK78: =U78 -> 14 | AL78: =G78 -> 0 | AM78: =AK78*AL78 -> 0 | AN78: =(AI78-AQ$55-AQ$56*AK78-AQ$57*AL78-AQ$58*AM78)^2 -> 61.477092 | AP78: q= | AQ78: 2 | AR78: nº de restrições
D79: 401.274 | E79: 1 | F79: 12 | G79: 0 | H79: =(D79-K$54-K$55*F79-K$56*G79)^2 -> 3151.2795 | S79: =D79 -> 401.274 | T79: 1 | U79: =F79 -> 12 | V79: =F79*G79 -> 0 | W79: =(S79-Z$54-Z$55*U79-Z$56*V79)^2 -> 1561.0852 | AI79: =S79 -> 401.274 | AJ79: 1 | AK79: =U79 -> 12 | AL79: =G79 -> 0 | AM79: =AK79*AL79 -> 0 | AN79: =(AI79-AQ$55-AQ$56*AK79-AQ$57*AL79-AQ$58*AM79)^2 -> 3385.7413 | AP79: Est(F)= | AQ79: =AQ77/AQ78 -> 348.54702
D80: 428.328 | E80: 1 | F80: 22 | G80: 0 | H80: =(D80-K$54-K$55*F80-K$56*G80)^2 -> 1451.1117 | S80: =D80 -> 428.328 | T80: 1 | U80: =F80 -> 22 | V80: =F80*G80 -> 0 | W80: =(S80-Z$54-Z$55*U80-Z$56*V80)^2 -> 1995.0388 | AI80: =S80 -> 428.328 | AJ80: 1 | AK80: =U80 -> 22 | AL80: =G80 -> 0 | AM80: =AK80*AL80 -> 0 | AN80: =(AI80-AQ$55-AQ$56*AK80-AQ$57*AL80-AQ$58*AM80)^2 -> 20.167538
D81: 354.942 | E81: 1 | F81: 8 | G81: 0 | H81: =(D81-K$54-K$55*F81-K$56*G81)^2 -> 3400.9594 | S81: =D81 -> 354.942 | T81: 1 | U81: =F81 -> 8 | V81: =F81*G81 -> 0 | W81: =(S81-Z$54-Z$55*U81-Z$56*V81)^2 -> 3.7560641 | AI81: =S81 -> 354.942 | AJ81: 1 | AK81: =U81 -> 8 | AL81: =G81 -> 0 | AM81: =AK81*AL81 -> 0 | AN81: =(AI81-AQ$55-AQ$56*AK81-AQ$57*AL81-AQ$58*AM81)^2 -> 2279.8623
D82: 427.194 | E82: 1 | F82: 21 | G82: 0 | H82: =(D82-K$54-K$55*F82-K$56*G82)^2 -> 734.36056 | S82: =D82 -> 427.194 | T82: 1 | U82: =F82 -> 21 | V82: =F82*G82 -> 0 | W82: =(S82-Z$54-Z$55*U82-Z$56*V82)^2 -> 2090.4764 | AI82: =S82 -> 427.194 | AJ82: 1 | AK82: =U82 -> 21 | AL82: =G82 -> 0 | AM82: =AK82*AL82 -> 0 | AN82: =(AI82-AQ$55-AQ$56*AK82-AQ$57*AL82-AQ$58*AM82)^2 -> 11.211561
D83: 318.384 | E83: 1 | F83: 14 | G83: 0 | H83: =(D83-K$54-K$55*F83-K$56*G83)^2 -> 2602.0696 | S83: =D83 -> 318.384 | T83: 1 | U83: =F83 -> 14 | V83: =F83*G83 -> 0 | W83: =(S83-Z$54-Z$55*U83-Z$56*V83)^2 -> 2280.9385 | AI83: =S83 -> 318.384 | AJ83: 1 | AK83: =U83 -> 14 | AL83: =G83 -> 0 | AM83: =AK83*AL83 -> 0 | AN83: =(AI83-AQ$55-AQ$56*AK83-AQ$57*AL83-AQ$58*AM83)^2 -> 1818.96
D84: 242.244 | E84: 1 | F84: 2 | G84: 0 | H84: =(D84-K$54-K$55*F84-K$56*G84)^2 -> 338.19123 | S84: =D84 -> 242.244 | T84: 1 | U84: =F84 -> 2 | V84: =F84*G84 -> 0 | W84: =(S84-Z$54-Z$55*U84-Z$56*V84)^2 -> 9529.8039 | AI84: =S84 -> 242.244 | AJ84: 1 | AK84: =U84 -> 2 | AL84: =G84 -> 0 | AM84: =AK84*AL84 -> 0 | AN84: =(AI84-AQ$55-AQ$56*AK84-AQ$57*AL84-AQ$58*AM84)^2 -> 123.45267
D85: 293.22 | E85: 1 | F85: 8 | G85: 0 | H85: =(D85-K$54-K$55*F85-K$56*G85)^2 -> 11.588949 | S85: =D85 -> 293.22 | T85: 1 | U85: =F85 -> 8 | V85: =F85*G85 -> 0 | W85: =(S85-Z$54-Z$55*U85-Z$56*V85)^2 -> 3574.1199 | AI85: =S85 -> 293.22 | AJ85: 1 | AK85: =U85 -> 8 | AL85: =G85 -> 0 | AM85: =AK85*AL85 -> 0 | AN85: =(AI85-AQ$55-AQ$56*AK85-AQ$57*AL85-AQ$58*AM85)^2 -> 195.27537
D86: 254.232 | E86: 1 | F86: 4 | G86: 0 | H86: =(D86-K$54-K$55*F86-K$56*G86)^2 -> 37.469489 | S86: =D86 -> 254.232 | T86: 1 | U86: =F86 -> 4 | V86: =F86*G86 -> 0 | W86: =(S86-Z$54-Z$55*U86-Z$56*V86)^2 -> 8102.2425 | AI86: =S86 -> 254.232 | AJ86: 1 | AK86: =U86 -> 4 | AL86: =G86 -> 0 | AM86: =AK86*AL86 -> 0 | AN86: =(AI86-AQ$55-AQ$56*AK86-AQ$57*AL86-AQ$58*AM86)^2 -> 291.36154
D87: 306.72 | E87: 1 | F87: 11 | G87: 0 | H87: =(D87-K$54-K$55*F87-K$56*G87)^2 -> 691.13097 | S87: =D87 -> 306.72 | T87: 1 | U87: =F87 -> 11 | V87: =F87*G87 -> 0 | W87: =(S87-Z$54-Z$55*U87-Z$56*V87)^2 -> 2793.4985 | AI87: =S87 -> 306.72 | AJ87: 1 | AK87: =U87 -> 11 | AL87: =G87 -> 0 | AM87: =AK87*AL87 -> 0 | AN87: =(AI87-AQ$55-AQ$56*AK87-AQ$57*AL87-AQ$58*AM87)^2 -> 750.4138
D88: 348.354 | E88: 1 | F88: 10 | G88: 0 | H88: =(D88-K$54-K$55*F88-K$56*G88)^2 -> 754.76583 | S88: =D88 -> 348.354 | T88: 1 | U88: =F88 -> 10 | V88: =F88*G88 -> 0 | W88: =(S88-Z$54-Z$55*U88-Z$56*V88)^2 -> 81.53523 | AI88: =S88 -> 348.354 | AJ88: 1 | AK88: =U88 -> 10 | AL88: =G88 -> 0 | AM88: =AK88*AL88 -> 0 | AN88: =(AI88-AQ$55-AQ$56*AK88-AQ$57*AL88-AQ$58*AM88)^2 -> 538.86721
D89: 402.948 | E89: 1 | F89: 18 | G89: 0 | H89: =(D89-K$54-K$55*F89-K$56*G89)^2 -> 223.80077 | S89: =D89 -> 402.948 | T89: 1 | U89: =F89 -> 18 | V89: =F89*G89 -> 0 | W89: =(S89-Z$54-Z$55*U89-Z$56*V89)^2 -> 786.54124 | AI89: =S89 -> 402.948 | AJ89: 1 | AK89: =U89 -> 18 | AL89: =G89 -> 0 | AM89: =AK89*AL89 -> 0 | AN89: =(AI89-AQ$55-AQ$56*AK89-AQ$57*AL89-AQ$58*AM89)^2 -> 36.26391
D90: 424.44 | E90: 1 | F90: 25 | G90: 0 | H90: =(D90-K$54-K$55*F90-K$56*G90)^2 -> 6141.3201 | S90: =D90 -> 424.44 | T90: 1 | U90: =F90 -> 25 | V90: =F90*G90 -> 0 | W90: =(S90-Z$54-Z$55*U90-Z$56*V90)^2 -> 1170.2039 | AI90: =S90 -> 424.44 | AJ90: 1 | AK90: =U90 -> 25 | AL90: =G90 -> 0 | AM90: =AK90*AL90 -> 0 | AN90: =(AI90-AQ$55-AQ$56*AK90-AQ$57*AL90-AQ$58*AM90)^2 -> 1245.978
D91: 321.57 | E91: 1 | F91: 11 | G91: 0 | H91: =(D91-K$54-K$55*F91-K$56*G91)^2 -> 130.85918 | S91: =D91 -> 321.57 | T91: 1 | U91: =F91 -> 11 | V91: =F91*G91 -> 0 | W91: =(S91-Z$54-Z$55*U91-Z$56*V91)^2 -> 1444.2704 | AI91: =S91 -> 321.57 | AJ91: 1 | AK91: =U91 -> 11 | AL91: =G91 -> 0 | AM91: =AK91*AL91 -> 0 | AN91: =(AI91-AQ$55-AQ$56*AK91-AQ$57*AL91-AQ$58*AM91)^2 -> 157.34395
... D94: 261.576 | E94: 1 | F94: 7 | G94: 0 | H94: =(D94-K$54-K$55*F94-K$56*G94)^2 -> 525.32102 | S94: =D94 -> 261.576 | T94: 1 | U94: =F94 -> 7 | V94: =F94*G94 -> 0 | W94: =(S94-Z$54-Z$55*U94-Z$56*V94)^2 -> 7963.4335 | AI94: =S94 -> 261.576 | AJ94: 1 | AK94: =U94 -> 7 | AL94: =G94 -> 0 | AM94: =AK94*AL94 -> 0 | AN94: =(AI94-AQ$55-AQ$56*AK94-AQ$57*AL94-AQ$58*AM94)^2 -> 1342.8488
H95: =SUM(H5:H94) -> 174001.18 | W95: =SUM(W5:W94) -> 300923.63 | AN95: =SUM(AN5:AN94) -> 146070.79

Sheet Ex6
Q3: =AVERAGE(D5:D15) -> 170 | S3: =AVERAGE(E5:E15) -> 1740
B4: CONS | C4: n | D4: REND | E4: RIQ | F4: e2
B5: 70 | C5: 1 | D5: 80 | E5: 810 | F5: =(B5-C$31-C$32*D5-C$33*E5)^2 -> 18.269199 | Q5: =D5-Q$3 -> -90 | R5: =E5-S$3 -> -930 | S5: =Q5*R5 -> 83700
B6: 65 | C6: 1 | D6: 100 | E6: 1009 | F6: =(B6-C$31-C$32*D6-C$33*E6)^2 -> 123.47715 | Q6: =D6-Q$3 -> -70 | R6: =E6-S$3 -> -731 | S6: =Q6*R6 -> 51170
B7: 90 | C7: 1 | D7: 120 | E7: 1273 | F7: =(B7-C$31-C$32*D7-C$33*E7)^2 -> 39.186871 | Q7: =D7-Q$3 -> -50 | R7: =E7-S$3 -> -467 | S7: =Q7*R7 -> 23350
B8: 95 | C8: 1 | D8: 140 | E8: 1425 | F8: =(B8-C$31-C$32*D8-C$33*E8)^2 -> 1.2560952 | Q8: =D8-Q$3 -> -30 | R8: =E8-S$3 -> -315 | S8: =Q8*R8 -> 9450
B9: 110 | C9: 1 | D9: 160 | E9: 1633 | F9: =(B9-C$31-C$32*D9-C$33*E9)^2 -> 15.014685 | Q9: =D9-Q$3 -> -10 | R9: =E9-S$3 -> -107 | S9: =Q9*R9 -> 1070
B10: 115 | C10: 1 | D10: 180 | E10: 1876 | F10: =(B10-C$31-C$32*D10-C$33*E10)^2 -> 0.12653857 | Q10: =D10-Q$3 -> 10 | R10: =E10-S$3 -> 136 | S10: =Q10*R10 -> 1360
B11: 120 | C11: 1 | D11: 200 | E11: 2052 | F11: =(B11-C$31-C$32*D11-C$33*E11)^2 -> 36.078607 | Q11: =D11-Q$3 -> 30 | R11: =E11-S$3 -> 312 | S11: =Q11*R11 -> 9360
B12: 140 | C12: 1 | D12: 220 | E12: 2201 | F12: =(B12-C$31-C$32*D12-C$33*E12)^2 -> 2.2065647 | Q12: =D12-Q$3 -> 50 | R12: =E12-S$3 -> 461 | S12: =Q12*R12 -> 23050
B13: 155 | C13: 1 | D13: 240 | E13: 2435 | F13: =(B13-C$31-C$32*D13-C$33*E13)^2 -> 57.522882 | Q13: =D13-Q$3 -> 70 | R13: =E13-S$3 -> 695 | S13: =Q13*R13 -> 48650
B14: 150 | C14: 1 | D14: 260 | E14: 2686 | F14: =(B14-C$31-C$32*D14-C$33*E14)^2 -> 31.307335 | Q14: =D14-Q$3 -> 90 | R14: =E14-S$3 -> 946 | S14: =Q14*R14 -> 85140
B15: =AVERAGE(B5:B14) -> 111 | C15: 1 | D15: =AVERAGE(D5:D14) -> 170 | E15: =AVERAGE(E5:E14) -> 1740 | F15: =(B15-C$31-C$32*D15-C$33*E15)^2 -> 5.1951595e-21 | Q15: =D15-Q$3 -> 0 | R15: =E15-S$3 -> 0 | S15: =Q15*R15 -> 0
F16: =SUM(F5:F15) -> 324.44593 | S16: =SUM(S5:S15) -> 336300
C18: {=MMULT(TRANSPOSE(C5:E15),C5:E15)} -> 11 | D18: 1870 | E18: 19140
B19: (X'X)= | C19: 1870 | D19: 350900 | E19: 3590100
C20: 19140 | D20: 3590100 | E20: 36737926
C23: {=MINVERSE(C18:E20)} -> 0.97465932 | D23: 0.0056433883 | E23: -0.001059268
B24: (X'X)-1= | C24: 0.0056433883 | D24: 0.014609926 | E24: -0.0014306499
C25: -0.001059268 | D25: -0.0014306499 | E25: 0.00014038491
C27: {=MMULT(TRANSPOSE(C5:E15),B5:B15)} -> 1221
B28: (X'Y)= | C28: 224370
C29: 2295445 | E29: σ= | F29: =(F16/(11-3))^0.5 -> 6.3683389
C31: {=MMULT(C23:E25,C27:C29)} -> 24.774733
B32: β= | C32: 0.94153734
C33: -0.04243453
C35: {=F29^2*C23:E25} -> 39.528031 | D35: 0.22887179 | E35: -0.042959397
B36: VAR(β)= | C36: 0.22887179 | D36: 0.59251636 | E36: -0.058021065
C37: -0.042959397 | D37: -0.058021065 | E37: 0.005693414
C48: n | D48: REND | E48: RIQ
B49: n | C49: {=F29^2*C23:E25} -> 39.528031 | D49: 0.22887179 | E49: -0.042959397
B50: REND | C50: 0.22887179 | D50: 0.59251636 | E50: -0.058021065
B51: RIQ | C51: -0.042959397 | D51: -0.058021065 | E51: 0.005693414
B55: ρ(ren;driq)= | C55: =E50/(D50*E51)^0.5 -> -0.99896239
B59: correl= | C59: =CORREL(D5:D15,E5:E15) -> 0.99896239

Sheet Ex7
B3: P | C3: n | D3: AT | E3: AH | F3: AH^2 | G3: QT | H3: e2 | I3: SST | Z3: e2 | AA3: n | AB3: AT | AC3: AH | AD3: AH2 | AE3: QT | AF3: AT2 | AG3: AH4 | AH3: QT2 | AI3: AT*AH | AJ3: AT*AH2 | AK3: AT*QT | AL3: AH3 | AM3: AH*QT | AN3: AH2*QT | AO3: E2 | AP3: SST | AQ3: ESS | AS3: 1 | AT3: =AS3+1 -> 2 | AU3: =AT3+1 -> 3 | AV3: =AU3+1 -> 4 | AW3: =AV3+1 -> 5 | AX3: =AW3+1 -> 6 | AY3: =AX3+1 -> 7 | AZ3: =AY3+1 -> 8 | BA3: =AZ3+1 -> 9 | ... BF3: =BE3+1 -> 14
B4: 191000 | C4: 1 | D4: 5200 | E4: 1374 | F4: =E4^2 -> 1887876 | G4: 3 | H4: =(B4-L$22-L$23*D4-L$24*E4-L$25*F4-L$26*G4)^2 -> 6.0556254e+08 | I4: =(B4-O$21)^2 -> 1.0515689e+10 | L4: {=MMULT(TRANSPOSE(C4:G91),C4:G91)} -> 88 | M4: 793748 | N4: 177205 | O4: 385820561 | P4: 314 | Z4: =H4 -> 6.0556254e+08 | AA4: =C4 -> 1 | AB4: =D4 -> 5200 | AC4: =E4 -> 1374 | AD4: =AC4^2 -> 1887876 | AE4: =G4 -> 3 | AF4: =AB4^2 -> 27040000 | AG4: =AD4^2 -> 3564075791376 | AH4: =AE4^2 -> 9 | AI4: =AB4*AC4 -> 7144800 | AJ4: =AB4*AD4 -> 9816955200 | AK4: =AB4*AE4 -> 15600 | AL4: =AD4*AC4 -> 2593941624 | AM4: =AC4*AE4 -> 4122 | AN4: =AD4*AE4 -> 5663628 | AO4: =(Z4-AU$37-AU$38*AB4-AU$39*AC4-AU$40*AD4-AU$41*AE4-AU$42*AF4-AU$43*AG4-AU$44*AH4-AU$45*AI4-AU$46*AJ4-AU$47*AK4-AU$48*AL4-AU$49*AM4-AU$50*AN4)^2 -> 1.3089011e+19 | AP4: =(Z4-AW$38)^2 -> 7.1069341e+18 | AQ4: =AP4-AO4 -> -5.9820774e+18
B5: 206000 | C5: 1 | D5: 6000 | E5: 1767 | F5: =E5^2 -> 3122289 | G5: 3 | H5: =(B5-L$22-L$23*D5-L$24*E5-L$25*F5-L$26*G5)^2 -> 1.7321817e+09 | I5: =(B5-O$21)^2 -> 7.6643081e+09 | L5: 793748 | M5: 16165159010 | N5: 1692290257 | O5: 3972675033601 | P5: 2933767 | Z5: =H5 -> 1.7321817e+09 | AA5: =C5 -> 1 | AB5: =D5 -> 6000 | AC5: =E5 -> 1767 | AD5: =AC5^2 -> 3122289 | AE5: =G5 -> 3 | AF5: =AB5^2 -> 36000000 | AG5: =AD5^2 -> 9748688599521 | AH5: =AE5^2 -> 9 | AI5: =AB5*AC5 -> 10602000 | AJ5: =AB5*AD5 -> 18733734000 | AK5: =AB5*AE5 -> 18000 | AL5: =AD5*AC5 -> 5517084663 | AM5: =AC5*AE5 -> 5301 | AN5: =AD5*AE5 -> 9366867 | AO5: =(Z5-AU$37-AU$38*AB5-AU$39*AC5-AU$40*AD5-AU$41*AE5-AU$42*AF5-AU$43*AG5-AU$44*AH5-AU$45*AI5-AU$46*AJ5-AU$47*AK5-AU$48*AL5-AU$49*AM5-AU$50*AN5)^2 -> 3.1792872e+17 | AP5: =(Z5-AW$38)^2 -> 2.3693342e+18 | AQ5: =AP5-AO5 -> 2.0514054e+18 | AS5: {=MMULT(TRANSPOSE(AA4:AN91),AA4:AN91)} -> 88 | AT5: 793748 | AU5: 177205 | AV5: 385820561 | AW5: 314 | AX5: 16165159010 | AY5: 2.3826513e+15 | AZ5: 1182 | BA5: 1692290257 | BB5: 3972675033601 | BC5: 2933767 | BD5: 916673706103 | BE5: 654755 | BF5: 1485901125
B6: 240000 | C6: 1 | D6: 2892 | E6: 1890 | F6: =E6^2 -> 3572100 | G6: 3 | H6: =(B6-L$22-L$23*D6-L$24*E6-L$25*F6-L$26*G6)^2 -> 1.6510524e+08 | I6: =(B6-O$21)^2 -> 2.8671778e+09 | K6: (X'X)= | L6: 177205 | M6: 1692290257 | N6: 385820561 | O6: 916673706103 | P6: 654755 | Z6: =H6 -> 1.6510524e+08 | AA6: =C6 -> 1 | AB6: =D6 -> 2892 | AC6: =E6 -> 1890 | AD6: =AC6^2 -> 3572100 | AE6: =G6 -> 3 | AF6: =AB6^2 -> 8363664 | AG6: =AD6^2 -> 12759898410000 | AH6: =AE6^2 -> 9 | AI6: =AB6*AC6 -> 5465880 | AJ6: =AB6*AD6 -> 10330513200 | AK6: =AB6*AE6 -> 8676 | AL6: =AD6*AC6 -> 6751269000 | AM6: =AC6*AE6 -> 5670 | AN6: =AD6*AE6 -> 10716300 | AO6: =(Z6-AU$37-AU$38*AB6-AU$39*AC6-AU$40*AD6-AU$41*AE6-AU$42*AF6-AU$43*AG6-AU$44*AH6-AU$45*AI6-AU$46*AJ6-AU$47*AK6-AU$48*AL6-AU$49*AM6-AU$50*AN6)^2 -> 5.4733218e+17 | AP6: =(Z6-AW$38)^2 -> 9.6493523e+18 | AQ6: =AP6-AO6 -> 9.1020201e+18 | AS6: 793748 | AT6: 16165159010 | AU6: 1692290257 | AV6: 3972675033601 | AW6: 2933767 | AX6: 912626456115578 | AY6: 2.9209232e+19 | AZ6: 11472597 | BA6: 33312934086857 | BB6: 7.6125735e+16 | BC6: 63504640147 | BD6: 1.0296493e+16 | BE6: 6540926490 | BF6: 16123904904864
B7: 212000 | C7: 1 | D7: 6460 | E7: 1899 | F7: =E7^2 -> 3606201 | G7: 3 | H7: =(B7-L$22-L$23*D7-L$24*E7-L$25*F7-L$26*G7)^2 -> 2.3661731e+09 | I7: =(B7-O$21)^2 -> 6.6497557e+09 | L7: 385820561 | M7: 3972675033601 | N7: 916673706103 | O7: 2.3826513e+15 | P7: 1485901125 | Z7: =H7 -> 2.3661731e+09 | AA7: =C7 -> 1 | AB7: =D7 -> 6460 | AC7: =E7 -> 1899 | AD7: =AC7^2 -> 3606201 | AE7: =G7 -> 3 | AF7: =AB7^2 -> 41731600 | AG7: =AD7^2 -> 13004685652401 | AH7: =AE7^2 -> 9 | AI7: =AB7*AC7 -> 12267540 | AJ7: =AB7*AD7 -> 23296058460 | AK7: =AB7*AE7 -> 19380 | AL7: =AD7*AC7 -> 6848175699 | AM7: =AC7*AE7 -> 5697 | AN7: =AD7*AE7 -> 10818603 | AO7: =(Z7-AU$37-AU$38*AB7-AU$39*AC7-AU$40*AD7-AU$41*AE7-AU$42*AF7-AU$43*AG7-AU$44*AH7-AU$45*AI7-AU$46*AJ7-AU$47*AK7-AU$48*AL7-AU$49*AM7-AU$50*AN7)^2 -> 1.1589e+18 | AP7: =(Z7-AW$38)^2 -> 8.1951876e+17 | AQ7: =AP7-AO7 -> -3.3938127e+17 | AS7: 177205 | AT7: 1692290257 | AU7: 385820561 | AV7: 916673706103 | AW7: 654755 | AX7: 33312934086857 | AY7: 6.7341241e+18 | AZ7: 2562409 | BA7: 3972675033601 | BB7: 1.0296493e+16 | BC7: 6540926490 | BD7: 2.3826513e+15 | BE7: 1485901125 | BF7: 3693408724217
B8: 240000 | C8: 1 | D8: 5922 | E8: 2000 | F8: =E8^2 -> 4000000 | G8: 4 | H8: =(B8-L$22-L$23*D8-L$24*E8-L$25*F8-L$26*G8)^2 -> 1.8374514e+09 | I8: =(B8-O$21)^2 -> 2.8671778e+09 | L8: 314 | M8: 2933767 | N8: 654755 | O8: 1485901125 | P8: 1182 | Z8: =H8 -> 1.8374514e+09 | AA8: =C8 -> 1 | AB8: =D8 -> 5922 | AC8: =E8 -> 2000 | AD8: =AC8^2 -> 4000000 | AE8: =G8 -> 4 | AF8: =AB8^2 -> 35070084 | AG8: =AD8^2 -> 16000000000000 | AH8: =AE8^2 -> 16 | AI8: =AB8*AC8 -> 11844000 | AJ8: =AB8*AD8 -> 23688000000 | AK8: =AB8*AE8 -> 23688 | AL8: =AD8*AC8 -> 8000000000 | AM8: =AC8*AE8 -> 8000 | AN8: =AD8*AE8 -> 16000000 | AO8: =(Z8-AU$37-AU$38*AB8-AU$39*AC8-AU$40*AD8-AU$41*AE8-AU$42*AF8-AU$43*AG8-AU$44*AH8-AU$45*AI8-AU$46*AJ8-AU$47*AK8-AU$48*AL8-AU$49*AM8-AU$50*AN8)^2 -> 5.2784796e+17 | AP8: =(Z8-AW$38)^2 -> 2.0563402e+18 | AQ8: =AP8-AO8 -> 1.5284922e+18 | AS8: 385820561 | AT8: 3972675033601 | AU8: 916673706103 | AV8: 2.3826513e+15 | AW8: 1485901125 | AX8: 7.6125735e+16 | AY8: 2.043248e+22 | AZ8: 6085751591 | BA8: 1.0296493e+16 | BB8: 2.9209232e+19 | BC8: 16123904904864 | BD8: 6.7341241e+18 | BE8: 3693408724217 | BF8: 1.00331e+16
B9: 225000 | C9: 1 | D9: 6003 | E9: 1768 | F9: =E9^2 -> 3125824 | G9: 3 | H9: =(B9-L$22-L$23*D9-L$24*E9-L$25*F9-L$26*G9)^2 -> 5.1590847e+08 | I9: =(B9-O$21)^2 -> 4.6985588e+09 | Z9: =H9 -> 5.1590847e+08 | AA9: =C9 -> 1 | AB9: =D9 -> 6003 | AC9: =E9 -> 1768 | AD9: =AC9^2 -> 3125824 | AE9: =G9 -> 3 | AF9: =AB9^2 -> 36036009 | AG9: =AD9^2 -> 9770775678976 | AH9: =AE9^2 -> 9 | AI9: =AB9*AC9 -> 10613304 | AJ9: =AB9*AD9 -> 18764321472 | AK9: =AB9*AE9 -> 18009 | AL9: =AD9*AC9 -> 5526456832 | AM9: =AC9*AE9 -> 5304 | AN9: =AD9*AE9 -> 9377472 | AO9: =(Z9-AU$37-AU$38*AB9-AU$39*AC9-AU$40*AD9-AU$41*AE9-AU$42*AF9-AU$43*AG9-AU$44*AH9-AU$45*AI9-AU$46*AJ9-AU$47*AK9-AU$48*AL9-AU$49*AM9-AU$50*AN9)^2 -> 3.1404532e+18 | AP9: =(Z9-AW$38)^2 -> 7.5929865e+18 | AQ9: =AP9-AO9 -> 4.4525333e+18 | AS9: 314 | AT9: 2933767 | AU9: 654755 | AV9: 1485901125 | AW9: 1182 | AX9: 63504640147 | AY9: 1.00331e+16 | AZ9: 4712 | BA9: 6540926490 | BB9: 16123904904864 | BC9: 11472597 | BD9: 3693408724217 | BE9: 2562409 | BF9: 6085751591
B10: 150000 | C10: 1 | D10: 5218 | E10: 1732 | F10: =E10^2 -> 2999824 | G10: 4 | H10: =(B10-L$22-L$23*D10-L$24*E10-L$25*F10-L$26*G10)^2 -> 1.1317818e+10 | I10: =(B10-O$21)^2 -> 2.0605464e+10 | L10: {=MINVERSE(L4:P8)} -> 1.933622 | M10: -1.5551699e-06 | N10: -0.0015420289 | O10: 3.1468134e-07 | P10: -0.051208991 | Z10: =H10 -> 1.1317818e+10 | AA10: =C10 -> 1 | AB10: =D10 -> 5218 | AC10: =E10 -> 1732 | AD10: =AC10^2 -> 2999824 | AE10: =G10 -> 4 | AF10: =AB10^2 -> 27227524 | AG10: =AD10^2 -> 8998944030976 | AH10: =AE10^2 -> 16 | AI10: =AB10*AC10 -> 9037576 | AJ10: =AB10*AD10 -> 15653081632 | AK10: =AB10*AE10 -> 20872 | AL10: =AD10*AC10 -> 5195695168 | AM10: =AC10*AE10 -> 6928 | AN10: =AD10*AE10 -> 11999296 | AO10: =(Z10-AU$37-AU$38*AB10-AU$39*AC10-AU$40*AD10-AU$41*AE10-AU$42*AF10-AU$43*AG10-AU$44*AH10-AU$45*AI10-AU$46*AJ10-AU$47*AK10-AU$48*AL10-AU$49*AM10-AU$50*AN10)^2 -> 7.0285486e+19 | AP10: =(Z10-AW$38)^2 -> 6.4744099e+19 | AQ10: =AP10-AO10 -> -5.5413863e+18 | AS10: 16165159010 | AT10: 912626456115578 | AU10: 33312934086857 | AV10: 7.6125735e+16 | AW10: 63504640147 | AX10: 7.6191826e+19 | AY10: 5.5614565e+23 | AZ10: 257971127413 | BA10: 1.6770904e+18 | BB10: 3.2880842e+21 | BC10: 3.6655174e+15 | BD10: 1.9510315e+20 | BE10: 135238350522082 | BF10: 3.2176109e+17
B11: 275000 | C11: 1 | D11: 6114 | E11: 1932 | F11: =E11^2 -> 3732624 | G11: 3 | H11: =(B11-L$22-L$23*D11-L$24*E11-L$25*F11-L$26*G11)^2 -> 1.403672e+08 | I11: =(B11-O$21)^2 -> 3.4395538e+08 | L11: -1.5551699e-06 | M11: 1.1636307e-10 | N11: 9.498961e-10 | O11: -2.6396178e-13 | P11: -7.0039686e-08 | Z11: =H11 -> 1.403672e+08 | AA11: =C11 -> 1 | AB11: =D11 -> 6114 | AC11: =E11 -> 1932 | AD11: =AC11^2 -> 3732624 | AE11: =G11 -> 3 | AF11: =AB11^2 -> 37380996 | AG11: =AD11^2 -> 13932481925376 | AH11: =AE11^2 -> 9 | AI11: =AB11*AC11 -> 11812248 | AJ11: =AB11*AD11 -> 22821263136 | AK11: =AB11*AE11 -> 18342 | AL11: =AD11*AC11 -> 7211429568 | AM11: =AC11*AE11 -> 5796 | AN11: =AD11*AE11 -> 11197872 | AO11: =(Z11-AU$37-AU$38*AB11-AU$39*AC11-AU$40*AD11-AU$41*AE11-AU$42*AF11-AU$43*AG11-AU$44*AH11-AU$45*AI11-AU$46*AJ11-AU$47*AK11-AU$48*AL11-AU$49*AM11-AU$50*AN11)^2 -> 7.3127045e+17 | AP11: =(Z11-AW$38)^2 -> 9.8036538e+18 | AQ11: =AP11-AO11 -> 9.0723834e+18 | AR11: (X'X)= | AS11: 2.3826513e+15 | AT11: 2.9209232e+19 | AU11: 6.7341241e+18 | AV11: 2.043248e+22 | AW11: 1.00331e+16 | AX11: 5.5614565e+23 | AY11: 2.1912512e+29 | AZ11: 4.5011709e+16 | BA11: 8.9203494e+22 | BB11: 2.8793674e+26 | BC11: 1.29361e+20 | BD11: 6.5542282e+25 | BE11: 2.9474096e+19 | BF11: 9.2229745e+22
B12: 230000 | C12: 1 | D12: 6710 | E12: 1932 | F12: =E12^2 -> 3732624 | G12: 3 | H12: =(B12-L$22-L$23*D12-L$24*E12-L$25*F12-L$26*G12)^2 -> 1.1772469e+09 | I12: =(B12-O$21)^2 -> 4.0380984e+09 | K12: (X'X)-1= | L12: -0.0015420289 | M12: 9.498961e-10 | N12: 1.3940228e-06 | O12: -2.8065914e-10 | P12: -1.2099295e-05 | Z12: =H12 -> 1.1772469e+09 | AA12: =C12 -> 1 | AB12: =D12 -> 6710 | AC12: =E12 -> 1932 | AD12: =AC12^2 -> 3732624 | AE12: =G12 -> 3 | AF12: =AB12^2 -> 45024100 | AG12: =AD12^2 -> 13932481925376 | AH12: =AE12^2 -> 9 | AI12: =AB12*AC12 -> 12963720 | AJ12: =AB12*AD12 -> 25045907040 | AK12: =AB12*AE12 -> 20130 | AL12: =AD12*AC12 -> 7211429568 | AM12: =AC12*AE12 -> 5796 | AN12: =AD12*AE12 -> 11197872 | AO12: =(Z12-AU$37-AU$38*AB12-AU$39*AC12-AU$40*AD12-AU$41*AE12-AU$42*AF12-AU$43*AG12-AU$44*AH12-AU$45*AI12-AU$46*AJ12-AU$47*AK12-AU$48*AL12-AU$49*AM12-AU$50*AN12)^2 -> 8.4497668e+15 | AP12: =(Z12-AW$38)^2 -> 4.3856696e+18 | AQ12: =AP12-AO12 -> 4.3772199e+18 | AS12: 1182 | AT12: 11472597 | AU12: 2562409 | AV12: 6085751591 | AW12: 4712 | AX12: 257971127413 | AY12: 4.5011709e+16 | AZ12: 19986 | BA12: 26789986990 | BB12: 69276972095036 | BC12: 47335429 | BD12: 15861353017327 | BE12: 10663001 | BF12: 26588498187
B13: 335000 | C13: 1 | D13: 15086 | E13: 2829 | F13: =E13^2 -> 8003241 | G13: 4 | H13: =(B13-L$22-L$23*D13-L$24*E13-L$25*F13-L$26*G13)^2 -> 4.6638978e+09 | I13: =(B13-O$21)^2 -> 1.7184313e+09 | L13: 3.1468134e-07 | M13: -2.6396178e-13 | N13: -2.8065914e-10 | O13: 5.856138e-14 | P13: -1.0905102e-09 | Z13: =H13 -> 4.6638978e+09 | AA13: =C13 -> 1 | AB13: =D13 -> 15086 | AC13: =E13 -> 2829 | AD13: =AC13^2 -> 8003241 | AE13: =G13 -> 4 | AF13: =AB13^2 -> 227587396 | AG13: =AD13^2 -> 64051866504081 | AH13: =AE13^2 -> 16 | AI13: =AB13*AC13 -> 42678294 | AJ13: =AB13*AD13 -> 120736893726 | AK13: =AB13*AE13 -> 60344 | AL13: =AD13*AC13 -> 22641168789 | AM13: =AC13*AE13 -> 11316 | AN13: =AD13*AE13 -> 32012964 | AO13: =(Z13-AU$37-AU$38*AB13-AU$39*AC13-AU$40*AD13-AU$41*AE13-AU$42*AF13-AU$43*AG13-AU$44*AH13-AU$45*AI13-AU$46*AJ13-AU$47*AK13-AU$48*AL13-AU$49*AM13-AU$50*AN13)^2 -> 2.7207808e+19 | AP13: =(Z13-AW$38)^2 -> 1.9389223e+18 | AQ13: =AP13-AO13 -> -2.5268885e+19 | AS13: 1692290257 | AT13: 33312934086857 | AU13: 3972675033601 | AV13: 1.0296493e+16 | AW13: 6540926490 | AX13: 1.6770904e+18 | AY13: 8.9203494e+22 | AZ13: 26789986990 | BA13: 7.6125735e+16 | BB13: 1.9510315e+20 | BC13: 135238350522082 | BD13: 2.9209232e+19 | BE13: 16123904904864 | BF13: 4.3806718e+16
B14: 190000 | C14: 1 | D14: 3500 | E14: 1702 | F14: =E14^2 -> 2896804 | G14: 4 | H14: =(B14-L$22-L$23*D14-L$24*E14-L$25*F14-L$26*G14)^2 -> 3.6577508e+09 | I14: =(B14-O$21)^2 -> 1.0721781e+10 | L14: -0.051208991 | M14: -7.0039686e-08 | N14: -1.2099295e-05 | O14: -1.0905102e-09 | P14: 0.022696758 | Z14: =H14 -> 3.6577508e+09 | AA14: =C14 -> 1 | AB14: =D14 -> 3500 | AC14: =E14 -> 1702 | AD14: =AC14^2 -> 2896804 | AE14: =G14 -> 4 | AF14: =AB14^2 -> 12250000 | AG14: =AD14^2 -> 8391473414416 | AH14: =AE14^2 -> 16 | AI14: =AB14*AC14 -> 5957000 | AJ14: =AB14*AD14 -> 10138814000 | AK14: =AB14*AE14 -> 14000 | AL14: =AD14*AC14 -> 4930360408 | AM14: =AC14*AE14 -> 6808 | AN14: =AD14*AE14 -> 11587216 | AO14: =(Z14-AU$37-AU$38*AB14-AU$39*AC14-AU$40*AD14-AU$41*AE14-AU$42*AF14-AU$43*AG14-AU$44*AH14-AU$45*AI14-AU$46*AJ14-AU$47*AK14-AU$48*AL14-AU$49*AM14-AU$50*AN14)^2 -> 8.2106514e+17 | AP14: =(Z14-AW$38)^2 -> 1.4923145e+17 | AQ14: =AP14-AO14 -> -6.7183369e+17 | AS14: 3972675033601 | AT14: 7.6125735e+16 | AU14: 1.0296493e+16 | AV14: 2.9209232e+19 | AW14: 16123904904864 | AX14: 3.2880842e+21 | AY14: 2.8793674e+26 | AZ14: 69276972095036 | BA14: 1.9510315e+20 | BB14: 5.5614565e+23 | BC14: 3.2176109e+17 | BD14: 8.9203494e+22 | BE14: 4.3806718e+16 | BF14: 1.29361e+20
B15: 225000 | C15: 1 | D15: 8880 | E15: 1421 | F15: =E15^2 -> 2019241 | G15: 2 | H15: =(B15-L$22-L$23*D15-L$24*E15-L$25*F15-L$26*G15)^2 -> 1.5333745e+08 | I15: =(B15-O$21)^2 -> 4.6985588e+09 | Z15: =H15 -> 1.5333745e+08 | AA15: =C15 -> 1 | AB15: =D15 -> 8880 | AC15: =E15 -> 1421 | AD15: =AC15^2 -> 2019241 | AE15: =G15 -> 2 | AF15: =AB15^2 -> 78854400 | AG15: =AD15^2 -> 4077334216081 | AH15: =AE15^2 -> 4 | AI15: =AB15*AC15 -> 12618480 | AJ15: =AB15*AD15 -> 17930860080 | AK15: =AB15*AE15 -> 17760 | AL15: =AD15*AC15 -> 2869341461 | AM15: =AC15*AE15 -> 2842 | AN15: =AD15*AE15 -> 4038482 | AO15: =(Z15-AU$37-AU$38*AB15-AU$39*AC15-AU$40*AD15-AU$41*AE15-AU$42*AF15-AU$43*AG15-AU$44*AH15-AU$45*AI15-AU$46*AJ15-AU$47*AK15-AU$48*AL15-AU$49*AM15-AU$50*AN15)^2 -> 1.130531e+18 | AP15: =(Z15-AW$38)^2 -> 9.7226003e+18 | AQ15: =AP15-AO15 -> 8.5920693e+18 | AS15: 2933767 | AT15: 63504640147 | AU15: 6540926490 | AV15: 16123904904864 | AW15: 11472597 | AX15: 3.6655174e+15 | AY15: 1.29361e+20 | AZ15: 47335429 | BA15: 135238350522082 | BB15: 3.2176109e+17 | BC15: 257971127413 | BD15: 4.3806718e+16 | BE15: 26789986990 | BF15: 69276972095036
B16: 230000 | C16: 1 | D16: 5305 | E16: 1171 | F16: =E16^2 -> 1371241 | G16: 3 | H16: =(B16-L$22-L$23*D16-L$24*E16-L$25*F16-L$26*G16)^2 -> 7.0767761e+08 | I16: =(B16-O$21)^2 -> 4.0380984e+09 | L16: {=MMULT(TRANSPOSE(C4:G91),B4:B91)} -> 25832051 | Z16: =H16 -> 7.0767761e+08 | AA16: =C16 -> 1 | AB16: =D16 -> 5305 | AC16: =E16 -> 1171 | AD16: =AC16^2 -> 1371241 | AE16: =G16 -> 3 | AF16: =AB16^2 -> 28143025 | AG16: =AD16^2 -> 1880301880081 | AH16: =AE16^2 -> 9 | AI16: =AB16*AC16 -> 6212155 | AJ16: =AB16*AD16 -> 7274433505 | AK16: =AB16*AE16 -> 15915 | AL16: =AD16*AC16 -> 1605723211 | AM16: =AC16*AE16 -> 3513 | AN16: =AD16*AE16 -> 4113723 | AO16: =(Z16-AU$37-AU$38*AB16-AU$39*AC16-AU$40*AD16-AU$41*AE16-AU$42*AF16-AU$43*AG16-AU$44*AH16-AU$45*AI16-AU$46*AJ16-AU$47*AK16-AU$48*AL16-AU$49*AM16-AU$50*AN16)^2 -> 2.4782201e+18 | AP16: =(Z16-AW$38)^2 -> 6.5729079e+18 | AQ16: =AP16-AO16 -> 4.0946878e+18 | AS16: 916673706103 | AT16: 1.0296493e+16 | AU16: 2.3826513e+15 | AV16: 6.7341241e+18 | AW16: 3693408724217 | AX16: 1.9510315e+20 | AY16: 6.5542282e+25 | AZ16: 15861353017327 | BA16: 2.9209232e+19 | BB16: 8.9203494e+22 | BC16: 4.3806718e+16 | BD16: 2.043248e+22 | BE16: 1.00331e+16 | BF16: 2.9474096e+19
B17: 313000 | C17: 1 | D17: 1000 | E17: 2768 | F17: =E17^2 -> 7661824 | G17: 3 | H17: =(B17-L$22-L$23*D17-L$24*E17-L$25*F17-L$26*G17)^2 -> 1.6590132e+09 | I17: =(B17-O$21)^2 -> 3.7845679e+08 | L17: 264561065225 | Z17: =H17 -> 1.6590132e+09 | AA17: =C17 -> 1 | AB17: =D17 -> 1000 | AC17: =E17 -> 2768 | AD17: =AC17^2 -> 7661824 | AE17: =G17 -> 3 | AF17: =AB17^2 -> 1000000 | AG17: =AD17^2 -> 58703547006976 | AH17: =AE17^2 -> 9 | AI17: =AB17*AC17 -> 2768000 | AJ17: =AB17*AD17 -> 7661824000 | AK17: =AB17*AE17 -> 3000 | AL17: =AD17*AC17 -> 21207928832 | AM17: =AC17*AE17 -> 8304 | AN17: =AD17*AE17 -> 22985472 | AO17: =(Z17-AU$37-AU$38*AB17-AU$39*AC17-AU$40*AD17-AU$41*AE17-AU$42*AF17-AU$43*AG17-AU$44*AH17-AU$45*AI17-AU$46*AJ17-AU$47*AK17-AU$48*AL17-AU$49*AM17-AU$50*AN17)^2 -> 1.5397468e+18 | AP17: =(Z17-AW$38)^2 -> 2.5999392e+18 | AQ17: =AP17-AO17 -> 1.0601924e+18 | AS17: 654755 | AT17: 6540926490 | AU17: 1485901125 | AV17: 3693408724217 | AW17: 2562409 | AX17: 135238350522082 | AY17: 2.9474096e+19 | AZ17: 10663001 | BA17: 16123904904864 | BB17: 4.3806718e+16 | BC17: 26789986990 | BD17: 1.00331e+16 | BE17: 6085751591 | BF17: 15861353017327
B18: 417500 | C18: 1 | D18: 8112 | E18: 3733 | F18: =E18^2 -> 13935289 | G18: 4 | H18: =(B18-L$22-L$23*D18-L$24*E18-L$25*F18-L$26*G18)^2 -> 1.6149924e+10 | I18: =(B18-O$21)^2 -> 1.5364586e+10 | K18: (X'Y)= | L18: 56081708454 | Z18: =H18 -> 1.6149924e+10 | AA18: =C18 -> 1 | AB18: =D18 -> 8112 | AC18: =E18 -> 3733 | AD18: =AC18^2 -> 13935289 | AE18: =G18 -> 4 | AF18: =AB18^2 -> 65804544 | AG18: =AD18^2 -> 194192279513521 | AH18: =AE18^2 -> 16 | AI18: =AB18*AC18 -> 30282096 | AJ18: =AB18*AD18 -> 113043064368 | AK18: =AB18*AE18 -> 32448 | AL18: =AD18*AC18 -> 52020433837 | AM18: =AC18*AE18 -> 14932 | AN18: =AD18*AE18 -> 55741156 | AO18: =(Z18-AU$37-AU$38*AB18-AU$39*AC18-AU$40*AD18-AU$41*AE18-AU$42*AF18-AU$43*AG18-AU$44*AH18-AU$45*AI18-AU$46*AJ18-AU$47*AK18-AU$48*AL18-AU$49*AM18-AU$50*AN18)^2 -> 6.5235853e+19 | AP18: =(Z18-AW$38)^2 -> 1.658552e+20 | AQ18: =AP18-AO18 -> 1.0061935e+20 | AS18: 1485901125 | AT18: 16123904904864 | AU18: 3693408724217 | AV18: 1.00331e+16 | AW18: 6085751591 | AX18: 3.2176109e+17 | AY18: 9.2229745e+22 | AZ18: 26588498187 | BA18: 4.3806718e+16 | BB18: 1.29361e+20 | BC18: 69276972095036 | BD18: 2.9474096e+19 | BE18: 15861353017327 | BF18: 4.5011709e+16
B19: 255000 | C19: 1 | D19: 15267 | E19: 1478 | F19: =E19^2 -> 2184484 | G19: 2 | H19: =(B19-L$22-L$23*D19-L$24*E19-L$25*F19-L$26*G19)^2 -> 6.7219635e+08 | I19: =(B19-O$21)^2 -> 1.4857967e+09 | L19: 133414092020966 | Z19: =H19 -> 6.7219635e+08 | AA19: =C19 -> 1 | AB19: =D19 -> 15267 | AC19: =E19 -> 1478 | AD19: =AC19^2 -> 2184484 | AE19: =G19 -> 2 | AF19: =AB19^2 -> 233081289 | AG19: =AD19^2 -> 4771970346256 | AH19: =AE19^2 -> 4 | AI19: =AB19*AC19 -> 22564626 | AJ19: =AB19*AD19 -> 33350517228 | AK19: =AB19*AE19 -> 30534 | AL19: =AD19*AC19 -> 3228667352 | AM19: =AC19*AE19 -> 2956 | AN19: =AD19*AE19 -> 4368968 | AO19: =(Z19-AU$37-AU$38*AB19-AU$39*AC19-AU$40*AD19-AU$41*AE19-AU$42*AF19-AU$43*AG19-AU$44*AH19-AU$45*AI19-AU$46*AJ19-AU$47*AK19-AU$48*AL19-AU$49*AM19-AU$50*AN19)^2 -> 7.6732806e+18 | AP19: =(Z19-AW$38)^2 -> 6.7560982e+18 | AQ19: =AP19-AO19 -> -9.1718236e+17
B20: 316000 | C20: 1 | D20: 5539 | E20: 2343 | F20: =E20^2 -> 5489649 | G20: 4 | H20: =(B20-L$22-L$23*D20-L$24*E20-L$25*F20-L$26*G20)^2 -> 16048139 | I20: =(B20-O$21)^2 -> 5.0418059e+08 | L20: 95993604 | Z20: =H20 -> 16048139 | AA20: =C20 -> 1 | AB20: =D20 -> 5539 | AC20: =E20 -> 2343 | AD20: =AC20^2 -> 5489649 | AE20: =G20 -> 4 | AF20: =AB20^2 -> 30680521 | AG20: =AD20^2 -> 30136246143201 | AH20: =AE20^2 -> 16 | AI20: =AB20*AC20 -> 12977877 | AJ20: =AB20*AD20 -> 30407165811 | AK20: =AB20*AE20 -> 22156 | AL20: =AD20*AC20 -> 12862247607 | AM20: =AC20*AE20 -> 9372 | AN20: =AD20*AE20 -> 21958596 | AO20: =(Z20-AU$37-AU$38*AB20-AU$39*AC20-AU$40*AD20-AU$41*AE20-AU$42*AF20-AU$43*AG20-AU$44*AH20-AU$45*AI20-AU$46*AJ20-AU$47*AK20-AU$48*AL20-AU$49*AM20-AU$50*AN20)^2 -> 3.8278267e+16 | AP20: =(Z20-AW$38)^2 -> 1.0597615e+19 | AQ20: =AP20-AO20 -> 1.0559336e+19
B21: 225000 | C21: 1 | D21: 7566 | E21: 1567 | F21: =E21^2 -> 2455489 | G21: 3 | H21: =(B21-L$22-L$23*D21-L$24*E21-L$25*F21-L$26*G21)^2 -> 82926932 | I21: =(B21-O$21)^2 -> 4.6985588e+09 | N21: Y(media)= | O21: =AVERAGE(B4:B91) -> 293546.03 | Z21: =H21 -> 82926932 | AA21: =C21 -> 1 | AB21: =D21 -> 7566 | AC21: =E21 -> 1567 | AD21: =AC21^2 -> 2455489 | AE21: =G21 -> 3 | AF21: =AB21^2 -> 57244356 | AG21: =AD21^2 -> 6029426229121 | AH21: =AE21^2 -> 9 | AI21: =AB21*AC21 -> 11855922 | AJ21: =AB21*AD21 -> 18578229774 | AK21: =AB21*AE21 -> 22698 | AL21: =AD21*AC21 -> 3847751263 | AM21: =AC21*AE21 -> 4701 | AN21: =AD21*AE21 -> 7366467 | AO21: =(Z21-AU$37-AU$38*AB21-AU$39*AC21-AU$40*AD21-AU$41*AE21-AU$42*AF21-AU$43*AG21-AU$44*AH21-AU$45*AI21-AU$46*AJ21-AU$47*AK21-AU$48*AL21-AU$49*AM21-AU$50*AN21)^2 -> 1.1206057e+19 | AP21: =(Z21-AW$38)^2 -> 1.0166653e+19 | AQ21: =AP21-AO21 -> -1.0394039e+18 | AS21: {=MINVERSE(AS5:BF18)} -> 257.12851 | AT21: -0.0012843904 | AU21: -0.42880125 | AV21: 0.00027582027 | AW21: -14.070463 | AX21: 1.6335057e-09 | AY21: 8.0003024e-12 | AZ21: 0.7867305 | BA21: 7.2630654e-07 | BB21: -1.167839e-10 | BC21: 6.0910807e-05 | BD21: -7.7442506e-08 | BE21: 0.0075353239 | BF21: -1.7003255e-06
B22: 325000 | C22: 1 | D22: 10859 | E22: 2709 | F22: =E22^2 -> 7338681 | G22: 4 | H22: =(B22-L$22-L$23*D22-L$24*E22-L$25*F22-L$26*G22)^2 -> 2.7972433e+09 | I22: =(B22-O$21)^2 -> 9.8935197e+08 | L22: {=MMULT(L10:P14,L16:L20)} -> 125559.22 | N22: σ= | O22: =(H92/(COUNT(C4:C91)-5))^0.5 -> 58894.15 | Z22: =H22 -> 2.7972433e+09 | AA22: =C22 -> 1 | AB22: =D22 -> 10859 | AC22: =E22 -> 2709 | AD22: =AC22^2 -> 7338681 | AE22: =G22 -> 4 | AF22: =AB22^2 -> 117917881 | AG22: =AD22^2 -> 53856238819761 | AH22: =AE22^2 -> 16 | AI22: =AB22*AC22 -> 29417031 | AJ22: =AB22*AD22 -> 79690736979 | AK22: =AB22*AE22 -> 43436 | AL22: =AD22*AC22 -> 19880486829 | AM22: =AC22*AE22 -> 10836 | AN22: =AD22*AE22 -> 29354724 | AO22: =(Z22-AU$37-AU$38*AB22-AU$39*AC22-AU$40*AD22-AU$41*AE22-AU$42*AF22-AU$43*AG22-AU$44*AH22-AU$45*AI22-AU$46*AJ22-AU$47*AK22-AU$48*AL22-AU$49*AM22-AU$50*AN22)^2 -> 8.2490279e+18 | AP22: =(Z22-AW$38)^2 -> 2.2486808e+17 | AQ22: =AP22-AO22 -> -8.0241599e+18 | AS22: -0.0012843904 | AT22: 1.1055901e-07 | AU22: 1.4966236e-06 | AV22: -8.7452063e-10 | AW22: 8.5412529e-05 | AX22: 2.1637478e-14 | AY22: -3.180957e-17 | AZ22: -6.4675742e-06 | BA22: -8.0993946e-11 | BB22: 1.6253139e-14 | BC22: -5.5550326e-09 | BD22: 2.5999758e-13 | BE22: 2.1637648e-09 | BF22: 1.8709259e-12
B23: 215000 | C23: 1 | D23: 11554 | E23: 1694 | F23: =E23^2 -> 2869636 | G23: 3 | H23: =(B23-L$22-L$23*D23-L$24*E23-L$25*F23-L$26*G23)^2 -> 1.3778535e+09 | I23: =(B23-O$21)^2 -> 6.1694795e+09 | L23: 1.9441233 | N23: R2= | O23: =1-H92/I92 -> 0.68634763 | Z23: =H23 -> 1.3778535e+09 | AA23: =C23 -> 1 | AB23: =D23 -> 11554 | AC23: =E23 -> 1694 | AD23: =AC23^2 -> 2869636 | AE23: =G23 -> 3 | AF23: =AB23^2 -> 133494916 | AG23: =AD23^2 -> 8234810772496 | AH23: =AE23^2 -> 9 | AI23: =AB23*AC23 -> 19572476 | AJ23: =AB23*AD23 -> 33155774344 | AK23: =AB23*AE23 -> 34662 | AL23: =AD23*AC23 -> 4861163384 | AM23: =AC23*AE23 -> 5082 | AN23: =AD23*AE23 -> 8608908 | AO23: =(Z23-AU$37-AU$38*AB23-AU$39*AC23-AU$40*AD23-AU$41*AE23-AU$42*AF23-AU$43*AG23-AU$44*AH23-AU$45*AI23-AU$46*AJ23-AU$47*AK23-AU$48*AL23-AU$49*AM23-AU$50*AN23)^2 -> 1.5450987e+18 | AP23: =(Z23-AW$38)^2 -> 3.5856922e+18 | AQ23: =AP23-AO23 -> 2.0405935e+18 | AS23: -0.42880125 | AT23: 1.4966236e-06 | AU23: 0.00076770783 | AV23: -5.0662052e-07 | AW23: 0.0058255541 | AX23: -2.5101151e-12 | AY23: -1.4539585e-14 | AZ23: -0.00058846318 | BA23: -9.0194645e-10 | BB23: 1.3630556e-13 | BC23: -3.4215828e-08 | BD23: 1.4290425e-10 | BE23: -1.6809916e-06 | BF23: 4.7681343e-10
B24: 725000 | C24: 1 | D24: 31000 | E24: 3662 | F24: =E24^2 -> 13410244 | G24: 5 | H24: =(B24-L$22-L$23*D24-L$24*E24-L$25*F24-L$26*G24)^2 -> 1.8594564e+10 | I24: =(B24-O$21)^2 -> 1.8615252e+11 | K24: β= | L24: -8.6226101 | Z24: =H24 -> 1.8594564e+10 | AA24: =C24 -> 1 | AB24: =D24 -> 31000 | AC24: =E24 -> 3662 | AD24: =AC24^2 -> 13410244 | AE24: =G24 -> 5 | AF24: =AB24^2 -> 961000000 | AG24: =AD24^2 -> 179834644139536 | AH24: =AE24^2 -> 25 | AI24: =AB24*AC24 -> 113522000 | AJ24: =AB24*AD24 -> 415717564000 | AK24: =AB24*AE24 -> 155000 | AL24: =AD24*AC24 -> 49108313528 | AM24: =AC24*AE24 -> 18310 | AN24: =AD24*AE24 -> 67051220 | AO24: =(Z24-AU$37-AU$38*AB24-AU$39*AC24-AU$40*AD24-AU$41*AE24-AU$42*AF24-AU$43*AG24-AU$44*AH24-AU$45*AI24-AU$46*AJ24-AU$47*AK24-AU$48*AL24-AU$49*AM24-AU$50*AN24)^2 -> 7.1323668e+18 | AP24: =(Z24-AW$38)^2 -> 2.3479794e+20 | AQ24: =AP24-AO24 -> 2.2766558e+20 | AS24: 0.00027582027 | AT24: -8.7452063e-10 | AU24: -5.0662052e-07 | AV24: 3.405461e-10 | AW24: -5.6144177e-07 | AX24: 9.8024708e-16 | AY24: 9.8489588e-18 | AZ24: 3.8745715e-07 | BA24: 4.5823955e-13 | BB24: -7.0538466e-17 | BC24: 5.5150273e-11 | BD24: -9.6805976e-14 | BE24: -2.0342996e-09 | BF24: 3.0837848e-13
B25: 306000 | C25: 1 | D25: 20700 | E25: 2205 | F25: =E25^2 -> 4862025 | G25: 2 | H25: =(B25-L$22-L$23*D25-L$24*E25-L$25*F25-L$26*G25)^2 -> 606679.29 | I25: =(B25-O$21)^2 -> 1.5510127e+08 | L25: 0.027417642 | Z25: =H25 -> 606679.29 | AA25: =C25 -> 1 | AB25: =D25 -> 20700 | AC25: =E25 -> 2205 | AD25: =AC25^2 -> 4862025 | AE25: =G25 -> 2 | AF25: =AB25^2 -> 428490000 | AG25: =AD25^2 -> 23639287100625 | AH25: =AE25^2 -> 4 | AI25: =AB25*AC25 -> 45643500 | AJ25: =AB25*AD25 -> 100643917500 | AK25: =AB25*AE25 -> 41400 | AL25: =AD25*AC25 -> 10720765125 | AM25: =AC25*AE25 -> 4410 | AN25: =AD25*AE25 -> 9724050 | AO25: =(Z25-AU$37-AU$38*AB25-AU$39*AC25-AU$40*AD25-AU$41*AE25-AU$42*AF25-AU$43*AG25-AU$44*AH25-AU$45*AI25-AU$46*AJ25-AU$47*AK25-AU$48*AL25-AU$49*AM25-AU$50*AN25)^2 -> 2.6672276e+18 | AP25: =(Z25-AW$38)^2 -> 1.0698389e+19 | AQ25: =AP25-AO25 -> 8.0311616e+18 | AS25: -14.070463 | AT25: 8.5412529e-05 | AU25: 0.0058255541 | AV25: -5.6144177e-07 | AW25: 8.2508191 | AX25: 5.3297641e-11 | AY25: -1.4538e-13 | AZ25: -0.37372985 | BA25: 2.4816812e-08 | BB25: -6.1886081e-12 | BC25: -2.9081265e-05 | BD25: 2.7640975e-10 | BE25: -0.0049962736 | BF25: 1.1017464e-06
B26: 425000 | C26: 1 | D26: 5525 | E26: 1502 | F26: =E26^2 -> 2256004 | G26: 3 | H26: =(B26-L$22-L$23*D26-L$24*E26-L$25*F26-L$26*G26)^2 -> 3.9908241e+10 | I26: =(B26-O$21)^2 -> 1.7280145e+10 | L26: 13341.96 | Z26: =H26 -> 3.9908241e+10 | AA26: =C26 -> 1 | AB26: =D26 -> 5525 | AC26: =E26 -> 1502 | AD26: =AC26^2 -> 2256004 | AE26: =G26 -> 3 | AF26: =AB26^2 -> 30525625 | AG26: =AD26^2 -> 5089554048016 | AH26: =AE26^2 -> 9 | AI26: =AB26*AC26 -> 8298550 | AJ26: =AB26*AD26 -> 12464422100 | AK26: =AB26*AE26 -> 16575 | AL26: =AD26*AC26 -> 3388518008 | AM26: =AC26*AE26 -> 4506 | AN26: =AD26*AE26 -> 6768012 | AO26: =(Z26-AU$37-AU$38*AB26-AU$39*AC26-AU$40*AD26-AU$41*AE26-AU$42*AF26-AU$43*AG26-AU$44*AH26-AU$45*AI26-AU$46*AJ26-AU$47*AK26-AU$48*AL26-AU$49*AM26-AU$50*AN26)^2 -> 1.286723e+21 | AP26: =(Z26-AW$38)^2 -> 1.3422548e+21 | AQ26: =AP26-AO26 -> 5.553175e+19 | AS26: 1.6335057e-09 | AT26: 2.1637478e-14 | AU26: -2.5101151e-12 | AV26: 9.8024708e-16 | AW26: 5.3297641e-11 | AX26: 7.1154154e-19 | AY26: 8.65057e-24 | AZ26: -2.3541019e-11 | BA26: 2.0016256e-18 | BB26: 6.660976e-21 | BC26: -2.8220691e-14 | BD26: -1.8223812e-19 | BE26: 2.1613084e-13 | BF26: -2.4804696e-17
B27: 225000 | C27: 1 | D27: 18838 | E27: 1294 | F27: =E27^2 -> 1674436 | G27: 3 | H27: =(B27-L$22-L$23*D27-L$24*E27-L$25*F27-L$26*G27)^2 -> 1.4303971e+08 | I27: =(B27-O$21)^2 -> 4.6985588e+09 | Z27: =H27 -> 1.4303971e+08 | AA27: =C27 -> 1 | AB27: =D27 -> 18838 | AC27: =E27 -> 1294 | AD27: =AC27^2 -> 1674436 | AE27: =G27 -> 3 | AF27: =AB27^2 -> 354870244 | AG27: =AD27^2 -> 2803735918096 | AH27: =AE27^2 -> 9 | AI27: =AB27*AC27 -> 24376372 | AJ27: =AB27*AD27 -> 31543025368 | AK27: =AB27*AE27 -> 56514 | AL27: =AD27*AC27 -> 2166720184 | AM27: =AC27*AE27 -> 3882 | AN27: =AD27*AE27 -> 5023308 | AO27: =(Z27-AU$37-AU$38*AB27-AU$39*AC27-AU$40*AD27-AU$41*AE27-AU$42*AF27-AU$43*AG27-AU$44*AH27-AU$45*AI27-AU$46*AJ27-AU$47*AK27-AU$48*AL27-AU$49*AM27-AU$50*AN27)^2 -> 7.9456604e+18 | AP27: =(Z27-AW$38)^2 -> 9.7869253e+18 | AQ27: =AP27-AO27 -> 1.8412649e+18 | AR27: (X'X)-1= | AS27: 8.0003024e-12 | AT27: -3.180957e-17 | AU27: -1.4539585e-14 | AV27: 9.8489588e-18 | AW27: -1.4538e-13 | AX27: 8.65057e-24 | AY27: 2.9351823e-25 | AZ27: 1.8077865e-14 | BA27: 1.6983244e-20 | BB27: -2.9060924e-24 | BC27: 2.7487113e-18 | BD27: -2.835349e-21 | BE27: 9.9579282e-18 | BF27: -6.8116825e-21
B28: 236000 | C28: 1 | D28: 5828 | E28: 1715 | F28: =E28^2 -> 2941225 | G28: 3 | H28: =(B28-L$22-L$23*D28-L$24*E28-L$25*F28-L$26*G28)^2 -> 45821066 | I28: =(B28-O$21)^2 -> 3.311546e+09 | L28: {=O22^2*(L10:P14)} -> 6.7068084e+09 | M28: -5394.1393 | N28: -5348559.5 | O28: 1091.4788 | P28: -1.7761946e+08 | Z28: =H28 -> 45821066 | AA28: =C28 -> 1 | AB28: =D28 -> 5828 | AC28: =E28 -> 1715 | AD28: =AC28^2 -> 2941225 | AE28: =G28 -> 3 | AF28: =AB28^2 -> 33965584 | AG28: =AD28^2 -> 8650804500625 | AH28: =AE28^2 -> 9 | AI28: =AB28*AC28 -> 9995020 | AJ28: =AB28*AD28 -> 17141459300 | AK28: =AB28*AE28 -> 17484 | AL28: =AD28*AC28 -> 5044200875 | AM28: =AC28*AE28 -> 5145 | AN28: =AD28*AE28 -> 8823675 | AO28: =(Z28-AU$37-AU$38*AB28-AU$39*AC28-AU$40*AD28-AU$41*AE28-AU$42*AF28-AU$43*AG28-AU$44*AH28-AU$45*AI28-AU$46*AJ28-AU$47*AK28-AU$48*AL28-AU$49*AM28-AU$50*AN28)^2 -> 7.1007423e+18 | AP28: =(Z28-AW$38)^2 -> 1.0404656e+19 | AQ28: =AP28-AO28 -> 3.3039133e+18 | AS28: 0.7867305 | AT28: -6.4675742e-06 | AU28: -0.00058846318 | AV28: 3.8745715e-07 | AW28: -0.37372985 | AX28: -2.3541019e-11 | AY28: 1.8077865e-14 | AZ28: 0.027936845 | BA28: -3.146905e-09 | BB28: 4.6654618e-13 | BC28: 3.2257723e-06 | BD28: -1.2615428e-10 | BE28: 0.000152568 | BF28: -3.8976908e-08
B29: 202500 | C29: 1 | D29: 6341 | E29: 1574 | F29: =E29^2 -> 2477476 | G29: 3 | H29: =(B29-L$22-L$23*D29-L$24*E29-L$25*F29-L$26*G29)^2 -> 8.8609483e+08 | I29: =(B29-O$21)^2 -> 8.2893803e+09 | L29: -5394.1393 | M29: 0.40360776 | N29: 3.2947345 | O29: -0.00091555698 | P29: -242.93412 | Z29: =H29 -> 8.8609483e+08 | AA29: =C29 -> 1 | AB29: =D29 -> 6341 | AC29: =E29 -> 1574 | AD29: =AC29^2 -> 2477476 | AE29: =G29 -> 3 | AF29: =AB29^2 -> 40208281 | AG29: =AD29^2 -> 6137887330576 | AH29: =AE29^2 -> 9 | AI29: =AB29*AC29 -> 9980734 | AJ29: =AB29*AD29 -> 15709675316 | AK29: =AB29*AE29 -> 19023 | AL29: =AD29*AC29 -> 3899547224 | AM29: =AC29*AE29 -> 4722 | AN29: =AD29*AE29 -> 7432428 | AO29: =(Z29-AU$37-AU$38*AB29-AU$39*AC29-AU$40*AD29-AU$41*AE29-AU$42*AF29-AU$43*AG29-AU$44*AH29-AU$45*AI29-AU$46*AJ29-AU$47*AK29-AU$48*AL29-AU$49*AM29-AU$50*AN29)^2 -> 7.3178913e+18 | AP29: =(Z29-AW$38)^2 -> 5.6898997e+18 | AQ29: =AP29-AO29 -> -1.6279916e+18 | AS29: 7.2630654e-07 | AT29: -8.0993946e-11 | AU29: -9.0194645e-10 | AV29: 4.5823955e-13 | AW29: 2.4816812e-08 | AX29: 2.0016256e-18 | AY29: 1.6983244e-20 | AZ29: -3.146905e-09 | BA29: 6.8179136e-14 | BB29: -1.3342606e-17 | BC29: 8.9492103e-13 | BD29: -1.3434661e-16 | BE29: -1.3679041e-11 | BF29: 4.0006249e-15
B30: 219000 | C30: 1 | D30: 6362 | E30: 1185 | F30: =E30^2 -> 1404225 | G30: 2 | H30: =(B30-L$22-L$23*D30-L$24*E30-L$25*F30-L$26*G30)^2 -> 6.8150261e+08 | I30: =(B30-O$21)^2 -> 5.5571112e+09 | K30: VAR(β)= | L30: -5348559.5 | M30: 3.2947345 | N30: 4835.1973 | O30: -0.97347211 | P30: -41966.658 | Z30: =H30 -> 6.8150261e+08 | AA30: =C30 -> 1 | AB30: =D30 -> 6362 | AC30: =E30 -> 1185 | AD30: =AC30^2 -> 1404225 | AE30: =G30 -> 2 | AF30: =AB30^2 -> 40475044 | AG30: =AD30^2 -> 1971847850625 | AH30: =AE30^2 -> 4 | AI30: =AB30*AC30 -> 7538970 | AJ30: =AB30*AD30 -> 8933679450 | AK30: =AB30*AE30 -> 12724 | AL30: =AD30*AC30 -> 1664006625 | AM30: =AC30*AE30 -> 2370 | AN30: =AD30*AE30 -> 2808450 | AO30: =(Z30-AU$37-AU$38*AB30-AU$39*AC30-AU$40*AD30-AU$41*AE30-AU$42*AF30-AU$43*AG30-AU$44*AH30-AU$45*AI30-AU$46*AJ30-AU$47*AK30-AU$48*AL30-AU$49*AM30-AU$50*AN30)^2 -> 4.8987751e+16 | AP30: =(Z30-AW$38)^2 -> 6.7078062e+18 | AQ30: =AP30-AO30 -> 6.6588185e+18 | AS30: -1.167839e-10 | AT30: 1.6253139e-14 | AU30: 1.3630556e-13 | AV30: -7.0538466e-17 | AW30: -6.1886081e-12 | AX30: 6.660976e-21 | AY30: -2.9060924e-24 | AZ30: 4.6654618e-13 | BA30: -1.3342606e-17 | BB30: 2.7084153e-21 | BC30: -5.2112529e-16 | BD30: 2.1588059e-20 | BE30: 6.5336846e-15 | BF30: -1.3950158e-18
B31: 300000 | C31: 1 | D31: 6126 | E31: 2438 | F31: =E31^2 -> 5943844 | G31: 4 | H31: =(B31-L$22-L$23*D31-L$24*E31-L$25*F31-L$26*G31)^2 -> 1.0745954e+09 | I31: =(B31-O$21)^2 -> 41653676 | L31: 1091.4788 | M31: -0.00091555698 | N31: -0.97347211 | O31: 0.00020312138 | P31: -3.7824576 | Z31: =H31 -> 1.0745954e+09 | AA31: =C31 -> 1 | AB31: =D31 -> 6126 | AC31: =E31 -> 2438 | AD31: =AC31^2 -> 5943844 | AE31: =G31 -> 4 | AF31: =AB31^2 -> 37527876 | AG31: =AD31^2 -> 35329281496336 | AH31: =AE31^2 -> 16 | AI31: =AB31*AC31 -> 14935188 | AJ31: =AB31*AD31 -> 36411988344 | AK31: =AB31*AE31 -> 24504 | AL31: =AD31*AC31 -> 14491091672 | AM31: =AC31*AE31 -> 9752 | AN31: =AD31*AE31 -> 23775376 | AO31: =(Z31-AU$37-AU$38*AB31-AU$39*AC31-AU$40*AD31-AU$41*AE31-AU$42*AF31-AU$43*AG31-AU$44*AH31-AU$45*AI31-AU$46*AJ31-AU$47*AK31-AU$48*AL31-AU$49*AM31-AU$50*AN31)^2 -> 4.172757e+17 | AP31: =(Z31-AW$38)^2 -> 4.8261523e+18 | AQ31: =AP31-AO31 -> 4.4088766e+18 | AS31: 6.0910807e-05 | AT31: -5.5550326e-09 | AU31: -3.4215828e-08 | AV31: 5.5150273e-11 | AW31: -2.9081265e-05 | AX31: -2.8220691e-14 | AY31: 2.7487113e-18 | AZ31: 3.2257723e-06 | BA31: 8.9492103e-13 | BB31: -5.2112529e-16 | BC31: 2.0867479e-09 | BD31: -2.0259277e-14 | BE31: -4.7482672e-09 | BF31: -5.560677e-13
B32: 370000 | C32: 1 | D32: 9903 | E32: 2076 | F32: =E32^2 -> 4309776 | G32: 3 | H32: =(B32-L$22-L$23*D32-L$24*E32-L$25*F32-L$26*G32)^2 -> 7.2078219e+09 | I32: =(B32-O$21)^2 -> 5.8452089e+09 | L32: -1.7761946e+08 | M32: -242.93412 | N32: -41966.658 | O32: -3.7824576 | P32: 78724180 | Z32: =H32 -> 7.2078219e+09 | AA32: =C32 -> 1 | AB32: =D32 -> 9903 | AC32: =E32 -> 2076 | AD32: =AC32^2 -> 4309776 | AE32: =G32 -> 3 | AF32: =AB32^2 -> 98069409 | AG32: =AD32^2 -> 18574169170176 | AH32: =AE32^2 -> 9 | AI32: =AB32*AC32 -> 20558628 | AJ32: =AB32*AD32 -> 42679711728 | AK32: =AB32*AE32 -> 29709 | AL32: =AD32*AC32 -> 8947094976 | AM32: =AC32*AE32 -> 6228 | AN32: =AD32*AE32 -> 12929328 | AO32: =(Z32-AU$37-AU$38*AB32-AU$39*AC32-AU$40*AD32-AU$41*AE32-AU$42*AF32-AU$43*AG32-AU$44*AH32-AU$45*AI32-AU$46*AJ32-AU$47*AK32-AU$48*AL32-AU$49*AM32-AU$50*AN32)^2 -> 3.8974274e+19 | AP32: =(Z32-AW$38)^2 -> 1.5495056e+19 | AQ32: =AP32-AO32 -> -2.3479218e+19 | AS32: -7.7442506e-08 | AT32: 2.5999758e-13 | AU32: 1.4290425e-10 | AV32: -9.6805976e-14 | AW32: 2.7640975e-10 | AX32: -1.8223812e-19 | AY32: -2.835349e-21 | AZ32: -1.2615428e-10 | BA32: -1.3434661e-16 | BB32: 2.1588059e-20 | BC32: -2.0259277e-14 | BD32: 2.7703783e-17 | BE32: 6.0338936e-13 | BF32: -8.9846865e-17
B33: 195000 | C33: 1 | D33: 4600 | E33: 1448 | F33: =E33^2 -> 2096704 | G33: 3 | H33: =(B33-L$22-L$23*D33-L$24*E33-L$25*F33-L$26*G33)^2 -> 6.0168188e+08 | I33: =(B33-O$21)^2 -> 9.7113208e+09 | Z33: =H33 -> 6.0168188e+08 | AA33: =C33 -> 1 | AB33: =D33 -> 4600 | AC33: =E33 -> 1448 | AD33: =AC33^2 -> 2096704 | AE33: =G33 -> 3 | AF33: =AB33^2 -> 21160000 | AG33: =AD33^2 -> 4396167663616 | AH33: =AE33^2 -> 9 | AI33: =AB33*AC33 -> 6660800 | AJ33: =AB33*AD33 -> 9644838400 | AK33: =AB33*AE33 -> 13800 | AL33: =AD33*AC33 -> 3036027392 | AM33: =AC33*AE33 -> 4344 | AN33: =AD33*AE33 -> 6290112 | AO33: =(Z33-AU$37-AU$38*AB33-AU$39*AC33-AU$40*AD33-AU$41*AE33-AU$42*AF33-AU$43*AG33-AU$44*AH33-AU$45*AI33-AU$46*AJ33-AU$47*AK33-AU$48*AL33-AU$49*AM33-AU$50*AN33)^2 -> 1.4536238e+19 | AP33: =(Z33-AW$38)^2 -> 7.1276399e+18 | AQ33: =AP33-AO33 -> -7.4085979e+18 | AS33: 0.0075353239 | AT33: 2.1637648e-09 | AU33: -1.6809916e-06 | AV33: -2.0342996e-09 | AW33: -0.0049962736 | AX33: 2.1613084e-13 | AY33: 9.9579281e-18 | AZ33: 0.000152568 | BA33: -1.3679041e-11 | BB33: 6.5336846e-15 | BC33: -4.7482672e-09 | BD33: 6.0338936e-13 | BE33: 3.6323953e-06 | BF33: -7.6796089e-10
B34: 373000 | C34: 1 | D34: 6095 | E34: 2514 | F34: =E34^2 -> 6320196 | G34: 4 | H34: =(B34-L$22-L$23*D34-L$24*E34-L$25*F34-L$26*G34)^2 -> 9.3733212e+08 | I34: =(B34-O$21)^2 -> 6.3129327e+09 | Z34: =H34 -> 9.3733212e+08 | AA34: =C34 -> 1 | AB34: =D34 -> 6095 | AC34: =E34 -> 2514 | AD34: =AC34^2 -> 6320196 | AE34: =G34 -> 4 | AF34: =AB34^2 -> 37149025 | AG34: =AD34^2 -> 39944877478416 | AH34: =AE34^2 -> 16 | AI34: =AB34*AC34 -> 15322830 | AJ34: =AB34*AD34 -> 38521594620 | AK34: =AB34*AE34 -> 24380 | AL34: =AD34*AC34 -> 15888972744 | AM34: =AC34*AE34 -> 10056 | AN34: =AD34*AE34 -> 25280784 | AO34: =(Z34-AU$37-AU$38*AB34-AU$39*AC34-AU$40*AD34-AU$41*AE34-AU$42*AF34-AU$43*AG34-AU$44*AH34-AU$45*AI34-AU$46*AJ34-AU$47*AK34-AU$48*AL34-AU$49*AM34-AU$50*AN34)^2 -> 2.6170103e+16 | AP34: =(Z34-AW$38)^2 -> 5.4480871e+18 | AQ34: =AP34-AO34 -> 5.421917e+18 | AS34: -1.7003255e-06 | AT34: 1.8709259e-12 | AU34: 4.7681343e-10 | AV34: 3.0837848e-13 | AW34: 1.1017464e-06 | AX34: -2.4804696e-17 | AY34: -6.8116825e-21 | AZ34: -3.8976908e-08 | BA34: 4.0006249e-15 | BB34: -1.3950158e-18 | BC34: -5.560677e-13 | BD34: -8.9846865e-17 | BE34: -7.6796089e-10 | BF34: 1.6623844e-13
B35: 466275 | C35: 1 | D35: 8566 | E35: 2754 | F35: =E35^2 -> 7584516 | G35: 5 | H35: =(B35-L$22-L$23*D35-L$24*E35-L$25*F35-L$26*G35)^2 -> 5.3508851e+09 | I35: =(B35-O$21)^2 -> 2.9835296e+10 | Z35: =H35 -> 5.3508851e+09 | AA35: =C35 -> 1 | AB35: =D35 -> 8566 | AC35: =E35 -> 2754 | AD35: =AC35^2 -> 7584516 | AE35: =G35 -> 5 | AF35: =AB35^2 -> 73376356 | AG35: =AD35^2 -> 57524882954256 | AH35: =AE35^2 -> 25 | AI35: =AB35*AC35 -> 23590764 | AJ35: =AB35*AD35 -> 64968964056 | AK35: =AB35*AE35 -> 42830 | AL35: =AD35*AC35 -> 20887757064 | AM35: =AC35*AE35 -> 13770 | AN35: =AD35*AE35 -> 37922580 | AO35: =(Z35-AU$37-AU$38*AB35-AU$39*AC35-AU$40*AD35-AU$41*AE35-AU$42*AF35-AU$43*AG35-AU$44*AH35-AU$45*AI35-AU$46*AJ35-AU$47*AK35-AU$48*AL35-AU$49*AM35-AU$50*AN35)^2 -> 2.194129e+17 | AP35: =(Z35-AW$38)^2 -> 4.3240675e+18 | AQ35: =AP35-AO35 -> 4.1046546e+18
B36: 332500 | C36: 1 | D36: 9000 | E36: 2067 | F36: =E36^2 -> 4272489 | G36: 3 | H36: =(B36-L$22-L$23*D36-L$24*E36-L$25*F36-L$26*G36)^2 -> 2.5099252e+09 | I36: =(B36-O$21)^2 -> 1.5174115e+09 | Z36: =H36 -> 2.5099252e+09 | AA36: =C36 -> 1 | AB36: =D36 -> 9000 | AC36: =E36 -> 2067 | AD36: =AC36^2 -> 4272489 | AE36: =G36 -> 3 | AF36: =AB36^2 -> 81000000 | AG36: =AD36^2 -> 18254162255121 | AH36: =AE36^2 -> 9 | AI36: =AB36*AC36 -> 18603000 | AJ36: =AB36*AD36 -> 38452401000 | AK36: =AB36*AE36 -> 27000 | AL36: =AD36*AC36 -> 8831234763 | AM36: =AC36*AE36 -> 6201 | AN36: =AD36*AE36 -> 12817467 | AO36: =(Z36-AU$37-AU$38*AB36-AU$39*AC36-AU$40*AD36-AU$41*AE36-AU$42*AF36-AU$43*AG36-AU$44*AH36-AU$45*AI36-AU$46*AJ36-AU$47*AK36-AU$48*AL36-AU$49*AM36-AU$50*AN36)^2 -> 2.9611984e+18 | AP36: =(Z36-AW$38)^2 -> 5.7991381e+17 | AQ36: =AP36-AO36 -> -2.3812846e+18
B37: 315000 | C37: 1 | D37: 6210 | E37: 1731 | F37: =E37^2 -> 2996361 | G37: 3 | H37: =(B37-L$22-L$23*D37-L$24*E37-L$25*F37-L$26*G37)^2 -> 4.9160405e+09 | I37: =(B37-O$21)^2 -> 4.6027265e+08 | Z37: =H37 -> 4.9160405e+09 | AA37: =C37 -> 1 | AB37: =D37 -> 6210 | AC37: =E37 -> 1731 | AD37: =AC37^2 -> 2996361 | AE37: =G37 -> 3 | AF37: =AB37^2 -> 38564100 | AG37: =AD37^2 -> 8978179242321 | AH37: =AE37^2 -> 9 | AI37: =AB37*AC37 -> 10749510 | AJ37: =AB37*AD37 -> 18607401810 | AK37: =AB37*AE37 -> 18630 | AL37: =AD37*AC37 -> 5186700891 | AM37: =AC37*AE37 -> 5193 | AN37: =AD37*AE37 -> 8989083 | AO37: =(Z37-AU$37-AU$38*AB37-AU$39*AC37-AU$40*AD37-AU$41*AE37-AU$42*AF37-AU$43*AG37-AU$44*AH37-AU$45*AI37-AU$46*AJ37-AU$47*AK37-AU$48*AL37-AU$49*AM37-AU$50*AN37)^2 -> 5.4457327e+18 | AP37: =(Z37-AW$38)^2 -> 2.7046915e+18 | AQ37: =AP37-AO37 -> -2.7410412e+18 | AS37: {=MMULT(TRANSPOSE(AA4:AN91),Z4:Z91)} -> 2.8788724e+11 | AU37: {=MMULT(AS21:BF34,AS37:AS50)} -> -1.2753897e+11
B38: 285000 | C38: 1 | D38: 6000 | E38: 2336 | F38: =E38^2 -> 5456896 | G38: 4 | H38: =(B38-L$22-L$23*D38-L$24*E38-L$25*F38-L$26*G38)^2 -> 1.2295263e+09 | I38: =(B38-O$21)^2 -> 73034699 | Z38: =H38 -> 1.2295263e+09 | AA38: =C38 -> 1 | AB38: =D38 -> 6000 | AC38: =E38 -> 2336 | AD38: =AC38^2 -> 5456896 | AE38: =G38 -> 4 | AF38: =AB38^2 -> 36000000 | AG38: =AD38^2 -> 29777713954816 | AH38: =AE38^2 -> 16 | AI38: =AB38*AC38 -> 14016000 | AJ38: =AB38*AD38 -> 32741376000 | AK38: =AB38*AE38 -> 24000 | AL38: =AD38*AC38 -> 12747309056 | AM38: =AC38*AE38 -> 9344 | AN38: =AD38*AE38 -> 21827584 | AO38: =(Z38-AU$37-AU$38*AB38-AU$39*AC38-AU$40*AD38-AU$41*AE38-AU$42*AF38-AU$43*AG38-AU$44*AH38-AU$45*AI38-AU$46*AJ38-AU$47*AK38-AU$48*AL38-AU$49*AM38-AU$50*AN38)^2 -> 1.2679607e+18 | AP38: =(Z38-AW$38)^2 -> 4.1694356e+18 | AQ38: =AP38-AO38 -> 2.9014749e+18 | AS38: 4.3134596e+15 | AU38: -3539828 | AV38: Y(media)= | AW38: =AVERAGE(Z4:Z91) -> 3.2714459e+09
B39: 300000 | C39: 1 | D39: 7047 | E39: 2634 | F39: =E39^2 -> 6937956 | G39: 5 | H39: =(B39-L$22-L$23*D39-L$24*E39-L$25*F39-L$26*G39)^2 -> 5.3992655e+09 | I39: =(B39-O$21)^2 -> 41653676 | Z39: =H39 -> 5.3992655e+09 | AA39: =C39 -> 1 | AB39: =D39 -> 7047 | AC39: =E39 -> 2634 | AD39: =AC39^2 -> 6937956 | AE39: =G39 -> 5 | AF39: =AB39^2 -> 49660209 | AG39: =AD39^2 -> 48135233457936 | AH39: =AE39^2 -> 25 | AI39: =AB39*AC39 -> 18561798 | AJ39: =AB39*AD39 -> 48891775932 | AK39: =AB39*AE39 -> 35235 | AL39: =AD39*AC39 -> 18274576104 | AM39: =AC39*AE39 -> 13170 | AN39: =AD39*AE39 -> 34689780 | AO39: =(Z39-AU$37-AU$38*AB39-AU$39*AC39-AU$40*AD39-AU$41*AE39-AU$42*AF39-AU$43*AG39-AU$44*AH39-AU$45*AI39-AU$46*AJ39-AU$47*AK39-AU$48*AL39-AU$49*AM39-AU$50*AN39)^2 -> 9.6368985e+18 | AP39: =(Z39-AW$38)^2 -> 4.5276163e+18 | AQ39: =AP39-AO39 -> -5.1092823e+18 | AS39: 6.8210481e+14 | AU39: 2.8732101e+08 | AV39: σ= | AW39: =(AO92/(88-14))^0.5 -> 5.6226689e+09
B40: 405000 | C40: 1 | D40: 12237 | E40: 3375 | F40: =E40^2 -> 11390625 | G40: 3 | H40: =(B40-L$22-L$23*D40-L$24*E40-L$25*F40-L$26*G40)^2 -> 4.5668006e+09 | I40: =(B40-O$21)^2 -> 1.2421987e+10 | Z40: =H40 -> 4.5668006e+09 | AA40: =C40 -> 1 | AB40: =D40 -> 12237 | AC40: =E40 -> 3375 | AD40: =AC40^2 -> 11390625 | AE40: =G40 -> 3 | AF40: =AB40^2 -> 149744169 | AG40: =AD40^2 -> 129746337890625 | AH40: =AE40^2 -> 9 | AI40: =AB40*AC40 -> 41299875 | AJ40: =AB40*AD40 -> 139387078125 | AK40: =AB40*AE40 -> 36711 | AL40: =AD40*AC40 -> 38443359375 | AM40: =AC40*AE40 -> 10125 | AN40: =AD40*AE40 -> 34171875 | AO40: =(Z40-AU$37-AU$38*AB40-AU$39*AC40-AU$40*AD40-AU$41*AE40-AU$42*AF40-AU$43*AG40-AU$44*AH40-AU$45*AI40-AU$46*AJ40-AU$47*AK40-AU$48*AL40-AU$49*AM40-AU$50*AN40)^2 -> 5.5158336e+19 | AP40: =(Z40-AW$38)^2 -> 1.6779437e+18 | AQ40: =AP40-AO40 -> -5.3480392e+19 | AS40: 1.8066266e+18 | AU40: -215130.38 | AV40: R2= | AW40: =1-AO92/AP92 -> 0.3814302
B41: 265000 | C41: 1 | D41: 6519 | E41: 2312 | F41: =E41^2 -> 5345344 | G41: 3 | H41: =(B41-L$22-L$23*D41-L$24*E41-L$25*F41-L$26*G41)^2 -> 1.5904217e+09 | I41: =(B41-O$21)^2 -> 8.1487606e+08 | Z41: =H41 -> 1.5904217e+09 | AA41: =C41 -> 1 | AB41: =D41 -> 6519 | AC41: =E41 -> 2312 | AD41: =AC41^2 -> 5345344 | AE41: =G41 -> 3 | AF41: =AB41^2 -> 42497361 | AG41: =AD41^2 -> 28572702478336 | AH41: =AE41^2 -> 9 | AI41: =AB41*AC41 -> 15071928 | AJ41: =AB41*AD41 -> 34846297536 | AK41: =AB41*AE41 -> 19557 | AL41: =AD41*AC41 -> 12358435328 | AM41: =AC41*AE41 -> 6936 | AN41: =AD41*AE41 -> 16036032 | AO41: =(Z41-AU$37-AU$38*AB41-AU$39*AC41-AU$40*AD41-AU$41*AE41-AU$42*AF41-AU$43*AG41-AU$44*AH41-AU$45*AI41-AU$46*AJ41-AU$47*AK41-AU$48*AL41-AU$49*AM41-AU$50*AN41)^2 -> 3.8009077e+18 | AP41: =(Z41-AW$38)^2 -> 2.8258422e+18 | AQ41: =AP41-AO41 -> -9.7506549e+17 | AS41: 1.1527278e+12 | AU41: -1.0875871e+09
B42: 227400 | C42: 1 | D42: 3597 | E42: 1760 | F42: =E42^2 -> 3097600 | G42: 4 | H42: =(B42-L$22-L$23*D42-L$24*E42-L$25*F42-L$26*G42)^2 -> 7.9937175e+08 | I42: =(B42-O$21)^2 -> 4.3752978e+09 | Z42: =H42 -> 7.9937175e+08 | AA42: =C42 -> 1 | AB42: =D42 -> 3597 | AC42: =E42 -> 1760 | AD42: =AC42^2 -> 3097600 | AE42: =G42 -> 4 | AF42: =AB42^2 -> 12938409 | AG42: =AD42^2 -> 9595125760000 | AH42: =AE42^2 -> 16 | AI42: =AB42*AC42 -> 6330720 | AJ42: =AB42*AD42 -> 11142067200 | AK42: =AB42*AE42 -> 14388 | AL42: =AD42*AC42 -> 5451776000 | AM42: =AC42*AE42 -> 7040 | AN42: =AD42*AE42 -> 12390400 | AO42: =(Z42-AU$37-AU$38*AB42-AU$39*AC42-AU$40*AD42-AU$41*AE42-AU$42*AF42-AU$43*AG42-AU$44*AH42-AU$45*AI42-AU$46*AJ42-AU$47*AK42-AU$48*AL42-AU$49*AM42-AU$50*AN42)^2 -> 2.0455821e+18 | AP42: =(Z42-AW$38)^2 -> 6.1111506e+18 | AQ42: =AP42-AO42 -> 4.0655685e+18 | AS42: 1.5702894e+20 | AU42: -1.6218809 | AV42: F-Statist | AW42: =AW40/(1-AW40)*(88-14)/(14-1) -> 3.5100616
B43: 285000 | C43: 1 | D43: 7123 | E43: 1774 | F43: =E43^2 -> 3147076 | G43: 3 | H43: =(B43-L$22-L$23*D43-L$24*E43-L$25*F43-L$26*G43)^2 -> 1.1956394e+09 | I43: =(B43-O$21)^2 -> 73034699 | Z43: =H43 -> 1.1956394e+09 | AA43: =C43 -> 1 | AB43: =D43 -> 7123 | AC43: =E43 -> 1774 | AD43: =AC43^2 -> 3147076 | AE43: =G43 -> 3 | AF43: =AB43^2 -> 50737129 | AG43: =AD43^2 -> 9904087349776 | AH43: =AE43^2 -> 9 | AI43: =AB43*AC43 -> 12636202 | AJ43: =AB43*AD43 -> 22416622348 | AK43: =AB43*AE43 -> 21369 | AL43: =AD43*AC43 -> 5582912824 | AM43: =AC43*AE43 -> 5322 | AN43: =AD43*AE43 -> 9441228 | AO43: =(Z43-AU$37-AU$38*AB43-AU$39*AC43-AU$40*AD43-AU$41*AE43-AU$42*AF43-AU$43*AG43-AU$44*AH43-AU$45*AI43-AU$46*AJ43-AU$47*AK43-AU$48*AL43-AU$49*AM43-AU$50*AN43)^2 -> 1.1637742e+18 | AP43: =(Z43-AW$38)^2 -> 4.3089725e+18 | AQ43: =AP43-AO43 -> 3.1451984e+18 | AR43: (X'Y)= | AS43: 1.6334137e+25 | AT43: β= | AU43: -0.0067333612 | AV43: Est= | AW43: =COUNT(AA4:AA91)*AW40 -> 33.565858 | AX43: nR2
B44: 268000 | C44: 1 | D44: 5642 | E44: 1376 | F44: =E44^2 -> 1893376 | G44: 3 | H44: =(B44-L$22-L$23*D44-L$24*E44-L$25*F44-L$26*G44)^2 -> 2.6418536e+09 | I44: =(B44-O$21)^2 -> 6.5259986e+08 | Z44: =H44 -> 2.6418536e+09 | AA44: =C44 -> 1 | AB44: =D44 -> 5642 | AC44: =E44 -> 1376 | AD44: =AC44^2 -> 1893376 | AE44: =G44 -> 3 | AF44: =AB44^2 -> 31832164 | AG44: =AD44^2 -> 3584872677376 | AH44: =AE44^2 -> 9 | AI44: =AB44*AC44 -> 7763392 | AJ44: =AB44*AD44 -> 10682427392 | AK44: =AB44*AE44 -> 16926 | AL44: =AD44*AC44 -> 2605285376 | AM44: =AC44*AE44 -> 4128 | AN44: =AD44*AE44 -> 5680128 | AO44: =(Z44-AU$37-AU$38*AB44-AU$39*AC44-AU$40*AD44-AU$41*AE44-AU$42*AF44-AU$43*AG44-AU$44*AH44-AU$45*AI44-AU$46*AJ44-AU$47*AK44-AU$48*AL44-AU$49*AM44-AU$50*AN44)^2 -> 2.037568e+18 | AP44: =(Z44-AW$38)^2 -> 3.9638641e+17 | AQ44: =AP44-AO44 -> -1.6411816e+18 | AS44: 4.8422063e+12 | AU44: -3.8975829e+08
B45: 310000 | C45: 1 | D45: 8602 | E45: 1835 | F45: =E45^2 -> 3367225 | G45: 4 | H45: =(B45-L$22-L$23*D45-L$24*E45-L$25*F45-L$26*G45)^2 -> 1.4326765e+09 | I45: =(B45-O$21)^2 -> 2.7073299e+08 | Z45: =H45 -> 1.4326765e+09 | AA45: =C45 -> 1 | AB45: =D45 -> 8602 | AC45: =E45 -> 1835 | AD45: =AC45^2 -> 3367225 | AE45: =G45 -> 4 | AF45: =AB45^2 -> 73994404 | AG45: =AD45^2 -> 11338204200625 | AH45: =AE45^2 -> 16 | AI45: =AB45*AC45 -> 15784670 | AJ45: =AB45*AD45 -> 28964869450 | AK45: =AB45*AE45 -> 34408 | AL45: =AD45*AC45 -> 6178857875 | AM45: =AC45*AE45 -> 7340 | AN45: =AD45*AE45 -> 13468900 | AO45: =(Z45-AU$37-AU$38*AB45-AU$39*AC45-AU$40*AD45-AU$41*AE45-AU$42*AF45-AU$43*AG45-AU$44*AH45-AU$45*AI45-AU$46*AJ45-AU$47*AK45-AU$48*AL45-AU$49*AM45-AU$50*AN45)^2 -> 3.2974236e+18 | AP45: =(Z45-AW$38)^2 -> 3.3810728e+18 | AQ45: =AP45-AO45 -> 8.3649152e+16 | AS45: 1.1134871e+19 | AU45: 2325.7996 | AV45: σ2(BP)= | AW45: =H92/(COUNT(C4:C91)-5) -> 3.468521e+09
B46: 266000 | C46: 1 | D46: 5494 | E46: 2048 | F46: =E46^2 -> 4194304 | G46: 3 | H46: =(B46-L$22-L$23*D46-L$24*E46-L$25*F46-L$26*G46)^2 -> 57834984 | I46: =(B46-O$21)^2 -> 7.5878399e+08 | Z46: =H46 -> 57834984 | AA46: =C46 -> 1 | AB46: =D46 -> 5494 | AC46: =E46 -> 2048 | AD46: =AC46^2 -> 4194304 | AE46: =G46 -> 3 | AF46: =AB46^2 -> 30184036 | AG46: =AD46^2 -> 17592186044416 | AH46: =AE46^2 -> 9 | AI46: =AB46*AC46 -> 11251712 | AJ46: =AB46*AD46 -> 23043506176 | AK46: =AB46*AE46 -> 16482 | AL46: =AD46*AC46 -> 8589934592 | AM46: =AC46*AE46 -> 6144 | AN46: =AD46*AE46 -> 12582912 | AO46: =(Z46-AU$37-AU$38*AB46-AU$39*AC46-AU$40*AD46-AU$41*AE46-AU$42*AF46-AU$43*AG46-AU$44*AH46-AU$45*AI46-AU$46*AJ46-AU$47*AK46-AU$48*AL46-AU$49*AM46-AU$50*AN46)^2 -> 7.1947992e+14 | AP46: =(Z46-AW$38)^2 -> 1.0327295e+19 | AQ46: =AP46-AO46 -> 1.0326576e+19 | AS46: 3.1777258e+22 | AU46: -0.42429185 | AV46: Est= | AW46: =AQ92/(2*AW45^2) -> 59.95487 | AX46: ScaledSS
B47: 270000 | C47: 1 | D47: 7800 | E47: 2124 | F47: =E47^2 -> 4511376 | G47: 3 | H47: =(B47-L$22-L$23*D47-L$24*E47-L$25*F47-L$26*G47)^2 -> 2.6005201e+08 | I47: =(B47-O$21)^2 -> 5.5441572e+08 | Z47: =H47 -> 2.6005201e+08 | AA47: =C47 -> 1 | AB47: =D47 -> 7800 | AC47: =E47 -> 2124 | AD47: =AC47^2 -> 4511376 | AE47: =G47 -> 3 | AF47: =AB47^2 -> 60840000 | AG47: =AD47^2 -> 20352513413376 | AH47: =AE47^2 -> 9 | AI47: =AB47*AC47 -> 16567200 | AJ47: =AB47*AD47 -> 35188732800 | AK47: =AB47*AE47 -> 23400 | AL47: =AD47*AC47 -> 9582162624 | AM47: =AC47*AE47 -> 6372 | AN47: =AD47*AE47 -> 13534128 | AO47: =(Z47-AU$37-AU$38*AB47-AU$39*AC47-AU$40*AD47-AU$41*AE47-AU$42*AF47-AU$43*AG47-AU$44*AH47-AU$45*AI47-AU$46*AJ47-AU$47*AK47-AU$48*AL47-AU$49*AM47-AU$50*AN47)^2 -> 1.1731058e+15 | AP47: =(Z47-AW$38)^2 -> 9.0684931e+18 | AQ47: =AP47-AO47 -> 9.06732e+18 | AS47: 1.8585647e+16 | AU47: 267199.31
B48: 247000 | C48: 1 | D48: 9425 | E48: 1440 | F48: =E48^2 -> 2073600 | G48: 3 | H48: =(B48-L$22-L$23*D48-L$24*E48-L$25*F48-L$26*G48)^2 -> 3.4800443e+08 | I48: =(B48-O$21)^2 -> 2.1665333e+09 | Z48: =H48 -> 3.4800443e+08 | AA48: =C48 -> 1 | AB48: =D48 -> 9425 | AC48: =E48 -> 1440 | AD48: =AC48^2 -> 2073600 | AE48: =G48 -> 3 | AF48: =AB48^2 -> 88830625 | AG48: =AD48^2 -> 4299816960000 | AH48: =AE48^2 -> 9 | AI48: =AB48*AC48 -> 13572000 | AJ48: =AB48*AD48 -> 19543680000 | AK48: =AB48*AE48 -> 28275 | AL48: =AD48*AC48 -> 2985984000 | AM48: =AC48*AE48 -> 4320 | AN48: =AD48*AE48 -> 6220800 | AO48: =(Z48-AU$37-AU$38*AB48-AU$39*AC48-AU$40*AD48-AU$41*AE48-AU$42*AF48-AU$43*AG48-AU$44*AH48-AU$45*AI48-AU$46*AJ48-AU$47*AK48-AU$48*AL48-AU$49*AM48-AU$50*AN48)^2 -> 7.1539143e+18 | AP48: =(Z48-AW$38)^2 -> 8.54651e+18 | AQ48: =AP48-AO48 -> 1.3925957e+18 | AS48: 5.2504361e+21 | AU48: 64.824194
B49: 343000 | C49: 1 | D49: 8577 | E49: 2106 | F49: =E49^2 -> 4435236 | G49: 3 | H49: =(B49-L$22-L$23*D49-L$24*E49-L$25*F49-L$26*G49)^2 -> 3.2827927e+09 | I49: =(B49-O$21)^2 -> 2.4456947e+09 | Z49: =H49 -> 3.2827927e+09 | AA49: =C49 -> 1 | AB49: =D49 -> 8577 | AC49: =E49 -> 2106 | AD49: =AC49^2 -> 4435236 | AE49: =G49 -> 3 | AF49: =AB49^2 -> 73564929 | AG49: =AD49^2 -> 19671318375696 | AH49: =AE49^2 -> 9 | AI49: =AB49*AC49 -> 18063162 | AJ49: =AB49*AD49 -> 38041019172 | AK49: =AB49*AE49 -> 25731 | AL49: =AD49*AC49 -> 9340607016 | AM49: =AC49*AE49 -> 6318 | AN49: =AD49*AE49 -> 13305708 | AO49: =(Z49-AU$37-AU$38*AB49-AU$39*AC49-AU$40*AD49-AU$41*AE49-AU$42*AF49-AU$43*AG49-AU$44*AH49-AU$45*AI49-AU$46*AJ49-AU$47*AK49-AU$48*AL49-AU$49*AM49-AU$50*AN49)^2 -> 7.455872e+18 | AP49: =(Z49-AW$38)^2 -> 1.2874983e+14 | AQ49: =AP49-AO49 -> -7.4557432e+18 | AS49: 2.8630228e+15 | AU49: 2727394.2
B50: 477500 | C50: 1 | D50: 8400 | E50: 3529 | F50: =E50^2 -> 12453841 | G50: 7 | H50: =(B50-L$22-L$23*D50-L$24*E50-L$25*F50-L$26*G50)^2 -> 4.7347252e+09 | I50: =(B50-O$21)^2 -> 3.3839062e+10 | Z50: =H50 -> 4.7347252e+09 | AA50: =C50 -> 1 | AB50: =D50 -> 8400 | AC50: =E50 -> 3529 | AD50: =AC50^2 -> 12453841 | AE50: =G50 -> 7 | AF50: =AB50^2 -> 70560000 | AG50: =AD50^2 -> 155098155653281 | AH50: =AE50^2 -> 49 | AI50: =AB50*AC50 -> 29643600 | AJ50: =AB50*AD50 -> 104612264400 | AK50: =AB50*AE50 -> 58800 | AL50: =AD50*AC50 -> 43949604889 | AM50: =AC50*AE50 -> 24703 | AN50: =AD50*AE50 -> 87176887 | AO50: =(Z50-AU$37-AU$38*AB50-AU$39*AC50-AU$40*AD50-AU$41*AE50-AU$42*AF50-AU$43*AG50-AU$44*AH50-AU$45*AI50-AU$46*AJ50-AU$47*AK50-AU$48*AL50-AU$49*AM50-AU$50*AN50)^2 -> 3.0202064e+18 | AP50: =(Z50-AW$38)^2 -> 2.1411863e+18 | AQ50: =AP50-AO50 -> -8.7902015e+17 | AS50: 7.8973542e+18 | AU50: -648.05417
B51: 350000 | C51: 1 | D51: 9773 | E51: 2051 | F51: =E51^2 -> 4206601 | G51: 4 | H51: =(B51-L$22-L$23*D51-L$24*E51-L$25*F51-L$26*G51)^2 -> 2.961854e+09 | I51: =(B51-O$21)^2 -> 3.1870503e+09 | Z51: =H51 -> 2.961854e+09 | AA51: =C51 -> 1 | AB51: =D51 -> 9773 | AC51: =E51 -> 2051 | AD51: =AC51^2 -> 4206601 | AE51: =G51 -> 4 | AF51: =AB51^2 -> 95511529 | AG51: =AD51^2 -> 17695491973201 | AH51: =AE51^2 -> 16 | AI51: =AB51*AC51 -> 20044423 | AJ51: =AB51*AD51 -> 41111111573 | AK51: =AB51*AE51 -> 39092 | AL51: =AD51*AC51 -> 8627738651 | AM51: =AC51*AE51 -> 8204 | AN51: =AD51*AE51 -> 16826404 | AO51: =(Z51-AU$37-AU$38*AB51-AU$39*AC51-AU$40*AD51-AU$41*AE51-AU$42*AF51-AU$43*AG51-AU$44*AH51-AU$45*AI51-AU$46*AJ51-AU$47*AK51-AU$48*AL51-AU$49*AM51-AU$50*AN51)^2 -> 7.8680428e+16 | AP51: =(Z51-AW$38)^2 -> 9.5847125e+16 | AQ51: =AP51-AO51 -> 1.7166697e+16
B52: 230000 | C52: 1 | D52: 4806 | E52: 1573 | F52: =E52^2 -> 2474329 | G52: 4 | H52: =(B52-L$22-L$23*D52-L$24*E52-L$25*F52-L$26*G52)^2 -> 1.5743762e+08 | I52: =(B52-O$21)^2 -> 4.0380984e+09 | Z52: =H52 -> 1.5743762e+08 | AA52: =C52 -> 1 | AB52: =D52 -> 4806 | AC52: =E52 -> 1573 | AD52: =AC52^2 -> 2474329 | AE52: =G52 -> 4 | AF52: =AB52^2 -> 23097636 | AG52: =AD52^2 -> 6122304000241 | AH52: =AE52^2 -> 16 | AI52: =AB52*AC52 -> 7559838 | AJ52: =AB52*AD52 -> 11891625174 | AK52: =AB52*AE52 -> 19224 | AL52: =AD52*AC52 -> 3892119517 | AM52: =AC52*AE52 -> 6292 | AN52: =AD52*AE52 -> 9897316 | AO52: =(Z52-AU$37-AU$38*AB52-AU$39*AC52-AU$40*AD52-AU$41*AE52-AU$42*AF52-AU$43*AG52-AU$44*AH52-AU$45*AI52-AU$46*AJ52-AU$47*AK52-AU$48*AL52-AU$49*AM52-AU$50*AN52)^2 -> 1.4594086e+19 | AP52: =(Z52-AW$38)^2 -> 9.6970476e+18 | AQ52: =AP52-AO52 -> -4.8970385e+18
B53: 251000 | C53: 1 | D53: 5763 | E53: 1630 | F53: =E53^2 -> 2656900 | G53: 3 | H53: =(B53-L$22-L$23*D53-L$24*E53-L$25*F53-L$26*G53)^2 -> 2.3777151e+08 | I53: =(B53-O$21)^2 -> 1.810165e+09 | Z53: =H53 -> 2.3777151e+08 | AA53: =C53 -> 1 | AB53: =D53 -> 5763 | AC53: =E53 -> 1630 | AD53: =AC53^2 -> 2656900 | AE53: =G53 -> 3 | AF53: =AB53^2 -> 33212169 | AG53: =AD53^2 -> 7059117610000 | AH53: =AE53^2 -> 9 | AI53: =AB53*AC53 -> 9393690 | AJ53: =AB53*AD53 -> 15311714700 | AK53: =AB53*AE53 -> 17289 | AL53: =AD53*AC53 -> 4330747000 | AM53: =AC53*AE53 -> 4890 | AN53: =AD53*AE53 -> 7970700 | AO53: =(Z53-AU$37-AU$38*AB53-AU$39*AC53-AU$40*AD53-AU$41*AE53-AU$42*AF53-AU$43*AG53-AU$44*AH53-AU$45*AI53-AU$46*AJ53-AU$47*AK53-AU$48*AL53-AU$49*AM53-AU$50*AN53)^2 -> 9.6101833e+18 | AP53: =(Z53-AW$38)^2 -> 9.2031803e+18 | AQ53: =AP53-AO53 -> -4.0700299e+17
B54: 235000 | C54: 1 | D54: 6383 | E54: 1840 | F54: =E54^2 -> 3385600 | G54: 4 | H54: =(B54-L$22-L$23*D54-L$24*E54-L$25*F54-L$26*G54)^2 -> 1.1086211e+09 | I54: =(B54-O$21)^2 -> 3.4276381e+09 | Z54: =H54 -> 1.1086211e+09 | AA54: =C54 -> 1 | AB54: =D54 -> 6383 | AC54: =E54 -> 1840 | AD54: =AC54^2 -> 3385600 | AE54: =G54 -> 4 | AF54: =AB54^2 -> 40742689 | AG54: =AD54^2 -> 11462287360000 | AH54: =AE54^2 -> 16 | AI54: =AB54*AC54 -> 11744720 | AJ54: =AB54*AD54 -> 21610284800 | AK54: =AB54*AE54 -> 25532 | AL54: =AD54*AC54 -> 6229504000 | AM54: =AC54*AE54 -> 7360 | AN54: =AD54*AE54 -> 13542400 | AO54: =(Z54-AU$37-AU$38*AB54-AU$39*AC54-AU$40*AD54-AU$41*AE54-AU$42*AF54-AU$43*AG54-AU$44*AH54-AU$45*AI54-AU$46*AJ54-AU$47*AK54-AU$48*AL54-AU$49*AM54-AU$50*AN54)^2 -> 1.7944152e+18 | AP54: =(Z54-AW$38)^2 -> 4.677811e+18 | AQ54: =AP54-AO54 -> 2.8833957e+18
B55: 361000 | C55: 1 | D55: 9000 | E55: 2066 | F55: =E55^2 -> 4268356 | G55: 4 | H55: =(B55-L$22-L$23*D55-L$24*E55-L$25*F55-L$26*G55)^2 -> 4.2721764e+09 | I55: =(B55-O$21)^2 -> 4.5500375e+09 | Z55: =H55 -> 4.2721764e+09 | AA55: =C55 -> 1 | AB55: =D55 -> 9000 | AC55: =E55 -> 2066 | AD55: =AC55^2 -> 4268356 | AE55: =G55 -> 4 | AF55: =AB55^2 -> 81000000 | AG55: =AD55^2 -> 18218862942736 | AH55: =AE55^2 -> 16 | AI55: =AB55*AC55 -> 18594000 | AJ55: =AB55*AD55 -> 38415204000 | AK55: =AB55*AE55 -> 36000 | AL55: =AD55*AC55 -> 8818423496 | AM55: =AC55*AE55 -> 8264 | AN55: =AD55*AE55 -> 17073424 | AO55: =(Z55-AU$37-AU$38*AB55-AU$39*AC55-AU$40*AD55-AU$41*AE55-AU$42*AF55-AU$43*AG55-AU$44*AH55-AU$45*AI55-AU$46*AJ55-AU$47*AK55-AU$48*AL55-AU$49*AM55-AU$50*AN55)^2 -> 4.087579e+18 | AP55: =(Z55-AW$38)^2 -> 1.0014616e+18 | AQ55: =AP55-AO55 -> -3.0861174e+18
B56: 360000 | C56: 1 | D56: 10892 | E56: 2750 | F56: =E56^2 -> 7562500 | G56: 4 | H56: =(B56-L$22-L$23*D56-L$24*E56-L$25*F56-L$26*G56)^2 -> 5.6340672e+08 | I56: =(B56-O$21)^2 -> 4.4161296e+09 | Z56: =H56 -> 5.6340672e+08 | AA56: =C56 -> 1 | AB56: =D56 -> 10892 | AC56: =E56 -> 2750 | AD56: =AC56^2 -> 7562500 | AE56: =G56 -> 4 | AF56: =AB56^2 -> 118635664 | AG56: =AD56^2 -> 57191406250000 | AH56: =AE56^2 -> 16 | AI56: =AB56*AC56 -> 29953000 | AJ56: =AB56*AD56 -> 82370750000 | AK56: =AB56*AE56 -> 43568 | AL56: =AD56*AC56 -> 20796875000 | AM56: =AC56*AE56 -> 11000 | AN56: =AD56*AE56 -> 30250000 | AO56: =(Z56-AU$37-AU$38*AB56-AU$39*AC56-AU$40*AD56-AU$41*AE56-AU$42*AF56-AU$43*AG56-AU$44*AH56-AU$45*AI56-AU$46*AJ56-AU$47*AK56-AU$48*AL56-AU$49*AM56-AU$50*AN56)^2 -> 3.1102115e+19 | AP56: =(Z56-AW$38)^2 -> 7.3334762e+18 | AQ56: =AP56-AO56 -> -2.3768639e+19
B57: 575000 | C57: 1 | D57: 15634 | E57: 3880 | F57: =E57^2 -> 15054400 | G57: 5 | H57: =(B57-L$22-L$23*D57-L$24*E57-L$25*F57-L$26*G57)^2 -> 7.2705019e+08 | I57: =(B57-O$21)^2 -> 7.9216335e+10 | Z57: =H57 -> 7.2705019e+08 | AA57: =C57 -> 1 | AB57: =D57 -> 15634 | AC57: =E57 -> 3880 | AD57: =AC57^2 -> 15054400 | AE57: =G57 -> 5 | AF57: =AB57^2 -> 244421956 | AG57: =AD57^2 -> 226634959360000 | AH57: =AE57^2 -> 25 | AI57: =AB57*AC57 -> 60659920 | AJ57: =AB57*AD57 -> 235360489600 | AK57: =AB57*AE57 -> 78170 | AL57: =AD57*AC57 -> 58411072000 | AM57: =AC57*AE57 -> 19400 | AN57: =AD57*AE57 -> 75272000 | AO57: =(Z57-AU$37-AU$38*AB57-AU$39*AC57-AU$40*AD57-AU$41*AE57-AU$42*AF57-AU$43*AG57-AU$44*AH57-AU$45*AI57-AU$46*AJ57-AU$47*AK57-AU$48*AL57-AU$49*AM57-AU$50*AN57)^2 -> 1.3218259e+19 | AP57: =(Z57-AW$38)^2 -> 6.4739495e+18 | AQ57: =AP57-AO57 -> -6.7443099e+18
B58: 209001 | C58: 1 | D58: 6400 | E58: 1854 | F58: =E58^2 -> 3437316 | G58: 4 | H58: =(B58-L$22-L$23*D58-L$24*E58-L$25*F58-L$26*G58)^2 -> 3.6754182e+09 | I58: =(B58-O$21)^2 -> 7.1478628e+09 | Z58: =H58 -> 3.6754182e+09 | AA58: =C58 -> 1 | AB58: =D58 -> 6400 | AC58: =E58 -> 1854 | AD58: =AC58^2 -> 3437316 | AE58: =G58 -> 4 | AF58: =AB58^2 -> 40960000 | AG58: =AD58^2 -> 11815141283856 | AH58: =AE58^2 -> 16 | AI58: =AB58*AC58 -> 11865600 | AJ58: =AB58*AD58 -> 21998822400 | AK58: =AB58*AE58 -> 25600 | AL58: =AD58*AC58 -> 6372783864 | AM58: =AC58*AE58 -> 7416 | AN58: =AD58*AE58 -> 13749264 | AO58: =(Z58-AU$37-AU$38*AB58-AU$39*AC58-AU$40*AD58-AU$41*AE58-AU$42*AF58-AU$43*AG58-AU$44*AH58-AU$45*AI58-AU$46*AJ58-AU$47*AK58-AU$48*AL58-AU$49*AM58-AU$50*AN58)^2 -> 1.7575195e+18 | AP58: =(Z58-AW$38)^2 -> 1.6319359e+17 | AQ58: =AP58-AO58 -> -1.5943259e+18
B59: 246000 | C59: 1 | D59: 6314 | E59: 1662 | F59: =E59^2 -> 2762244 | G59: 3 | H59: =(B59-L$22-L$23*D59-L$24*E59-L$25*F59-L$26*G59)^2 -> 45377318 | I59: =(B59-O$21)^2 -> 2.2606254e+09 | Z59: =H59 -> 45377318 | AA59: =C59 -> 1 | AB59: =D59 -> 6314 | AC59: =E59 -> 1662 | AD59: =AC59^2 -> 2762244 | AE59: =G59 -> 3 | AF59: =AB59^2 -> 39866596 | AG59: =AD59^2 -> 7629991915536 | AH59: =AE59^2 -> 9 | AI59: =AB59*AC59 -> 10493868 | AJ59: =AB59*AD59 -> 17440808616 | AK59: =AB59*AE59 -> 18942 | AL59: =AD59*AC59 -> 4590849528 | AM59: =AC59*AE59 -> 4986 | AN59: =AD59*AE59 -> 8286732 | AO59: =(Z59-AU$37-AU$38*AB59-AU$39*AC59-AU$40*AD59-AU$41*AE59-AU$42*AF59-AU$43*AG59-AU$44*AH59-AU$45*AI59-AU$46*AJ59-AU$47*AK59-AU$48*AL59-AU$49*AM59-AU$50*AN59)^2 -> 9.2047792e+18 | AP59: =(Z59-AW$38)^2 -> 1.0407518e+19 | AQ59: =AP59-AO59 -> 1.2027392e+18
B60: 713500 | C60: 1 | D60: 28231 | E60: 3331 | F60: =E60^2 -> 11095561 | G60: 5 | H60: =(B60-L$22-L$23*D60-L$24*E60-L$25*F60-L$26*G60)^2 -> 3.6425337e+10 | I60: =(B60-O$21)^2 -> 1.7636133e+11 | Z60: =H60 -> 3.6425337e+10 | AA60: =C60 -> 1 | AB60: =D60 -> 28231 | AC60: =E60 -> 3331 | AD60: =AC60^2 -> 11095561 | AE60: =G60 -> 5 | AF60: =AB60^2 -> 796989361 | AG60: =AD60^2 -> 123111473904721 | AH60: =AE60^2 -> 25 | AI60: =AB60*AC60 -> 94037461 | AJ60: =AB60*AD60 -> 313238782591 | AK60: =AB60*AE60 -> 141155 | AL60: =AD60*AC60 -> 36959313691 | AM60: =AC60*AE60 -> 16655 | AN60: =AD60*AE60 -> 55477805 | AO60: =(Z60-AU$37-AU$38*AB60-AU$39*AC60-AU$40*AD60-AU$41*AE60-AU$42*AF60-AU$43*AG60-AU$44*AH60-AU$45*AI60-AU$46*AJ60-AU$47*AK60-AU$48*AL60-AU$49*AM60-AU$50*AN60)^2 -> 1.0811254e+20 | AP60: =(Z60-AW$38)^2 -> 1.0991805e+21 | AQ60: =AP60-AO60 -> 9.9106796e+20
B61: 248000 | C61: 1 | D61: 7050 | E61: 1656 | F61: =E61^2 -> 2742336 | G61: 4 | H61: =(B61-L$22-L$23*D61-L$24*E61-L$25*F61-L$26*G61)^2 -> 30718984 | I61: =(B61-O$21)^2 -> 2.0744412e+09 | Z61: =H61 -> 30718984 | AA61: =C61 -> 1 | AB61: =D61 -> 7050 | AC61: =E61 -> 1656 | AD61: =AC61^2 -> 2742336 | AE61: =G61 -> 4 | AF61: =AB61^2 -> 49702500 | AG61: =AD61^2 -> 7520406736896 | AH61: =AE61^2 -> 16 | AI61: =AB61*AC61 -> 11674800 | AJ61: =AB61*AD61 -> 19333468800 | AK61: =AB61*AE61 -> 28200 | AL61: =AD61*AC61 -> 4541308416 | AM61: =AC61*AE61 -> 6624 | AN61: =AD61*AE61 -> 10969344 | AO61: =(Z61-AU$37-AU$38*AB61-AU$39*AC61-AU$40*AD61-AU$41*AE61-AU$42*AF61-AU$43*AG61-AU$44*AH61-AU$45*AI61-AU$46*AJ61-AU$47*AK61-AU$48*AL61-AU$49*AM61-AU$50*AN61)^2 -> 1.4768915e+19 | AP61: =(Z61-AW$38)^2 -> 1.0502311e+19 | AQ61: =AP61-AO61 -> -4.2666037e+18
B62: 375000 | C62: 1 | D62: 6637 | E62: 2293 | F62: =E62^2 -> 5257849 | G62: 5 | H62: =(B62-L$22-L$23*D62-L$24*E62-L$25*F62-L$26*G62)^2 -> 2.0649444e+09 | I62: =(B62-O$21)^2 -> 6.6347486e+09 | Z62: =H62 -> 2.0649444e+09 | AA62: =C62 -> 1 | AB62: =D62 -> 6637 | AC62: =E62 -> 2293 | AD62: =AC62^2 -> 5257849 | AE62: =G62 -> 5 | AF62: =AB62^2 -> 44049769 | AG62: =AD62^2 -> 27644976106801 | AH62: =AE62^2 -> 25 | AI62: =AB62*AC62 -> 15218641 | AJ62: =AB62*AD62 -> 34896343813 | AK62: =AB62*AE62 -> 33185 | AL62: =AD62*AC62 -> 12056247757 | AM62: =AC62*AE62 -> 11465 | AN62: =AD62*AE62 -> 26289245 | AO62: =(Z62-AU$37-AU$38*AB62-AU$39*AC62-AU$40*AD62-AU$41*AE62-AU$42*AF62-AU$43*AG62-AU$44*AH62-AU$45*AI62-AU$46*AJ62-AU$47*AK62-AU$48*AL62-AU$49*AM62-AU$50*AN62)^2 -> 2.4496632e+18 | AP62: =(Z62-AW$38)^2 -> 1.4556459e+18 | AQ62: =AP62-AO62 -> -9.9401721e+17
... B91: 242000 | C91: 1 | D91: 4950 | E91: 1774 | F91: =E91^2 -> 3147076 | G91: 4 | H91: =(B91-L$22-L$23*D91-L$24*E91-L$25*F91-L$26*G91)^2 -> 3.0762917e+08 | I91: =(B91-O$21)^2 -> 2.6569936e+09 | Z91: =H91 -> 3.0762917e+08 | AA91: =C91 -> 1 | AB91: =D91 -> 4950 | AC91: =E91 -> 1774 | AD91: =AC91^2 -> 3147076 | AE91: =G91 -> 4 | AF91: =AB91^2 -> 24502500 | AG91: =AD91^2 -> 9904087349776 | AH91: =AE91^2 -> 16 | AI91: =AB91*AC91 -> 8781300 | AJ91: =AB91*AD91 -> 15578026200 | AK91: =AB91*AE91 -> 19800 | AL91: =AD91*AC91 -> 5582912824 | AM91: =AC91*AE91 -> 7096 | AN91: =AD91*AE91 -> 12588304 | AO91: =(Z91-AU$37-AU$38*AB91-AU$39*AC91-AU$40*AD91-AU$41*AE91-AU$42*AF91-AU$43*AG91-AU$44*AH91-AU$45*AI91-AU$46*AJ91-AU$47*AK91-AU$48*AL91-AU$49*AM91-AU$50*AN91)^2 -> 4.8444517e+18 | AP91: =(Z91-AW$38)^2 -> 8.7842096e+18 | AQ91: =AP91-AO91 -> 3.9397579e+18
H92: =SUM(H4:H91) -> 2.8788724e+11 | I92: =SUM(I4:I91) -> 9.1785451e+11 | Z92: =SUM(Z4:Z91) -> 2.8788724e+11 | AO92: =SUM(AO4:AO91) -> 2.339466e+21 | AP92: =SUM(AP4:AP91) -> 3.7820566e+21 | AQ92: =AP92-AO92 -> 1.4425906e+21

Sheet Ex7a
B2: Procedimento de White
C4: Var(βOLS)= | D4: (XX)-1*S*(X'X)-1 | G4: n= | H4: 88
G5: k= | H5: 5
C6: S= | D6: n/(n-k)*X'*M(ei2)*X
C8: S= | D8: n/(n-k)*(X*)'*(X)
I9: Matriz(X*)
B10: n | C10: AT | D10: AH | E10: AH^2 | F10: QT | G10: e2 | I10: n | J10: AT | K10: AH | L10: AH^2 | M10: QT | P10: {=H4/(H4-H5)*MMULT(TRANSPOSE(I11:M98),B11:F98)} -> 3.0522984e+11 | Q10: 4.5733065e+15 | R10: 723195465828574 | S10: 1.9154595e+18 | T10: 1.2221692e+12
B11: 1 | C11: 5200 | D11: 1374 | E11: =D11^2 -> 1887876 | F11: 3 | G11: ='Ex7'!H4 -> 6.0556254e+08 | I11: =B11*$G11 -> 6.0556254e+08 | J11: =C11*$G11 -> 3.1489252e+12 | K11: =D11*$G11 -> 8.3204293e+11 | L11: =E11*$G11 -> 1.143227e+15 | M11: =F11*$G11 -> 1.8166876e+09 | P11: 4.5733065e+15 | Q11: 1.6648851e+20 | R11: 1.1805646e+19 | S11: 3.3691551e+22 | T11: 1.9705264e+16
B12: 1 | C12: 6000 | D12: 1767 | E12: =D12^2 -> 3122289 | F12: 3 | G12: ='Ex7'!H5 -> 1.7321817e+09 | I12: =B12*$G12 -> 1.7321817e+09 | J12: =C12*$G12 -> 1.039309e+13 | K12: =D12*$G12 -> 3.0607651e+12 | L12: =E12*$G12 -> 5.408372e+15 | M12: =F12*$G12 -> 5.1965452e+09 | O12: S= | P12: 723195465828574 | Q12: 1.1805646e+19 | R12: 1.9154595e+18 | S12: 5.5667275e+21 | T12: 3.0354941e+15
B13: 1 | C13: 2892 | D13: 1890 | E13: =D13^2 -> 3572100 | F13: 3 | G13: ='Ex7'!H6 -> 1.6510524e+08 | I13: =B13*$G13 -> 1.6510524e+08 | J13: =C13*$G13 -> 4.7748435e+11 | K13: =D13*$G13 -> 3.120489e+11 | L13: =E13*$G13 -> 5.8977243e+14 | M13: =F13*$G13 -> 4.9531572e+08 | P13: 1.9154595e+18 | Q13: 3.3691551e+22 | R13: 5.5667275e+21 | S13: 1.7318122e+25 | T13: 8.3730984e+18
B14: 1 | C14: 6460 | D14: 1899 | E14: =D14^2 -> 3606201 | F14: 3 | G14: ='Ex7'!H7 -> 2.3661731e+09 | I14: =B14*$G14 -> 2.3661731e+09 | J14: =C14*$G14 -> 1.5285479e+13 | K14: =D14*$G14 -> 4.4933628e+12 | L14: =E14*$G14 -> 8.532896e+15 | M14: =F14*$G14 -> 7.0985194e+09 | P14: 1.2221692e+12 | Q14: 1.9705264e+16 | R14: 3.0354941e+15 | S14: 8.3730984e+18 | T14: 5.1339055e+12
B15: 1 | C15: 5922 | D15: 2000 | E15: =D15^2 -> 4000000 | F15: 4 | G15: ='Ex7'!H8 -> 1.8374514e+09 | I15: =B15*$G15 -> 1.8374514e+09 | J15: =C15*$G15 -> 1.0881387e+13 | K15: =D15*$G15 -> 3.6749028e+12 | L15: =E15*$G15 -> 7.3498057e+15 | M15: =F15*$G15 -> 7.3498057e+09
B16: 1 | C16: 6003 | D16: 1768 | E16: =D16^2 -> 3125824 | F16: 3 | G16: ='Ex7'!H9 -> 5.1590847e+08 | I16: =B16*$G16 -> 5.1590847e+08 | J16: =C16*$G16 -> 3.0969985e+12 | K16: =D16*$G16 -> 9.1212617e+11 | L16: =E16*$G16 -> 1.6126391e+15 | M16: =F16*$G16 -> 1.5477254e+09
B17: 1 | C17: 5218 | D17: 1732 | E17: =D17^2 -> 2999824 | F17: 4 | G17: ='Ex7'!H10 -> 1.1317818e+10 | I17: =B17*$G17 -> 1.1317818e+10 | J17: =C17*$G17 -> 5.9056373e+13 | K17: =D17*$G17 -> 1.960246e+13 | L17: =E17*$G17 -> 3.3951461e+16 | M17: =F17*$G17 -> 4.5271271e+10 | P17: {=MINVERSE('Ex7'!L4:P8)} -> 1.933622 | Q17: -1.5551699e-06 | R17: -0.0015420289 | S17: 3.1468134e-07 | T17: -0.051208991
B18: 1 | C18: 6114 | D18: 1932 | E18: =D18^2 -> 3732624 | F18: 3 | G18: ='Ex7'!H11 -> 1.403672e+08 | I18: =B18*$G18 -> 1.403672e+08 | J18: =C18*$G18 -> 8.5820506e+11 | K18: =D18*$G18 -> 2.7118943e+11 | L18: =E18*$G18 -> 5.2393798e+14 | M18: =F18*$G18 -> 4.211016e+08 | P18: -1.5551699e-06 | Q18: 1.1636307e-10 | R18: 9.498961e-10 | S18: -2.6396178e-13 | T18: -7.0039686e-08
B19: 1 | C19: 6710 | D19: 1932 | E19: =D19^2 -> 3732624 | F19: 3 | G19: ='Ex7'!H12 -> 1.1772469e+09 | I19: =B19*$G19 -> 1.1772469e+09 | J19: =C19*$G19 -> 7.8993264e+12 | K19: =D19*$G19 -> 2.2744409e+12 | L19: =E19*$G19 -> 4.3942199e+15 | M19: =F19*$G19 -> 3.5317406e+09 | O19: (X'X)-1= | P19: -0.0015420289 | Q19: 9.498961e-10 | R19: 1.3940228e-06 | S19: -2.8065914e-10 | T19: -1.2099295e-05
B20: 1 | C20: 15086 | D20: 2829 | E20: =D20^2 -> 8003241 | F20: 4 | G20: ='Ex7'!H13 -> 4.6638978e+09 | I20: =B20*$G20 -> 4.6638978e+09 | J20: =C20*$G20 -> 7.0359562e+13 | K20: =D20*$G20 -> 1.3194167e+13 | L20: =E20*$G20 -> 3.7326298e+16 | M20: =F20*$G20 -> 1.8655591e+10 | P20: 3.1468134e-07 | Q20: -2.6396178e-13 | R20: -2.8065914e-10 | S20: 5.856138e-14 | T20: -1.0905102e-09
B21: 1 | C21: 3500 | D21: 1702 | E21: =D21^2 -> 2896804 | F21: 4 | G21: ='Ex7'!H14 -> 3.6577508e+09 | I21: =B21*$G21 -> 3.6577508e+09 | J21: =C21*$G21 -> 1.2802128e+13 | K21: =D21*$G21 -> 6.2254918e+12 | L21: =E21*$G21 -> 1.0595787e+16 | M21: =F21*$G21 -> 1.4631003e+10 | P21: -0.051208991 | Q21: -7.0039686e-08 | R21: -1.2099295e-05 | S21: -1.0905102e-09 | T21: 0.022696758
B22: 1 | C22: 8880 | D22: 1421 | E22: =D22^2 -> 2019241 | F22: 2 | G22: ='Ex7'!H15 -> 1.5333745e+08 | I22: =B22*$G22 -> 1.5333745e+08 | J22: =C22*$G22 -> 1.3616365e+12 | K22: =D22*$G22 -> 2.1789251e+11 | L22: =E22*$G22 -> 3.0962526e+14 | M22: =F22*$G22 -> 3.0667489e+08
B23: 1 | C23: 5305 | D23: 1171 | E23: =D23^2 -> 1371241 | F23: 3 | G23: ='Ex7'!H16 -> 7.0767761e+08 | I23: =B23*$G23 -> 7.0767761e+08 | J23: =C23*$G23 -> 3.7542297e+12 | K23: =D23*$G23 -> 8.2869048e+11 | L23: =E23*$G23 -> 970396547403054 | M23: =F23*$G23 -> 2.1230328e+09
B24: 1 | C24: 1000 | D24: 2768 | E24: =D24^2 -> 7661824 | F24: 3 | G24: ='Ex7'!H17 -> 1.6590132e+09 | I24: =B24*$G24 -> 1.6590132e+09 | J24: =C24*$G24 -> 1.6590132e+12 | K24: =D24*$G24 -> 4.5921485e+12 | L24: =E24*$G24 -> 1.2711067e+16 | M24: =F24*$G24 -> 4.9770396e+09
B25: 1 | C25: 8112 | D25: 3733 | E25: =D25^2 -> 13935289 | F25: 4 | G25: ='Ex7'!H18 -> 1.6149924e+10 | I25: =B25*$G25 -> 1.6149924e+10 | J25: =C25*$G25 -> 1.3100818e+14 | K25: =D25*$G25 -> 6.0287667e+13 | L25: =E25*$G25 -> 2.2505386e+17 | M25: =F25*$G25 -> 6.4599696e+10 | P25: {=MMULT(MMULT(P17:T21,P10:T14),P17:T21)} -> 7.3014275e+09 | Q25: -19205.14 | R25: -5972499.2 | S25: 1336.3768 | T25: -2.4348601e+08
B26: 1 | C26: 15267 | D26: 1478 | E26: =D26^2 -> 2184484 | F26: 2 | G26: ='Ex7'!H19 -> 6.7219635e+08 | I26: =B26*$G26 -> 6.7219635e+08 | J26: =C26*$G26 -> 1.0262422e+13 | K26: =D26*$G26 -> 9.9350621e+11 | L26: =E26*$G26 -> 1.4684022e+15 | M26: =F26*$G26 -> 1.3443927e+09 | P26: -19205.14 | Q26: 1.3327212 | R26: 5.7782614 | S26: -0.0017620783 | T26: 1405.5688
B27: 1 | C27: 5539 | D27: 2343 | E27: =D27^2 -> 5489649 | F27: 4 | G27: ='Ex7'!H20 -> 16048139 | I27: =B27*$G27 -> 16048139 | J27: =C27*$G27 -> 8.8890644e+10 | K27: =D27*$G27 -> 3.7600791e+10 | L27: =E27*$G27 -> 8.8098652e+13 | M27: =F27*$G27 -> 64192558 | O27: Var(βOLS)= | P27: -5972499.2 | Q27: 5.7782614 | R27: 5526.0677 | S27: -1.2374188 | T27: 27425.136
B28: 1 | C28: 7566 | D28: 1567 | E28: =D28^2 -> 2455489 | F28: 3 | G28: ='Ex7'!H21 -> 82926932 | I28: =B28*$G28 -> 82926932 | J28: =C28*$G28 -> 6.2742516e+11 | K28: =D28*$G28 -> 1.299465e+11 | L28: =E28*$G28 -> 2.0362617e+14 | M28: =F28*$G28 -> 2.4878079e+08 | P28: 1336.3768 | Q28: -0.0017620783 | R28: -1.2374188 | S28: 0.00029031336 | T28: -19.821261
B29: 1 | C29: 10859 | D29: 2709 | E29: =D29^2 -> 7338681 | F29: 4 | G29: ='Ex7'!H22 -> 2.7972433e+09 | I29: =B29*$G29 -> 2.7972433e+09 | J29: =C29*$G29 -> 3.0375265e+13 | K29: =D29*$G29 -> 7.5777322e+12 | L29: =E29*$G29 -> 2.0528076e+16 | M29: =F29*$G29 -> 1.1188973e+10 | P29: -2.4348601e+08 | Q29: 1405.5688 | R29: 27425.136 | S29: -19.821261 | T29: 76586467
B30: 1 | C30: 11554 | D30: 1694 | E30: =D30^2 -> 2869636 | F30: 3 | G30: ='Ex7'!H23 -> 1.3778535e+09 | I30: =B30*$G30 -> 1.3778535e+09 | J30: =C30*$G30 -> 1.5919719e+13 | K30: =D30*$G30 -> 2.3340838e+12 | L30: =E30*$G30 -> 3.953938e+15 | M30: =F30*$G30 -> 4.1335605e+09
B31: 1 | C31: 31000 | D31: 3662 | E31: =D31^2 -> 13410244 | F31: 5 | G31: ='Ex7'!H24 -> 1.8594564e+10 | I31: =B31*$G31 -> 1.8594564e+10 | J31: =C31*$G31 -> 576431480360147 | K31: =D31*$G31 -> 6.8093293e+13 | L31: =E31*$G31 -> 2.4935764e+17 | M31: =F31*$G31 -> 9.2972819e+10
B32: 1 | C32: 20700 | D32: 2205 | E32: =D32^2 -> 4862025 | F32: 2 | G32: ='Ex7'!H25 -> 606679.29 | I32: =B32*$G32 -> 606679.29 | J32: =C32*$G32 -> 1.2558261e+10 | K32: =D32*$G32 -> 1.3377278e+09 | L32: =E32*$G32 -> 2.9496899e+12 | M32: =F32*$G32 -> 1213358.6 | P32: β | Q32: Std error | R32: t-statist
B33: 1 | C33: 5525 | D33: 1502 | E33: =D33^2 -> 2256004 | F33: 3 | G33: ='Ex7'!H26 -> 3.9908241e+10 | I33: =B33*$G33 -> 3.9908241e+10 | J33: =C33*$G33 -> 2.2049303e+14 | K33: =D33*$G33 -> 5.9942179e+13 | L33: =E33*$G33 -> 9.0033152e+16 | M33: =F33*$G33 -> 1.1972472e+11 | P33: ='Ex7'!L22 -> 125559.22 | Q33: =P25^0.5 -> 85448.391 | R33: =P33/Q33 -> 1.4694158
B34: 1 | C34: 18838 | D34: 1294 | E34: =D34^2 -> 1674436 | F34: 3 | G34: ='Ex7'!H27 -> 1.4303971e+08 | I34: =B34*$G34 -> 1.4303971e+08 | J34: =C34*$G34 -> 2.694582e+12 | K34: =D34*$G34 -> 1.8509338e+11 | L34: =E34*$G34 -> 2.3951084e+14 | M34: =F34*$G34 -> 4.2911912e+08 | P34: ='Ex7'!L23 -> 1.9441233 | Q34: =Q26^0.5 -> 1.1544354 | R34: =P34/Q34 -> 1.6840468
B35: 1 | C35: 5828 | D35: 1715 | E35: =D35^2 -> 2941225 | F35: 3 | G35: ='Ex7'!H28 -> 45821066 | I35: =B35*$G35 -> 45821066 | J35: =C35*$G35 -> 2.6704517e+11 | K35: =D35*$G35 -> 7.8583128e+10 | L35: =E35*$G35 -> 1.3477006e+14 | M35: =F35*$G35 -> 1.374632e+08 | P35: ='Ex7'!L24 -> -8.6226101 | Q35: =R27^0.5 -> 74.337526 | R35: =P35/Q35 -> -0.1159927
B36: 1 | C36: 6341 | D36: 1574 | E36: =D36^2 -> 2477476 | F36: 3 | G36: ='Ex7'!H29 -> 8.8609483e+08 | I36: =B36*$G36 -> 8.8609483e+08 | J36: =C36*$G36 -> 5.6187273e+12 | K36: =D36*$G36 -> 1.3947133e+12 | L36: =E36*$G36 -> 2.1952787e+15 | M36: =F36*$G36 -> 2.6582845e+09 | P36: ='Ex7'!L25 -> 0.027417642 | Q36: =S28^0.5 -> 0.017038585 | R36: =P36/Q36 -> 1.6091502
B37: 1 | C37: 6362 | D37: 1185 | E37: =D37^2 -> 1404225 | F37: 2 | G37: ='Ex7'!H30 -> 6.8150261e+08 | I37: =B37*$G37 -> 6.8150261e+08 | J37: =C37*$G37 -> 4.3357196e+12 | K37: =D37*$G37 -> 8.075806e+11 | L37: =E37*$G37 -> 9.5698301e+14 | M37: =F37*$G37 -> 1.3630052e+09 | P37: ='Ex7'!L26 -> 13341.96 | Q37: =T29^0.5 -> 8751.3694 | R37: =P37/Q37 -> 1.5245568
B38: 1 | C38: 6126 | D38: 2438 | E38: =D38^2 -> 5943844 | F38: 4 | G38: ='Ex7'!H31 -> 1.0745954e+09 | I38: =B38*$G38 -> 1.0745954e+09 | J38: =C38*$G38 -> 6.5829712e+12 | K38: =D38*$G38 -> 2.6198635e+12 | L38: =E38*$G38 -> 6.3872272e+15 | M38: =F38*$G38 -> 4.2983815e+09
B39: 1 | C39: 9903 | D39: 2076 | E39: =D39^2 -> 4309776 | F39: 3 | G39: ='Ex7'!H32 -> 7.2078219e+09 | I39: =B39*$G39 -> 7.2078219e+09 | J39: =C39*$G39 -> 7.137906e+13 | K39: =D39*$G39 -> 1.4963438e+13 | L39: =E39*$G39 -> 3.1064098e+16 | M39: =F39*$G39 -> 2.1623466e+10
B40: 1 | C40: 4600 | D40: 1448 | E40: =D40^2 -> 2096704 | F40: 3 | G40: ='Ex7'!H33 -> 6.0168188e+08 | I40: =B40*$G40 -> 6.0168188e+08 | J40: =C40*$G40 -> 2.7677367e+12 | K40: =D40*$G40 -> 8.7123536e+11 | L40: =E40*$G40 -> 1.2615488e+15 | M40: =F40*$G40 -> 1.8050456e+09
B41: 1 | C41: 6095 | D41: 2514 | E41: =D41^2 -> 6320196 | F41: 4 | G41: ='Ex7'!H34 -> 9.3733212e+08 | I41: =B41*$G41 -> 9.3733212e+08 | J41: =C41*$G41 -> 5.7130393e+12 | K41: =D41*$G41 -> 2.356453e+12 | L41: =E41*$G41 -> 5.9241227e+15 | M41: =F41*$G41 -> 3.7493285e+09
B42: 1 | C42: 8566 | D42: 2754 | E42: =D42^2 -> 7584516 | F42: 5 | G42: ='Ex7'!H35 -> 5.3508851e+09 | I42: =B42*$G42 -> 5.3508851e+09 | J42: =C42*$G42 -> 4.5835682e+13 | K42: =D42*$G42 -> 1.4736338e+13 | L42: =E42*$G42 -> 4.0583874e+16 | M42: =F42*$G42 -> 2.6754426e+10
B43: 1 | C43: 9000 | D43: 2067 | E43: =D43^2 -> 4272489 | F43: 3 | G43: ='Ex7'!H36 -> 2.5099252e+09 | I43: =B43*$G43 -> 2.5099252e+09 | J43: =C43*$G43 -> 2.2589327e+13 | K43: =D43*$G43 -> 5.1880153e+12 | L43: =E43*$G43 -> 1.0723628e+16 | M43: =F43*$G43 -> 7.5297755e+09
B44: 1 | C44: 6210 | D44: 1731 | E44: =D44^2 -> 2996361 | F44: 3 | G44: ='Ex7'!H37 -> 4.9160405e+09 | I44: =B44*$G44 -> 4.9160405e+09 | J44: =C44*$G44 -> 3.0528612e+13 | K44: =D44*$G44 -> 8.5096662e+12 | L44: =E44*$G44 -> 1.4730232e+16 | M44: =F44*$G44 -> 1.4748122e+10
B45: 1 | C45: 6000 | D45: 2336 | E45: =D45^2 -> 5456896 | F45: 4 | G45: ='Ex7'!H38 -> 1.2295263e+09 | I45: =B45*$G45 -> 1.2295263e+09 | J45: =C45*$G45 -> 7.3771579e+12 | K45: =D45*$G45 -> 2.8721735e+12 | L45: =E45*$G45 -> 6.7093972e+15 | M45: =F45*$G45 -> 4.9181052e+09
B46: 1 | C46: 7047 | D46: 2634 | E46: =D46^2 -> 6937956 | F46: 5 | G46: ='Ex7'!H39 -> 5.3992655e+09 | I46: =B46*$G46 -> 5.3992655e+09 | J46: =C46*$G46 -> 3.8048624e+13 | K46: =D46*$G46 -> 1.4221665e+13 | L46: =E46*$G46 -> 3.7459866e+16 | M46: =F46*$G46 -> 2.6996328e+10
B47: 1 | C47: 12237 | D47: 3375 | E47: =D47^2 -> 11390625 | F47: 3 | G47: ='Ex7'!H40 -> 4.5668006e+09 | I47: =B47*$G47 -> 4.5668006e+09 | J47: =C47*$G47 -> 5.5883938e+13 | K47: =D47*$G47 -> 1.5412952e+13 | L47: =E47*$G47 -> 5.2018713e+16 | M47: =F47*$G47 -> 1.3700402e+10
B48: 1 | C48: 6519 | D48: 2312 | E48: =D48^2 -> 5345344 | F48: 3 | G48: ='Ex7'!H41 -> 1.5904217e+09 | I48: =B48*$G48 -> 1.5904217e+09 | J48: =C48*$G48 -> 1.0367959e+13 | K48: =D48*$G48 -> 3.677055e+12 | L48: =E48*$G48 -> 8.5013513e+15 | M48: =F48*$G48 -> 4.7712652e+09
B49: 1 | C49: 3597 | D49: 1760 | E49: =D49^2 -> 3097600 | F49: 4 | G49: ='Ex7'!H42 -> 7.9937175e+08 | I49: =B49*$G49 -> 7.9937175e+08 | J49: =C49*$G49 -> 2.8753402e+12 | K49: =D49*$G49 -> 1.4068943e+12 | L49: =E49*$G49 -> 2.4761339e+15 | M49: =F49*$G49 -> 3.197487e+09
... B98: 1 | C98: 4950 | D98: 1774 | E98: =D98^2 -> 3147076 | F98: 4 | G98: ='Ex7'!H91 -> 3.0762917e+08 | I98: =B98*$G98 -> 3.0762917e+08 | J98: =C98*$G98 -> 1.5227644e+12 | K98: =D98*$G98 -> 5.4573415e+11 | L98: =E98*$G98 -> 9.6813238e+14 | M98: =F98*$G98 -> 1.2305167e+09

Sheet Ex7b
B2: Teste Chow
C5: P | D5: n | E5: AT | F5: AH | G5: AH^2 | H5: QT | I5: Col | J5: e2
B6: 1 | C6: 191000 | D6: 1 | E6: 5200 | F6: 1374 | G6: =F6^2 -> 1887876 | H6: 3 | I6: 0 | J6: =(C6-M$24-M$25*E6-M$26*F6-M$27*G6-M$28*H6)^2 -> 5.2719191e+08 | M6: {=MMULT(TRANSPOSE(D6:H32),D6:H32)} -> 27 | N6: 237781 | O6: 52846 | P6: 115030576 | Q6: 86
B7: =B6+1 -> 2 | C7: 206000 | D7: 1 | E7: 6000 | F7: 1767 | G7: =F7^2 -> 3122289 | H7: 3 | I7: 0 | J7: =(C7-M$24-M$25*E7-M$26*F7-M$27*G7-M$28*H7)^2 -> 3.6612696e+08 | M7: 237781 | N7: 3169467083 | O7: 508010171 | P7: 1242271890989 | Q7: 778370
B8: =B7+1 -> 3 | C8: 240000 | D8: 1 | E8: 2892 | F8: 1890 | G8: =F8^2 -> 3572100 | H8: 3 | I8: 0 | J8: =(C8-M$24-M$25*E8-M$26*F8-M$27*G8-M$28*H8)^2 -> 7.8119175e+08 | L8: (X'X)= | M8: 52846 | N8: 508010171 | O8: 115030576 | P8: 280802826664 | Q8: 176621
B9: =B8+1 -> 4 | C9: 212000 | D9: 1 | E9: 6460 | F9: 1899 | G9: =F9^2 -> 3606201 | H9: 3 | I9: 0 | J9: =(C9-M$24-M$25*E9-M$26*F9-M$27*G9-M$28*H9)^2 -> 4.5413808e+08 | M9: 115030576 | N9: 1242271890989 | O9: 280802826664 | P9: 764165287748092 | Q9: 406105729
B10: =B9+1 -> 5 | C10: 240000 | D10: 1 | E10: 5922 | F10: 2000 | G10: =F10^2 -> 4000000 | H10: 4 | I10: 0 | J10: =(C10-M$24-M$25*E10-M$26*F10-M$27*G10-M$28*H10)^2 -> 33993158 | M10: 86 | N10: 778370 | O10: 176621 | P10: 406105729 | Q10: 288
B11: =B10+1 -> 6 | C11: 225000 | D11: 1 | E11: 6003 | F11: 1768 | G11: =F11^2 -> 3125824 | H11: 3 | I11: 0 | J11: =(C11-M$24-M$25*E11-M$26*F11-M$27*G11-M$28*H11)^2 -> 35082.634
B12: =B11+1 -> 7 | C12: 150000 | D12: 1 | E12: 5218 | F12: 1732 | G12: =F12^2 -> 2999824 | H12: 4 | I12: 0 | J12: =(C12-M$24-M$25*E12-M$26*F12-M$27*G12-M$28*H12)^2 -> 6.3567481e+09 | M12: {=MINVERSE(M6:Q10)} -> 5.0797537 | N12: -2.6475089e-05 | O12: -0.0038666245 | P12: 8.2646655e-07 | Q12: -0.23943446
B13: =B12+1 -> 8 | C13: 275000 | D13: 1 | E13: 6114 | F13: 1932 | G13: =F13^2 -> 3732624 | H13: 3 | I13: 0 | J13: =(C13-M$24-M$25*E13-M$26*F13-M$27*G13-M$28*H13)^2 -> 1.7705105e+09 | M13: -2.6475089e-05 | N13: 1.2181594e-09 | O13: 1.51847e-08 | P13: -4.2999831e-12 | Q13: 1.3645483e-06
B14: =B13+1 -> 9 | C14: 230000 | D14: 1 | E14: 6710 | F14: 1932 | G14: =F14^2 -> 3732624 | H14: 3 | I14: 0 | J14: =(C14-M$24-M$25*E14-M$26*F14-M$27*G14-M$28*H14)^2 -> 40992620 | L14: (X'X)-1= | M14: -0.0038666245 | N14: 1.51847e-08 | O14: 3.6553706e-06 | P14: -7.4340596e-10 | Q14: -7.9872891e-05
B15: =B14+1 -> 10 | C15: 335000 | D15: 1 | E15: 15086 | F15: 2829 | G15: =F15^2 -> 8003241 | H15: 4 | I15: 0 | J15: =(C15-M$24-M$25*E15-M$26*F15-M$27*G15-M$28*H15)^2 -> 2.0082373e+09 | M15: 8.2646655e-07 | N15: -4.2999831e-12 | O15: -7.4340596e-10 | P15: 1.5863194e-13 | Q15: -2.9492469e-09
B16: =B15+1 -> 11 | C16: 190000 | D16: 1 | E16: 3500 | F16: 1702 | G16: =F16^2 -> 2896804 | H16: 4 | I16: 0 | J16: =(C16-M$24-M$25*E16-M$26*F16-M$27*G16-M$28*H16)^2 -> 8.2841877e+08 | M16: -0.23943446 | N16: 1.3645483e-06 | O16: -7.9872891e-05 | P16: -2.9492469e-09 | Q16: 0.12442422
B17: =B16+1 -> 12 | C17: 225000 | D17: 1 | E17: 8880 | F17: 1421 | G17: =F17^2 -> 2019241 | H17: 2 | I17: 0 | J17: =(C17-M$24-M$25*E17-M$26*F17-M$27*G17-M$28*H17)^2 -> 12541.782
B18: =B17+1 -> 13 | C18: 230000 | D18: 1 | E18: 5305 | F18: 1171 | G18: =F18^2 -> 1371241 | H18: 3 | I18: 0 | J18: =(C18-M$24-M$25*E18-M$26*F18-M$27*G18-M$28*H18)^2 -> 1.6934328e+08 | M18: {=MMULT(TRANSPOSE(D6:H32),C6:C32)} -> 7354000
B19: =B18+1 -> 14 | C19: 313000 | D19: 1 | E19: 1000 | F19: 2768 | G19: =F19^2 -> 7661824 | H19: 3 | I19: 0 | J19: =(C19-M$24-M$25*E19-M$26*F19-M$27*G19-M$28*H19)^2 -> 1.1510793e+09 | M19: 76516482500
B20: =B19+1 -> 15 | C20: 417500 | D20: 1 | E20: 8112 | F20: 3733 | G20: =F20^2 -> 13935289 | H20: 4 | I20: 0 | J20: =(C20-M$24-M$25*E20-M$26*F20-M$27*G20-M$28*H20)^2 -> 7.0707584e+09 | L20: (X'Y)= | M20: 15837603500
B21: =B20+1 -> 16 | C21: 255000 | D21: 1 | E21: 15267 | F21: 1478 | G21: =F21^2 -> 2184484 | H21: 2 | I21: 0 | J21: =(C21-M$24-M$25*E21-M$26*F21-M$27*G21-M$28*H21)^2 -> 59137460 | M21: 38736581010500
B22: =B21+1 -> 17 | C22: 316000 | D22: 1 | E22: 5539 | F22: 2343 | G22: =F22^2 -> 5489649 | H22: 4 | I22: 0 | J22: =(C22-M$24-M$25*E22-M$26*F22-M$27*G22-M$28*H22)^2 -> 2.2148086e+09 | M22: 24480500
B23: =B22+1 -> 18 | C23: 225000 | D23: 1 | E23: 7566 | F23: 1567 | G23: =F23^2 -> 2455489 | H23: 3 | I23: 0 | J23: =(C23-M$24-M$25*E23-M$26*F23-M$27*G23-M$28*H23)^2 -> 17035678
B24: =B23+1 -> 19 | C24: 325000 | D24: 1 | E24: 10859 | F24: 2709 | G24: =F24^2 -> 7338681 | H24: 4 | I24: 0 | J24: =(C24-M$24-M$25*E24-M$26*F24-M$27*G24-M$28*H24)^2 -> 2.0806421e+08 | M24: {=MMULT(M12:Q16,M18:M22)} -> 245676.06
B25: =B24+1 -> 20 | C25: 215000 | D25: 1 | E25: 11554 | F25: 1694 | G25: =F25^2 -> 2869636 | H25: 3 | I25: 0 | J25: =(C25-M$24-M$25*E25-M$26*F25-M$27*G25-M$28*H25)^2 -> 1.6193678e+09 | M25: 5.8388962
B26: =B25+1 -> 21 | C26: 725000 | D26: 1 | E26: 31000 | F26: 3662 | G26: =F26^2 -> 13410244 | H26: 5 | I26: 0 | J26: =(C26-M$24-M$25*E26-M$26*F26-M$27*G26-M$28*H26)^2 -> 9.028365e+09 | L26: β= | M26: -133.30066
B27: =B26+1 -> 22 | C27: 306000 | D27: 1 | E27: 20700 | F27: 2205 | G27: =F27^2 -> 4862025 | H27: 2 | I27: 0 | J27: =(C27-M$24-M$25*E27-M$26*F27-M$27*G27-M$28*H27)^2 -> 3.7017752e+08 | M27: 0.047706744
B28: =B27+1 -> 23 | C28: 425000 | D28: 1 | E28: 5525 | F28: 1502 | G28: =F28^2 -> 2256004 | H28: 3 | I28: 0 | J28: =(C28-M$24-M$25*E28-M$26*F28-M$27*G28-M$28*H28)^2 -> 4.3531482e+10 | M28: 10337.674
B29: =B28+1 -> 24 | C29: 225000 | D29: 1 | E29: 18838 | F29: 1294 | G29: =F29^2 -> 1674436 | H29: 3 | I29: 0 | J29: =(C29-M$24-M$25*E29-M$26*F29-M$27*G29-M$28*H29)^2 -> 4.7710865e+09
B30: =B29+1 -> 25 | C30: 236000 | D30: 1 | E30: 5828 | F30: 1715 | G30: =F30^2 -> 2941225 | H30: 3 | I30: 0 | J30: =(C30-M$24-M$25*E30-M$26*F30-M$27*G30-M$28*H30)^2 -> 1.8431282e+08
B31: =B30+1 -> 26 | C31: 202500 | D31: 1 | E31: 6341 | F31: 1574 | G31: =F31^2 -> 2477476 | H31: 3 | I31: 0 | J31: =(C31-M$24-M$25*E31-M$26*F31-M$27*G31-M$28*H31)^2 -> 3.8379183e+08
B32: =B31+1 -> 27 | C32: 219000 | D32: 1 | E32: 6362 | F32: 1185 | G32: =F32^2 -> 1404225 | H32: 2 | I32: 0 | J32: =(C32-M$24-M$25*E32-M$26*F32-M$27*G32-M$28*H32)^2 -> 41884281
J33: =SUM(J6:J32) -> 8.3988291e+10
C35: P | D35: n | E35: AT | F35: AH | G35: AH^2 | H35: QT | I35: Col | J35: e2
B36: =B32+1 -> 28 | C36: 300000 | D36: 1 | E36: 6126 | F36: 2438 | G36: =F36^2 -> 5943844 | H36: 4 | I36: 1 | J36: =(C36-M$54-M$55*E36-M$56*F36-M$57*G36-M$58*H36)^2 -> 2.6352576e+09 | M36: {=MMULT(TRANSPOSE(D36:H96),D36:H96)} -> 61 | N36: 555967 | O36: 124359 | P36: 270789985 | Q36: 228
B37: =B36+1 -> 29 | C37: 370000 | D37: 1 | E37: 9903 | F37: 2076 | G37: =F37^2 -> 4309776 | H37: 3 | I37: 1 | J37: =(C37-M$54-M$55*E37-M$56*F37-M$57*G37-M$58*H37)^2 -> 5.3039958e+09 | M37: 555967 | N37: 12995691927 | O37: 1184280086 | P37: 2730403142612 | Q37: 2155397
B38: =B37+1 -> 30 | C38: 195000 | D38: 1 | E38: 4600 | F38: 1448 | G38: =F38^2 -> 2096704 | H38: 3 | I38: 1 | J38: =(C38-M$54-M$55*E38-M$56*F38-M$57*G38-M$58*H38)^2 -> 3.1696061e+08 | L38: (X'X)= | M38: 124359 | N38: 1184280086 | O38: 270789985 | P38: 635870879439 | Q38: 478134 | T38: ∑e2 Total | V38: ='Ex7'!H92 -> 2.8788724e+11 | X38: n | Y38: 88
B39: =B38+1 -> 31 | C39: 373000 | D39: 1 | E39: 6095 | F39: 2514 | G39: =F39^2 -> 6320196 | H39: 4 | I39: 1 | J39: =(C39-M$54-M$55*E39-M$56*F39-M$57*G39-M$58*H39)^2 -> 1.2845465e+08 | M39: 270789985 | N39: 2730403142612 | O39: 635870879439 | P39: 1.618486e+15 | Q39: 1079795396 | T39: ∑e2 Colonial | V39: =J97 -> 1.6758797e+11 | X39: k | Y39: 5
B40: =B39+1 -> 32 | C40: 466275 | D40: 1 | E40: 8566 | F40: 2754 | G40: =F40^2 -> 7584516 | H40: 5 | I40: 1 | J40: =(C40-M$54-M$55*E40-M$56*F40-M$57*G40-M$58*H40)^2 -> 3.0820766e+09 | M40: 228 | N40: 2155397 | O40: 478134 | P40: 1079795396 | Q40: 894 | T40: ∑e2 NãoColonial | V40: =J33 -> 8.3988291e+10
B41: =B40+1 -> 33 | C41: 332500 | D41: 1 | E41: 9000 | F41: 2067 | G41: =F41^2 -> 4272489 | H41: 3 | I41: 1 | J41: =(C41-M$54-M$55*E41-M$56*F41-M$57*G41-M$58*H41)^2 -> 1.4296577e+09
B42: =B41+1 -> 34 | C42: 315000 | D42: 1 | E42: 6210 | F42: 1731 | G42: =F42^2 -> 2996361 | H42: 3 | I42: 1 | J42: =(C42-M$54-M$55*E42-M$56*F42-M$57*G42-M$58*H42)^2 -> 4.3987494e+09 | M42: {=MINVERSE(M36:Q40)} -> 3.9282203 | N42: -1.0164057e-06 | O42: -0.0030356344 | P42: 6.2161279e-07 | Q42: -0.12664215 | T42: EstChow | U42: =(V38-V39-V40)/(V39+V40)*(Y38-2*Y39)/Y39 -> 2.2516083
B43: =B42+1 -> 35 | C43: 285000 | D43: 1 | E43: 6000 | F43: 2336 | G43: =F43^2 -> 5456896 | H43: 4 | I43: 1 | J43: =(C43-M$54-M$55*E43-M$56*F43-M$57*G43-M$58*H43)^2 -> 2.7466182e+09 | M43: -1.0164057e-06 | N43: 1.2958021e-10 | O43: 5.4338245e-10 | P43: -1.6816286e-13 | Q43: -1.4069849e-07
B44: =B43+1 -> 36 | C44: 300000 | D44: 1 | E44: 7047 | F44: 2634 | G44: =F44^2 -> 6937956 | H44: 5 | I44: 1 | J44: =(C44-M$54-M$55*E44-M$56*F44-M$57*G44-M$58*H44)^2 -> 8.3913851e+09 | L44: (X'X)-1= | M44: -0.0030356344 | N44: 5.4338245e-10 | O44: 2.582645e-06 | P44: -5.2424448e-10 | Q44: 2.4809633e-05
B45: =B44+1 -> 37 | C45: 405000 | D45: 1 | E45: 12237 | F45: 3375 | G45: =F45^2 -> 11390625 | H45: 3 | I45: 1 | J45: =(C45-M$54-M$55*E45-M$56*F45-M$57*G45-M$58*H45)^2 -> 6.3366201e+09 | M45: 6.2161279e-07 | N45: -1.6816286e-13 | O45: -5.2424448e-10 | P45: 1.0969947e-13 | Q45: -1.0245116e-08
B46: =B45+1 -> 38 | C46: 265000 | D46: 1 | E46: 6519 | F46: 2312 | G46: =F46^2 -> 5345344 | H46: 3 | I46: 1 | J46: =(C46-M$54-M$55*E46-M$56*F46-M$57*G46-M$58*H46)^2 -> 3.3705371e+09 | M46: -0.12664215 | N46: -1.4069849e-07 | O46: 2.4809633e-05 | P46: -1.0245116e-08 | Q46: 0.032861265
B47: =B46+1 -> 39 | C47: 227400 | D47: 1 | E47: 3597 | F47: 1760 | G47: =F47^2 -> 3097600 | H47: 4 | I47: 1 | J47: =(C47-M$54-M$55*E47-M$56*F47-M$57*G47-M$58*H47)^2 -> 1.0806459e+09
B48: =B47+1 -> 40 | C48: 285000 | D48: 1 | E48: 7123 | F48: 1774 | G48: =F48^2 -> 3147076 | H48: 3 | I48: 1 | J48: =(C48-M$54-M$55*E48-M$56*F48-M$57*G48-M$58*H48)^2 -> 8.8482278e+08 | M48: {=MMULT(TRANSPOSE(D36:H96),C36:C96)} -> 18478051
B49: =B48+1 -> 41 | C49: 268000 | D49: 1 | E49: 5642 | F49: 1376 | G49: =F49^2 -> 1893376 | H49: 3 | I49: 1 | J49: =(C49-M$54-M$55*E49-M$56*F49-M$57*G49-M$58*H49)^2 -> 3.8349745e+09 | M49: 188044582725
B50: =B49+1 -> 42 | C50: 310000 | D50: 1 | E50: 8602 | F50: 1835 | G50: =F50^2 -> 3367225 | H50: 4 | I50: 1 | J50: =(C50-M$54-M$55*E50-M$56*F50-M$57*G50-M$58*H50)^2 -> 1.1000923e+09 | L50: (X'Y)= | M50: 40244104954
B51: =B50+1 -> 43 | C51: 266000 | D51: 1 | E51: 5494 | F51: 2048 | G51: =F51^2 -> 4194304 | H51: 3 | I51: 1 | J51: =(C51-M$54-M$55*E51-M$56*F51-M$57*G51-M$58*H51)^2 -> 4.4528761e+08 | M51: 94677511010466
B52: =B51+1 -> 44 | C52: 270000 | D52: 1 | E52: 7800 | F52: 2124 | G52: =F52^2 -> 4511376 | H52: 3 | I52: 1 | J52: =(C52-M$54-M$55*E52-M$56*F52-M$57*G52-M$58*H52)^2 -> 9.1587136e+08 | M52: 71513104
B53: =B52+1 -> 45 | C53: 247000 | D53: 1 | E53: 9425 | F53: 1440 | G53: =F53^2 -> 2073600 | H53: 3 | I53: 1 | J53: =(C53-M$54-M$55*E53-M$56*F53-M$57*G53-M$58*H53)^2 -> 7.8536863e+08
B54: =B53+1 -> 46 | C54: 343000 | D54: 1 | E54: 8577 | F54: 2106 | G54: =F54^2 -> 4435236 | H54: 3 | I54: 1 | J54: =(C54-M$54-M$55*E54-M$56*F54-M$57*G54-M$58*H54)^2 -> 1.9288539e+09 | M54: {=MMULT(M42:Q46,M48:M52)} -> 24514.689 | O54: σ= | P54: =(I127/(COUNT(D36:D126)-5))^0.5 -> 0
B55: =B54+1 -> 47 | C55: 477500 | D55: 1 | E55: 8400 | F55: 3529 | G55: =F55^2 -> 12453841 | H55: 7 | I55: 1 | J55: =(C55-M$54-M$55*E55-M$56*F55-M$57*G55-M$58*H55)^2 -> 5.3604378e+09 | M55: 1.4705747
B56: =B55+1 -> 48 | C56: 350000 | D56: 1 | E56: 9773 | F56: 2051 | G56: =F56^2 -> 4206601 | H56: 4 | I56: 1 | J56: =(C56-M$54-M$55*E56-M$56*F56-M$57*G56-M$58*H56)^2 -> 1.9633182e+09 | L56: β= | M56: 85.862128
B57: =B56+1 -> 49 | C57: 230000 | D57: 1 | E57: 4806 | F57: 1573 | G57: =F57^2 -> 2474329 | H57: 4 | I57: 1 | J57: =(C57-M$54-M$55*E57-M$56*F57-M$57*G57-M$58*H57)^2 -> 92475841 | M57: 0.01023383
B58: =B57+1 -> 50 | C58: 251000 | D58: 1 | E58: 5763 | F58: 1630 | G58: =F58^2 -> 2656900 | H58: 3 | I58: 1 | J58: =(C58-M$54-M$55*E58-M$56*F58-M$57*G58-M$58*H58)^2 -> 2.2881029e+08 | M58: 11912.794
B59: =B58+1 -> 51 | C59: 235000 | D59: 1 | E59: 6383 | F59: 1840 | G59: =F59^2 -> 3385600 | H59: 4 | I59: 1 | J59: =(C59-M$54-M$55*E59-M$56*F59-M$57*G59-M$58*H59)^2 -> 1.5355828e+09
B60: =B59+1 -> 52 | C60: 361000 | D60: 1 | E60: 9000 | F60: 2066 | G60: =F60^2 -> 4268356 | H60: 4 | I60: 1 | J60: =(C60-M$54-M$55*E60-M$56*F60-M$57*G60-M$58*H60)^2 -> 2.9731041e+09
B61: =B60+1 -> 53 | C61: 360000 | D61: 1 | E61: 10892 | F61: 2750 | G61: =F61^2 -> 7562500 | H61: 4 | I61: 1 | J61: =(C61-M$54-M$55*E61-M$56*F61-M$57*G61-M$58*H61)^2 -> 1.7386859e+09
B62: =B61+1 -> 54 | C62: 575000 | D62: 1 | E62: 15634 | F62: 3880 | G62: =F62^2 -> 15054400 | H62: 5 | I62: 1 | J62: =(C62-M$54-M$55*E62-M$56*F62-M$57*G62-M$58*H62)^2 -> 3.7167383e+08
B63: =B62+1 -> 55 | C63: 209001 | D63: 1 | E63: 6400 | F63: 1854 | G63: =F63^2 -> 3437316 | H63: 4 | I63: 1 | J63: =(C63-M$54-M$55*E63-M$56*F63-M$57*G63-M$58*H63)^2 -> 4.4812092e+09
B64: =B63+1 -> 56 | C64: 246000 | D64: 1 | E64: 6314 | F64: 1662 | G64: =F64^2 -> 2762244 | H64: 3 | I64: 1 | J64: =(C64-M$54-M$55*E64-M$56*F64-M$57*G64-M$58*H64)^2 -> 30145911
B65: =B64+1 -> 57 | C65: 713500 | D65: 1 | E65: 28231 | F65: 3331 | G65: =F65^2 -> 11095561 | H65: 5 | I65: 1 | J65: =(C65-M$54-M$55*E65-M$56*F65-M$57*G65-M$58*H65)^2 -> 3.547524e+10
B66: =B65+1 -> 58 | C66: 248000 | D66: 1 | E66: 7050 | F66: 1656 | G66: =F66^2 -> 2742336 | H66: 4 | I66: 1 | J66: =(C66-M$54-M$55*E66-M$56*F66-M$57*G66-M$58*H66)^2 -> 22902925
B67: =B66+1 -> 59 | C67: 375000 | D67: 1 | E67: 6637 | F67: 2293 | G67: =F67^2 -> 5257849 | H67: 5 | I67: 1 | J67: =(C67-M$54-M$55*E67-M$56*F67-M$57*G67-M$58*H67)^2 -> 9.2850295e+08
B68: =B67+1 -> 60 | C68: 265000 | D68: 1 | E68: 7834 | F68: 1764 | G68: =F68^2 -> 3111696 | H68: 3 | I68: 1 | J68: =(C68-M$54-M$55*E68-M$56*F68-M$57*G68-M$58*H68)^2 -> 98427956
B69: =B68+1 -> 61 | C69: 253000 | D69: 1 | E69: 5850 | F69: 1536 | G69: =F69^2 -> 2359296 | H69: 3 | I69: 1 | J69: =(C69-M$54-M$55*E69-M$56*F69-M$57*G69-M$58*H69)^2 -> 7.9046476e+08
B70: =B69+1 -> 62 | C70: 315000 | D70: 1 | E70: 6660 | F70: 1638 | G70: =F70^2 -> 2683044 | H70: 4 | I70: 1 | J70: =(C70-M$54-M$55*E70-M$56*F70-M$57*G70-M$58*H70)^2 -> 4.21722e+09
... B96: =B95+1 -> 88 | C96: 242000 | D96: 1 | E96: 4950 | F96: 1774 | G96: =F96^2 -> 3147076 | H96: 4 | I96: 1 | J96: =(C96-M$54-M$55*E96-M$56*F96-M$57*G96-M$58*H96)^2 -> 4.8273647e+08
J97: =SUM(J36:J96) -> 1.6758797e+11

Sheet Ex7c
B2: Tete Gujarati
AB3: Wald Test
B5: P | C5: n | D5: AT | E5: AH | F5: AH^2 | G5: QT | H5: Col | I5: Col*AT | J5: Col*AH | K5: Col*AH^2 | L5: Col*QT | M5: e2 | N5: SST
B6: 191000 | C6: 1 | D6: 5200 | E6: 1374 | F6: =E6^2 -> 1887876 | G6: 3 | H6: 0 | I6: =H6*D6 -> 0 | J6: =H6*E6 -> 0 | K6: =H6*F6 -> 0 | L6: =H6*G6 -> 0 | M6: =(B6-T$30-T$31*D6-T$32*E6-T$33*F6-T$34*G6-T$35*H6-T$36*I6-T$37*J6-T$38*K6-T$39*L6)^2 -> 5.2719191e+08 | N6: =(B6-W$31)^2 -> 1.0515689e+10 | Q6: {=MMULT(TRANSPOSE(C6:L93),C6:L93)} -> 88 | R6: 793748 | S6: 177205 | T6: 385820561 | U6: 314 | V6: 61 | W6: 555967 | X6: 124359 | Y6: 270789985 | Z6: 228 | AJ6: 0 | AK6: 0 | AL6: 0 | AM6: 0 | AN6: 0 | AO6: 1 | AP6: 0 | AQ6: 0 | AR6: 0 | AS6: 0
B7: 206000 | C7: 1 | D7: 6000 | E7: 1767 | F7: =E7^2 -> 3122289 | G7: 3 | H7: 0 | I7: =H7*D7 -> 0 | J7: =H7*E7 -> 0 | K7: =H7*F7 -> 0 | L7: =H7*G7 -> 0 | M7: =(B7-T$30-T$31*D7-T$32*E7-T$33*F7-T$34*G7-T$35*H7-T$36*I7-T$37*J7-T$38*K7-T$39*L7)^2 -> 3.6612696e+08 | N7: =(B7-W$31)^2 -> 7.6643081e+09 | Q7: 793748 | R7: 16165159010 | S7: 1692290257 | T7: 3972675033601 | U7: 2933767 | V7: 555967 | W7: 12995691927 | X7: 1184280086 | Y7: 2730403142612 | Z7: 2155397 | AJ7: 0 | AK7: 0 | AL7: 0 | AM7: 0 | AN7: 0 | AO7: 0 | AP7: 1 | AQ7: 0 | AR7: 0 | AS7: 0
B8: 240000 | C8: 1 | D8: 2892 | E8: 1890 | F8: =E8^2 -> 3572100 | G8: 3 | H8: 0 | I8: =H8*D8 -> 0 | J8: =H8*E8 -> 0 | K8: =H8*F8 -> 0 | L8: =H8*G8 -> 0 | M8: =(B8-T$30-T$31*D8-T$32*E8-T$33*F8-T$34*G8-T$35*H8-T$36*I8-T$37*J8-T$38*K8-T$39*L8)^2 -> 7.8119175e+08 | N8: =(B8-W$31)^2 -> 2.8671778e+09 | Q8: 177205 | R8: 1692290257 | S8: 385820561 | T8: 916673706103 | U8: 654755 | V8: 124359 | W8: 1184280086 | X8: 270789985 | Y8: 635870879439 | Z8: 478134 | AI8: R= | AJ8: 0 | AK8: 0 | AL8: 0 | AM8: 0 | AN8: 0 | AO8: 0 | AP8: 0 | AQ8: 1 | AR8: 0 | AS8: 0
B9: 212000 | C9: 1 | D9: 6460 | E9: 1899 | F9: =E9^2 -> 3606201 | G9: 3 | H9: 0 | I9: =H9*D9 -> 0 | J9: =H9*E9 -> 0 | K9: =H9*F9 -> 0 | L9: =H9*G9 -> 0 | M9: =(B9-T$30-T$31*D9-T$32*E9-T$33*F9-T$34*G9-T$35*H9-T$36*I9-T$37*J9-T$38*K9-T$39*L9)^2 -> 4.5413808e+08 | N9: =(B9-W$31)^2 -> 6.6497557e+09 | Q9: 385820561 | R9: 3972675033601 | S9: 916673706103 | T9: 2.3826513e+15 | U9: 1485901125 | V9: 270789985 | W9: 2730403142612 | X9: 635870879439 | Y9: 1.618486e+15 | Z9: 1079795396 | AJ9: 0 | AK9: 0 | AL9: 0 | AM9: 0 | AN9: 0 | AO9: 0 | AP9: 0 | AQ9: 0 | AR9: 1 | AS9: 0
B10: 240000 | C10: 1 | D10: 5922 | E10: 2000 | F10: =E10^2 -> 4000000 | G10: 4 | H10: 0 | I10: =H10*D10 -> 0 | J10: =H10*E10 -> 0 | K10: =H10*F10 -> 0 | L10: =H10*G10 -> 0 | M10: =(B10-T$30-T$31*D10-T$32*E10-T$33*F10-T$34*G10-T$35*H10-T$36*I10-T$37*J10-T$38*K10-T$39*L10)^2 -> 33993158 | N10: =(B10-W$31)^2 -> 2.8671778e+09 | P10: (X'X)= | Q10: 314 | R10: 2933767 | S10: 654755 | T10: 1485901125 | U10: 1182 | V10: 228 | W10: 2155397 | X10: 478134 | Y10: 1079795396 | Z10: 894 | AJ10: 0 | AK10: 0 | AL10: 0 | AM10: 0 | AN10: 0 | AO10: 0 | AP10: 0 | AQ10: 0 | AR10: 0 | AS10: 1
B11: 225000 | C11: 1 | D11: 6003 | E11: 1768 | F11: =E11^2 -> 3125824 | G11: 3 | H11: 0 | I11: =H11*D11 -> 0 | J11: =H11*E11 -> 0 | K11: =H11*F11 -> 0 | L11: =H11*G11 -> 0 | M11: =(B11-T$30-T$31*D11-T$32*E11-T$33*F11-T$34*G11-T$35*H11-T$36*I11-T$37*J11-T$38*K11-T$39*L11)^2 -> 35082.634 | N11: =(B11-W$31)^2 -> 4.6985588e+09 | Q11: 61 | R11: 555967 | S11: 124359 | T11: 270789985 | U11: 228 | V11: 61 | W11: 555967 | X11: 124359 | Y11: 270789985 | Z11: 228 | AN11: (5*10)
B12: 150000 | C12: 1 | D12: 5218 | E12: 1732 | F12: =E12^2 -> 2999824 | G12: 4 | H12: 0 | I12: =H12*D12 -> 0 | J12: =H12*E12 -> 0 | K12: =H12*F12 -> 0 | L12: =H12*G12 -> 0 | M12: =(B12-T$30-T$31*D12-T$32*E12-T$33*F12-T$34*G12-T$35*H12-T$36*I12-T$37*J12-T$38*K12-T$39*L12)^2 -> 6.3567481e+09 | N12: =(B12-W$31)^2 -> 2.0605464e+10 | Q12: 555967 | R12: 12995691927 | S12: 1184280086 | T12: 2730403142612 | U12: 2155397 | V12: 555967 | W12: 12995691927 | X12: 1184280086 | Y12: 2730403142612 | Z12: 2155397
B13: 275000 | C13: 1 | D13: 6114 | E13: 1932 | F13: =E13^2 -> 3732624 | G13: 3 | H13: 0 | I13: =H13*D13 -> 0 | J13: =H13*E13 -> 0 | K13: =H13*F13 -> 0 | L13: =H13*G13 -> 0 | M13: =(B13-T$30-T$31*D13-T$32*E13-T$33*F13-T$34*G13-T$35*H13-T$36*I13-T$37*J13-T$38*K13-T$39*L13)^2 -> 1.7705105e+09 | N13: =(B13-W$31)^2 -> 3.4395538e+08 | Q13: 124359 | R13: 1184280086 | S13: 270789985 | T13: 635870879439 | U13: 478134 | V13: 124359 | W13: 1184280086 | X13: 270789985 | Y13: 635870879439 | Z13: 478134 | AJ13: {=W32^2*Q18:Z27} -> 1.6383916e+10 | AK13: -85391.077 | AL13: -12471166 | AM13: 2665.6329 | AN13: -7.7225675e+08 | AO13: -1.6383916e+10 | AP13: 85391.077 | AQ13: 12471166 | AR13: -2665.6329 | AS13: 7.7225675e+08
