Workbook

Sheet Excel
G1: coluna(G)
F3: obs | G3: SAL | H3: MASC | I3: EXPER
F4: 1 | G4: 605202 | H4: 1 | I4: 10 | K4: =TYPE(G4) -> 1 | L4: =TYPE(G4)
F5: 2 | G5: 398658 | H5: 1 | I5: 1
F6: 3 | G6: 582.66 | H6: 1 | I6: 10 | K6: =TYPE(G6) -> 2 | L6: =TYPE(G6)
F7: 4 | G7: 689.91 | H7: 1 | I7: 20
F8: 5 | G8: 672828 | H8: 1 | I8: 17
F9: 6 | G9: 673062 | H9: 1 | I9: 22
F10: 7 | G10: 589134 | H10: 1 | I10: 8
F11: 8 | G11: 682734 | H11: 1 | I11: 19
F12: 9 | G12: 416.52 | H12: 1 | I12: 5 | K12: =TYPE(G12) -> 2 | L12: =TYPE(G12)
F13: 10 | G13: 4.58406e+15 | H13: 1 | I13: 5
F14: 11 | G14: 5.40228e+15 | H14: 1 | I14: 15 | K14: =REPLACE(G15;4;1;",")
F15: 12 | G15: 412.23 | H15: 1 | I15: 2 | K15: =REPLACE(G15,4,1,",") -> 412,23 | L15: =VALUE(K15) -> 412.23
F16: 13 | G16: 635778 | H16: 1 | I16: 12 | L16: =VALUE(K15)
F17: 14 | G17: 459498 | H17: 1 | I17: 8
F18: 15 | G18: 7.14324e+15 | H18: 1 | I18: 20 | K18: text | L18: num
F19: 16 | G19: 4.17222e+15 | H19: 1 | I19: 3
F20: 17 | G20: 5.39916e+15 | H20: 1 | I20: 5
F21: 18 | G21: 664.95 | H21: 1 | I21: 11
F22: 19 | G22: 415.35 | H22: 1 | I22: 6
F23: 20 | G23: 548496 | H23: 1 | I23: 7
F24: 21 | G24: 4.04508e+15 | H24: 1 | I24: 1
F25: 22 | G25: 592722 | H25: 1 | I25: 7
F26: 23 | G26: 708.63 | H26: 1 | I26: 16
F27: 24 | G27: 568152 | H27: 1 | I27: 6
F28: 25 | G28: 6.49428e+15 | H28: 1 | I28: 15
F29: 26 | G29: 571.35 | H29: 1 | I29: 8
F30: 27 | G30: 498.81 | H30: 1 | I30: 4
F31: 28 | G31: 4.48656e+15 | H31: 1 | I31: 4
F32: 29 | G32: 443.43 | H32: 1 | I32: 7
F33: 30 | G33: 6.07776e+15 | H33: 1 | I33: 10
F34: 31 | G34: 398736 | H34: 1 | I34: 3
F35: 32 | G35: 422.76 | H35: 1 | I35: 4
F36: 33 | G36: 398.19 | H36: 1 | I36: 3
F37: 34 | G37: 703.56 | H37: 1 | I37: 22
F38: 35 | G38: 602316 | H38: 1 | I38: 17
F39: 36 | G39: 5.02554e+15 | H39: 1 | I39: 11
F40: 37 | G40: 608166 | H40: 1 | I40: 15
F41: 38 | G41: 410592 | H41: 1 | I41: 6
...

Sheet DataBase
B2: Exercício 1 | F2: Exercício 2 | J2: Exercício 4 | N2: Exercício 5 | R2: Exercício 6 | V2: Exercício 7 | AB2: Exercício 8
B4: Date | C4: Spot | D4: Futures | F4: Advert | G4: Price | H4: Sales | J4: Advert | K4: Price | L4: Sales | N4: EXPER | O4: MASC | P4: SAL | R4: RIQ | S4: REND | T4: CONS | V4: AT | W4: AH | X4: P | Y4: QT | Z4: Col | AB4: obs | AC4: BRENT | AD4: COMB | AE4: FISC
A5: 1 | B5: 37288 | C5: 1106.73 | D5: 1130.2 | F5: 1.3 | G5: 5.69 | H5: 73.2 | J5: 1.3 | K5: 5.69 | L5: 73.2 | N5: 10 | O5: 1 | P5: 605.202 | R5: 810 | S5: 80 | T5: 70 | V5: 5200 | W5: 1374 | X5: 191000 | Y5: 3 | Z5: 0 | AB5: 2005M01 | AC5: 33.745903 | AD5: 0.921274 | AE5: 0.56253917
A6: =A5+1 -> 2 | B6: 37316 | C6: 1147.39 | D6: 1119.5 | F6: 2.9 | G6: 6.49 | H6: 71.8 | J6: 2.9 | K6: 6.49 | L6: 71.8 | N6: 1 | O6: 1 | P6: 398.658 | R6: 1009 | S6: 100 | T6: 65 | V6: 6000 | W6: 1767 | X6: 206000 | Y6: 3 | Z6: 0 | AB6: 2005M02 | AC6: 34.949236 | AD6: 0.93121667 | AE6: 0.56412665
A7: =A6+1 -> 3 | B7: 37347 | C7: 1076.92 | D7: 1144 | F7: 0.8 | G7: 5.63 | H7: 62.4 | J7: 0.8 | K7: 5.63 | L7: 62.4 | N7: 10 | O7: 1 | P7: 582.66 | R7: 1273 | S7: 120 | T7: 90 | V7: 2892 | W7: 1890 | X7: 240000 | Y7: 3 | Z7: 0 | AB7: 2005M03 | AC7: 40.094837 | AD7: 0.950335 | AE7: 0.56717916
A8: =A7+1 -> 4 | B8: 37377 | C8: 1067.14 | D8: 1052.8 | F8: 0.7 | G8: 6.22 | H8: 67.4 | J8: 0.7 | K8: 6.22 | L8: 67.4 | N8: 20 | O8: 1 | P8: 689.91 | R8: 1425 | S8: 140 | T8: 95 | V8: 6460 | W8: 1899 | X8: 212000 | Y8: 3 | Z8: 0 | AB8: 2005M04 | AC8: 40.104566 | AD8: 0.9968275 | AE8: 0.57460233
A9: =A8+1 -> 5 | B9: 37408 | C9: 989.82 | D9: 1056.5 | F9: 1.5 | G9: 5.02 | H9: 89.3 | J9: 1.5 | K9: 5.02 | L9: 89.3 | N9: 17 | O9: 1 | P9: 672.828 | R9: 1633 | S9: 160 | T9: 110 | V9: 5922 | W9: 2000 | X9: 240000 | Y9: 4 | Z9: 0 | AB9: 2005M05 | AC9: 38.250491 | AD9: 1.002125 | AE9: 0.57544815
A10: =A9+1 -> 6 | B10: 37438 | C10: 911.62 | D10: 969.3 | F10: 1.3 | G10: 6.41 | H10: 70.3 | J10: 1.3 | K10: 6.41 | L10: 70.3 | N10: 22 | O10: 1 | P10: 673.062 | R10: 1876 | S10: 180 | T10: 115 | V10: 6003 | W10: 1768 | X10: 225000 | Y10: 3 | Z10: 0 | AB10: 2005M06 | AC10: 44.726822 | AD10: 1.0091812 | AE10: 0.58263478
A11: =A10+1 -> 7 | B11: 37469 | C11: 916.07 | D11: 889 | F11: 1.8 | G11: 5.85 | H11: 73.2 | J11: 1.8 | K11: 5.85 | L11: 73.2 | N11: 8 | O11: 1 | P11: 589.134 | R11: 2052 | S11: 200 | T11: 120 | V11: 5218 | W11: 1732 | X11: 150000 | Y11: 4 | Z11: 0 | AB11: 2005M07 | AC11: 47.874445 | AD11: 1.0826962 | AE11: 0.61158596
A12: =A11+1 -> 8 | B12: 37500 | C12: 815.28 | D12: 908.5 | F12: 2.4 | G12: 5.41 | H12: 86.1 | J12: 2.4 | K12: 5.41 | L12: 86.1 | N12: 19 | O12: 1 | P12: 682.734 | R12: 2201 | S12: 220 | T12: 140 | V12: 6114 | W12: 1932 | X12: 275000 | Y12: 3 | Z12: 0 | AB12: 2005M08 | AC12: 52.158627 | AD12: 1.1013725 | AE12: 0.61482729
A13: =A12+1 -> 9 | B13: 37530 | C13: 885.76 | D13: 847.5 | F13: 0.7 | G13: 6.24 | H13: 81 | J13: 0.7 | K13: 6.24 | L13: 81 | N13: 5 | O13: 1 | P13: 416.52 | R13: 2435 | S13: 240 | T13: 155 | V13: 6710 | W13: 1932 | X13: 230000 | Y13: 3 | Z13: 0 | AB13: 2005M09 | AC13: 51.324539 | AD13: 1.1455462 | AE13: 0.62249381
A14: =A13+1 -> 10 | B14: 37561 | C14: 936.31 | D14: 901.5 | F14: 3 | G14: 6.2 | H14: 76.4 | J14: 3 | K14: 6.2 | L14: 76.4 | N14: 5 | O14: 1 | P14: 458.406 | R14: 2686 | S14: 260 | T14: 150 | V14: 15086 | W14: 2829 | X14: 335000 | Y14: 4 | Z14: 0 | AB14: 2005M10 | AC14: 48.778463 | AD14: 1.1592487 | AE14: 0.62487193
A15: =A14+1 -> 11 | B15: 37591 | C15: 879.82 | D15: 932.2 | F15: 2.8 | G15: 5.48 | H15: 76.6 | J15: 2.8 | K15: 5.48 | L15: 76.6 | N15: 15 | O15: 1 | P15: 540.228 | R15: =AVERAGE(R5:R14) -> 1740 | S15: =AVERAGE(S5:S14) -> 170 | T15: =AVERAGE(T5:T14) -> 111 | V15: 3500 | W15: 1702 | X15: 190000 | Y15: 4 | Z15: 0 | AB15: 2005M11 | AC15: 46.813943 | AD15: 1.115435 | AE15: 0.61726789
A16: =A15+1 -> 12 | B16: 37622 | C16: 855.7 | D16: 879.9 | F16: 2.7 | G16: 6.14 | H16: 82.2 | J16: 2.7 | K16: 6.14 | L16: 82.2 | N16: 2 | O16: 1 | P16: 412.23 | V16: 8880 | W16: 1421 | X16: 225000 | Y16: 2 | Z16: 0 | AB16: 2005M12 | AC16: 47.999622 | AD16: 1.0811375 | AE16: 0.61131543
A17: =A16+1 -> 13 | B17: 37653 | C17: 841.15 | D17: 857 | F17: 2.8 | G17: 5.37 | H17: 82.1 | J17: 2.8 | K17: 5.37 | L17: 82.1 | N17: 12 | O17: 1 | P17: 635.778 | V17: 5305 | W17: 1171 | X17: 230000 | Y17: 3 | Z17: 0 | AB17: 2006M01 | AC17: 52.076471 | AD17: 1.0933333 | AE17: 0.62593207
A18: =A17+1 -> 14 | B18: 37681 | C18: 848.18 | D18: 844.4 | F18: 2.8 | G18: 6.45 | H18: 68.6 | J18: 2.8 | K18: 6.45 | L18: 68.6 | N18: 8 | O18: 1 | P18: 459.498 | V18: 1000 | W18: 2768 | X18: 313000 | Y18: 3 | Z18: 0 | AB18: 2006M02 | AC18: 50.357252 | AD18: 1.1330588 | AE18: 0.64532656
A19: =A18+1 -> 15 | B19: 37712 | C19: 916.92 | D19: 856.2 | F19: 2.3 | G19: 5.35 | H19: 76.5 | J19: 2.3 | K19: 5.35 | L19: 76.5 | N19: 20 | O19: 1 | P19: 714.324 | V19: 8112 | W19: 3733 | X19: 417500 | Y19: 4 | Z19: 0 | AB19: 2006M03 | AC19: 51.648159 | AD19: 1.1326037 | AE19: 0.64524759
A20: =A19+1 -> 16 | B20: 37742 | C20: 963.59 | D20: 915.2 | F20: 1.7 | G20: 5.22 | H20: 80.3 | J20: 1.7 | K20: 5.22 | L20: 80.3 | N20: 3 | O20: 1 | P20: 417.222 | V20: 15267 | W20: 1478 | X20: 255000 | Y20: 2 | Z20: 0 | AB20: 2006M04 | AC20: 57.325867 | AD20: 1.164115 | AE20: 0.65071649
A21: =A20+1 -> 17 | B21: 37773 | C21: 974.5 | D21: 966.5 | F21: 1.5 | G21: 5.89 | H21: 70.7 | J21: 1.5 | K21: 5.89 | L21: 70.7 | N21: 5 | O21: 1 | P21: 539.916 | V21: 5539 | W21: 2343 | X21: 316000 | Y21: 4 | Z21: 0 | AB21: 2006M05 | AC21: 54.876837 | AD21: 1.212525 | AE21: 0.65911822
A22: =A21+1 -> 18 | B22: 37803 | C22: 990.31 | D22: 981 | F22: 0.8 | G22: 5.21 | H22: 75 | J22: 0.8 | K22: 5.21 | L22: 75 | N22: 11 | O22: 1 | P22: 664.95 | V22: 7566 | W22: 1567 | X22: 225000 | Y22: 3 | Z22: 0 | AB22: 2006M06 | AC22: 54.125735 | AD22: 1.2016962 | AE22: 0.65723885
A23: =A22+1 -> 19 | B23: 37834 | C23: 1008.01 | D23: 978.7 | F23: 2.9 | G23: 6 | H23: 73.7 | J23: 2.9 | K23: 6 | L23: 73.7 | N23: 6 | O23: 1 | P23: 415.35 | V23: 10859 | W23: 2709 | X23: 325000 | Y23: 4 | Z23: 0 | AB23: 2006M07 | AC23: 58.074126 | AD23: 1.219664 | AE23: 0.66035722
A24: =A23+1 -> 20 | B24: 37865 | C24: 995.97 | D24: 1012.3 | F24: 0.5 | G24: 6.37 | H24: 71.2 | J24: 0.5 | K24: 6.37 | L24: 71.2 | N24: 7 | O24: 1 | P24: 548.496 | V24: 11554 | W24: 1694 | X24: 215000 | Y24: 3 | Z24: 0 | AB24: 2006M08 | AC24: 57.06611 | AD24: 1.2356463 | AE24: 0.663131
A25: =A24+1 -> 21 | B25: 37895 | C25: 1050.71 | D25: 997.8 | F25: 2.1 | G25: 5.33 | H25: 84.7 | J25: 2.1 | K25: 5.33 | L25: 84.7 | N25: 1 | O25: 1 | P25: 404.508 | V25: 31000 | W25: 3662 | X25: 725000 | Y25: 5 | Z25: 0 | AB25: 2006M09 | AC25: 48.485835 | AD25: 1.194705 | AE25: 0.6560255
A26: =A25+1 -> 22 | B26: 37926 | C26: 1058.2 | D26: 1047.6 | F26: 0.8 | G26: 5.23 | H26: 73.6 | J26: 0.8 | K26: 5.23 | L26: 73.6 | N26: 7 | O26: 1 | P26: 592.722 | V26: 20700 | W26: 2205 | X26: 306000 | Y26: 2 | Z26: 0 | AB26: 2006M10 | AC26: 45.828513 | AD26: 1.118626 | AE26: 0.6428217
A27: =A26+1 -> 23 | B27: 37956 | C27: 1111.92 | D27: 1069.2 | F27: 1.1 | G27: 5.88 | H27: 73.7 | J27: 1.1 | K27: 5.88 | L27: 73.7 | N27: 16 | O27: 1 | P27: 708.63 | V27: 5525 | W27: 1502 | X27: 425000 | Y27: 3 | Z27: 0 | AB27: 2006M11 | AC27: 45.732574 | AD27: 1.1080725 | AE27: 0.6409901
... A44: =A43+1 -> 40 | B44: 38473 | C44: 1191.5 | D44: 1162.7 | F44: 2.3 | G44: 5.2 | H44: 84.3 | J44: 2.3 | K44: 5.2 | L44: 84.3 | N44: 13 | O44: 1 | P44: 620.958 | V44: 7123 | W44: 1774 | X44: 285000 | Y44: 3 | Z44: 1 | AB44: 2008M04 | AC44: 69.062883 | AD44: 1.3332575 | AE44: 0.7050718
A45: =A44+1 -> 41 | B45: 38504 | C45: 1191.33 | D45: 1201.2 | F45: 1.2 | G45: 5.62 | H45: 79.5 | J45: 1.2 | K45: 5.62 | L45: 79.5 | N45: 9 | O45: 1 | P45: 530.634 | V45: 5642 | W45: 1376 | X45: 268000 | Y45: 3 | Z45: 1
A46: =A45+1 -> 42 | B46: 38534 | C46: 1234.18 | D46: 1199.5 | F46: 3.1 | G46: 5.28 | H46: 80.2 | J46: 3.1 | K46: 5.28 | L46: 80.2 | N46: 24 | O46: 1 | P46: 671.346 | V46: 8602 | W46: 1835 | X46: 310000 | Y46: 4 | Z46: 1
A47: =A46+1 -> 43 | B47: 38565 | C47: 1220.33 | D47: 1237.2 | F47: 1 | G47: 5.46 | H47: 67.6 | J47: 1 | K47: 5.46 | L47: 67.6 | N47: 21 | O47: 1 | P47: 731.562 | V47: 5494 | W47: 2048 | X47: 266000 | Y47: 3 | Z47: 1
A48: =A47+1 -> 44 | B48: 38596 | C48: 1228.81 | D48: 1222.8 | F48: 2.5 | G48: 5.11 | H48: 86.5 | J48: 2.5 | K48: 5.11 | L48: 86.5 | N48: 5 | O48: 1 | P48: 521.04 | V48: 7800 | W48: 2124 | X48: 270000 | Y48: 3 | Z48: 1
A49: =A48+1 -> 45 | B49: 38626 | C49: 1207.01 | D49: 1235.5 | F49: 2.1 | G49: 5.04 | H49: 87.6 | J49: 2.1 | K49: 5.04 | L49: 87.6 | N49: 10 | O49: 1 | P49: 558.09 | V49: 9425 | W49: 1440 | X49: 247000 | Y49: 3 | Z49: 1
A50: =A49+1 -> 46 | B50: 38657 | C50: 1249.48 | D50: 1205 | F50: 2.8 | G50: 5.08 | H50: 84.2 | J50: 2.8 | K50: 5.08 | L50: 84.2 | N50: 6 | O50: 1 | P50: 449.982 | V50: 8577 | W50: 2106 | X50: 343000 | Y50: 3 | Z50: 1
A51: =A50+1 -> 47 | B51: 38687 | C51: 1248.29 | D51: 1266.7 | F51: 3.1 | G51: 5.86 | H51: 75.2 | J51: 3.1 | K51: 5.86 | L51: 75.2 | N51: 7 | O51: 1 | P51: 525.72 | V51: 8400 | W51: 3529 | X51: 477500 | Y51: 7 | Z51: 1
A52: =A51+1 -> 48 | B52: 38718 | C52: 1280.08 | D52: 1275.5 | F52: 3.1 | G52: 4.89 | H52: 84.7 | J52: 3.1 | K52: 4.89 | L52: 84.7 | N52: 15 | O52: 1 | P52: 671.112 | V52: 9773 | W52: 2051 | X52: 350000 | Y52: 4 | Z52: 1
A53: =A52+1 -> 49 | B53: 38749 | C53: 1280.66 | D53: 1285.5 | F53: 0.9 | G53: 5.68 | H53: 73.7 | J53: 0.9 | K53: 5.68 | L53: 73.7 | N53: 3 | O53: 1 | P53: 427.908 | V53: 4806 | W53: 1573 | X53: 230000 | Y53: 4 | Z53: 1
A54: =A53+1 -> 50 | B54: 38777 | C54: 1294.87 | D54: 1292.5 | F54: 1.8 | G54: 5.83 | H54: 81.2 | J54: 1.8 | K54: 5.83 | L54: 81.2 | N54: 14 | O54: 1 | P54: 592.332 | V54: 5763 | W54: 1630 | X54: 251000 | Y54: 3 | Z54: 1
A55: =A54+1 -> 51 | B55: 38808 | C55: 1310.61 | D55: 1307.5 | F55: 3.1 | G55: 6.33 | H55: 69 | J55: 3.1 | K55: 6.33 | L55: 69 | N55: 15 | O55: 0 | P55: 349.38 | V55: 6383 | W55: 1840 | X55: 235000 | Y55: 4 | Z55: 1
A56: =A55+1 -> 52 | B56: 38838 | C56: 1270.09 | D56: 1318.4 | F56: 1.9 | G56: 6.47 | H56: 69.7 | J56: 1.9 | K56: 6.47 | L56: 69.7 | N56: 1 | O56: 0 | P56: 218.052 | V56: 9000 | W56: 2066 | X56: 361000 | Y56: 4 | Z56: 1
... A70: =A69+1 -> 66 | B70: 39264 | C70: 1455.27 | D70: 1531.5 | F70: 1.5 | G70: 5.98 | H70: 71.8 | J70: 1.5 | K70: 5.98 | L70: 71.8 | N70: 4 | O70: 0 | P70: 292.95 | V70: 8410 | W70: 1722 | X70: 250000 | Y70: 3 | Z70: 1
F71: 2 | G71: 5.02 | H71: 80.6 | J71: 2 | K71: 5.02 | L71: 80.6 | N71: 11 | O71: 0 | P71: 374.922 | V71: 5625 | W71: 1780 | X71: 250000 | Y71: 4 | Z71: 1
...

Sheet Ex1
B4: Date | C4: Spot | D4: Futures | F4: Spot | G4: n | H4: Futures
A5: 1 | B5: 37288 | C5: 1106.73 | D5: 1130.2 | F5: 1106.73 | G5: 1 | H5: 1130.2
A6: =A5+1 -> 2 | B6: 37316 | C6: 1147.39 | D6: 1119.5 | F6: 1147.39 | G6: 1 | H6: 1119.5
A7: =A6+1 -> 3 | B7: 37347 | C7: 1076.92 | D7: 1144 | F7: 1076.92 | G7: 1 | H7: 1144 | J7: (X'X)= | K7: {=MMULT(TRANSPOSE(G5:H70),G5:H70)} -> 66 | L7: 76472.2
A8: =A7+1 -> 4 | B8: 37377 | C8: 1067.14 | D8: 1052.8 | F8: 1067.14 | G8: 1 | H8: 1052.8 | K8: 76472.2 | L8: 90663191
A9: =A8+1 -> 5 | B9: 37408 | C9: 989.82 | D9: 1056.5 | F9: 989.82 | G9: 1 | H9: 1056.5
A10: =A9+1 -> 6 | B10: 37438 | C10: 911.62 | D10: 969.3 | F10: 911.62 | G10: 1 | H10: 969.3 | J10: (X'X)-1= | K10: {=MINVERSE(K7:L8)} -> 0.66775448 | L10: -0.00056323469
A11: =A10+1 -> 7 | B11: 37469 | C11: 916.07 | D11: 889 | F11: 916.07 | G11: 1 | H11: 889 | K11: -0.00056323469 | L11: 4.8610462e-07
A12: =A11+1 -> 8 | B12: 37500 | C12: 815.28 | D12: 908.5 | F12: 815.28 | G12: 1 | H12: 908.5
A13: =A12+1 -> 9 | B13: 37530 | C13: 885.76 | D13: 847.5 | F13: 885.76 | G13: 1 | H13: 847.5 | J13: (X'Y)= | K13: {=MMULT(TRANSPOSE(G5:H70),F5:F70)} -> 76506.08
A14: =A13+1 -> 10 | B14: 37561 | C14: 936.31 | D14: 901.5 | F14: 936.31 | G14: 1 | H14: 901.5 | K14: 90665877
A15: =A14+1 -> 11 | B15: 37591 | C15: 879.82 | D15: 932.2 | F15: 879.82 | G15: 1 | H15: 932.2
A16: =A15+1 -> 12 | B16: 37622 | C16: 855.7 | D16: 879.9 | F16: 855.7 | G16: 1 | H16: 879.9
A17: =A16+1 -> 13 | B17: 37653 | C17: 841.15 | D17: 857 | F17: 841.15 | G17: 1 | H17: 857 | J17: β= | K17: {=MMULT(K10:L11,K13:K14)} -> 21.11071
A18: =A17+1 -> 14 | B18: 37681 | C18: 848.18 | D18: 844.4 | F18: 848.18 | G18: 1 | H18: 844.4 | K18: 0.98222325
A19: =A18+1 -> 15 | B19: 37712 | C19: 916.92 | D19: 856.2 | F19: 916.92 | G19: 1 | H19: 856.2
A20: =A19+1 -> 16 | B20: 37742 | C20: 963.59 | D20: 915.2 | F20: 963.59 | G20: 1 | H20: 915.2
A21: =A20+1 -> 17 | B21: 37773 | C21: 974.5 | D21: 966.5 | F21: 974.5 | G21: 1 | H21: 966.5
A22: =A21+1 -> 18 | B22: 37803 | C22: 990.31 | D22: 981 | F22: 990.31 | G22: 1 | H22: 981
A23: =A22+1 -> 19 | B23: 37834 | C23: 1008.01 | D23: 978.7 | F23: 1008.01 | G23: 1 | H23: 978.7
A24: =A23+1 -> 20 | B24: 37865 | C24: 995.97 | D24: 1012.3 | F24: 995.97 | G24: 1 | H24: 1012.3
A25: =A24+1 -> 21 | B25: 37895 | C25: 1050.71 | D25: 997.8 | F25: 1050.71 | G25: 1 | H25: 997.8
A26: =A25+1 -> 22 | B26: 37926 | C26: 1058.2 | D26: 1047.6 | F26: 1058.2 | G26: 1 | H26: 1047.6
A27: =A26+1 -> 23 | B27: 37956 | C27: 1111.92 | D27: 1069.2 | F27: 1111.92 | G27: 1 | H27: 1069.2
A28: =A27+1 -> 24 | B28: 37987 | C28: 1131.13 | D28: 1109.2 | F28: 1131.13 | G28: 1 | H28: 1109.2
A29: =A28+1 -> 25 | B29: 38018 | C29: 1144.94 | D29: 1133.9 | F29: 1144.94 | G29: 1 | H29: 1133.9
A30: =A29+1 -> 26 | B30: 38047 | C30: 1126.21 | D30: 1155.7 | F30: 1126.21 | G30: 1 | H30: 1155.7
... A70: =A69+1 -> 66 | B70: 39264 | C70: 1455.27 | D70: 1531.5 | F70: 1455.27 | G70: 1 | H70: 1531.5

Sheet Ex1a
C4: Spot | D4: Futures | E4: Dspot | F4: Dfutures | H4: Dspot | I4: n | J4: Dfutures | K4: Yestimado | L4: erro | M4: erro1 | N4: erro2 | O4: SQE | P4: SQT | Q4: SQR
B5: 1 | C5: 1106.73 | D5: 1130.2 | E5: =100*(LN(C5)-LN(C4)) -> #VALUE! | F5: =100*(LN(D5)-LN(D4)) -> #VALUE!
B6: =B5+1 -> 2 | C6: 1147.39 | D6: 1119.5 | E6: =100*(LN(C6)-LN(C5)) -> 3.6080076 | F6: =100*(LN(D6)-LN(D5)) -> -0.95124512 | H6: =E6 -> 3.6080076 | I6: 1 | J6: =F6 -> -0.95124512 | K6: =X$18+X$19*J6 -> 0.24548103 | L6: =H6-K6 -> 3.3625266 | M6: =L6*J6 -> -3.198587 | N6: =L6*K6 -> 0.82543649 | O6: =(K6-X$21)^2 -> 0.030878092 | P6: =(H6-X$21)^2 -> 10.155726 | Q6: =L6^2 -> 11.306585
B7: =B6+1 -> 3 | C7: 1076.92 | D7: 1144 | E7: =100*(LN(C7)-LN(C6)) -> -6.3384683 | F7: =100*(LN(D7)-LN(D6)) -> 2.1648736 | H7: =E7 -> -6.3384683 | I7: 1 | J7: =F7 -> 2.1648736 | K7: =X$18+X$19*J7 -> 0.63144359 | L7: =H7-K7 -> -6.9699119 | M7: =L7*J7 -> -15.088978 | N7: =L7*K7 -> -4.4011062 | O7: =(K7-X$21)^2 -> 0.04420125 | P7: =(H7-X$21)^2 -> 45.693151 | Q7: =L7^2 -> 48.579671
B8: =B7+1 -> 4 | C8: 1067.14 | D8: 1052.8 | E8: =100*(LN(C8)-LN(C7)) -> -0.91229423 | F8: =100*(LN(D8)-LN(D7)) -> -8.3077611 | H8: =E8 -> -0.91229423 | I8: 1 | J8: =F8 -> -8.3077611 | K8: =X$18+X$19*J8 -> -0.66569728 | L8: =H8-K8 -> -0.24659695 | M8: =L8*J8 -> 2.0486685 | N8: =L8*K8 -> 0.16415892 | O8: =(K8-X$21)^2 -> 1.1813515 | P8: =(H8-X$21)^2 -> 1.778214 | Q8: =L8^2 -> 0.060810055 | W8: (X'X)= | X8: {=MMULT(TRANSPOSE(I6:J70),I6:J70)} -> 65 | Y8: 30.385304
B9: =B8+1 -> 5 | C9: 989.82 | D9: 1056.5 | E9: =100*(LN(C9)-LN(C8)) -> -7.5214343 | F9: =100*(LN(D9)-LN(D8)) -> 0.35082765 | H9: =E9 -> -7.5214343 | I9: 1 | J9: =F9 -> 0.35082765 | K9: =X$18+X$19*J9 -> 0.4067558 | L9: =H9-K9 -> -7.9281901 | M9: =L9*J9 -> -2.7814283 | N9: =L9*K9 -> -3.2248373 | O9: =(K9-X$21)^2 -> 0.00020871166 | P9: =(H9-X$21)^2 -> 63.085482 | Q9: =L9^2 -> 62.856199 | X9: 30.385304 | Y9: 717.05827
B10: =B9+1 -> 6 | C10: 911.62 | D10: 969.3 | E10: =100*(LN(C10)-LN(C9)) -> -8.2299872 | F10: =100*(LN(D10)-LN(D9)) -> -8.6142676 | H10: =E10 -> -8.2299872 | I10: 1 | J10: =F10 -> -8.6142676 | K10: =X$18+X$19*J10 -> -0.70366118 | L10: =H10-K10 -> -7.526326 | M10: =L10*J10 -> 64.833786 | N10: =L10*K10 -> 5.2959834 | O10: =(K10-X$21)^2 -> 1.2653187 | P10: =(H10-X$21)^2 -> 74.843086 | Q10: =L10^2 -> 56.645583
B11: =B10+1 -> 7 | C11: 916.07 | D11: 889 | E11: =100*(LN(C11)-LN(C10)) -> 0.48695444 | F11: =100*(LN(D11)-LN(D10)) -> -8.6476926 | H11: =E11 -> 0.48695444 | I11: 1 | J11: =F11 -> -8.6476926 | K11: =X$18+X$19*J11 -> -0.7078012 | L11: =H11-K11 -> 1.1947556 | M11: =L11*J11 -> -10.33188 | N11: =L11*K11 -> -0.84564948 | O11: =(K11-X$21)^2 -> 1.2746497 | P11: =(H11-X$21)^2 -> 0.0043232965 | Q11: =L11^2 -> 1.427441 | W11: (X'X)-1= | X11: {=MINVERSE(X8:Y9)} -> 0.015695526 | Y11: -0.00066509702
B12: =B11+1 -> 8 | C12: 815.28 | D12: 908.5 | E12: =100*(LN(C12)-LN(C11)) -> -11.656117 | F12: =100*(LN(D12)-LN(D11)) -> 2.1697652 | H12: =E12 -> -11.656117 | I12: 1 | J12: =F12 -> 2.1697652 | K12: =X$18+X$19*J12 -> 0.63204947 | L12: =H12-K12 -> -12.288166 | M12: =L12*J12 -> -26.662436 | N12: =L12*K12 -> -7.766729 | O12: =(K12-X$21)^2 -> 0.044456378 | P12: =(H12-X$21)^2 -> 145.86165 | Q12: =L12^2 -> 150.99903 | X12: -0.00066509702 | Y12: 0.0014227703
B13: =B12+1 -> 9 | C13: 885.76 | D13: 847.5 | E13: =100*(LN(C13)-LN(C12)) -> 8.2914421 | F13: =100*(LN(D13)-LN(D12)) -> -6.9504049 | H13: =E13 -> 8.2914421 | I13: 1 | J13: =F13 -> -6.9504049 | K13: =X$18+X$19*J13 -> -0.49757509 | L13: =H13-K13 -> 8.7890172 | M13: =L13*J13 -> -61.087228 | N13: =L13*K13 -> -4.373196 | O13: =(K13-X$21)^2 -> 0.84415255 | P13: =(H13-X$21)^2 -> 61.940669 | Q13: =L13^2 -> 77.246823
B14: =B13+1 -> 10 | C14: 936.31 | D14: 901.5 | E14: =100*(LN(C14)-LN(C13)) -> 5.5500585 | F14: =100*(LN(D14)-LN(D13)) -> 6.1769203 | H14: =E14 -> 5.5500585 | I14: 1 | J14: =F14 -> 6.1769203 | K14: =X$18+X$19*J14 -> 1.1283758 | L14: =H14-K14 -> 4.4216826 | M14: =L14*J14 -> 27.312381 | N14: =L14*K14 -> 4.9893198 | O14: =(K14-X$21)^2 -> 0.50009389 | P14: =(H14-X$21)^2 -> 26.305162 | Q14: =L14^2 -> 19.551277 | W14: (X'Y)= | X14: {=MMULT(TRANSPOSE(I6:J70),H6:H70)} -> 27.378173
B15: =B14+1 -> 11 | C15: 879.82 | D15: 932.2 | E15: =100*(LN(C15)-LN(C14)) -> -6.2229277 | F15: =100*(LN(D15)-LN(D14)) -> 3.3487341 | H15: =E15 -> -6.2229277 | I15: 1 | J15: =F15 -> 3.3487341 | K15: =X$18+X$19*J15 -> 0.7780766 | L15: =H15-K15 -> -7.0010043 | M15: =L15*J15 -> -23.444502 | N15: =L15*K15 -> -5.4473176 | O15: =(K15-X$21)^2 -> 0.12735901 | P15: =(H15-X$21)^2 -> 44.144468 | Q15: =L15^2 -> 49.014061 | X15: 99.853911
B16: =B15+1 -> 12 | C16: 855.7 | D16: 879.9 | E16: =100*(LN(C16)-LN(C15)) -> -2.7797494 | F16: =100*(LN(D16)-LN(D15)) -> -5.7739119 | H16: =E16 -> -2.7797494 | I16: 1 | J16: =F16 -> -5.7739119 | K16: =X$18+X$19*J16 -> -0.35185464 | L16: =H16-K16 -> -2.4278947 | M16: =L16*J16 -> 14.01845 | N16: =L16*K16 -> 0.85426602 | O16: =(K16-X$21)^2 -> 0.59761759 | P16: =(H16-X$21)^2 -> 10.246094 | Q16: =L16^2 -> 5.8946728
B17: =B16+1 -> 13 | C17: 841.15 | D17: 857 | E17: =100*(LN(C17)-LN(C16)) -> -1.7149844 | F17: =100*(LN(D17)-LN(D16)) -> -2.6370346 | H17: =E17 -> -1.7149844 | I17: 1 | J17: =F17 -> -2.6370346 | K17: =X$18+X$19*J17 -> 0.036679088 | L17: =H17-K17 -> -1.7516635 | M17: =L17*J17 -> 4.6191973 | N17: =L17*K17 -> -0.064249421 | O17: =(K17-X$21)^2 -> 0.14785838 | P17: =(H17-X$21)^2 -> 4.5632953 | Q17: =L17^2 -> 3.0683251
B18: =B17+1 -> 14 | C18: 848.18 | D18: 844.4 | E18: =100*(LN(C18)-LN(C17)) -> 0.83228743 | F18: =100*(LN(D18)-LN(D17)) -> -1.4811603 | H18: =E18 -> 0.83228743 | I18: 1 | J18: =F18 -> -1.4811603 | K18: =X$18+X$19*J18 -> 0.17984572 | L18: =H18-K18 -> 0.6524417 | M18: =L18*J18 -> -0.96637072 | N18: =L18*K18 -> 0.11733885 | O18: =(K18-X$21)^2 -> 0.058253172 | P18: =(H18-X$21)^2 -> 0.16899068 | Q18: =L18^2 -> 0.42568018 | W18: β= | X18: {=MMULT(X11:Y12,X14:X15)} -> 0.36330228
B19: =B18+1 -> 15 | C19: 916.92 | D19: 856.2 | E19: =100*(LN(C19)-LN(C18)) -> 7.792735 | F19: =100*(LN(D19)-LN(D18)) -> 1.3877678 | H19: =E19 -> 7.792735 | I19: 1 | J19: =F19 -> 1.3877678 | K19: =X$18+X$19*J19 -> 0.53519124 | L19: =H19-K19 -> 7.2575438 | M19: =L19*J19 -> 10.071785 | N19: =L19*K19 -> 3.8841738 | O19: =(K19-X$21)^2 -> 0.012993397 | P19: =(H19-X$21)^2 -> 54.339489 | Q19: =L19^2 -> 52.671941 | X19: 0.12386003
B20: =B19+1 -> 16 | C20: 963.59 | D20: 915.2 | E20: =100*(LN(C20)-LN(C19)) -> 4.9645665 | F20: =100*(LN(D20)-LN(D19)) -> 6.6638627 | H20: =E20 -> 4.9645665 | I20: 1 | J20: =F20 -> 6.6638627 | K20: =X$18+X$19*J20 -> 1.1886885 | L20: =H20-K20 -> 3.775878 | M20: =L20*J20 -> 25.161933 | N20: =L20*K20 -> 4.4883429 | O20: =(K20-X$21)^2 -> 0.58903456 | P20: =(H20-X$21)^2 -> 20.642155 | Q20: =L20^2 -> 14.257255
B21: =B20+1 -> 17 | C21: 974.5 | D21: 966.5 | E21: =100*(LN(C21)-LN(C20)) -> 1.1258626 | F21: =100*(LN(D21)-LN(D20)) -> 5.4538678 | H21: =E21 -> 1.1258626 | I21: 1 | J21: =F21 -> 5.4538678 | K21: =X$18+X$19*J21 -> 1.0388185 | L21: =H21-K21 -> 0.08704408 | M21: =L21*J21 -> 0.47472691 | N21: =L21*K21 -> 0.090423003 | O21: =(K21-X$21)^2 -> 0.38144935 | P21: =(H21-X$21)^2 -> 0.49654563 | Q21: =L21^2 -> 0.0075766719 | W21: Dspot(media) | X21: =AVERAGE(H6:H70) -> 0.42120266
B22: =B21+1 -> 18 | C22: 990.31 | D22: 981 | E22: =100*(LN(C22)-LN(C21)) -> 1.6093506 | F22: =100*(LN(D22)-LN(D21)) -> 1.4891161 | H22: =E22 -> 1.6093506 | I22: 1 | J22: =F22 -> 1.4891161 | K22: =X$18+X$19*J22 -> 0.54774425 | L22: =H22-K22 -> 1.0616064 | M22: =L22*J22 -> 1.5808552 | N22: =L22*K22 -> 0.5814888 | O22: =(K22-X$21)^2 -> 0.016012773 | P22: =(H22-X$21)^2 -> 1.4116956 | Q22: =L22^2 -> 1.1270082
B23: =B22+1 -> 19 | C23: 1008.01 | D23: 978.7 | E23: =100*(LN(C23)-LN(C22)) -> 1.7715344 | F23: =100*(LN(D23)-LN(D22)) -> -0.23472991 | H23: =E23 -> 1.7715344 | I23: 1 | J23: =F23 -> -0.23472991 | K23: =X$18+X$19*J23 -> 0.33422862 | L23: =H23-K23 -> 1.4373058 | M23: =L23*J23 -> -0.33737866 | N23: =L23*K23 -> 0.48038873 | O23: =(K23-X$21)^2 -> 0.0075644828 | P23: =(H23-X$21)^2 -> 1.8233958 | Q23: =L23^2 -> 2.0658478
B24: =B23+1 -> 20 | C24: 995.97 | D24: 1012.3 | E24: =100*(LN(C24)-LN(C23)) -> -1.2016233 | F24: =100*(LN(D24)-LN(D23)) -> 3.3755088 | H24: =E24 -> -1.2016233 | I24: 1 | J24: =F24 -> 3.3755088 | K24: =X$18+X$19*J24 -> 0.78139291 | L24: =H24-K24 -> -1.9830162 | M24: =L24*J24 -> -6.6936886 | N24: =L24*K24 -> -1.5495148 | O24: =(K24-X$21)^2 -> 0.12973702 | P24: =(H24-X$21)^2 -> 2.633564 | Q24: =L24^2 -> 3.9323531
B25: =B24+1 -> 21 | C25: 1050.71 | D25: 997.8 | E25: =100*(LN(C25)-LN(C24)) -> 5.3504268 | F25: =100*(LN(D25)-LN(D24)) -> -1.4427393 | H25: =E25 -> 5.3504268 | I25: 1 | J25: =F25 -> -1.4427393 | K25: =X$18+X$19*J25 -> 0.18460454 | L25: =H25-K25 -> 5.1658223 | M25: =L25*J25 -> -7.4529349 | N25: =L25*K25 -> 0.95363426 | O25: =(K25-X$21)^2 -> 0.05597867 | P25: =(H25-X$21)^2 -> 24.297251 | Q25: =L25^2 -> 26.68572
B26: =B25+1 -> 22 | C26: 1058.2 | D26: 1047.6 | E26: =100*(LN(C26)-LN(C25)) -> 0.71032254 | F26: =100*(LN(D26)-LN(D25)) -> 4.8704257 | H26: =E26 -> 0.71032254 | I26: 1 | J26: =F26 -> 4.8704257 | K26: =X$18+X$19*J26 -> 0.96655337 | L26: =H26-K26 -> -0.25623083 | M26: =L26*J26 -> -1.2479532 | N26: =L26*K26 -> -0.24766077 | O26: =(K26-X$21)^2 -> 0.29740739 | P26: =(H26-X$21)^2 -> 0.083590303 | Q26: =L26^2 -> 0.065654238
B27: =B26+1 -> 23 | C27: 1111.92 | D27: 1069.2 | E27: =100*(LN(C27)-LN(C26)) -> 4.9518899 | F27: =100*(LN(D27)-LN(D26)) -> 2.0408872 | H27: =E27 -> 4.9518899 | I27: 1 | J27: =F27 -> 2.0408872 | K27: =X$18+X$19*J27 -> 0.61608663 | L27: =H27-K27 -> 4.3358033 | M27: =L27*J27 -> 8.8488853 | N27: =L27*K27 -> 2.6712304 | O27: =(K27-X$21)^2 -> 0.037979762 | P27: =(H27-X$21)^2 -> 20.527127 | Q27: =L27^2 -> 18.79919
B28: =B27+1 -> 24 | C28: 1131.13 | D28: 1109.2 | E28: =100*(LN(C28)-LN(C27)) -> 1.7128882 | F28: =100*(LN(D28)-LN(D27)) -> 3.6728329 | H28: =E28 -> 1.7128882 | I28: 1 | J28: =F28 -> 3.6728329 | K28: =X$18+X$19*J28 -> 0.81821949 | L28: =H28-K28 -> 0.89466874 | M28: =L28*J28 -> 3.2859688 | N28: =L28*K28 -> 0.7320354 | O28: =(K28-X$21)^2 -> 0.15762236 | P28: =(H28-X$21)^2 -> 1.6684516 | Q28: =L28^2 -> 0.80043215
B29: =B28+1 -> 25 | C29: 1144.94 | D29: 1133.9 | E29: =100*(LN(C29)-LN(C28)) -> 1.2135101 | F29: =100*(LN(D29)-LN(D28)) -> 2.2023983 | H29: =E29 -> 1.2135101 | I29: 1 | J29: =F29 -> 2.2023983 | K29: =X$18+X$19*J29 -> 0.63609141 | L29: =H29-K29 -> 0.57741868 | M29: =L29*J29 -> 1.2717059 | N29: =L29*K29 -> 0.36729106 | O29: =(K29-X$21)^2 -> 0.046177174 | P29: =(H29-X$21)^2 -> 0.62775105 | Q29: =L29^2 -> 0.33341233
B30: =B29+1 -> 26 | C30: 1126.21 | D30: 1155.7 | E30: =100*(LN(C30)-LN(C29)) -> -1.6494221 | F30: =100*(LN(D30)-LN(D29)) -> 1.9043203 | H30: =E30 -> -1.6494221 | I30: 1 | J30: =F30 -> 1.9043203 | K30: =X$18+X$19*J30 -> 0.59917145 | L30: =H30-K30 -> -2.2485935 | M30: =L30*J30 -> -4.2820423 | N30: =L30*K30 -> -1.347293 | O30: =(K30-X$21)^2 -> 0.031672891 | P30: =(H30-X$21)^2 -> 4.2874868 | Q30: =L30^2 -> 5.0561728
B31: =B30+1 -> 27 | C31: 1107.3 | D31: 1130.3 | E31: =100*(LN(C31)-LN(C30)) -> -1.6933393 | F31: =100*(LN(D31)-LN(D30)) -> -2.2223137 | H31: =E31 -> -1.6933393 | I31: 1 | J31: =F31 -> -2.2223137 | K31: =X$18+X$19*J31 -> 0.088046436 | L31: =H31-K31 -> -1.7813858 | M31: =L31*J31 -> 3.958798 | N31: =L31*K31 -> -0.15684467 | O31: =(K31-X$21)^2 -> 0.11099307 | P31: =(H31-X$21)^2 -> 4.4712879 | Q31: =L31^2 -> 3.1733353
B32: =B31+1 -> 28 | C32: 1120.68 | D32: 1105 | E32: =100*(LN(C32)-LN(C31)) -> 1.2011024 | F32: =100*(LN(D32)-LN(D31)) -> -2.2637749 | H32: =E32 -> 1.2011024 | I32: 1 | J32: =F32 -> -2.2637749 | K32: =X$18+X$19*J32 -> 0.082911045 | L32: =H32-K32 -> 1.1181914 | M32: =L32*J32 -> -2.5313336 | N32: =L32*K32 -> 0.092710415 | O32: =(K32-X$21)^2 -> 0.11444122 | P32: =(H32-X$21)^2 -> 0.60824364 | Q32: =L32^2 -> 1.250352
B33: =B32+1 -> 29 | C33: 1140.84 | D33: 1120.9 | E33: =100*(LN(C33)-LN(C32)) -> 1.7829189 | F33: =100*(LN(D33)-LN(D32)) -> 1.4286599 | H33: =E33 -> 1.7829189 | I33: 1 | J33: =F33 -> 1.4286599 | K33: =X$18+X$19*J33 -> 0.54025614 | L33: =H33-K33 -> 1.2426628 | M33: =L33*J33 -> 1.7753425 | N33: =L33*K33 -> 0.6713562 | O33: =(K33-X$21)^2 -> 0.014173732 | P33: =(H33-X$21)^2 -> 1.8542712 | Q33: =L33^2 -> 1.5442108
... B70: =B69+1 -> 66 | C70: 1455.27 | D70: 1531.5 | E70: =100*(LN(C70)-LN(C69)) -> -3.2504501 | F70: =100*(LN(D70)-LN(D69)) -> -0.59892113 | H70: =E70 -> -3.2504501 | I70: 1 | J70: =F70 -> -0.59892113 | K70: =X$18+X$19*J70 -> 0.28911989 | L70: =H70-K70 -> -3.53957 | M70: =L70*J70 -> 2.1199233 | N70: =L70*K70 -> -1.0233601 | O70: =(K70-X$21)^2 -> 0.017445858 | P70: =(H70-X$21)^2 -> 13.481034 | Q70: =L70^2 -> 12.528556
K71: =SUM(K6:K70) -> 27.378173 | L71: =SUM(L6:L70) -> 3.5527137e-15 | M71: =SUM(M6:M70) -> -6.750156e-14 | N71: =SUM(N6:N70) -> -2.220446e-15 | O71: =SUM(O6:O70) -> 10.782702 | P71: =SUM(P6:P70) -> 803.37871 | Q71: =SUM(Q6:Q70) -> 792.59601 | R71: =SUM(R6:R70) -> 0

Sheet Ex2
C4: Sales | D4: n | E4: Advert | G4: log(sales) | H4: n | I4: log(advert) | K4: log(sales) | L4: n | M4: advert | O4: sales | P4: n | Q4: log(advert) | S4: (X'X)= | T4: {=MMULT(TRANSPOSE(D5:E79),D5:E79)} -> 75 | U4: 138.3
C5: 73.2 | D5: 1 | E5: 1.3 | G5: =LN(C5) -> 4.2931954 | H5: 1 | I5: =LN(E5) -> 0.26236426 | K5: =LN(C5) -> 4.2931954 | L5: 1 | M5: =E5 -> 1.3 | O5: =C5 -> 73.2 | P5: 1 | Q5: =LN(E5) -> 0.26236426 | T5: 138.3 | U5: 306.21
C6: 71.8 | D6: 1 | E6: 2.9 | G6: =LN(C6) -> 4.2738845 | H6: 1 | I6: =LN(E6) -> 1.0647107 | K6: =LN(C6) -> 4.2738845 | L6: 1 | M6: =E6 -> 2.9 | O6: =C6 -> 71.8 | P6: 1 | Q6: =LN(E6) -> 1.0647107
C7: 62.4 | D7: 1 | E7: 0.8 | G7: =LN(C7) -> 4.1335653 | H7: 1 | I7: =LN(E7) -> -0.22314355 | K7: =LN(C7) -> 4.1335653 | L7: 1 | M7: =E7 -> 0.8 | O7: =C7 -> 62.4 | P7: 1 | Q7: =LN(E7) -> -0.22314355 | S7: (X'X)-1= | T7: {=MINVERSE(T4:U5)} -> 0.079765868 | U7: -0.03602632
C8: 67.4 | D8: 1 | E8: 0.7 | G8: =LN(C8) -> 4.210645 | H8: 1 | I8: =LN(E8) -> -0.35667494 | K8: =LN(C8) -> 4.210645 | L8: 1 | M8: =E8 -> 0.7 | O8: =C8 -> 67.4 | P8: 1 | Q8: =LN(E8) -> -0.35667494 | T8: -0.03602632 | U8: 0.01953705
C9: 89.3 | D9: 1 | E9: 1.5 | G9: =LN(C9) -> 4.4920015 | H9: 1 | I9: =LN(E9) -> 0.40546511 | K9: =LN(C9) -> 4.4920015 | L9: 1 | M9: =E9 -> 1.5 | O9: =C9 -> 89.3 | P9: 1 | Q9: =LN(E9) -> 0.40546511
C10: 70.3 | D10: 1 | E10: 1.3 | G10: =LN(C10) -> 4.2527718 | H10: 1 | I10: =LN(E10) -> 0.26236426 | K10: =LN(C10) -> 4.2527718 | L10: 1 | M10: =E10 -> 1.3 | O10: =C10 -> 70.3 | P10: 1 | Q10: =LN(E10) -> 0.26236426 | S10: (X'Y)= | T10: {=MMULT(TRANSPOSE(D5:E79),C5:C79)} -> 5803.1
C11: 73.2 | D11: 1 | E11: 1.8 | G11: =LN(C11) -> 4.2931954 | H11: 1 | I11: =LN(E11) -> 0.58778666 | K11: =LN(C11) -> 4.2931954 | L11: 1 | M11: =E11 -> 1.8 | O11: =C11 -> 73.2 | P11: 1 | Q11: =LN(E11) -> 0.58778666 | T11: 10789.6
C12: 86.1 | D12: 1 | E12: 2.4 | G12: =LN(C12) -> 4.4555094 | H12: 1 | I12: =LN(E12) -> 0.87546874 | K12: =LN(C12) -> 4.4555094 | L12: 1 | M12: =E12 -> 2.4 | O12: =C12 -> 86.1 | P12: 1 | Q12: =LN(E12) -> 0.87546874
C13: 81 | D13: 1 | E13: 0.7 | G13: =LN(C13) -> 4.3944492 | H13: 1 | I13: =LN(E13) -> -0.35667494 | K13: =LN(C13) -> 4.3944492 | L13: 1 | M13: =E13 -> 0.7 | O13: =C13 -> 81 | P13: 1 | Q13: =LN(E13) -> -0.35667494
C14: 76.4 | D14: 1 | E14: 3 | G14: =LN(C14) -> 4.3359827 | H14: 1 | I14: =LN(E14) -> 1.0986123 | K14: =LN(C14) -> 4.3359827 | L14: 1 | M14: =E14 -> 3 | O14: =C14 -> 76.4 | P14: 1 | Q14: =LN(E14) -> 1.0986123 | S14: β= | T14: {=MMULT(T7:U8,T10:T11)} -> 74.179723
C15: 76.6 | D15: 1 | E15: 2.8 | G15: =LN(C15) -> 4.3385971 | H15: 1 | I15: =LN(E15) -> 1.0296194 | K15: =LN(C15) -> 4.3385971 | L15: 1 | M15: =E15 -> 2.8 | O15: =C15 -> 76.6 | P15: 1 | Q15: =LN(E15) -> 1.0296194 | T15: 1.7326159
C16: 82.2 | D16: 1 | E16: 2.7 | G16: =LN(C16) -> 4.4091553 | H16: 1 | I16: =LN(E16) -> 0.99325177 | K16: =LN(C16) -> 4.4091553 | L16: 1 | M16: =E16 -> 2.7 | O16: =C16 -> 82.2 | P16: 1 | Q16: =LN(E16) -> 0.99325177
C17: 82.1 | D17: 1 | E17: 2.8 | G17: =LN(C17) -> 4.407938 | H17: 1 | I17: =LN(E17) -> 1.0296194 | K17: =LN(C17) -> 4.407938 | L17: 1 | M17: =E17 -> 2.8 | O17: =C17 -> 82.1 | P17: 1 | Q17: =LN(E17) -> 1.0296194
C18: 68.6 | D18: 1 | E18: 2.8 | G18: =LN(C18) -> 4.2282925 | H18: 1 | I18: =LN(E18) -> 1.0296194 | K18: =LN(C18) -> 4.2282925 | L18: 1 | M18: =E18 -> 2.8 | O18: =C18 -> 68.6 | P18: 1 | Q18: =LN(E18) -> 1.0296194
C19: 76.5 | D19: 1 | E19: 2.3 | G19: =LN(C19) -> 4.3372907 | H19: 1 | I19: =LN(E19) -> 0.83290912 | K19: =LN(C19) -> 4.3372907 | L19: 1 | M19: =E19 -> 2.3 | O19: =C19 -> 76.5 | P19: 1 | Q19: =LN(E19) -> 0.83290912
C20: 80.3 | D20: 1 | E20: 1.7 | G20: =LN(C20) -> 4.3857696 | H20: 1 | I20: =LN(E20) -> 0.53062825 | K20: =LN(C20) -> 4.3857696 | L20: 1 | M20: =E20 -> 1.7 | O20: =C20 -> 80.3 | P20: 1 | Q20: =LN(E20) -> 0.53062825
C21: 70.7 | D21: 1 | E21: 1.5 | G21: =LN(C21) -> 4.2584456 | H21: 1 | I21: =LN(E21) -> 0.40546511 | K21: =LN(C21) -> 4.2584456 | L21: 1 | M21: =E21 -> 1.5 | O21: =C21 -> 70.7 | P21: 1 | Q21: =LN(E21) -> 0.40546511
C22: 75 | D22: 1 | E22: 0.8 | G22: =LN(C22) -> 4.3174881 | H22: 1 | I22: =LN(E22) -> -0.22314355 | K22: =LN(C22) -> 4.3174881 | L22: 1 | M22: =E22 -> 0.8 | O22: =C22 -> 75 | P22: 1 | Q22: =LN(E22) -> -0.22314355
C23: 73.7 | D23: 1 | E23: 2.9 | G23: =LN(C23) -> 4.3000028 | H23: 1 | I23: =LN(E23) -> 1.0647107 | K23: =LN(C23) -> 4.3000028 | L23: 1 | M23: =E23 -> 2.9 | O23: =C23 -> 73.7 | P23: 1 | Q23: =LN(E23) -> 1.0647107 | S23: (X'X)= | T23: {=MMULT(TRANSPOSE(H5:I79),H5:I79)} -> 75 | U23: 36.660367
C24: 71.2 | D24: 1 | E24: 0.5 | G24: =LN(C24) -> 4.2654928 | H24: 1 | I24: =LN(E24) -> -0.69314718 | K24: =LN(C24) -> 4.2654928 | L24: 1 | M24: =E24 -> 0.5 | O24: =C24 -> 71.2 | P24: 1 | Q24: =LN(E24) -> -0.69314718 | T24: 36.660367 | U24: 38.774888
C25: 84.7 | D25: 1 | E25: 2.1 | G25: =LN(C25) -> 4.4391156 | H25: 1 | I25: =LN(E25) -> 0.74193734 | K25: =LN(C25) -> 4.4391156 | L25: 1 | M25: =E25 -> 2.1 | O25: =C25 -> 84.7 | P25: 1 | Q25: =LN(E25) -> 0.74193734
C26: 73.6 | D26: 1 | E26: 0.8 | G26: =LN(C26) -> 4.298645 | H26: 1 | I26: =LN(E26) -> -0.22314355 | K26: =LN(C26) -> 4.298645 | L26: 1 | M26: =E26 -> 0.8 | O26: =C26 -> 73.6 | P26: 1 | Q26: =LN(E26) -> -0.22314355 | S26: (X'X)-1= | T26: {=MINVERSE(T23:U24)} -> 0.024790003 | U26: -0.023438124
C27: 73.7 | D27: 1 | E27: 1.1 | G27: =LN(C27) -> 4.3000028 | H27: 1 | I27: =LN(E27) -> 0.09531018 | K27: =LN(C27) -> 4.3000028 | L27: 1 | M27: =E27 -> 1.1 | O27: =C27 -> 73.7 | P27: 1 | Q27: =LN(E27) -> 0.09531018 | T27: -0.023438124 | U27: 0.047949855
C28: 78.1 | D28: 1 | E28: 1.9 | G28: =LN(C28) -> 4.3579901 | H28: 1 | I28: =LN(E28) -> 0.64185389 | K28: =LN(C28) -> 4.3579901 | L28: 1 | M28: =E28 -> 1.9 | O28: =C28 -> 78.1 | P28: 1 | Q28: =LN(E28) -> 0.64185389
C29: 75.7 | D29: 1 | E29: 2.1 | G29: =LN(C29) -> 4.3267782 | H29: 1 | I29: =LN(E29) -> 0.74193734 | K29: =LN(C29) -> 4.3267782 | L29: 1 | M29: =E29 -> 2.1 | O29: =C29 -> 75.7 | P29: 1 | Q29: =LN(E29) -> 0.74193734 | S29: (X'Y)= | T29: {=MMULT(TRANSPOSE(H5:I79),G5:G79)} -> 325.88702
C30: 74.4 | D30: 1 | E30: 1.3 | G30: =LN(C30) -> 4.3094559 | H30: 1 | I30: =LN(E30) -> 0.26236426 | K30: =LN(C30) -> 4.3094559 | L30: 1 | M30: =E30 -> 1.3 | O30: =C30 -> 74.4 | P30: 1 | Q30: =LN(E30) -> 0.26236426 | T30: 160.2449
C31: 68.7 | D31: 1 | E31: 1.1 | G31: =LN(C31) -> 4.2297492 | H31: 1 | I31: =LN(E31) -> 0.09531018 | K31: =LN(C31) -> 4.2297492 | L31: 1 | M31: =E31 -> 1.1 | O31: =C31 -> 68.7 | P31: 1 | Q31: =LN(E31) -> 0.09531018
C32: 83.9 | D32: 1 | E32: 1.1 | G32: =LN(C32) -> 4.4296256 | H32: 1 | I32: =LN(E32) -> 0.09531018 | K32: =LN(C32) -> 4.4296256 | L32: 1 | M32: =E32 -> 1.1 | O32: =C32 -> 83.9 | P32: 1 | Q32: =LN(E32) -> 0.09531018
C33: 86.1 | D33: 1 | E33: 2.9 | G33: =LN(C33) -> 4.4555094 | H33: 1 | I33: =LN(E33) -> 1.0647107 | K33: =LN(C33) -> 4.4555094 | L33: 1 | M33: =E33 -> 2.9 | O33: =C33 -> 86.1 | P33: 1 | Q33: =LN(E33) -> 1.0647107 | S33: β= | T33: {=MMULT(T26:U27,T29:T30)} -> 4.3229005
C34: 73.7 | D34: 1 | E34: 1.4 | G34: =LN(C34) -> 4.3000028 | H34: 1 | I34: =LN(E34) -> 0.33647224 | K34: =LN(C34) -> 4.3000028 | L34: 1 | M34: =E34 -> 1.4 | O34: =C34 -> 73.7 | P34: 1 | Q34: =LN(E34) -> 0.33647224 | T34: 0.045539089
C35: 75.7 | D35: 1 | E35: 2.5 | G35: =LN(C35) -> 4.3267782 | H35: 1 | I35: =LN(E35) -> 0.91629073 | K35: =LN(C35) -> 4.3267782 | L35: 1 | M35: =E35 -> 2.5 | O35: =C35 -> 75.7 | P35: 1 | Q35: =LN(E35) -> 0.91629073
C36: 78.8 | D36: 1 | E36: 3 | G36: =LN(C36) -> 4.366913 | H36: 1 | I36: =LN(E36) -> 1.0986123 | K36: =LN(C36) -> 4.366913 | L36: 1 | M36: =E36 -> 3 | O36: =C36 -> 78.8 | P36: 1 | Q36: =LN(E36) -> 1.0986123
C37: 73.7 | D37: 1 | E37: 1 | G37: =LN(C37) -> 4.3000028 | H37: 1 | I37: =LN(E37) -> 0 | K37: =LN(C37) -> 4.3000028 | L37: 1 | M37: =E37 -> 1 | O37: =C37 -> 73.7 | P37: 1 | Q37: =LN(E37) -> 0
C38: 80.2 | D38: 1 | E38: 3.1 | G38: =LN(C38) -> 4.3845235 | H38: 1 | I38: =LN(E38) -> 1.1314021 | K38: =LN(C38) -> 4.3845235 | L38: 1 | M38: =E38 -> 3.1 | O38: =C38 -> 80.2 | P38: 1 | Q38: =LN(E38) -> 1.1314021
C39: 69.9 | D39: 1 | E39: 0.5 | G39: =LN(C39) -> 4.2470656 | H39: 1 | I39: =LN(E39) -> -0.69314718 | K39: =LN(C39) -> 4.2470656 | L39: 1 | M39: =E39 -> 0.5 | O39: =C39 -> 69.9 | P39: 1 | Q39: =LN(E39) -> -0.69314718 | S39: (X'X)= | T39: {=MMULT(TRANSPOSE(L5:M79),L5:M79)} -> 75 | U39: 138.3
C40: 69.1 | D40: 1 | E40: 2.7 | G40: =LN(C40) -> 4.2355547 | H40: 1 | I40: =LN(E40) -> 0.99325177 | K40: =LN(C40) -> 4.2355547 | L40: 1 | M40: =E40 -> 2.7 | O40: =C40 -> 69.1 | P40: 1 | Q40: =LN(E40) -> 0.99325177 | T40: 138.3 | U40: 306.21
C41: 83.8 | D41: 1 | E41: 0.9 | G41: =LN(C41) -> 4.428433 | H41: 1 | I41: =LN(E41) -> -0.10536052 | K41: =LN(C41) -> 4.428433 | L41: 1 | M41: =E41 -> 0.9 | O41: =C41 -> 83.8 | P41: 1 | Q41: =LN(E41) -> -0.10536052
C42: 84.3 | D42: 1 | E42: 1.5 | G42: =LN(C42) -> 4.4343819 | H42: 1 | I42: =LN(E42) -> 0.40546511 | K42: =LN(C42) -> 4.4343819 | L42: 1 | M42: =E42 -> 1.5 | O42: =C42 -> 84.3 | P42: 1 | Q42: =LN(E42) -> 0.40546511 | S42: (X'X)-1= | T42: {=MINVERSE(T39:U40)} -> 0.079765868 | U42: -0.03602632
C43: 66 | D43: 1 | E43: 2.8 | G43: =LN(C43) -> 4.1896547 | H43: 1 | I43: =LN(E43) -> 1.0296194 | K43: =LN(C43) -> 4.1896547 | L43: 1 | M43: =E43 -> 2.8 | O43: =C43 -> 66 | P43: 1 | Q43: =LN(E43) -> 1.0296194 | T43: -0.03602632 | U43: 0.01953705
...

Sheet Ex4
B4: Sales | C4: n | D4: Price | E4: Advert | F4: Advert^2 | G4: e2
B5: 73.2 | C5: 1 | D5: 5.69 | E5: 1.3 | F5: =E5^2 -> 1.69 | G5: =(B5-(J$22+J$23*D5+J$24*E5+J$25*F5))^2 -> 17.357094 | J5: {=MMULT(TRANSPOSE(C5:F79),C5:F79)} -> 75 | K5: 426.54 | L5: 138.3 | M5: 306.21
B6: 71.8 | C6: 1 | D6: 6.49 | E6: 2.9 | F6: =E6^2 -> 8.41 | G6: =(B6-(J$22+J$23*D6+J$24*E6+J$25*F6))^2 -> 0.087290485 | I6: (X'X)= | J6: 426.54 | K6: 2445.7074 | L6: 787.381 | M6: 1746.5291
B7: 62.4 | C7: 1 | D7: 5.63 | E7: 0.8 | F7: =E7^2 -> 0.64 | G7: =(B7-(J$22+J$23*D7+J$24*E7+J$25*F7))^2 -> 150.19306 | J7: 138.3 | K7: 787.381 | L7: 306.21 | M7: 754.989
B8: 67.4 | C8: 1 | D8: 6.22 | E8: 0.7 | F8: =E8^2 -> 0.49 | G8: =(B8-(J$22+J$23*D8+J$24*E8+J$25*F8))^2 -> 3.7939203 | J8: 306.21 | K8: 1746.5291 | L8: 754.989 | M8: 1982.5665
B9: 89.3 | C9: 1 | D9: 5.02 | E9: 1.5 | F9: =E9^2 -> 2.25 | G9: =(B9-(J$22+J$23*D9+J$24*E9+J$25*F9))^2 -> 35.222179
B10: 70.3 | C10: 1 | D10: 6.41 | E10: 1.3 | F10: =E10^2 -> 1.69 | G10: =(B10-(J$22+J$23*D10+J$24*E10+J$25*F10))^2 -> 2.4504287
B11: 73.2 | C11: 1 | D11: 5.85 | E11: 1.8 | F11: =E11^2 -> 3.24 | G11: =(B11-(J$22+J$23*D11+J$24*E11+J$25*F11))^2 -> 22.364005 | J11: {=MINVERSE(J5:M8)} -> 2.1422568 | K11: -0.29779952 | L11: -0.53761277 | M11: 0.13620063
B12: 86.1 | C12: 1 | D12: 5.41 | E12: 2.4 | F12: =E12^2 -> 5.76 | G12: =(B12-(J$22+J$23*D12+J$24*E12+J$25*F12))^2 -> 20.194831 | I12: (X'X)-1= | J12: -0.29779952 | K12: 0.0506977 | L12: 0.013921454 | M12: -0.0039677664
B13: 81 | C13: 1 | D13: 6.24 | E13: 0.7 | F13: =E13^2 -> 0.49 | G13: =(B13-(J$22+J$23*D13+J$24*E13+J$25*F13))^2 -> 139.35805 | J13: -0.53761277 | K13: 0.013921454 | L13: 0.5860561 | M13: -0.15240736
B14: 76.4 | C14: 1 | D14: 6.2 | E14: 3 | F14: =E14^2 -> 9 | G14: =(B14-(J$22+J$23*D14+J$24*E14+J$25*F14))^2 -> 6.284673 | J14: 0.13620063 | K14: -0.0039677664 | L14: -0.15240736 | M14: 0.041002259
B15: 76.6 | C15: 1 | D15: 5.48 | E15: 2.8 | F15: =E15^2 -> 7.84 | G15: =(B15-(J$22+J$23*D15+J$24*E15+J$25*F15))^2 -> 12.7768
B16: 82.2 | C16: 1 | D16: 6.14 | E16: 2.7 | F16: =E16^2 -> 7.29 | G16: =(B16-(J$22+J$23*D16+J$24*E16+J$25*F16))^2 -> 45.706778 | J16: {=MMULT(TRANSPOSE(C5:F79),B5:B79)} -> 5803.1
B17: 82.1 | C17: 1 | D17: 5.37 | E17: 2.8 | F17: =E17^2 -> 7.84 | G17: =(B17-(J$22+J$23*D17+J$24*E17+J$25*F17))^2 -> 1.1775178 | I17: (X'Y)= | J17: 32847.677 | L17: σ= | M17: =(G80/(75-4))^0.5 -> 4.645283
B18: 68.6 | C18: 1 | D18: 6.45 | E18: 2.8 | F18: =E18^2 -> 7.84 | G18: =(B18-(J$22+J$23*D18+J$24*E18+J$25*F18))^2 -> 17.336106 | J18: 10789.6
B19: 76.5 | C19: 1 | D19: 5.35 | E19: 2.3 | F19: =E19^2 -> 5.29 | G19: =(B19-(J$22+J$23*D19+J$24*E19+J$25*F19))^2 -> 31.92649 | J19: 23939.962
B20: 80.3 | C20: 1 | D20: 5.22 | E20: 1.7 | F20: =E20^2 -> 2.89 | G20: =(B20-(J$22+J$23*D20+J$24*E20+J$25*F20))^2 -> 4.8220783
B21: 70.7 | C21: 1 | D21: 5.89 | E21: 1.5 | F21: =E21^2 -> 2.25 | G21: =(B21-(J$22+J$23*D21+J$24*E21+J$25*F21))^2 -> 36.220806
B22: 75 | C22: 1 | D22: 5.21 | E22: 0.8 | F22: =E22^2 -> 0.64 | G22: =(B22-(J$22+J$23*D22+J$24*E22+J$25*F22))^2 -> 8.203229 | J22: {=MMULT(J11:M14,J16:J19)} -> 109.71904
B23: 73.7 | C23: 1 | D23: 6 | E23: 2.9 | F23: =E23^2 -> 8.41 | G23: =(B23-(J$22+J$23*D23+J$24*E23+J$25*F23))^2 -> 4.5755334 | I23: β= | J23: -7.64
B24: 71.2 | C24: 1 | D24: 6.37 | E24: 0.5 | F24: =E24^2 -> 0.25 | G24: =(B24-(J$22+J$23*D24+J$24*E24+J$25*F24))^2 -> 22.697003 | J24: 12.151236
B25: 84.7 | C25: 1 | D25: 5.33 | E25: 2.1 | F25: =E25^2 -> 4.41 | G25: =(B25-(J$22+J$23*D25+J$24*E25+J$25*F25))^2 -> 5.7182512 | J25: -2.7679631
B26: 73.6 | C26: 1 | D26: 5.23 | E26: 0.8 | F26: =E26^2 -> 0.64 | G26: =(B26-(J$22+J$23*D26+J$24*E26+J$25*F26))^2 -> 16.903018
B27: 73.7 | C27: 1 | D27: 5.88 | E27: 1.1 | F27: =E27^2 -> 1.21 | G27: =(B27-(J$22+J$23*D27+J$24*E27+J$25*F27))^2 -> 1.2386792
B28: 78.1 | C28: 1 | D28: 6.24 | E28: 1.9 | F28: =E28^2 -> 3.61 | G28: =(B28-(J$22+J$23*D28+J$24*E28+J$25*F28))^2 -> 8.7590144
B29: 75.7 | C29: 1 | D29: 5.59 | E29: 2.1 | F29: =E29^2 -> 4.41 | G29: =(B29-(J$22+J$23*D29+J$24*E29+J$25*F29))^2 -> 21.365782
B30: 74.4 | C30: 1 | D30: 6.22 | E30: 1.3 | F30: =E30^2 -> 1.69 | G30: =(B30-(J$22+J$23*D30+J$24*E30+J$25*F30))^2 -> 1.1729225
B31: 68.7 | C31: 1 | D31: 6.41 | E31: 1.1 | F31: =E31^2 -> 1.21 | G31: =(B31-(J$22+J$23*D31+J$24*E31+J$25*F31))^2 -> 4.2591039
B32: 83.9 | C32: 1 | D32: 4.96 | E32: 1.1 | F32: =E32^2 -> 1.21 | G32: =(B32-(J$22+J$23*D32+J$24*E32+J$25*F32))^2 -> 4.2363531
B33: 86.1 | C33: 1 | D33: 4.83 | E33: 2.9 | F33: =E33^2 -> 8.41 | G33: =(B33-(J$22+J$23*D33+J$24*E33+J$25*F33))^2 -> 1.7480814
B34: 73.7 | C34: 1 | D34: 6.35 | E34: 1.4 | F34: =E34^2 -> 1.96 | G34: =(B34-(J$22+J$23*D34+J$24*E34+J$25*F34))^2 -> 0.82526678
B35: 75.7 | C35: 1 | D35: 6.47 | E35: 2.5 | F35: =E35^2 -> 6.25 | G35: =(B35-(J$22+J$23*D35+J$24*E35+J$25*F35))^2 -> 5.4449626
B36: 78.8 | C36: 1 | D36: 5.69 | E36: 3 | F36: =E36^2 -> 9 | G36: =(B36-(J$22+J$23*D36+J$24*E36+J$25*F36))^2 -> 1.0211608
B37: 73.7 | C37: 1 | D37: 5.56 | E37: 1 | F37: =E37^2 -> 1 | G37: =(B37-(J$22+J$23*D37+J$24*E37+J$25*F37))^2 -> 8.5492402
... B54: 81.2 | C54: 1 | D54: 5.83 | E54: 1.8 | F54: =E54^2 -> 3.24 | G54: =(B54-(J$22+J$23*D54+J$24*E54+J$25*F54))^2 -> 9.7227997
B55: 69 | C55: 1 | D55: 6.33 | E55: 3.1 | F55: =E55^2 -> 9.61 | G55: =(B55-(J$22+J$23*D55+J$24*E55+J$25*F55))^2 -> 11.741184 | J55: {=M17^2 *(J11:M14)} -> 46.227019 | K55: -6.426113 | L55: -11.60096 | M55: 2.9390263
B56: 69.7 | C56: 1 | D56: 6.47 | E56: 1.9 | F56: =E56^2 -> 3.61 | G56: =(B56-(J$22+J$23*D56+J$24*E56+J$25*F56))^2 -> 13.566233 | I56: VAR(β)= | J56: -6.426113 | K56: 1.0939881 | L56: 0.30040624 | M56: -0.08561906
B57: 78.1 | C57: 1 | D57: 5.7 | E57: 0.7 | F57: =E57^2 -> 0.49 | G57: =(B57-(J$22+J$23*D57+J$24*E57+J$25*F57))^2 -> 22.842675 | J57: -11.60096 | K57: 0.30040624 | L57: 12.646302 | M57: -3.2887457
B58: 88 | C58: 1 | D58: 5.22 | E58: 1.6 | F58: =E58^2 -> 2.56 | G58: =(B58-(J$22+J$23*D58+J$24*E58+J$25*F58))^2 -> 33.706996 | J58: 2.9390263 | K58: -0.08561906 | L58: -3.2887457 | M58: 0.88477357
B59: 80.4 | C59: 1 | D59: 5.05 | E59: 2.9 | F59: =E59^2 -> 8.41 | G59: =(B59-(J$22+J$23*D59+J$24*E59+J$25*F59))^2 -> 7.274077
...

Sheet Ex5
B4: EXPER | C4: MASC | D4: SAL
B5: 10 | C5: 1 | D5: 605.202
B6: 1 | C6: 1 | D6: 398.658
B7: 10 | C7: 1 | D7: 582.66
B8: 20 | C8: 1 | D8: 689.91
B9: 17 | C9: 1 | D9: 672.828
B10: 22 | C10: 1 | D10: 673.062
B11: 8 | C11: 1 | D11: 589.134
B12: 19 | C12: 1 | D12: 682.734
B13: 5 | C13: 1 | D13: 416.52
B14: 5 | C14: 1 | D14: 458.406
B15: 15 | C15: 1 | D15: 540.228
B16: 2 | C16: 1 | D16: 412.23
... B94: 7 | C94: 0 | D94: 261.576

Sheet Ex5a
B3: EXPER | C3: Fem | D3: SAL | G3: SAL | H3: n | I3: Fem | J3: e2 | S3: SAL | T3: Masc | U3: Fem | V3: e2
B4: 10 | C4: 0 | D4: 605.202 | G4: 605.202 | H4: 1 | I4: 0 | J4: =(G4-M$56-M$57*I4)^2 -> 2968.9073 | S4: 605.202 | T4: 1 | U4: 0 | V4: =(S4-Y$56*T4-Y$57*U4)^2 -> 2968.9073
B5: 1 | C5: 0 | D5: 398.658 | G5: 398.658 | H5: 1 | I5: 0 | J5: =(G5-M$56-M$57*I5)^2 -> 23121.124 | S5: 398.658 | T5: 1 | U5: 0 | V5: =(S5-Y$56*T5-Y$57*U5)^2 -> 23121.124
B6: 10 | C6: 0 | D6: 582.66 | G6: 582.66 | H6: 1 | I6: 0 | J6: =(G6-M$56-M$57*I6)^2 -> 1020.5265 | S6: 582.66 | T6: 1 | U6: 0 | V6: =(S6-Y$56*T6-Y$57*U6)^2 -> 1020.5265
B7: 20 | C7: 0 | D7: 689.91 | G7: 689.91 | H7: 1 | I7: 0 | J7: =(G7-M$56-M$57*I7)^2 -> 19375.437 | S7: 689.91 | T7: 1 | U7: 0 | V7: =(S7-Y$56*T7-Y$57*U7)^2 -> 19375.437
B8: 17 | C8: 0 | D8: 672.828 | G8: 672.828 | H8: 1 | I8: 0 | J8: =(G8-M$56-M$57*I8)^2 -> 14911.751 | S8: 672.828 | T8: 1 | U8: 0 | V8: =(S8-Y$56*T8-Y$57*U8)^2 -> 14911.751
B9: 22 | C9: 0 | D9: 673.062 | G9: 673.062 | H9: 1 | I9: 0 | J9: =(G9-M$56-M$57*I9)^2 -> 14968.955 | S9: 673.062 | T9: 1 | U9: 0 | V9: =(S9-Y$56*T9-Y$57*U9)^2 -> 14968.955
B10: 8 | C10: 0 | D10: 589.134 | G10: 589.134 | H10: 1 | I10: 0 | J10: =(G10-M$56-M$57*I10)^2 -> 1476.0718 | S10: 589.134 | T10: 1 | U10: 0 | V10: =(S10-Y$56*T10-Y$57*U10)^2 -> 1476.0718
B11: 19 | C11: 0 | D11: 682.734 | G11: 682.734 | H11: 1 | I11: 0 | J11: =(G11-M$56-M$57*I11)^2 -> 17429.196 | S11: 682.734 | T11: 1 | U11: 0 | V11: =(S11-Y$56*T11-Y$57*U11)^2 -> 17429.196
B12: 5 | C12: 0 | D12: 416.52 | G12: 416.52 | H12: 1 | I12: 0 | J12: =(G12-M$56-M$57*I12)^2 -> 18008.116 | S12: 416.52 | T12: 1 | U12: 0 | V12: =(S12-Y$56*T12-Y$57*U12)^2 -> 18008.116
B13: 5 | C13: 0 | D13: 458.406 | G13: 458.406 | H13: 1 | I13: 0 | J13: =(G13-M$56-M$57*I13)^2 -> 8520.8259 | S13: 458.406 | T13: 1 | U13: 0 | V13: =(S13-Y$56*T13-Y$57*U13)^2 -> 8520.8259
B14: 15 | C14: 0 | D14: 540.228 | G14: 540.228 | H14: 1 | I14: 0 | J14: =(G14-M$56-M$57*I14)^2 -> 109.96291 | S14: 540.228 | T14: 1 | U14: 0 | V14: =(S14-Y$56*T14-Y$57*U14)^2 -> 109.96291
B15: 2 | C15: 0 | D15: 412.23 | G15: 412.23 | H15: 1 | I15: 0 | J15: =(G15-M$56-M$57*I15)^2 -> 19177.907 | S15: 412.23 | T15: 1 | U15: 0 | V15: =(S15-Y$56*T15-Y$57*U15)^2 -> 19177.907
... B45: 24 | C45: 0 | D45: 671.346 | G45: 671.346 | H45: 1 | I45: 0 | J45: =(G45-M$56-M$57*I45)^2 -> 14552.002 | S45: 671.346 | T45: 1 | U45: 0 | V45: =(S45-Y$56*T45-Y$57*U45)^2 -> 14552.002
B46: 21 | C46: 0 | D46: 731.562 | G46: 731.562 | H46: 1 | I46: 0 | J46: =(G46-M$56-M$57*I46)^2 -> 32705.883 | L46: (X'X)= | M46: {=MMULT(TRANSPOSE(H4:I93),H4:I93)} -> 90 | N46: 40 | S46: 731.562 | T46: 1 | U46: 0 | V46: =(S46-Y$56*T46-Y$57*U46)^2 -> 32705.883 | X46: (X'X)= | Y46: {=MMULT(TRANSPOSE(T4:U93),T4:U93)} -> 50 | Z46: 0
B47: 5 | C47: 0 | D47: 521.04 | G47: 521.04 | H47: 1 | I47: 0 | J47: =(G47-M$56-M$57*I47)^2 -> 880.56527 | M47: 40 | N47: 40 | S47: 521.04 | T47: 1 | U47: 0 | V47: =(S47-Y$56*T47-Y$57*U47)^2 -> 880.56527 | Y47: 0 | Z47: 40
B48: 10 | C48: 0 | D48: 558.09 | G48: 558.09 | H48: 1 | I48: 0 | J48: =(G48-M$56-M$57*I48)^2 -> 54.400655 | S48: 558.09 | T48: 1 | U48: 0 | V48: =(S48-Y$56*T48-Y$57*U48)^2 -> 54.400655
B49: 6 | C49: 0 | D49: 449.982 | G49: 449.982 | H49: 1 | I49: 0 | J49: =(G49-M$56-M$57*I49)^2 -> 10147 | L49: (X'X)-1= | M49: {=MINVERSE(M46:N47)} -> 0.02 | N49: -0.02 | S49: 449.982 | T49: 1 | U49: 0 | V49: =(S49-Y$56*T49-Y$57*U49)^2 -> 10147 | X49: (X'X)-1= | Y49: {=MINVERSE(Y46:Z47)} -> 0.02 | Z49: 0
B50: 7 | C50: 0 | D50: 525.72 | G50: 525.72 | H50: 1 | I50: 0 | J50: =(G50-M$56-M$57*I50)^2 -> 624.71603 | M50: -0.02 | N50: 0.045 | S50: 525.72 | T50: 1 | U50: 0 | V50: =(S50-Y$56*T50-Y$57*U50)^2 -> 624.71603 | Y50: 0 | Z50: 0.025
B51: 15 | C51: 0 | D51: 671.112 | G51: 671.112 | H51: 1 | I51: 0 | J51: =(G51-M$56-M$57*I51)^2 -> 14495.601 | S51: 671.112 | T51: 1 | U51: 0 | V51: =(S51-Y$56*T51-Y$57*U51)^2 -> 14495.601
B52: 3 | C52: 0 | D52: 427.908 | G52: 427.908 | H52: 1 | I52: 0 | J52: =(G52-M$56-M$57*I52)^2 -> 15081.392 | L52: (X'Y)= | M52: {=MMULT(TRANSPOSE(H4:I93),G4:G93)} -> 41025.888 | S52: 427.908 | T52: 1 | U52: 0 | V52: =(S52-Y$56*T52-Y$57*U52)^2 -> 15081.392 | X52: (X'Y)= | Y52: {=MMULT(TRANSPOSE(T4:U93),S4:S93)} -> 27535.716
B53: 14 | C53: 0 | D53: 592.332 | G53: 592.332 | H53: 1 | I53: 0 | J53: =(G53-M$56-M$57*I53)^2 -> 1732.0313 | M53: 13490.172 | O53: σ= | P53: =(J94/(90-2))^0.5 -> 87.896639 | S53: 592.332 | T53: 1 | U53: 0 | V53: =(S53-Y$56*T53-Y$57*U53)^2 -> 1732.0313 | Y53: 13490.172 | AA53: σ= | AB53: =(V94/(90-2))^0.5 -> 87.896639
B54: 15 | C54: 1 | D54: 349.38 | G54: 349.38 | H54: 1 | I54: 1 | J54: =(G54-M$56-M$57*I54)^2 -> 147.0326 | S54: 349.38 | T54: 0 | U54: 1 | V54: =(S54-Y$56*T54-Y$57*U54)^2 -> 147.0326
B55: 1 | C55: 1 | D55: 218.052 | G55: 218.052 | H55: 1 | I55: 1 | J55: =(G55-M$56-M$57*I55)^2 -> 14209.188 | S55: 218.052 | T55: 0 | U55: 1 | V55: =(S55-Y$56*T55-Y$57*U55)^2 -> 14209.188
B56: 12 | C56: 1 | D56: 387.396 | G56: 387.396 | H56: 1 | I56: 1 | J56: =(G56-M$56-M$57*I56)^2 -> 2514.1901 | L56: β= | M56: {=MMULT(M49:N50,M52:M53)} -> 550.71432 | S56: 387.396 | T56: 0 | U56: 1 | V56: =(S56-Y$56*T56-Y$57*U56)^2 -> 2514.1901 | X56: β= | Y56: {=MMULT(Y49:Z50,Y52:Y53)} -> 550.71432
B57: 9 | C57: 1 | D57: 346.356 | G57: 346.356 | H57: 1 | I57: 1 | J57: =(G57-M$56-M$57*I57)^2 -> 82.840943 | M57: -213.46002 | S57: 346.356 | T57: 0 | U57: 1 | V57: =(S57-Y$56*T57-Y$57*U57)^2 -> 82.840943 | Y57: 337.2543
B58: 5 | C58: 1 | D58: 256.014 | G58: 256.014 | H58: 1 | I58: 1 | J58: =(G58-M$56-M$57*I58)^2 -> 6599.9863 | S58: 256.014 | T58: 0 | U58: 1 | V58: =(S58-Y$56*T58-Y$57*U58)^2 -> 6599.9863
B59: 3 | C59: 1 | D59: 251.046 | G59: 251.046 | H59: 1 | I59: 1 | J59: =(G59-M$56-M$57*I59)^2 -> 7431.871 | M59: {=P53^2*M49:N50} -> 154.51638 | N59: -154.51638 | S59: 251.046 | T59: 0 | U59: 1 | V59: =(S59-Y$56*T59-Y$57*U59)^2 -> 7431.871 | Y59: {=AB53^2*Y49:Z50} -> 154.51638 | Z59: 0
B60: 7 | C60: 1 | D60: 273.348 | G60: 273.348 | H60: 1 | I60: 1 | J60: =(G60-M$56-M$57*I60)^2 -> 4084.0152 | L60: VAR(β)= | M60: -154.51638 | N60: 347.66186 | S60: 273.348 | T60: 0 | U60: 1 | V60: =(S60-Y$56*T60-Y$57*U60)^2 -> 4084.0152 | X60: VAR(β)= | Y60: 0 | Z60: 193.14548
B61: 17 | C61: 1 | D61: 397.71 | G61: 397.71 | H61: 1 | I61: 1 | J61: =(G61-M$56-M$57*I61)^2 -> 3654.8917 | S61: 397.71 | T61: 0 | U61: 1 | V61: =(S61-Y$56*T61-Y$57*U61)^2 -> 3654.8917
B62: 19 | C62: 1 | D62: 392.202 | G62: 392.202 | H62: 1 | I62: 1 | J62: =(G62-M$56-M$57*I62)^2 -> 3019.2497 | L62: R= | M62: 0 | N62: 1 | P62: r= | Q62: 0 | S62: 392.202 | T62: 0 | U62: 1 | V62: =(S62-Y$56*T62-Y$57*U62)^2 -> 3019.2497 | X62: R= | Y62: 1 | Z62: -1 | AB62: r= | AC62: 0
B63: 15 | C63: 1 | D63: 394.254 | G63: 394.254 | H63: 1 | I63: 1 | J63: =(G63-M$56-M$57*I63)^2 -> 3248.9658 | S63: 394.254 | T63: 0 | U63: 1 | V63: =(S63-Y$56*T63-Y$57*U63)^2 -> 3248.9658
B64: 6 | C64: 1 | D64: 285.174 | G64: 285.174 | H64: 1 | I64: 1 | J64: =(G64-M$56-M$57*I64)^2 -> 2712.3576 | S64: 285.174 | T64: 0 | U64: 1 | V64: =(S64-Y$56*T64-Y$57*U64)^2 -> 2712.3576
B65: 3 | C65: 1 | D65: 244.566 | G65: 244.566 | H65: 1 | I65: 1 | J65: =(G65-M$56-M$57*I65)^2 -> 8591.121 | L65: (Rβ-r)= | M65: =MMULT(M62:N62,M56:M57) -> -213.46002 | S65: 244.566 | T65: 0 | U65: 1 | V65: =(S65-Y$56*T65-Y$57*U65)^2 -> 8591.121 | X65: (Rβ-r)= | Y65: =MMULT(Y62:Z62,Y56:Y57) -> 213.46002
B66: 17 | C66: 1 | D66: 387.612 | G66: 387.612 | H66: 1 | I66: 1 | J66: =(G66-M$56-M$57*I66)^2 -> 2535.8979 | L66: (RVAR(β)R')-1= | M66: {=MINVERSE(MMULT(MMULT(M62:N62,M59:N60),TRANSPOSE(M62:N62)))} -> 0.002876358 | S66: 387.612 | T66: 0 | U66: 1 | V66: =(S66-Y$56*T66-Y$57*U66)^2 -> 2535.8979 | X66: (RVAR(β)R')-1= | Y66: {=MINVERSE(MMULT(MMULT(Y62:Z62,Y59:Z60),TRANSPOSE(Y62:Z62)))} -> 0.002876358
B67: 4 | C67: 1 | D67: 253.314 | G67: 253.314 | H67: 1 | I67: 1 | J67: =(G67-M$56-M$57*I67)^2 -> 7045.974 | L67: (Rβ-r)= | M67: =MMULT(M62:N62,M56:M57) -> -213.46002 | S67: 253.314 | T67: 0 | U67: 1 | V67: =(S67-Y$56*T67-Y$57*U67)^2 -> 7045.974 | X67: (Rβ-r)= | Y67: =MMULT(Y62:Z62,Y56:Y57) -> 213.46002
B68: 10 | C68: 1 | D68: 333.612 | G68: 333.612 | H68: 1 | I68: 1 | J68: =(G68-M$56-M$57*I68)^2 -> 13.266349 | S68: 333.612 | T68: 0 | U68: 1 | V68: =(S68-Y$56*T68-Y$57*U68)^2 -> 13.266349
B69: 4 | C69: 1 | D69: 292.95 | G69: 292.95 | H69: 1 | I69: 1 | J69: =(G69-M$56-M$57*I69)^2 -> 1962.871 | L69: Est= | M69: =M65*M66*M67 -> 131.06177 | S69: 292.95 | T69: 0 | U69: 1 | V69: =(S69-Y$56*T69-Y$57*U69)^2 -> 1962.871 | X69: Est= | Y69: =Y65*Y66*Y67 -> 131.06177
B70: 11 | C70: 1 | D70: 374.922 | G70: 374.922 | H70: 1 | I70: 1 | J70: =(G70-M$56-M$57*I70)^2 -> 1418.8556 | S70: 374.922 | T70: 0 | U70: 1 | V70: =(S70-Y$56*T70-Y$57*U70)^2 -> 1418.8556
B71: 10 | C71: 1 | D71: 387.45 | G71: 387.45 | H71: 1 | I71: 1 | J71: =(G71-M$56-M$57*I71)^2 -> 2519.6083 | S71: 387.45 | T71: 0 | U71: 1 | V71: =(S71-Y$56*T71-Y$57*U71)^2 -> 2519.6083
...

Sheet Ex5b
B2: alínea 4)
B5: EXPER | C5: MASC | D5: SAL
B6: 10 | C6: 1 | D6: 605.202
B7: 1 | C7: 1 | D7: 398.658
B8: 10 | C8: 1 | D8: 582.66
B9: 20 | C9: 1 | D9: 689.91
B10: 17 | C10: 1 | D10: 672.828
B11: 22 | C11: 1 | D11: 673.062
B12: 8 | C12: 1 | D12: 589.134
B13: 19 | C13: 1 | D13: 682.734
B14: 5 | C14: 1 | D14: 416.52
B15: 5 | C15: 1 | D15: 458.406
B16: 15 | C16: 1 | D16: 540.228
B17: 2 | C17: 1 | D17: 412.23
... B95: 7 | C95: 0 | D95: 261.576

Sheet Ex5c
D4: SAL | E4: n | F4: EXPER | G4: MASC | H4: e2 | S4: SAL | T4: n | U4: EXPER | V4: MASC*Exper | W4: e2 | AI4: SAL | AJ4: n | AK4: EXPER | AL4: Masc | AM4: MASC*Exper | AN4: e2
D5: 605.202 | E5: 1 | F5: 10 | G5: 1 | H5: =(D5-K$54-K$55*F5-K$56*G5)^2 -> 3022.0104 | S5: =D5 -> 605.202 | T5: 1 | U5: =F5 -> 10 | V5: =F5*G5 -> 10 | W5: =(S5-Z$54-Z$55*U5-Z$56*V5)^2 -> 5437.6108 | AI5: =S5 -> 605.202 | AJ5: 1 | AK5: =U5 -> 10 | AL5: =G5 -> 1 | AM5: =AK5*AL5 -> 10 | AN5: =(AI5-AQ$55-AQ$56*AK5-AQ$57*AL5-AQ$58*AM5)^2 -> 3033.3412
D6: 398.658 | E6: 1 | F6: 1 | G6: 1 | H6: =(D6-K$54-K$55*F6-K$56*G6)^2 -> 1799.1034 | S6: =D6 -> 398.658 | T6: 1 | U6: =F6 -> 1 | V6: =F6*G6 -> 1 | W6: =(S6-Z$54-Z$55*U6-Z$56*V6)^2 -> 1898.8104 | AI6: =S6 -> 398.658 | AJ6: 1 | AK6: =U6 -> 1 | AL6: =G6 -> 1 | AM6: =AK6*AL6 -> 1 | AN6: =(AI6-AQ$55-AQ$56*AK6-AQ$57*AL6-AQ$58*AM6)^2 -> 366.58225
D7: 582.66 | E7: 1 | F7: 10 | G7: 1 | H7: =(D7-K$54-K$55*F7-K$56*G7)^2 -> 1051.7578 | S7: =D7 -> 582.66 | T7: 1 | U7: =F7 -> 10 | V7: =F7*G7 -> 10 | W7: =(S7-Z$54-Z$55*U7-Z$56*V7)^2 -> 2621.2513 | AI7: =S7 -> 582.66 | AJ7: 1 | AK7: =U7 -> 10 | AL7: =G7 -> 1 | AM7: =AK7*AL7 -> 10 | AN7: =(AI7-AQ$55-AQ$56*AK7-AQ$57*AL7-AQ$58*AM7)^2 -> 1058.4467
D8: 689.91 | E8: 1 | F8: 20 | G8: 1 | H8: =(D8-K$54-K$55*F8-K$56*G8)^2 -> 338.45318 | S8: =D8 -> 689.91 | T8: 1 | U8: =F8 -> 20 | V8: =F8*G8 -> 20 | W8: =(S8-Z$54-Z$55*U8-Z$56*V8)^2 -> 1408.4043 | AI8: =S8 -> 689.91 | AJ8: 1 | AK8: =U8 -> 20 | AL8: =G8 -> 1 | AM8: =AK8*AL8 -> 20 | AN8: =(AI8-AQ$55-AQ$56*AK8-AQ$57*AL8-AQ$58*AM8)^2 -> 52.425409
D9: 672.828 | E9: 1 | F9: 17 | G9: 1 | H9: =(D9-K$54-K$55*F9-K$56*G9)^2 -> 1421.306 | S9: =D9 -> 672.828 | T9: 1 | U9: =F9 -> 17 | V9: =F9*G9 -> 17 | W9: =(S9-Z$54-Z$55*U9-Z$56*V9)^2 -> 17.492035 | AI9: =S9 -> 672.828 | AJ9: 1 | AK9: =U9 -> 17 | AL9: =G9 -> 1 | AM9: =AK9*AL9 -> 17 | AN9: =(AI9-AQ$55-AQ$56*AK9-AQ$57*AL9-AQ$58*AM9)^2 -> 391.43656
D10: 673.062 | E10: 1 | F10: 22 | G10: 1 | H10: =(D10-K$54-K$55*F10-K$56*G10)^2 -> 515.63722 | S10: =D10 -> 673.062 | T10: 1 | U10: =F10 -> 22 | V10: =F10*G10 -> 22 | W10: =(S10-Z$54-Z$55*U10-Z$56*V10)^2 -> 8755.7355 | AI10: =S10 -> 673.062 | AJ10: 1 | AK10: =U10 -> 22 | AL10: =G10 -> 1 | AM10: =AK10*AL10 -> 22 | AN10: =(AI10-AQ$55-AQ$56*AK10-AQ$57*AL10-AQ$58*AM10)^2 -> 2861.5441
D11: 589.134 | E11: 1 | F11: 8 | G11: 1 | H11: =(D11-K$54-K$55*F11-K$56*G11)^2 -> 3989.3825 | S11: =D11 -> 589.134 | T11: 1 | U11: =F11 -> 8 | V11: =F11*G11 -> 8 | W11: =(S11-Z$54-Z$55*U11-Z$56*V11)^2 -> 9383.3187 | AI11: =S11 -> 589.134 | AJ11: 1 | AK11: =U11 -> 8 | AL11: =G11 -> 1 | AM11: =AK11*AL11 -> 8 | AN11: =(AI11-AQ$55-AQ$56*AK11-AQ$57*AL11-AQ$58*AM11)^2 -> 4680.2894
D12: 682.734 | E12: 1 | F12: 19 | G12: 1 | H12: =(D12-K$54-K$55*F12-K$56*G12)^2 -> 545.19769 | S12: =D12 -> 682.734 | T12: 1 | U12: =F12 -> 19 | V12: =F12*G12 -> 19 | W12: =(S12-Z$54-Z$55*U12-Z$56*V12)^2 -> 630.36276 | AI12: =S12 -> 682.734 | AJ12: 1 | AK12: =U12 -> 19 | AL12: =G12 -> 1 | AM12: =AK12*AL12 -> 19 | AN12: =(AI12-AQ$55-AQ$56*AK12-AQ$57*AL12-AQ$58*AM12)^2 -> 0.081734448
D13: 416.52 | E13: 1 | F13: 5 | G13: 1 | H13: =(D13-K$54-K$55*F13-K$56*G13)^2 -> 5338.8342 | S13: =D13 -> 416.52 | T13: 1 | U13: =F13 -> 5 | V13: =F13*G13 -> 5 | W13: =(S13-Z$54-Z$55*U13-Z$56*V13)^2 -> 287.41802 | AI13: =S13 -> 416.52 | AJ13: 1 | AK13: =U13 -> 5 | AL13: =G13 -> 1 | AM13: =AK13*AL13 -> 5 | AN13: =(AI13-AQ$55-AQ$56*AK13-AQ$57*AL13-AQ$58*AM13)^2 -> 3611.2966
D14: 458.406 | E14: 1 | F14: 5 | G14: 1 | H14: =(D14-K$54-K$55*F14-K$56*G14)^2 -> 972.2751 | S14: =D14 -> 458.406 | T14: 1 | U14: =F14 -> 5 | V14: =F14*G14 -> 5 | W14: =(S14-Z$54-Z$55*U14-Z$56*V14)^2 -> 621.63418 | AI14: =S14 -> 458.406 | AJ14: 1 | AK14: =U14 -> 5 | AL14: =G14 -> 1 | AM14: =AK14*AL14 -> 5 | AN14: =(AI14-AQ$55-AQ$56*AK14-AQ$57*AL14-AQ$58*AM14)^2 -> 331.53361
D15: 540.228 | E15: 1 | F15: 15 | G15: 1 | H15: =(D15-K$54-K$55*F15-K$56*G15)^2 -> 4990.4397 | S15: =D15 -> 540.228 | T15: 1 | U15: =F15 -> 15 | V15: =F15*G15 -> 15 | W15: =(S15-Z$54-Z$55*U15-Z$56*V15)^2 -> 7960.6149 | AI15: =S15 -> 540.228 | AJ15: 1 | AK15: =U15 -> 15 | AL15: =G15 -> 1 | AM15: =AK15*AL15 -> 15 | AN15: =(AI15-AQ$55-AQ$56*AK15-AQ$57*AL15-AQ$58*AM15)^2 -> 6957.2917
D16: 412.23 | E16: 1 | F16: 2 | G16: 1 | H16: =(D16-K$54-K$55*F16-K$56*G16)^2 -> 1678.7221 | S16: =D16 -> 412.23 | T16: 1 | U16: =F16 -> 2 | V16: =F16*G16 -> 2 | W16: =(S16-Z$54-Z$55*U16-Z$56*V16)^2 -> 1409.9765 | AI16: =S16 -> 412.23 | AJ16: 1 | AK16: =U16 -> 2 | AL16: =G16 -> 1 | AM16: =AK16*AL16 -> 2 | AN16: =(AI16-AQ$55-AQ$56*AK16-AQ$57*AL16-AQ$58*AM16)^2 -> 411.14738
... D39: 602.316 | E39: 1 | F39: 17 | G39: 1 | H39: =(D39-K$54-K$55*F39-K$56*G39)^2 -> 1076.6134 | S39: =D39 -> 602.316 | T39: 1 | U39: =F39 -> 17 | V39: =F39*G39 -> 17 | W39: =(S39-Z$54-Z$55*U39-Z$56*V39)^2 -> 4399.6227 | AI39: =S39 -> 602.316 | AJ39: 1 | AK39: =U39 -> 17 | AL39: =G39 -> 1 | AM39: =AK39*AL39 -> 17 | AN39: =(AI39-AQ$55-AQ$56*AK39-AQ$57*AL39-AQ$58*AM39)^2 -> 2573.2533
D40: 502.554 | E40: 1 | F40: 11 | G40: 1 | H40: =(D40-K$54-K$55*F40-K$56*G40)^2 -> 3576.4654 | K40: {=MMULT(TRANSPOSE(E5:G94),E5:G94)} -> 90 | L40: 956 | M40: 50 | S40: =D40 -> 502.554 | T40: 1 | U40: =F40 -> 11 | V40: =F40*G40 -> 11 | W40: =(S40-Z$54-Z$55*U40-Z$56*V40)^2 -> 2352.7864 | Z40: {=MMULT(TRANSPOSE(T5:V94),T5:V94)} -> 90 | AA40: 956 | AB40: 502 | AI40: =S40 -> 502.554 | AJ40: 1 | AK40: =U40 -> 11 | AL40: =G40 -> 1 | AM40: =AK40*AL40 -> 11 | AN40: =(AI40-AQ$55-AQ$56*AK40-AQ$57*AL40-AQ$58*AM40)^2 -> 3878.1326 | AQ40: {=MMULT(TRANSPOSE(AJ5:AM94),AJ5:AM94)} -> 90 | AR40: 956 | AS40: 50 | AT40: 502
D41: 608.166 | E41: 1 | F41: 15 | G41: 1 | H41: =(D41-K$54-K$55*F41-K$56*G41)^2 -> 7.3172635 | J41: (X'X)= | K41: 956 | L41: 13632 | M41: 502 | S41: =D41 -> 608.166 | T41: 1 | U41: =F41 -> 15 | V41: =F41*G41 -> 15 | W41: =(S41-Z$54-Z$55*U41-Z$56*V41)^2 -> 453.02048 | Y41: (X'X)= | Z41: 956 | AA41: 13632 | AB41: 6934 | AI41: =S41 -> 608.166 | AJ41: 1 | AK41: =U41 -> 15 | AL41: =G41 -> 1 | AM41: =AK41*AL41 -> 15 | AN41: =(AI41-AQ$55-AQ$56*AK41-AQ$57*AL41-AQ$58*AM41)^2 -> 239.39457 | AP41: (X'X)= | AQ41: 956 | AR41: 13632 | AS41: 502 | AT41: 6934
